{"text_format":"3","workbook":"xlsx","n_sheets":4,"sheets":["Fordelt på foreninger","Veje","Medlemmer","Tidligere_henvendelser"],"not_rendered":{"macros":1,"defined_names":3},"read":"whole","date_system":"1900"}

{"sheet":"Fordelt på foreninger","index":0,"n_rows":2205,"n_cols":16,"rows_kept":2205}
["Vej","nr","Adresse","Postnummer","Købspris","Dato","Type","kr/m2","Rum","Boligtype","m2","Bygget","Forening","Indmeldt","Navn","Allerede skrevet til "]
[null,null,"Vangedevej 220A, 1. th","2870 Dyssegård ",2675000,"2021-01-03","Alm. Salg",31104,4,"Ejerlejlighed",86,1948]
[null,null,"Cottagevej 3","2900 Hellerup",12200000,"2021-01-03","Alm. Salg",68539,5,"Villa",178,1889]
[null,null,"Ordrupvej 39B, st","2920 Charlottenlund",5600000,"2021-01-03","Alm. Salg",56000,3,"Ejerlejlighed",100,2012]
[null,null,"Gamlehave Alle 1A","2920 Charlottenlund",10675000,"2021-01-04","Alm. Salg",63922,6,"Villa",167,1991]
[null,null,"Sønderdalen 6, 1. th","2870 Dyssegård ",2100000,"2021-01-04","Alm. Salg",31818,3,"Ejerlejlighed",66,1935]
[null,null,"Lyngbyvej 435","2820 Gentofte",3875000,"2021-01-04","Alm. Salg",28492,5,"Villa",136,1902]
[null,null,"Carl Baggers Alle 28, st","2920 Charlottenlund",5000000,"2021-01-04","Alm. Salg",29411,6,"Ejerlejlighed",170,1891]
[null,null,"Carl Baggers Alle 28, 1","2920 Charlottenlund",5000000,"2021-01-04","Alm. Salg",55555,4,"Ejerlejlighed",90,1891]
[null,null,"Anemonevej 3","2820 Gentofte",8250000,"2021-01-04","Alm. Salg",63953,5,"Villa",129,1904]
[null,null,"Gersonsvej 12, st","2900 Hellerup",10450000,"2021-01-05","Alm. Salg",62951,4,"Ejerlejlighed",166,1898]
[null,null,"Gersonsvej 12, 1","2900 Hellerup",10450000,"2021-01-05","Alm. Salg",49292,5,"Ejerlejlighed",212,1898]
[null,null,"Phistersvej 11, 1. tv","2900 Hellerup",7345000,"2021-01-05","Alm. Salg",62777,4,"Ejerlejlighed",117,1952]
[null,null,"Teglvænget 5","2920 Charlottenlund",13750000,"2021-01-05","Alm. Salg",60572,9,"Villa",227,1935]
[null,null,"Ordrup Jagtvej 149, 1. tv","2920 Charlottenlund",4250000,"2021-01-05","Alm. Salg",42079,4,"Ejerlejlighed",101,1935]
[null,null,"Niels Andersens Vej 53","2900 Hellerup",13800000,"2021-01-05","Alm. Salg",54545,7,"Villa",253,1932]
[null,null,"Lille Strandvej 2A, 2. tv","2900 Hellerup",6500000,"2021-01-05","Alm. Salg",57017,5,"Ejerlejlighed",114,1902]
[null,null,"Ellehøj 1","2900 Hellerup",4935000,"2021-01-05","Alm. Salg",29029,6,"Villa",170,1939]
[null,null,"Tuborg Sundpark 11, 4. tv","2900 Hellerup",13550000,"2021-01-06","Alm. Salg",98188,3,"Ejerlejlighed",138,2005]
[null,null,"Dyssegårdsvej 120, st","2870 Dyssegård ",5495000,"2021-01-06","Alm. Salg",37380,5,"Ejerlejlighed",112,1930]
[null,null,"Jensløvsvej 15, st","2920 Charlottenlund",2595000,"2021-01-06","Alm. Salg",33269,2,"Ejerlejlighed",78,1934]
[null,null,"Stenagervej 4","2900 Hellerup",2200000,"2021-01-06","Fam. Salg",12290,8,"Villa",179,1930]
[null,null,"Lindegårdsvej 30B, st. tv","2920 Charlottenlund",4195000,"2021-01-06","Alm. Salg",41950,4,"Ejerlejlighed",100,1948]
[null,null,"Parkovsvej 55C","2820 Gentofte",9500000,"2021-01-06","Alm. Salg",64189,4,"Villa",148,1957]
[null,null,"Tuborg Havnepark 5, 3. th","2900 Hellerup",9000000,"2021-01-06","Alm. Salg",58441,4,"Ejerlejlighed",154,2007]
[null,null,"Ræveskovsvej 10A","2820 Gentofte",6800000,"2021-01-07","Alm. Salg",38202,5,"Villa",178,1993]
[null,null,"Vangedevej 226A, 2. th","2870 Dyssegård ",1765000,"2021-01-07","Alm. Salg",29416,2,"Ejerlejlighed",60,1948]
[null,null,"Annasvej 4A, 2. mf","2900 Hellerup",5450000,"2021-01-07","Alm. Salg",55050,3,"Ejerlejlighed",99,1994]
[null,null,"Sofievej 8","2900 Hellerup",21625000,"2021-01-07","Alm. Salg",66334,9,"Villa",281,1899]
[null,null,"Teglgårdsvej 1, st. th","2920 Charlottenlund",1498000,"2021-01-07","Alm. Salg",44058,1,"Ejerlejlighed",34,1906]
[null,null,"Bækkebo 11","2870 Dyssegård ",6850011,"2021-01-07","Alm. Salg",67156,4,"Villa",102,1956]
[null,null,"Niels Andersens Vej 54","2900 Hellerup",13700000,"2021-01-07","Alm. Salg",63425,7,"Villa",216,1931]
[null,null,"Kollegievej 15","2920 Charlottenlund",9650000,"2021-01-07","Alm. Salg",57440,6,"Rækkehus",168,1938]
[null,null,"På Højden 5A","2900 Hellerup",10050000,"2021-01-08","Alm. Salg",39880,6,"Villa",252,1933]
[null,null,"På Højden 5B","2900 Hellerup",10050000,"2021-01-08","Alm. Salg",49752,5,"Rækkehus",202,1933]
[null,null,"Dalstrøget 131, 3. th","2870 Dyssegård ",3150000,"2021-01-09","Alm. Salg",36206,4,"Ejerlejlighed",87,1962]
[null,null,"Strandvejen 417E, 2. 4","2930 Klampenborg",6750000,"2021-01-09","Alm. Salg",57203,4,"Ejerlejlighed",118,1959]
[null,null,"Rebekkavej 36, 3. tv","2900 Hellerup",7995000,"2021-01-09","Alm. Salg",49049,6,"Ejerlejlighed",163,1929]
[null,null,"Vilvordevej 20, 2","2920 Charlottenlund",4920000,"2021-01-10","Alm. Salg",51250,3,"Ejerlejlighed",96,1931]
[null,null,"Ejgårdsvej 12, 2. th","2920 Charlottenlund",4175000,"2021-01-10","Alm. Salg",47988,3,"Ejerlejlighed",87,1990]
[null,null,"Strandvejen 110, 1. tv","2900 Hellerup",3750000,"2021-01-10","Fam. Salg",21186,5,"Ejerlejlighed",177,1902]
[null,null,"Melchiorsvej 1A","2920 Charlottenlund",12425000,"2021-01-10","Alm. Salg",74849,6,"Villa",166,2007]
[null,null,"Tonysvej 26","2920 Charlottenlund",12425000,"2021-01-10","Alm. Salg",74401,5,"Villa",167,1931]
[null,null,"Grøntoften 3, st. tv","2870 Dyssegård ",2130000,"2021-01-10","Alm. Salg",33809,3,"Ejerlejlighed",63,1931]
[null,null,"Enighedsvej 3, 1","2920 Charlottenlund",8250000,"2021-01-10","Alm. Salg",48816,5,"Ejerlejlighed",169,1890]
[null,null,"Ellebakken 26, st","2900 Hellerup",5355000,"2021-01-11","Alm. Salg",54642,4,"Ejerlejlighed",98,1929]
[null,null,"Ellebakken 26, 2","2900 Hellerup",5355000,"2021-01-11","Alm. Salg",105000,1,"Ejerlejlighed",51,1929]
[null,null,"Ellebakken 26, 1","2900 Hellerup",5355000,"2021-01-11","Alm. Salg",62267,2,"Ejerlejlighed",86,1929]
[null,null,"Skjoldagervej 82, 3. th","2820 Gentofte",2600000,"2021-01-11","Alm. Salg",41269,2,"Ejerlejlighed",63,1953]
[null,null,"Ny Ordrup Sidealle 1, 1. th","2920 Charlottenlund",2412000,"2021-01-11","Alm. Salg",40881,2,"Ejerlejlighed",59,1946]
[null,null,"Brannersvej 9, 3. th","2920 Charlottenlund",2000000,"2021-01-11","Alm. Salg",16393,3,"Ejerlejlighed",122,1935]
[null,null,"Klampenborgvej 28","2930 Klampenborg",12500000,"2021-01-11","Alm. Salg",46296,5,"Villa",270,1932]
[null,null,"Prinsesse Alexandrines Alle 23","2920 Charlottenlund",17200000,"2021-01-11","Alm. Salg",90526,7,"Villa",190,1905]
[null,null,"Sølystparken 14","2930 Klampenborg",15850000,"2021-01-11","Alm. Salg",44150,5,"Villa",359,1983]
[null,null,"Ellehøj 22","2900 Hellerup",7605000,"2021-01-11","Alm. Salg",55919,4,"Villa",136,1936]
[null,null,"Strandvejen 417A, 3. th","2930 Klampenborg",7500000,"2021-01-11","Alm. Salg",63559,4,"Ejerlejlighed",118,1959]
[null,null,"Frølichsvej 28","2920 Charlottenlund",12700000,"2021-01-11","Alm. Salg",59069,7,"Villa",215,1928]
[null,null,"Vangede Bygade 92, 1. tv","2820 Gentofte",2550000,"2021-01-12","Alm. Salg",30357,3,"Ejerlejlighed",84,1940]
[null,null,"Gyldenholm Alle 11","2820 Gentofte",12800000,"2021-01-12","Alm. Salg",72727,5,"Villa",176,1925]
[null,null,"Strandvejen 258","2920 Charlottenlund",5350000,"2021-01-12","Alm. Salg",92241,2,"Rækkehus",58,1882]
[null,null,"Carl Baggers Alle 31","2920 Charlottenlund",19500000,"2021-01-12","Alm. Salg",69892,11,"Villa",279,1926]
[null,null,"Plantevej 17, 3. th","2870 Dyssegård ",1975000,"2021-01-13","Alm. Salg",34051,2,"Ejerlejlighed",58,1938]
[null,null,"Sønderdalen 4, 3. th","2870 Dyssegård ",3000000,"2021-01-13","Alm. Salg",28037,3,"Ejerlejlighed",107,1935]
[null,null,"Prins Valdemars Vej 50","2820 Gentofte",4802500,"2021-01-13","Fam. Salg",31804,3,"Villa",151,1944]
[null,null,"Lyngbyvej 345B, 1. th","2820 Gentofte",1720000,"2021-01-13","Alm. Salg",28196,2,"Ejerlejlighed",61,1938]
[null,null,"Ellemosevej 93","2900 Hellerup",3500000,"2021-01-13","Alm. Salg",24822,5,"Villa",141,0]
[null,null,"Ridebanevang 36","2820 Gentofte",6905000,"2021-01-13","Alm. Salg",69050,5,"Rækkehus",100,1944]
[null,null,"Vangedevej 213, 3. th","2870 Dyssegård ",3100000,"2021-01-14","Alm. Salg",30693,3,"Ejerlejlighed",101,1935]
[null,null,"Vangedevej 222A, st. th","2870 Dyssegård ",470000,"2021-01-14","Fam. Salg",7704,2,"Ejerlejlighed",61,1948]
[null,null,"Bernstorffsvej 89A","2900 Hellerup",9300000,"2021-01-14","Alm. Salg",56707,6,"Villa",164,1959]
[null,null,"Ordrupvej 8, 1. tv","2920 Charlottenlund",2595000,"2021-01-14","Alm. Salg",39318,2,"Ejerlejlighed",66,1936]
[null,null,"Almevej 12","2900 Hellerup",21000000,"2021-01-14","Alm. Salg",84677,8,"Villa",248,1919]
[null,null,"Strandlund 127","2920 Charlottenlund",5700000,"2021-01-14","Alm. Salg",66279,3,"Ejerlejlighed",86,1978]
[null,null,"Havslundevej 5","2900 Hellerup",5900000,"2021-01-14","Alm. Salg",39864,6,"Villa",148,1937]
[null,null,"Hyldegårdsvej 12, 1. 1","2920 Charlottenlund",2200000,"2021-01-14","Alm. Salg",42307,2,"Ejerlejlighed",52,1959]
[null,null,"Lyngbyvej 211","2900 Hellerup",12295000,"2021-01-14","Alm. Salg",35432,5,"Villa",347,1930]
[null,null,"Henrik Hertz Vej 9","2920 Charlottenlund",13800000,"2021-01-16","Alm. Salg",50181,7,"Villa",275,1901]
[null,null,"Sømarksvej 2","2900 Hellerup",9800000,"2021-01-16","Alm. Salg",35000,10,"Villa",280,1935]
[null,null,"Lille Fredensvej 6C, st","2920 Charlottenlund",6750000,"2021-01-16","Alm. Salg",54435,3,"Ejerlejlighed",124,1880]
[null,null,"Brønlunds Alle 15","2900 Hellerup",9150000,"2021-01-16","Alm. Salg",40308,11,"Villa",227,1927]
[null,null,"Frisersvej 9","2920 Charlottenlund",13000000,"2021-01-16","Alm. Salg",73033,6,"Villa",158,1952]
[null,null,"Dyrehavevej 27","2930 Klampenborg",14750000,"2021-01-16","Alm. Salg",55660,12,"Rækkehus",265,1902]
[null,null,"Fuglegårdsvej 7","2820 Gentofte",6225000,"2021-01-16","Alm. Salg",33111,6,"Villa",188,1936]
[null,null,"Christiansholmsvej 10","2930 Klampenborg",12500000,"2021-01-16","Alm. Salg",75301,6,"Villa",166,1923]
[null,null,"Ordrupvej 37B, 2. tv","2920 Charlottenlund",1950000,"2021-01-17","Alm. Salg",39000,2,"Ejerlejlighed",50,1957]
[null,null,"Bernstorffsvej 222","2920 Charlottenlund",7925000,"2021-01-17","Alm. Salg",89044,3,"Villa",89,1934]
[null,null,"Tranegårdsvej 66, 2. tv","2900 Hellerup",5295000,"2021-01-17","Alm. Salg",38933,5,"Ejerlejlighed",136,1919]
[null,null,"Slotsalleen 10C","2930 Klampenborg",5100000,"2021-01-17","Alm. Salg",61445,4,"Rækkehus",83,1897]
[null,null,"Brogårdsvænget 3, st","2820 Gentofte",6700000,"2021-01-17","Alm. Salg",43790,5,"Ejerlejlighed",153,1901]
[null,null,"Brogårdsvænget 3, 1","2820 Gentofte",6700000,"2021-01-17","Alm. Salg",31018,7,"Ejerlejlighed",216,1901]
[null,null,"Brannersvej 13, 2. th","2920 Charlottenlund",3325000,"2021-01-17","Alm. Salg",49626,3,"Ejerlejlighed",67,1935]
[null,null,"Brogårdsvej 104, st. tv","2820 Gentofte",1720000,"2021-01-17","Alm. Salg",29152,3,"Ejerlejlighed",59,1936]
[null,null,"Hulkærvej 29","2870 Dyssegård ",9050000,"2021-01-17","Alm. Salg",49184,6,"Villa",184,1927]
[null,null,"Emiliekildevej 18","2930 Klampenborg",10775000,"2021-01-17","Alm. Salg",44524,8,"Villa",203,1922]
[null,null,"Brannersvej 17, 3. 3","2920 Charlottenlund",3325000,"2021-01-17","Alm. Salg",255769,1,"Ejerlejlighed",13,1935]
[null,null,"Niels Andersens Vej 46","2900 Hellerup",5500000,"2021-01-17","Alm. Salg",22267,8,"Villa",247,1933]
[null,null,"Ordrup Jagtvej 108, st","2920 Charlottenlund",8495000,"2021-01-17","Alm. Salg",51484,5,"Ejerlejlighed",165,1894]
[null,null,"Fuglegårdsvænget 96, 1. tv","2820 Gentofte",1922500,"2021-01-18","Alm. Salg",36971,2,"Ejerlejlighed",52,1938]
[null,null,"Holmegårdsvej 1A, 2. tv","2920 Charlottenlund",3645000,"2021-01-18","Alm. Salg",40054,5,"Ejerlejlighed",91,1939]
[null,null,"Strandvejen 221A, 1. tv","2900 Hellerup",7850000,"2021-01-18","Alm. Salg",50000,6,"Ejerlejlighed",157,1933]
[null,null,"Slotsalleen 7A","2930 Klampenborg",13700000,"2021-01-18","Alm. Salg",77840,4,"Villa",176,1961]
[null,null,"Ordrupvej 41B, st. 4","2920 Charlottenlund",2425000,"2021-01-18","Alm. Salg",41101,2,"Ejerlejlighed",59,1961]
[null,null,"Nørrebakken 20","2820 Gentofte",4600000,"2021-01-18","Alm. Salg",52272,3,"Rækkehus",88,1943]
[null,null,"Ordrup Jagtvej 109, 1. tv","2920 Charlottenlund",11200000,"2021-01-18","Alm. Salg",100000,3,"Ejerlejlighed",112,1917]
[null,null,"Bernstorfflund Alle 29","2920 Charlottenlund",14850000,"2021-01-18","Alm. Salg",57558,10,"Villa",258,1915]
[null,null,"Ordrup Jagtvej 109, st","2920 Charlottenlund",11200000,"2021-01-18","Alm. Salg",49557,7,"Ejerlejlighed",123,1917]
[null,null,"Ordrup Jagtvej 109, 1. th","2920 Charlottenlund",11200000,"2021-01-18","Alm. Salg",98245,4,"Ejerlejlighed",114,1917]
[null,null,"Vangede Bygade 115, 2. th","2820 Gentofte",506375,"2021-01-19","Alm. Salg",9928,2,"Ejerlejlighed",51,1958]
[null,null,"Melchiorsvej 9","2920 Charlottenlund",14500000,"2021-01-19","Alm. Salg",67757,6,"Villa",214,1913]
[null,null,"Plantevej 25, 2. tv","2870 Dyssegård ",1835000,"2021-01-19","Fam. Salg",31637,2,"Ejerlejlighed",58,1938]
[null,null,"Lyngbyvej 345A, 1. tv","2820 Gentofte",1925000,"2021-01-20","Alm. Salg",27500,3,"Ejerlejlighed",70,1938]
[null,null,"Ibstrupvej 31","2820 Gentofte",6650000,"2021-01-20","Alm. Salg",61574,5,"Villa",108,1933]
[null,null,"Callisensvej 16, 5","2900 Hellerup",5100000,"2021-01-20","Alm. Salg",48571,2,"Ejerlejlighed",105,1899]
[null,null,"Ellemosevej 7","2900 Hellerup",8375000,"2021-01-20","Alm. Salg",55098,6,"Villa",152,1938]
[null,null,"Gudrunsvej 17, st","2920 Charlottenlund",6900000,"2021-01-20","Alm. Salg",58974,5,"Ejerlejlighed",117,1898]
[null,null,"Gudrunsvej 17, 1","2920 Charlottenlund",6900000,"2021-01-20","Alm. Salg",65714,4,"Ejerlejlighed",105,1898]
[null,null,"Mosegårdsvej 9, 1. th","2820 Gentofte",2905000,"2021-01-20","Alm. Salg",41500,3,"Ejerlejlighed",70,1972]
[null,null,"Ordrupvej 89, 4. th","2920 Charlottenlund",2320000,"2021-01-21","Alm. Salg",38666,2,"Ejerlejlighed",60,1958]
[null,null,"Strandvejen 221A, 1. th","2900 Hellerup",5350000,"2021-01-21","Alm. Salg",46521,5,"Ejerlejlighed",115,1933]
[null,null,"Ordrupdalvej 28, st","2920 Charlottenlund",7725000,"2021-01-21","Alm. Salg",55575,4,"Ejerlejlighed",139,1936]
[null,null,"Ordrupdalvej 28, 1","2920 Charlottenlund",6225000,"2021-01-21","Alm. Salg",44784,4,"Ejerlejlighed",139,1936]
[null,null,"Slotsvej 17","2920 Charlottenlund",8300000,"2021-01-21","Alm. Salg",63846,4,"Villa",130,1979]
[null,null,"Ejgårdsparken 2, 1. tv","2920 Charlottenlund",6475000,"2021-01-21","Alm. Salg",66071,3,"Ejerlejlighed",98,2003]
[null,null,"Kærvangen 1","2820 Gentofte",5600000,"2021-01-21","Alm. Salg",68292,3,"Villa",82,1930]
[null,null,"Ordrupvej 75B, 4. tv","2920 Charlottenlund",2275000,"2021-01-21","Alm. Salg",36111,2,"Ejerlejlighed",63,1933]
[null,null,"Strandvejen 293C","2920 Charlottenlund",9000000,"2021-01-21","Alm. Salg",90000,3,"Villa",100,1890]
[null,null,"Christiansholmsvej 2A","2930 Klampenborg",10510000,"2021-01-22","Alm. Salg",33259,7,"Villa",316,1934]
[null,null,"Søbredden 21B","2820 Gentofte",6350000,"2021-01-23","Alm. Salg",59345,4,"Rækkehus",107,1943]
[null,null,"Fuglegårdsvænget 63, st. th","2820 Gentofte",1780000,"2021-01-23","Alm. Salg",32962,2,"Ejerlejlighed",54,1938]
[null,null,"Schioldannsvej 6, st","2920 Charlottenlund",6250000,"2021-01-23","Alm. Salg",69444,3,"Ejerlejlighed",90,1910]
[null,null,"Schioldannsvej 6, 1","2920 Charlottenlund",6250000,"2021-01-23","Alm. Salg",54824,6,"Ejerlejlighed",114,1910]
[null,null,"Lille Fredensvej 1A, 2. th","2920 Charlottenlund",6000000,"2021-01-24","Alm. Salg",68965,3,"Ejerlejlighed",87,1977]
[null,null,"Vangede Bygade 113, st. tv","2820 Gentofte",1600000,"2021-01-24","Alm. Salg",31372,2,"Ejerlejlighed",51,1958]
[null,null,"Hovmarksvej 22A","2920 Charlottenlund",6336500,"2021-01-24","Alm. Salg",30909,6,"Villa",205,1965]
[null,null,"Øxnevej 4","2820 Gentofte",5100000,"2021-01-24","Alm. Salg",62195,3,"Villa",82,1939]
[null,null,"Rygårds Alle 24","2900 Hellerup",13250000,"2021-01-24","Alm. Salg",69736,7,"Villa",190,1924]
[null,null,"Søborg Hovedgade 12, 2. th","2870 Dyssegård ",2350000,"2021-01-24","Alm. Salg",33571,2,"Ejerlejlighed",70,1931]
[null,null,"Svejgårdsvej 31A","2900 Hellerup",15900000,"2021-01-25","Alm. Salg",83684,7,"Villa",190,1915]
[null,null,"Vangede Bygade 109, st. th","2820 Gentofte",1895000,"2021-01-25","Alm. Salg",37156,2,"Ejerlejlighed",51,1958]
[null,null,"Hyldegårdsvej 10, 1. 1","2920 Charlottenlund",1745000,"2021-01-25","Alm. Salg",33557,2,"Ejerlejlighed",52,1959]
[null,null,"Bernstorffsvej 13","2900 Hellerup",9950000,"2021-01-25","Alm. Salg",63782,5,"Villa",156,1915]
[null,null,"Tranegårdsvej 64, 1. th","2900 Hellerup",2435000,"2021-01-25","Alm. Salg",38046,2,"Ejerlejlighed",64,1919]
[null,null,"Strandlund 93","2920 Charlottenlund",6000000,"2021-01-25","Alm. Salg",62500,4,"Ejerlejlighed",96,1982]
[null,null,"Gisselfeld Alle 1, 1","2820 Gentofte",6400000,"2021-01-25","Alm. Salg",56140,3,"Ejerlejlighed",114,1913]
[null,null,"Gisselfeld Alle 1, st","2820 Gentofte",6400000,"2021-01-25","Alm. Salg",38554,4,"Ejerlejlighed",166,1913]
[null,null,"Kollegiehaven 7","2920 Charlottenlund",8800000,"2021-01-25","Alm. Salg",77876,5,"Rækkehus",113,1942]
[null,null,"Ordrupvej 24, 1. 1","2920 Charlottenlund",2198000,"2021-01-25","Alm. Salg",38561,2,"Ejerlejlighed",57,1939]
[null,null,"Fuglegårdsvej 21","2820 Gentofte",9700000,"2021-01-25","Alm. Salg",49489,6,"Villa",196,1922]
[null,null,"Blidahpark 25, 1. 4","2900 Hellerup",2595000,"2021-01-26","Alm. Salg",48962,2,"Ejerlejlighed",53,1933]
[null,null,"Mosebuen 62","2820 Gentofte",9025000,"2021-01-26","Alm. Salg",56406,4,"Villa",160,2014]
[null,null,"Bloksbjerget 3","2930 Klampenborg",11700000,"2021-01-26","Alm. Salg",52941,7,"Villa",191,1938]
[null,null,"Vangedevej 91","2820 Gentofte",5495000,"2021-01-27","Alm. Salg",30359,5,"Rækkehus",181,1943]
[null,null,"Prinsesse Alexandrines Alle 16, 4. 1","2920 Charlottenlund",7795000,"2021-01-27","Alm. Salg",433055,1,"Ejerlejlighed",18,1904]
[null,null,"Blidahpark 33, 2. tv","2900 Hellerup",4775000,"2021-01-27","Alm. Salg",53055,4,"Ejerlejlighed",90,1934]
[null,null,"Vangedevej 228, 4. tv","2870 Dyssegård ",2200000,"2021-01-27","Alm. Salg",35483,2,"Ejerlejlighed",62,1948]
[null,null,"Tranegårdsvej 48, st. th","2900 Hellerup",4400000,"2021-01-27","Alm. Salg",30136,2,"Ejerlejlighed",146,1919]
[null,null,"Rosavej 1, 2","2930 Klampenborg",12600000,"2021-01-27","Alm. Salg",233333,2,"Ejerlejlighed",54,1931]
[null,null,"Rosavej 1, 1","2930 Klampenborg",12600000,"2021-01-27","Alm. Salg",121153,5,"Ejerlejlighed",104,1931]
[null,null,"Grants Alle 3","2900 Hellerup",6050000,"2021-01-28","Alm. Salg",36445,5,"Villa",166,1960]
[null,null,"Prins Axels Vej 11","2820 Gentofte",11995000,"2021-01-28","Alm. Salg",70558,4,"Villa",170,1986]
[null,null,"Fredensvej 46, 2. th","2920 Charlottenlund",3950000,"2021-01-28","Alm. Salg",44886,4,"Ejerlejlighed",88,1899]
[null,null,"Skovholmvej 9, 2","2920 Charlottenlund",6300000,"2021-01-28","Alm. Salg",60000,3,"Ejerlejlighed",105,1934]
[null,null,"Dalstrøget 104, 3","2870 Dyssegård ",1425000,"2021-01-28","Alm. Salg",29081,1,"Ejerlejlighed",49,1959]
[null,null,"Slotsvej 38","2920 Charlottenlund",14200000,"2021-01-28","Alm. Salg",48299,5,"Villa",294,1912]
[null,null,"Hovmarksvej 76","2920 Charlottenlund",15200000,"2021-01-28","Alm. Salg",76767,5,"Villa",198,1946]
[null,null,"Ranunkelvej 11","2820 Gentofte",9750000,"2021-01-28","Alm. Salg",47560,7,"Villa",205,1932]
[null,null,"Kildegårdsvej 4, 2. tv","2900 Hellerup",5500000,"2021-01-29","Alm. Salg",50458,4,"Ejerlejlighed",109,1918]
[null,null,"Ellemosevej 19","2900 Hellerup",7075000,"2021-01-30","Alm. Salg",48458,5,"Villa",96,1927]
[null,null,"Tryggehvile Alle 9","2920 Charlottenlund",18000000,"2021-01-30","Alm. Salg",64748,9,"Villa",278,1928]
[null,null,"Evanstonevej 2, 3. th","2900 Hellerup",7600000,"2021-01-30","Alm. Salg",51700,6,"Ejerlejlighed",147,1988]
[null,null,"Vedbendvej 31","2900 Hellerup",6150000,"2021-01-31","Alm. Salg",67582,4,"Villa",91,1929]
[null,null,"Hyldegårdsvej 34D, 1. tv","2920 Charlottenlund",1696000,"2021-01-31","Alm. Salg",35333,1,"Ejerlejlighed",48,1936]
[null,null,"Sassvej 2A","2820 Gentofte",6841000,"2021-01-31","Fam. Salg",40241,5,"Rækkehus",170,2019]
[null,null,"Baunegårdsvej 65B","2900 Hellerup",7150000,"2021-01-31","Alm. Salg",66203,4,"Rækkehus",108,1931]
[null,null,"Parkovsvej 14","2820 Gentofte",14500000,"2021-01-31","Alm. Salg",55769,7,"Villa",260,1957]
[null,null,"Strandvejen 306","2930 Klampenborg",23000000,"2021-01-31","Alm. Salg",99137,5,"Villa",232,2015]
[null,null,"Zeuthens Alle 10","2900 Hellerup",11700000,"2021-01-31","Alm. Salg",83571,4,"Villa",140,1968]
[null,null,"Kirkehøj 20","2900 Hellerup",7475000,"2021-02-01","Alm. Salg",61270,5,"Villa",122,1933]
[null,null,"Frederikkevej 6, 1","2900 Hellerup",7600000,"2021-02-01","Alm. Salg",61788,4,"Ejerlejlighed",123,1897]
[null,null,"Frederikkevej 6, st","2900 Hellerup",7600000,"2021-02-01","Alm. Salg",59842,4,"Ejerlejlighed",127,1897]
[null,null,"Ordrupvej 5","2920 Charlottenlund",8300000,"2021-02-01","Alm. Salg",40096,5,"Villa",207,1926]
[null,null,"Ellegårdsvej 71","2820 Gentofte",6900000,"2021-02-01","Alm. Salg",46000,6,"Villa",150,1943]
[null,null,"Jensløvs Tværvej 1B, 2. tv","2920 Charlottenlund",3495000,"2021-02-01","Alm. Salg",52164,3,"Ejerlejlighed",67,1945]
[null,null,"Strandvejen 234D, 1","2920 Charlottenlund",10455000,"2021-02-01","Alm. Salg",78022,3,"Ejerlejlighed",134,2010]
[null,null,"Lille Strandvej 2, 3. th","2900 Hellerup",4850000,"2021-02-01","Alm. Salg",58433,3,"Ejerlejlighed",83,1902]
[null,null,"Lille Strandvej 26, 3. 4","2900 Hellerup",4495000,"2021-02-02","Alm. Salg",64214,2,"Ejerlejlighed",70,1956]
[null,null,"Callisensvej 16, 1. th","2900 Hellerup",3460000,"2021-02-02","Alm. Salg",54062,3,"Ejerlejlighed",64,1899]
[null,null,"Hyldegårdsvej 34D, st. tv","2920 Charlottenlund",1550000,"2021-02-02","Andet",32291,1,"Ejerlejlighed",48,1936]
[null,null,"Charlottenlundvej 2B, st. mf","2900 Hellerup",2180000,"2021-02-02","Alm. Salg",51904,2,"Ejerlejlighed",42,1939]
[null,null,"Lundely 15A","2900 Hellerup",9750000,"2021-02-02","Alm. Salg",59451,3,"Villa",164,1942]
[null,null,"Esthersvej 45, 1. tv","2900 Hellerup",3995000,"2021-02-02","Alm. Salg",45397,3,"Ejerlejlighed",88,1899]
[null,null,"Jægersborgvej 118, 1. th","2820 Gentofte",2620000,"2021-02-02","Alm. Salg",27578,4,"Ejerlejlighed",95,1949]
[null,null,"Vangede Bygade 130, 1","2820 Gentofte",4950000,"2021-02-02","Alm. Salg",48529,4,"Ejerlejlighed",102,1940]
[null,null,"Vangede Bygade 130, st","2820 Gentofte",4950000,"2021-02-02","Alm. Salg",41596,4,"Ejerlejlighed",119,1940]
[null,null,"Kildegårdsvænget 24","2900 Hellerup",4950000,"2021-02-02","Alm. Salg",56250,4,"Rækkehus",88,1942]
[null,null,"Heslegårdsvej 4, st. 1","2900 Hellerup",2735000,"2021-02-03","Alm. Salg",36466,2,"Ejerlejlighed",75,1992]
[null,null,"Dalstrøget 65, 3. tv","2870 Dyssegård ",805000,"2021-02-03","Fam. Salg",13644,2,"Ejerlejlighed",59,1959]
[null,null,"Sønderbakken 29","2820 Gentofte",8250000,"2021-02-03","Alm. Salg",49698,7,"Villa",166,1946]
[null,null,"Vangedevej 220A, st. th","2870 Dyssegård ",3050000,"2021-02-03","Alm. Salg",35465,4,"Ejerlejlighed",86,1948]
[null,null,"Strandvejen 439, st. th","2930 Klampenborg",8750000,"2021-02-03","Alm. Salg",50578,3,"Ejerlejlighed",173,1936]
[null,null,"Vangedevej 213, 1. tv","2870 Dyssegård ",2450000,"2021-02-04","Alm. Salg",35000,3,"Ejerlejlighed",70,1935]
[null,null,"Strandvejen 403","2930 Klampenborg",15000000,"2021-02-04","Alm. Salg",69124,7,"Villa",217,1834]
[null,null,"Skjoldagervej 44, 1. th","2820 Gentofte",3495000,"2021-02-04","Alm. Salg",40639,3,"Ejerlejlighed",86,1955]
[null,null,"Resedavej 26","2820 Gentofte",4800000,"2021-02-04","Alm. Salg",34782,4,"Villa",138,0]
[null,null,"Vemmetofte Alle 6","2820 Gentofte",11700000,"2021-02-05","Alm. Salg",63243,7,"Villa",185,1934]
[null,null,"Gentoftegade 9A","2820 Gentofte",11800000,"2021-02-05","Alm. Salg",50862,5,"Ejerlejlighed",232,1910]
[null,null,"Callisensvej 20, st. th","2900 Hellerup",2500000,"2021-02-05","Alm. Salg",51020,2,"Ejerlejlighed",49,1899]
[null,null,"Ordrupvej 48B, 3. tv","2920 Charlottenlund",2950000,"2021-02-06","Alm. Salg",44029,3,"Ejerlejlighed",67,1939]
[null,null,"Høeghsmindevej 54","2820 Gentofte",14000000,"2021-02-06","Alm. Salg",46822,8,"Villa",299,1939]
[null,null,"Bindesbøllsvej 11","2920 Charlottenlund",11700000,"2021-02-06","Alm. Salg",58500,7,"Villa",200,1953]
[null,null,"Hagens Alle 16","2900 Hellerup",7350000,"2021-02-06","Alm. Salg",57421,6,"Villa",128,1931]
[null,null,"Jægersborgvej 110, 1. tv","2820 Gentofte",2350000,"2021-02-06","Alm. Salg",23737,4,"Ejerlejlighed",99,1949]
[null,null,"Schimmelmannsvej 37","2920 Charlottenlund",17800000,"2021-02-07","Alm. Salg",102298,6,"Villa",174,1929]
[null,null,"Bernstorfflund Alle 37","2920 Charlottenlund",16400000,"2021-02-07","Alm. Salg",71615,6,"Villa",229,1937]
[null,null,"Ordrupvej 73, 3. th","2920 Charlottenlund",2280000,"2021-02-07","Alm. Salg",36774,2,"Ejerlejlighed",62,1937]
[null,null,"Jægerbakken 8","2820 Gentofte",13000000,"2021-02-07","Alm. Salg",84967,6,"Villa",153,1924]
[null,null,"Ellehøj 23","2900 Hellerup",7010000,"2021-02-07","Alm. Salg",54765,4,"Villa",128,1988]
[null,null,"Skovkrogen 7, 3. mf","2920 Charlottenlund",2670000,"2021-02-07","Alm. Salg",48545,2,"Ejerlejlighed",55,1934]
[null,null,"Margrethevej 15","2900 Hellerup",16200000,"2021-02-07","Alm. Salg",84375,5,"Villa",192,1904]
[null,null,"Ved Ørehøj 2, st. th","2900 Hellerup",528500,"2021-02-08","Fam. Salg",2317,3,"Ejerlejlighed",228,1917]
[null,null,"Heslegårdsvej 4, 1. 4","2900 Hellerup",1750000,"2021-02-08","Fam. Salg",20114,3,"Ejerlejlighed",87,1992]
[null,null,"Bregnevej 16, 1","2820 Gentofte",5460000,"2021-02-08","Alm. Salg",60000,3,"Ejerlejlighed",91,1910]
[null,null,"Byledet 3","2820 Gentofte",4900000,"2021-02-08","Alm. Salg",18081,6,"Villa",271,2022]
[null,null,"Sønderdalen 4, 2. th","2870 Dyssegård ",2500000,"2021-02-08","Alm. Salg",38461,3,"Ejerlejlighed",65,1935]
[null,null,"Tagesmindevej 14","2820 Gentofte",21500000,"2021-02-08","Alm. Salg",72390,9,"Villa",297,1900]
[null,null,"Byledet 27","2820 Gentofte",8750000,"2021-02-08","Alm. Salg",40137,6,"Villa",218,1935]
[null,null,"Ordrupvej 145, st","2920 Charlottenlund",4250000,"2021-02-08","Alm. Salg",51829,3,"Ejerlejlighed",82,1890]
[null,null,"Strandvejen 112, 2. tv","2900 Hellerup",10500000,"2021-02-08","Alm. Salg",49528,6,"Ejerlejlighed",212,1902]
[null,null,"Ordrupvej 76, 3. tv","2920 Charlottenlund",2550000,"2021-02-08","Alm. Salg",41129,2,"Ejerlejlighed",62,1933]
[null,null,"Ericavej 147, st. 9","2820 Gentofte",1620000,"2021-02-08","Alm. Salg",32400,2,"Ejerlejlighed",50,1968]
[null,null,"Skjoldagervej 40, 3. tv","2820 Gentofte",2275000,"2021-02-09","Alm. Salg",34469,2,"Ejerlejlighed",66,1955]
[null,null,"Noras Sidevej 4, 1","2920 Charlottenlund",7850000,"2021-02-09","Alm. Salg",66525,4,"Ejerlejlighed",118,1898]
[null,null,"Adolphsvej 66, 3. tv","2820 Gentofte",5100000,"2021-02-09","Alm. Salg",45945,4,"Ejerlejlighed",111,1902]
[null,null,"Frøbakken 4","2870 Dyssegård ",310000,"2021-02-09","Fam. Salg",1802,6,"Villa",172,2015]
[null,null,"Tranegårdsvej 47, st. tv","2900 Hellerup",2650000,"2021-02-09","Alm. Salg",44166,2,"Ejerlejlighed",60,1920]
[null,null,"Dalstrøget 107, st. tv","2870 Dyssegård ",2745000,"2021-02-09","Alm. Salg",38125,3,"Ejerlejlighed",72,1959]
[null,null,"Phistersvej 2, st. th","2900 Hellerup",10800000,"2021-02-10","Alm. Salg",57754,4,"Ejerlejlighed",187,1934]
[null,null,"Ordrupvej 67C, 4. th","2920 Charlottenlund",4095000,"2021-02-10","Alm. Salg",41363,3,"Ejerlejlighed",99,1938]
[null,null,"Vintervej 8","2920 Charlottenlund",15000000,"2021-02-10","Alm. Salg",92024,7,"Villa",163,1951]
[null,null,"Violvej 13","2820 Gentofte",7800000,"2021-02-10","Alm. Salg",77227,4,"Villa",101,1903]
[null,null,"Jægervangen 50, st","2820 Gentofte",7000000,"2021-02-10","Alm. Salg",41420,5,"Ejerlejlighed",169,1926]
[null,null,"Lundegårdsvej 22, 1","2900 Hellerup",7500000,"2021-02-10","Alm. Salg",63559,4,"Ejerlejlighed",118,1927]
[null,null,"Jægervangen 50, 1","2820 Gentofte",7000000,"2021-02-10","Alm. Salg",74468,4,"Ejerlejlighed",94,1926]
[null,null,"Lundegårdsvej 22, st","2900 Hellerup",7500000,"2021-02-10","Alm. Salg",39893,5,"Ejerlejlighed",188,1927]
[null,null,"Markvangen 10","2820 Gentofte",7550000,"2021-02-11","Alm. Salg",47784,5,"Villa",158,1955]
[null,null,"Ordrupvej 49, st. 11","2920 Charlottenlund",2495000,"2021-02-11","Alm. Salg",37238,2,"Ejerlejlighed",67,1971]
[null,null,"Broholms Alle 13E, st. tv","2920 Charlottenlund",3687500,"2021-02-11","Alm. Salg",42877,4,"Ejerlejlighed",86,1939]
[null,null,"Strandvejen 66A, 2. 1","2900 Hellerup",4995000,"2021-02-11","Alm. Salg",57413,3,"Ejerlejlighed",87,1995]
[null,null,"Tryggehvileparken 9","2920 Charlottenlund",10135000,"2021-02-11","Alm. Salg",55382,6,"Rækkehus",183,1999]
[null,null,"Strandvejen 68A, 2. 2","2900 Hellerup",3119000,"2021-02-11","Fam. Salg",36694,3,"Ejerlejlighed",85,1995]
[null,null,"Dyrehavevej 57","2930 Klampenborg",9225000,"2021-02-11","Alm. Salg",53017,5,"Villa",174,1935]
[null,null,"Tuborg Havnepark 5, st. tv","2900 Hellerup",12150000,"2021-02-11","Alm. Salg",74085,4,"Ejerlejlighed",164,2007]
[null,null,"Smakkegårdsvej 203, 1. th","2820 Gentofte",2175000,"2021-02-12","Alm. Salg",32462,2,"Ejerlejlighed",67,1946]
[null,null,"Frølichsvej 2","2930 Klampenborg",35000000,"2021-02-12","Alm. Salg",157657,8,"Villa",222,1908]
[null,null,"Ellevadsvej 5","2920 Charlottenlund",16000000,"2021-02-12","Alm. Salg",81218,6,"Villa",197,1922]
[null,null,"Hyldegårdsvej 56, 3. th","2920 Charlottenlund",8450000,"2021-02-12","Alm. Salg",59507,6,"Ejerlejlighed",142,1933]
[null,null,"Dalstrøget 105, 2. th","2870 Dyssegård ",2755000,"2021-02-12","Alm. Salg",38263,3,"Ejerlejlighed",72,1959]
[null,null,"Bindesbøllsvej 31","2920 Charlottenlund",12725000,"2021-02-13","Alm. Salg",66623,4,"Villa",191,1953]
[null,null,"Sømarksvej 10","2900 Hellerup",10600000,"2021-02-14","Alm. Salg",37857,8,"Villa",280,1930]
[null,null,"Fuglegårdsvænget 98, st. tv","2820 Gentofte",1700000,"2021-02-14","Alm. Salg",30909,2,"Ejerlejlighed",55,1938]
[null,null,"Slotsvej 1A","2920 Charlottenlund",11850000,"2021-02-14","Alm. Salg",71385,6,"Villa",166,1956]
[null,null,"Brogårdsvej 137, 1. th","2820 Gentofte",2840000,"2021-02-14","Alm. Salg",33411,4,"Ejerlejlighed",85,1946]
[null,null,"Høeghsmindevej 28","2820 Gentofte",7590000,"2021-02-14","Alm. Salg",50264,6,"Villa",151,1933]
[null,null,"Dronningemarken 3A","2820 Gentofte",9995000,"2021-02-14","Alm. Salg",47595,6,"Rækkehus",210,1934]
[null,null,"Dronningemarken 3","2820 Gentofte",9995000,"2021-02-14","Alm. Salg",67533,4,"Rækkehus",148,1934]
[null,null,"Vingårds Alle 75, 1. tv","2900 Hellerup",3410000,"2021-02-15","Alm. Salg",54126,2,"Ejerlejlighed",63,1952]
[null,null,"Lyngbyvej 345A, 1. th","2820 Gentofte",2250000,"2021-02-15","Alm. Salg",32142,2,"Ejerlejlighed",70,1938]
[null,null,"Ordrupvej 48A, 4. mf","2920 Charlottenlund",3345000,"2021-02-15","Alm. Salg",42884,3,"Ejerlejlighed",78,1939]
[null,null,"Strandvejen 283B","2920 Charlottenlund",11300000,"2021-02-15","Alm. Salg",113000,4,"Villa",100,1848]
[null,null,"Margrethevej 5B, 1. th","2900 Hellerup",6100000,"2021-02-15","Alm. Salg",68539,3,"Ejerlejlighed",89,1968]
[null,null,"Ericavej 18","2820 Gentofte",6600000,"2021-02-15","Alm. Salg",61682,3,"Villa",107,1953]
[null,null,"Ordrupvej 83, 1. th","2920 Charlottenlund",2400000,"2021-02-16","Alm. Salg",39344,2,"Ejerlejlighed",61,1934]
[null,null,"Tranegårdsvej 7B","2900 Hellerup",18500000,"2021-02-16","Alm. Salg",71705,6,"Rækkehus",258,1961]
[null,null,"Herthavej 5A, st. mf","2920 Charlottenlund",3995000,"2021-02-16","Alm. Salg",49320,2,"Ejerlejlighed",81,1982]
[null,null,"Skjoldhøj Alle 12B","2920 Charlottenlund",8700000,"2021-02-16","Alm. Salg",79816,4,"Rækkehus",109,1978]
[null,null,"Bjerrelide 9","2920 Charlottenlund",9300000,"2021-02-16","Alm. Salg",65034,4,"Rækkehus",143,1974]
[null,null,"Rygårds Alle 8, 2. tv","2900 Hellerup",6250000,"2021-02-16","Alm. Salg",66489,4,"Ejerlejlighed",94,1930]
[null,null,"Dalstrøget 89, 2. mf","2870 Dyssegård ",1595000,"2021-02-16","Alm. Salg",36250,1,"Ejerlejlighed",44,1959]
[null,null,"Enighedsvej 13, st","2920 Charlottenlund",5300000,"2021-02-16","Alm. Salg",30813,6,"Ejerlejlighed",138,1888]
[null,null,"Enighedsvej 13, 1","2920 Charlottenlund",5300000,"2021-02-16","Alm. Salg",44915,4,"Ejerlejlighed",118,1888]
[null,null,"Tuborg Sundpark 1, 1. th","2900 Hellerup",9500000,"2021-02-16","Alm. Salg",102150,4,"Ejerlejlighed",93,2004]
[null,null,"Esthersvej 45, 3. th","2900 Hellerup",4353333,"2021-02-16","Alm. Salg",56536,3,"Ejerlejlighed",77,1899]
[null,null,"Bekkasinvej 10","2900 Hellerup",10600000,"2021-02-16","Alm. Salg",73103,5,"Villa",145,1933]
[null,null,"Bernstorffsvej 185","2920 Charlottenlund",11600000,"2021-02-17","Alm. Salg",46400,8,"Villa",250,1938]
[null,null,"Dalstrøget 86, st","2870 Dyssegård ",3195000,"2021-02-17","Alm. Salg",36306,3,"Ejerlejlighed",88,1959]
[null,null,"Borgmester Jørgensens Vej 3","2930 Klampenborg",13100000,"2021-02-17","Alm. Salg",62980,4,"Villa",208,1978]
[null,null,"Holck Winterfeldts Alle 2","2900 Hellerup",25600000,"2021-02-17","Alm. Salg",92753,10,"Villa",276,1902]
[null,null,"Rakelsvej 2, st. th","2900 Hellerup",6300000,"2021-02-17","Alm. Salg",48091,5,"Ejerlejlighed",131,1903]
[null,null,"Maglemosevej 3, 1. tv","2900 Hellerup",22500,"2021-02-17","Alm. Salg",212,4,"Ejerlejlighed",106,1934]
[null,null,"Wiehesvej 8","2900 Hellerup",12100000,"2021-02-17","Alm. Salg",151250,3,"Villa",80,1903]
[null,null,"Dalstrøget 82, 2","2870 Dyssegård ",2344000,"2021-02-18","Alm. Salg",30842,2,"Ejerlejlighed",76,1959]
[null,null,"Eggersvej 43","2900 Hellerup",12250000,"2021-02-18","Alm. Salg",52127,6,"Villa",235,1934]
[null,null,"Fredensvej 73, 2","2920 Charlottenlund",3495000,"2021-02-18","Alm. Salg",33285,3,"Ejerlejlighed",105,1902]
[null,null,"Valeursvej 11","2900 Hellerup",21300000,"2021-02-18","Alm. Salg",87295,8,"Villa",244,1934]
[null,null,"Sommervej 15","2920 Charlottenlund",18800000,"2021-02-18","Alm. Salg",91707,6,"Villa",205,1928]
[null,null,"Høyrups Alle 12","2900 Hellerup",18247000,"2021-02-18","Alm. Salg",110587,7,"Villa",165,1912]
[null,null,"Broholms Alle 14, st. th","2920 Charlottenlund",1662500,"2021-02-18","Fam. Salg",11790,5,"Ejerlejlighed",141,1933]
[null,null,"Baunegårdsvej 65D","2900 Hellerup",7500000,"2021-02-18","Alm. Salg",65789,4,"Rækkehus",114,1931]
[null,null,"Ericavej 147, st. 10","2820 Gentofte",1725000,"2021-02-18","Alm. Salg",28278,2,"Ejerlejlighed",61,1968]
[null,null,"Bernstorffsvej 129, 1","2900 Hellerup",5000000,"2021-02-18","Alm. Salg",42016,4,"Ejerlejlighed",119,1916]
[null,null,"Bøgehøj 25, st","2900 Hellerup",6495000,"2021-02-18","Alm. Salg",46063,4,"Ejerlejlighed",141,1923]
[null,null,"Bøgehøj 25, 1","2900 Hellerup",6495000,"2021-02-18","Alm. Salg",51960,5,"Ejerlejlighed",125,1923]
[null,null,"Kildeskovsvej 64, 1","2820 Gentofte",6000000,"2021-02-19","Alm. Salg",53097,4,"Ejerlejlighed",113,1927]
[null,null,"Kildeskovsvej 64, st","2820 Gentofte",6000000,"2021-02-19","Alm. Salg",55045,3,"Ejerlejlighed",109,1927]
[null,null,"Sønderengen 96","2870 Dyssegård ",3200000,"2021-02-20","Fam. Salg",31683,4,"Rækkehus",101,1943]
[null,null,"Teglværksbakken 1","2900 Hellerup",7500000,"2021-02-20","Alm. Salg",51369,6,"Villa",146,1937]
[null,null,"Merianvej 9","2900 Hellerup",5900000,"2021-02-20","Alm. Salg",50862,4,"Villa",116,1928]
[null,null,"Dalstrøget 88, st. th","2870 Dyssegård ",3995000,"2021-02-20","Alm. Salg",44388,3,"Ejerlejlighed",90,1959]
[null,null,"Slotsvej 42","2920 Charlottenlund",14750000,"2021-02-20","Alm. Salg",84285,6,"Villa",175,1914]
[null,null,"Maglemosevej 25","2900 Hellerup",14100000,"2021-02-20","Alm. Salg",103676,5,"Rækkehus",136,1943]
[null,null,"Skjoldagervej 76, 2. tv","2820 Gentofte",2810000,"2021-02-21","Alm. Salg",37972,2,"Ejerlejlighed",74,1959]
[null,null,"Charlottenlundvej 2B, 2. mf","2900 Hellerup",1975000,"2021-02-21","Alm. Salg",47023,2,"Ejerlejlighed",42,1939]
[null,null,"Ejgårdsparken 2, st. th","2920 Charlottenlund",7000000,"2021-02-21","Alm. Salg",60869,3,"Ejerlejlighed",115,2003]
[null,null,"Ordrupvej 83, 2. th","2920 Charlottenlund",2300000,"2021-02-22","Alm. Salg",37704,2,"Ejerlejlighed",61,1934]
[null,null,"C L Ibsens Vej 54","2820 Gentofte",10995000,"2021-02-22","Alm. Salg",56968,4,"Villa",193,1944]
[null,null,"Strandvejen 166","2920 Charlottenlund",35000000,"2021-02-22","Alm. Salg",129629,8,"Villa",270,1882]
[null,null,"Slotsalleen 6B","2930 Klampenborg",8000000,"2021-02-22","Alm. Salg",61538,4,"Ejerlejlighed",130,1902]
[null,null,"Slotsalleen 6A","2930 Klampenborg",8000000,"2021-02-22","Alm. Salg",34188,5,"Ejerlejlighed",234,1902]
[null,null,"Plantevej 15, 1. tv","2870 Dyssegård ",2027000,"2021-02-22","Alm. Salg",34355,2,"Ejerlejlighed",59,1938]
[null,null,"Skovbakkevej 8","2920 Charlottenlund",11500000,"2021-02-22","Alm. Salg",46000,8,"Villa",250,1958]
[null,null,"Rødstensvej 11","2900 Hellerup",10000000,"2021-02-23","Alm. Salg",68493,2,"Villa",146,1932]
[null,null,"Hyldegårdsvej 56, 1. tv","2920 Charlottenlund",5095000,"2021-02-23","Alm. Salg",48066,4,"Ejerlejlighed",106,1933]
[null,null,"Brannersvej 25, 2. 64","2920 Charlottenlund",2300000,"2021-02-23","Alm. Salg",38983,2,"Ejerlejlighed",59,1972]
[null,null,"Skovvangen 14","2920 Charlottenlund",14800000,"2021-02-24","Alm. Salg",71153,8,"Villa",208,1958]
[null,null,"Parkvænget 11","2920 Charlottenlund",18000000,"2021-02-24","Alm. Salg",74074,9,"Rækkehus",243,1930]
[null,null,"Jægersborg Alle 35, 4. 18","2920 Charlottenlund",5100000,"2021-02-24","Alm. Salg",55434,2,"Ejerlejlighed",92,1991]
[null,null,"Ordrupvej 147, 1. tv","2920 Charlottenlund",6950000,"2021-02-24","Alm. Salg",59913,4,"Ejerlejlighed",116,1912]
[null,null,"Lyngbyvej 369","2820 Gentofte",6400000,"2021-02-24","Alm. Salg",24521,7,"Villa",212,1949]
[null,null,"Søndersøvej 33B, st. mf","2820 Gentofte",1980000,"2021-02-24","Alm. Salg",35357,2,"Ejerlejlighed",56,1934]
[null,null,"Jægersborgvej 124, 1. th","2820 Gentofte",2845000,"2021-02-24","Alm. Salg",27355,5,"Ejerlejlighed",104,1949]
[null,null,"Stjerneborg Alle 5","2870 Dyssegård ",7500000,"2021-02-25","Alm. Salg",58593,4,"Villa",128,1916]
[null,null,"Søager 5","2820 Gentofte",6750000,"2021-02-25","Alm. Salg",57203,5,"Villa",118,1940]
[null,null,"Strandvejen 108, 4. tv","2900 Hellerup",6600000,"2021-02-25","Alm. Salg",49624,4,"Ejerlejlighed",133,1911]
[null,null,"Skjoldhøj Alle 4, st","2920 Charlottenlund",13500000,"2021-02-25","Alm. Salg",96428,4,"Ejerlejlighed",140,1893]
[null,null,"Hartmannsvej 27","2900 Hellerup",10775000,"2021-02-25","Alm. Salg",64136,5,"Villa",168,1933]
[null,null,"Vangede Bygade 48, st. 1","2820 Gentofte",3200000,"2021-02-25","Alm. Salg",26229,4,"Ejerlejlighed",122,1939]
[null,null,"Jensløvsvej 3, 1. tv","2920 Charlottenlund",3750000,"2021-02-25","Alm. Salg",52816,2,"Ejerlejlighed",71,1990]
[null,null,"Fuglegårdsvænget 69, 1. mf","2820 Gentofte",1950000,"2021-02-25","Alm. Salg",33620,2,"Ejerlejlighed",58,1937]
[null,null,"Ordrupvej 76B, 1. tv","2920 Charlottenlund",2595000,"2021-02-25","Alm. Salg",39923,2,"Ejerlejlighed",65,1933]
[null,null,"Vingårds Alle 7","2900 Hellerup",17900000,"2021-02-25","Alm. Salg",72177,7,"Villa",248,1928]
[null,null,"Kildegårdsvænget 7","2900 Hellerup",4400000,"2021-02-25","Alm. Salg",45833,4,"Rækkehus",96,1942]
[null,null,"Bernstorfflund Alle 63","2920 Charlottenlund",13650000,"2021-02-26","Alm. Salg",55487,7,"Villa",246,1959]
[null,null,"Hyldegårds Tværvej 19","2920 Charlottenlund",11000000,"2021-02-27","Alm. Salg",70967,5,"Villa",155,1897]
[null,null,"Søgårdsvej 14","2820 Gentofte",12300000,"2021-02-27","Alm. Salg",33606,7,"Villa",316,1970]
[null,null,"Esthersvej 41, 3. th","2900 Hellerup",3900000,"2021-02-27","Alm. Salg",45882,4,"Ejerlejlighed",85,1903]
[null,null,"Kildegårdsvej 4, 1. tv","2900 Hellerup",4690000,"2021-02-27","Alm. Salg",42252,4,"Ejerlejlighed",111,1918]
[null,null,"Snogegårdsvej 2, 2. tv","2820 Gentofte",1610000,"2021-02-27","Alm. Salg",30377,2,"Ejerlejlighed",53,1940]
[null,null,"Ordrupvej 49, 2. 208","2920 Charlottenlund",1105000,"2021-02-28","Fam. Salg",16250,2,"Ejerlejlighed",68,1971]
[null,null,"Bregnevej 10, 1","2820 Gentofte",4495000,"2021-02-28","Alm. Salg",62430,3,"Ejerlejlighed",72,1911]
[null,null,"Vilvordevej 37","2920 Charlottenlund",12200000,"2021-02-28","Alm. Salg",57276,7,"Villa",213,1902]
[null,null,"Strandvejen 132A, 2. tv","2900 Hellerup",6260000,"2021-02-28","Alm. Salg",43776,5,"Ejerlejlighed",143,1899]
[null,null,"Tværbommen 49, st. tv","2820 Gentofte",2400000,"2021-02-28","Alm. Salg",36363,3,"Ejerlejlighed",66,1946]
[null,null,"Smakkegårdsvej 104, st. th","2820 Gentofte",3145000,"2021-02-28","Alm. Salg",33105,4,"Ejerlejlighed",95,1952]
[null,null,"Lykkevej 14","2920 Charlottenlund",14200000,"2021-02-28","Alm. Salg",80225,5,"Villa",177,1929]
[null,null,"Melvillevej 1","2900 Hellerup",5800000,"2021-03-01","Alm. Salg",89230,3,"Villa",65,1927]
[null,null,"Rørskærsvej 17","2820 Gentofte",8050000,"2021-03-01","Alm. Salg",60984,4,"Villa",132,1954]
[null,null,"Ellebækvej 52, 1. mf","2820 Gentofte",1800000,"2021-03-01","Alm. Salg",36000,2,"Ejerlejlighed",50,1942]
[null,null,"Vangede Bygade 92, 2. th","2820 Gentofte",2325000,"2021-03-01","Alm. Salg",32291,2,"Ejerlejlighed",72,1940]
[null,null,"Skovvej 86","2920 Charlottenlund",6925000,"2021-03-01","Alm. Salg",69250,3,"Rækkehus",100,1977]
[null,null,"Strandparksvej 7, st","2900 Hellerup",13500000,"2021-03-02","Alm. Salg",71428,5,"Ejerlejlighed",189,1907]
[null,null,"Phistersvej 2, 2. tv","2900 Hellerup",5750000,"2021-03-02","Alm. Salg",57500,4,"Ejerlejlighed",100,1934]
[null,null,"Dyssegårdsvej 101","2870 Dyssegård ",7800000,"2021-03-02","Alm. Salg",76470,4,"Villa",102,1937]
[null,null,"Tuborg Sundpark 8, st. th","2900 Hellerup",11650000,"2021-03-02","Alm. Salg",75161,4,"Ejerlejlighed",155,2005]
[null,null,"Ordrup Jagtvej 80, st","2920 Charlottenlund",6175000,"2021-03-02","Alm. Salg",51458,4,"Ejerlejlighed",120,1925]
[null,null,"Ordrup Jagtvej 80, 2","2920 Charlottenlund",6175000,"2021-03-02","Alm. Salg",228703,2,"Ejerlejlighed",27,1925]
[null,null,"Ordrup Jagtvej 80, 1","2920 Charlottenlund",6175000,"2021-03-02","Alm. Salg",75304,3,"Ejerlejlighed",82,1925]
[null,null,"Ordrup Jagtvej 42A, 1. th","2920 Charlottenlund",4800000,"2021-03-02","Alm. Salg",38709,4,"Ejerlejlighed",124,1934]
[null,null,"Plantevej 17, st. th","2870 Dyssegård ",2195000,"2021-03-02","Alm. Salg",37844,2,"Ejerlejlighed",58,1938]
[null,null,"Ordrup Jagtvej 100","2920 Charlottenlund",15500000,"2021-03-02","Alm. Salg",65126,6,"Villa",238,1919]
[null,null,"Fuglegårdsvænget 14","2820 Gentofte",4900000,"2021-03-03","Alm. Salg",62025,3,"Rækkehus",79,1941]
[null,null,"Jensløvs Tværvej 3A, 3. th","2920 Charlottenlund",2995000,"2021-03-03","Alm. Salg",44701,2,"Ejerlejlighed",67,1945]
[null,null,"Forårsvej 22","2920 Charlottenlund",20000000,"2021-03-03","Alm. Salg",111111,7,"Villa",180,1903]
[null,null,"Ellemosevej 106","2900 Hellerup",7895000,"2021-03-03","Alm. Salg",51940,5,"Villa",152,1928]
[null,null,"Jægersborg Alle 37, 4. tv","2920 Charlottenlund",7825000,"2021-03-03","Alm. Salg",55892,5,"Ejerlejlighed",140,1928]
[null,null,"Phistersvej 25","2900 Hellerup",16500000,"2021-03-03","Alm. Salg",117857,6,"Villa",140,1901]
[null,null,"Ordrupvej 7","2920 Charlottenlund",7195000,"2021-03-03","Alm. Salg",48945,7,"Villa",147,1926]
[null,null,"Lille Fredensvej 11","2920 Charlottenlund",12700000,"2021-03-03","Alm. Salg",83006,7,"Villa",153,1960]
[null,null,"Ordrupvej 83A, 3. th","2920 Charlottenlund",2650000,"2021-03-03","Alm. Salg",44166,2,"Ejerlejlighed",60,1934]
[null,null,"Callisensvej 20, 4. th","2900 Hellerup",2750000,"2021-03-03","Alm. Salg",53921,2,"Ejerlejlighed",51,1899]
[null,null,"Strandvejen 433, 2. th","2930 Klampenborg",3700000,"2021-03-03","Alm. Salg",56060,2,"Ejerlejlighed",66,1933]
[null,null,"Maglemosevej 11, 1. tv","2900 Hellerup",3825000,"2021-03-03","Alm. Salg",51689,3,"Ejerlejlighed",74,1933]
[null,null,"Søborg Hovedgade 14A, 2. th","2870 Dyssegård ",2775000,"2021-03-03","Alm. Salg",32267,4,"Ejerlejlighed",86,1931]
[null,null,"Hultmannsvej 5A","2900 Hellerup",300000,"2021-03-04","Alm. Salg",1595,7,"Villa",188,1877]
[null,null,"Sølystvej 3","2930 Klampenborg",19530000,"2021-03-04","Alm. Salg",93000,5,"Villa",210,1933]
[null,null,"Smakkegårdsvej 165, 1. mf","2820 Gentofte",2300000,"2021-03-04","Alm. Salg",36507,2,"Ejerlejlighed",63,1946]
[null,null,"Strandvejen 186E","2920 Charlottenlund",17800000,"2021-03-04","Alm. Salg",85167,6,"Villa",209,2001]
[null,null,"Rørsøvej 3","2920 Charlottenlund",14995000,"2021-03-06","Alm. Salg",87180,6,"Villa",172,1935]
[null,null,"Bernstorffsvej 141","2920 Charlottenlund",8445000,"2021-03-06","Alm. Salg",57060,6,"Rækkehus",148,1927]
[null,null,"Rygårdsvænget 2, st","2900 Hellerup",2850000,"2021-03-07","Alm. Salg",47500,2,"Ejerlejlighed",60,1930]
[null,null,"Teglvænget 6","2920 Charlottenlund",14750000,"2021-03-07","Alm. Salg",70913,8,"Villa",208,1933]
[null,null,"Schimmelmanns Have 9","2930 Klampenborg",16800000,"2021-03-07","Alm. Salg",61992,6,"Villa",271,1971]
[null,null,"Taffelbays Alle 15, st","2900 Hellerup",8306000,"2021-03-07","Alm. Salg",60627,5,"Ejerlejlighed",137,1938]
[null,null,"Taffelbays Alle 15, 1","2900 Hellerup",8306000,"2021-03-07","Alm. Salg",48858,5,"Ejerlejlighed",170,1938]
[null,null,"Lindegårdsvej 40, st. tv","2920 Charlottenlund",4000000,"2021-03-07","Fam. Salg",48780,3,"Ejerlejlighed",82,1990]
[null,null,"Vangede Bygade 62, 1. tv","2820 Gentofte",1795000,"2021-03-07","Alm. Salg",35196,2,"Ejerlejlighed",51,1940]
[null,null,"Ellinorsvej 21","2920 Charlottenlund",15650000,"2021-03-07","Alm. Salg",78250,4,"Villa",200,1912]
[null,null,"Plantevej 1, 1. tv","2870 Dyssegård ",2595000,"2021-03-07","Alm. Salg",36041,2,"Ejerlejlighed",72,1948]
[null,null,"Christiansholmsvej 11","2930 Klampenborg",18000000,"2021-03-07","Alm. Salg",85714,6,"Villa",210,1953]
[null,null,"Jens Lillelunds Vej 7, 2. tv","2920 Charlottenlund",5545000,"2021-03-08","Alm. Salg",56581,4,"Ejerlejlighed",98,1990]
[null,null,"Vangedevej 220A, st. tv","2870 Dyssegård ",1495000,"2021-03-08","Alm. Salg",26228,2,"Ejerlejlighed",57,1948]
[null,null,"Kirsten Piils Vej 9A, st","2920 Charlottenlund",7295000,"2021-03-08","Alm. Salg",63434,4,"Ejerlejlighed",115,1932]
[null,null,"Hovmarksvej 20","2920 Charlottenlund",18850000,"2021-03-08","Alm. Salg",60416,9,"Villa",312,1903]
[null,null,"Svalevej 17","2900 Hellerup",10600000,"2021-03-08","Alm. Salg",82812,4,"Villa",128,1923]
[null,null,"Clarasvej 6, st. tv","2920 Charlottenlund",4495000,"2021-03-08","Alm. Salg",40863,5,"Ejerlejlighed",110,1936]
[null,null,"Hellerupgårdvej 12, st","2900 Hellerup",3251250,"2021-03-08","Fam. Salg",22578,4,"Ejerlejlighed",144,1894]
[null,null,"Hellerupgårdvej 12, 1","2900 Hellerup",3251250,"2021-03-08","Fam. Salg",22578,5,"Ejerlejlighed",144,1894]
[null,null,"Jensløvs Tværvej 3B, 2. tv","2920 Charlottenlund",3002000,"2021-03-09","Alm. Salg",45484,2,"Ejerlejlighed",66,1945]
[null,null,"Schimmelmannsvej 3","2930 Klampenborg",25000000,"2021-03-09","Alm. Salg",100401,7,"Villa",249,1930]
[null,null,"Tuborg Havnepark 3, st. tv","2900 Hellerup",13150000,"2021-03-09","Alm. Salg",80182,3,"Ejerlejlighed",164,2007]
[null,null,"Ved Ørehøj 10","2900 Hellerup",13000000,"2021-03-10","Alm. Salg",94202,5,"Rækkehus",138,1984]
[null,null,"Sønderengen 55, st","2870 Dyssegård ",5550000,"2021-03-10","Alm. Salg",53883,4,"Ejerlejlighed",103,1929]
[null,null,"Vemmetofte Alle 35","2820 Gentofte",12120000,"2021-03-10","Alm. Salg",59411,7,"Villa",204,1908]
[null,null,"Kildegårdsvej 2, 1. th","2900 Hellerup",5901899,"2021-03-10","Fam. Salg",49182,5,"Ejerlejlighed",120,1921]
[null,null,"Kildegårdsvej 2, 2. th","2900 Hellerup",5901899,"2021-03-10","Fam. Salg",88088,2,"Ejerlejlighed",67,1921]
[null,null,"Kildegårdsvej 2, 2. tv","2900 Hellerup",5901899,"2021-03-10","Fam. Salg",88088,2,"Ejerlejlighed",67,1921]
[null,null,"Hellerupvej 67, st. mf","2900 Hellerup",5901899,"2021-03-10","Fam. Salg",69434,2,"Ejerlejlighed",85,1921]
[null,null,"Søborg Hovedgade 16","2870 Dyssegård ",6495000,"2021-03-10","Alm. Salg",35686,7,"Villa",182,1919]
[null,null,"Ericavej 147, 1. 25","2820 Gentofte",1625000,"2021-03-10","Alm. Salg",26639,2,"Ejerlejlighed",61,1968]
[null,null,"Kildegårdsvej 2, st. th","2900 Hellerup",5901899,"2021-03-10","Fam. Salg",125572,2,"Ejerlejlighed",47,1921]
[null,null,"Kildegårdsvej 2, st. tv","2900 Hellerup",5901899,"2021-03-10","Fam. Salg",109294,2,"Ejerlejlighed",54,1921]
[null,null,"Kildegårdsvej 2, 1. tv","2900 Hellerup",5901899,"2021-03-10","Fam. Salg",56749,4,"Ejerlejlighed",104,1921]
[null,null,"Skovmosevej 7","2820 Gentofte",7795000,"2021-03-11","Alm. Salg",33891,8,"Villa",230,0]
[null,null,"Tranegårdsvej 63, 1. tv","2900 Hellerup",5375000,"2021-03-11","Alm. Salg",47566,5,"Ejerlejlighed",113,1931]
[null,null,"Emilievej 6F","2920 Charlottenlund",11750000,"2021-03-11","Alm. Salg",60880,5,"Villa",193,1972]
[null,null,"Teglværksbakken 14, st","2900 Hellerup",5900000,"2021-03-11","Alm. Salg",52678,4,"Ejerlejlighed",112,1932]
[null,null,"Ellemosevej 31","2900 Hellerup",6700000,"2021-03-11","Alm. Salg",52343,5,"Villa",128,1933]
[null,null,"Ermelundsvej 90A, 1. th","2820 Gentofte",10000000,"2021-03-11","Alm. Salg",65789,4,"Ejerlejlighed",152,2008]
[null,null,"Clarasvej 1D, st. 1","2920 Charlottenlund",2225000,"2021-03-11","Alm. Salg",40454,2,"Ejerlejlighed",55,1939]
[null,null,"Dalstrøget 69, 1. mf","2870 Dyssegård ",1720000,"2021-03-11","Alm. Salg",39090,1,"Ejerlejlighed",44,1959]
[null,null,"Ericavej 165, st. 111","2820 Gentofte",2720000,"2021-03-12","Alm. Salg",26930,3,"Ejerlejlighed",101,1956]
[null,null,"Esperance Alle 19","2920 Charlottenlund",12600000,"2021-03-12","Alm. Salg",92647,4,"Rækkehus",136,1982]
[null,null,"Øxnevej 6A","2820 Gentofte",6075000,"2021-03-12","Alm. Salg",52370,5,"Rækkehus",116,1971]
[null,null,"Ordrupvej 67B, 4. th","2920 Charlottenlund",4145000,"2021-03-13","Alm. Salg",45549,3,"Ejerlejlighed",91,1938]
[null,null,"Kongelysvej 8B","2820 Gentofte",2130000,"2021-03-13","Alm. Salg",45319,2,"Ejerlejlighed",47,2007]
[null,null,"Ved Bommen 28, 2. 24","2820 Gentofte",2005000,"2021-03-13","Alm. Salg",28239,2,"Ejerlejlighed",71,1977]
[null,null,"Ordrupvej 78B, 3. th","2920 Charlottenlund",3800000,"2021-03-13","Alm. Salg",45783,3,"Ejerlejlighed",83,1947]
[null,null,"Herredsvej 33, 1","2820 Gentofte",5390000,"2021-03-13","Alm. Salg",45294,3,"Ejerlejlighed",119,1931]
[null,null,"Herredsvej 33, st","2820 Gentofte",5390000,"2021-03-13","Alm. Salg",39925,3,"Ejerlejlighed",135,1931]
[null,null,"Jahnsensvej 27A","2820 Gentofte",9500000,"2021-03-14","Alm. Salg",55555,6,"Villa",171,1971]
[null,null,"Schioldannsvej 7","2920 Charlottenlund",11000000,"2021-03-14","Alm. Salg",56410,7,"Villa",195,1899]
[null,null,"Højsgårds Alle 2, st","2900 Hellerup",5467500,"2021-03-14","Alm. Salg",59429,4,"Ejerlejlighed",92,1929]
[null,null,"Højsgårds Alle 2, 1","2900 Hellerup",5467500,"2021-03-14","Alm. Salg",82840,2,"Ejerlejlighed",66,1929]
[null,null,"Egehøjvej 20","2920 Charlottenlund",18500000,"2021-03-14","Alm. Salg",93908,7,"Villa",197,1928]
[null,null,"Dalstrøget 103, 1. th","2870 Dyssegård ",3250000,"2021-03-14","Alm. Salg",45138,3,"Ejerlejlighed",72,1959]
[null,null,"Toftekærsvej 76","2820 Gentofte",2605900,"2021-03-14","Andet",17032,3,"Villa",153,1933]
[null,null,"Bellevuekrogen 5","2930 Klampenborg",10000000,"2021-03-14","Alm. Salg",87719,4,"Rækkehus",114,1950]
[null,null,"Margrethevej 5B, 2. tv","2900 Hellerup",5400000,"2021-03-14","Alm. Salg",57446,3,"Ejerlejlighed",94,1968]
[null,null,"Jægersborg Alle 29A, 1. th","2920 Charlottenlund",4800000,"2021-03-15","Alm. Salg",56470,2,"Ejerlejlighed",85,1978]
[null,null,"Merianvej 11","2900 Hellerup",4625000,"2021-03-15","Andet",26734,7,"Villa",173,2017]
[null,null,"Snogegårdsvej 69","2820 Gentofte",5620000,"2021-03-15","Alm. Salg",27549,5,"Villa",204,0]
[null,null,"Kildegårdsvej 24","2900 Hellerup",4495000,"2021-03-15","Alm. Salg",58376,4,"Villa",77,1920]
[null,null,"Skovkrogen 9, 1","2920 Charlottenlund",6670000,"2021-03-15","Alm. Salg",45374,5,"Ejerlejlighed",147,1874]
[null,null,"Tuborg Parkvej 2, 1. 1","2900 Hellerup",3210000,"2021-03-16","Alm. Salg",51774,1,"Ejerlejlighed",62,1995]
[null,null,"Hartmannsvej 55B","2920 Charlottenlund",9350000,"2021-03-16","Alm. Salg",59935,5,"Villa",156,1968]
[null,null,"Jægersborg Alle 37, 2. tv","2920 Charlottenlund",8250000,"2021-03-16","Alm. Salg",58928,5,"Ejerlejlighed",140,1928]
[null,null,"Vangedevej 154A, st. mf","2870 Dyssegård ",1000000,"2021-03-16","Alm. Salg",20408,1,"Ejerlejlighed",49,1956]
[null,null,"Vangedevej 220A, 1. tv","2870 Dyssegård ",1975000,"2021-03-16","Alm. Salg",34649,2,"Ejerlejlighed",57,1948]
[null,null,"Ordrupvej 98C, st. th","2920 Charlottenlund",1800000,"2021-03-16","Fam. Salg",31034,2,"Ejerlejlighed",58,1934]
[null,null,"Ammentorpsvej 5","2900 Hellerup",11200000,"2021-03-16","Alm. Salg",59259,6,"Villa",189,1935]
[null,null,"Prinsesse Alexandrines Alle 16, 2. th","2920 Charlottenlund",9495000,"2021-03-17","Alm. Salg",66398,5,"Ejerlejlighed",143,1904]
[null,null,"Smakkegårdsvej 197","2820 Gentofte",4765000,"2021-03-17","Alm. Salg",25211,7,"Villa",189,1891]
[null,null,"Tuborg Sundpark 3, 3. tv","2900 Hellerup",13200000,"2021-03-17","Alm. Salg",117857,4,"Ejerlejlighed",112,2004]
[null,null,"Lundegårdsvej 26","2900 Hellerup",9000000,"2021-03-17","Fam. Salg",56962,6,"Villa",158,1933]
[null,null,"Højsgårds Alle 70, st","2900 Hellerup",5900000,"2021-03-17","Alm. Salg",46456,3,"Ejerlejlighed",127,1931]
[null,null,"Højsgårds Alle 70, 1","2900 Hellerup",5900000,"2021-03-17","Alm. Salg",75641,3,"Ejerlejlighed",78,1931]
[null,null,"Højsgårds Alle 70, 2. th","2900 Hellerup",5900000,"2021-03-17","Alm. Salg",327777,1,"Ejerlejlighed",18,1931]
[null,null,"Højsgårds Alle 70, 2. tv","2900 Hellerup",5900000,"2021-03-17","Alm. Salg",453846,1,"Ejerlejlighed",13,1931]
[null,null,"Solbakkevej 23A","2820 Gentofte",12250000,"2021-03-17","Alm. Salg",65860,5,"Rækkehus",186,1923]
[null,null,"Vedbendvej 2A, st. tv","2900 Hellerup",2485000,"2021-03-17","Alm. Salg",35500,3,"Ejerlejlighed",70,1938]
[null,null,"Ordrupvej 98B, 3. th","2920 Charlottenlund",2395000,"2021-03-17","Alm. Salg",41293,2,"Ejerlejlighed",58,1934]
[null,null,"Ordrupvej 76A, 3. tv","2920 Charlottenlund",2765000,"2021-03-17","Alm. Salg",44596,2,"Ejerlejlighed",62,1933]
[null,null,"Skovkrogen 1, 4. th","2920 Charlottenlund",2595000,"2021-03-17","Alm. Salg",44741,2,"Ejerlejlighed",58,1934]
[null,null,"Egebjerg Alle 8","2900 Hellerup",16700000,"2021-03-17","Alm. Salg",60727,8,"Villa",275,1902]
[null,null,"Vangedevej 150A, 2. tv","2870 Dyssegård ",2325000,"2021-03-18","Alm. Salg",38114,2,"Ejerlejlighed",61,1956]
[null,null,"Bernstorffsvej 200","2920 Charlottenlund",12200000,"2021-03-18","Alm. Salg",53982,7,"Villa",226,1934]
[null,null,"Strandlund 115","2920 Charlottenlund",6100000,"2021-03-18","Alm. Salg",70930,3,"Ejerlejlighed",86,1978]
[null,null,"Nordvestvej 7A","2920 Charlottenlund",7300000,"2021-03-18","Alm. Salg",62931,6,"Villa",116,1902]
[null,null,"Clarasvej 1A, 2. tv","2920 Charlottenlund",2600000,"2021-03-18","Alm. Salg",41935,2,"Ejerlejlighed",62,1939]
[null,null,"Hagens Alle 19, st","2900 Hellerup",4450000,"2021-03-18","Alm. Salg",49444,4,"Ejerlejlighed",90,1910]
[null,null,"Hagens Alle 19, 1","2900 Hellerup",4450000,"2021-03-18","Alm. Salg",48901,4,"Ejerlejlighed",91,1910]
[null,null,"Dyssegårdsvej 33","2900 Hellerup",6750000,"2021-03-18","Alm. Salg",55785,6,"Villa",121,1934]
[null,null,"Rosavej 28","2930 Klampenborg",15200000,"2021-03-18","Alm. Salg",73076,6,"Villa",208,1970]
[null,null,"Kildegårdsvej 1","2900 Hellerup",11250000,"2021-03-18","Alm. Salg",61141,5,"Villa",184,1911]
[null,null,"Ordrupvej 41C, 1. 4","2920 Charlottenlund",2250000,"2021-03-18","Alm. Salg",39473,2,"Ejerlejlighed",57,1961]
[null,null,"Strandvejen 112, 1. tv","2900 Hellerup",8750000,"2021-03-18","Alm. Salg",45811,5,"Ejerlejlighed",191,1902]
[null,null,"Svalevej 22","2900 Hellerup",11200000,"2021-03-18","Alm. Salg",90322,7,"Villa",124,1935]
[null,null,"Hartmannsvej 3, st","2900 Hellerup",10000000,"2021-03-19","Alm. Salg",58479,4,"Ejerlejlighed",171,1899]
[null,null,"Fuglegårdsvænget 67, 1. th","2820 Gentofte",1840000,"2021-03-19","Alm. Salg",35384,2,"Ejerlejlighed",52,1937]
[null,null,"Hartmannsvej 3, 1","2900 Hellerup",10000000,"2021-03-19","Alm. Salg",49751,6,"Ejerlejlighed",201,1899]
[null,null,"Bernstorffsvej 19","2900 Hellerup",11350000,"2021-03-19","Alm. Salg",34815,8,"Villa",326,1946]
[null,null,"Herredsvej 18","2820 Gentofte",8855000,"2021-03-20","Alm. Salg",51783,5,"Villa",171,1934]
[null,null,"Smakkegårdsvej 183, st. mf","2820 Gentofte",2550000,"2021-03-20","Alm. Salg",36956,2,"Ejerlejlighed",69,1946]
[null,null,"Teglgårdsvej 47","2920 Charlottenlund",16500000,"2021-03-20","Alm. Salg",38823,12,"Villa",425,1914]
[null,null,"Høyrups Alle 28B","2900 Hellerup",17500000,"2021-03-21","Alm. Salg",144628,6,"Rækkehus",121,1971]
[null,null,"Strandvejen 298","2930 Klampenborg",22100000,"2021-03-21","Alm. Salg",122777,6,"Villa",180,1900]
[null,null,"Godhavnsvej 4","2900 Hellerup",3975000,"2021-03-21","Alm. Salg",24843,5,"Villa",160,1931]
[null,null,"Ellebækvej 63, 1. tv","2820 Gentofte",1995000,"2021-03-21","Alm. Salg",38365,3,"Ejerlejlighed",52,1939]
[null,null,"Skjoldagervej 84, 2. th","2820 Gentofte",3150000,"2021-03-22","Alm. Salg",37951,3,"Ejerlejlighed",83,1953]
[null,null,"Ingeborgvej 27","2920 Charlottenlund",12350000,"2021-03-22","Alm. Salg",62060,7,"Villa",199,1912]
[null,null,"Dyrehavevej 18","2930 Klampenborg",16900000,"2021-03-22","Alm. Salg",86224,5,"Villa",196,1935]
[null,null,"Mosegårdsvej 23, 1. th","2820 Gentofte",1750000,"2021-03-22","Alm. Salg",30172,2,"Ejerlejlighed",58,1932]
[null,null,"Kirsten Piils Vej 14","2920 Charlottenlund",21000000,"2021-03-23","Alm. Salg",69767,9,"Villa",301,1920]
[null,null,"Jægersborg Alle 243, 2. tv","2820 Gentofte",3300000,"2021-03-23","Alm. Salg",30000,3,"Ejerlejlighed",110,1957]
[null,null,"Ermelundsvej 45, 1. tv","2820 Gentofte",2995000,"2021-03-23","Alm. Salg",38896,3,"Ejerlejlighed",77,1934]
[null,null,"Ordrupvej 41B, st. 3","2920 Charlottenlund",2395000,"2021-03-23","Alm. Salg",41293,2,"Ejerlejlighed",58,1961]
[null,null,"Jægersborgvej 106, 2. tv","2820 Gentofte",2595000,"2021-03-23","Alm. Salg",27606,4,"Ejerlejlighed",94,1949]
[null,null,"Tjørnegårdsvej 6","2820 Gentofte",8950000,"2021-03-23","Alm. Salg",58496,5,"Villa",153,1918]
[null,null,"Skovshovedvej 6, 3. th","2920 Charlottenlund",5015000,"2021-03-23","Alm. Salg",61913,3,"Ejerlejlighed",81,1900]
[null,null,"Plantagevej 19","2820 Gentofte",1508750,"2021-03-23","Fam. Salg",11012,5,"Villa",137,1959]
[null,null,"Jægersborgvej 120, st. tv","2820 Gentofte",1848000,"2021-03-23","Fam. Salg",18857,4,"Ejerlejlighed",98,1949]
[null,null,"Exnersvej 42","2930 Klampenborg",17000000,"2021-03-24","Alm. Salg",97142,7,"Villa",175,1927]
[null,null,"Ordrupvej 112B, 2. tv","2920 Charlottenlund",4650000,"2021-03-24","Alm. Salg",45145,4,"Ejerlejlighed",103,1933]
[null,null,"Jægersborg Alle 241, 3. th","2820 Gentofte",3595000,"2021-03-24","Alm. Salg",32681,4,"Ejerlejlighed",110,1957]
[null,null,"Løvspringsvej 2B, 1. tv","2920 Charlottenlund",4000000,"2021-03-24","Fam. Salg",46511,3,"Ejerlejlighed",86,1950]
[null,null,"Kærvangen 48","2820 Gentofte",9600000,"2021-03-24","Alm. Salg",69565,6,"Villa",138,1942]
[null,null,"Mantziusvej 4","2900 Hellerup",16000000,"2021-03-24","Alm. Salg",94117,6,"Villa",170,1904]
[null,null,"Forårsvej 11","2920 Charlottenlund",11350000,"2021-03-24","Alm. Salg",75666,5,"Villa",150,1972]
[null,null,"Høeghsmindevej 3, st","2820 Gentofte",6720000,"2021-03-24","Alm. Salg",37333,6,"Ejerlejlighed",180,1908]
[null,null,"Bøgehøj 9","2900 Hellerup",6300000,"2021-03-24","Alm. Salg",42857,6,"Villa",147,1927]
[null,null,"Bregnevej 3B","2820 Gentofte",7995000,"2021-03-25","Alm. Salg",64475,4,"Rækkehus",124,1984]
[null,null,"Enighedsvej 12, 2. 3","2920 Charlottenlund",4930000,"2021-03-25","Alm. Salg",51894,2,"Ejerlejlighed",95,1955]
[null,null,"Broholms Alle 13F, st. tv","2920 Charlottenlund",3825000,"2021-03-25","Alm. Salg",45535,4,"Ejerlejlighed",84,1939]
[null,null,"Gentoftegade 42, 4. tv","2820 Gentofte",7495000,"2021-03-25","Alm. Salg",68761,4,"Ejerlejlighed",109,1958]
[null,null,"Skovagervej 28","2920 Charlottenlund",10300000,"2021-03-25","Fam. Salg",59195,6,"Villa",174,1923]
[null,null,"Evanstonevej 8C, st. tv","2900 Hellerup",3700000,"2021-03-26","Alm. Salg",47435,3,"Ejerlejlighed",78,1933]
[null,null,"Fuglegårdsvænget 89, st. th","2820 Gentofte",1800000,"2021-03-26","Alm. Salg",35294,2,"Ejerlejlighed",51,1936]
[null,null,"Dyssegårdsvej 42, 1","2870 Dyssegård ",6150000,"2021-03-27","Alm. Salg",46946,5,"Ejerlejlighed",131,1933]
[null,null,"Lemchesvej 18","2900 Hellerup",20625000,"2021-03-27","Alm. Salg",83841,7,"Villa",246,1903]
[null,null,"Dyssegårdsvej 42, st","2870 Dyssegård ",6150000,"2021-03-27","Alm. Salg",43928,5,"Ejerlejlighed",140,1933]
[null,null,"Ellevadsvej 6","2920 Charlottenlund",18325000,"2021-03-27","Alm. Salg",63189,8,"Villa",290,1897]
[null,null,"Stigaardsvej 6","2900 Hellerup",15650000,"2021-03-28","Alm. Salg",99681,6,"Villa",157,1901]
[null,null,"Ny Ordrup Sidealle 5, 1. tv","2920 Charlottenlund",3395000,"2021-03-28","Alm. Salg",45266,3,"Ejerlejlighed",75,1946]
[null,null,"Bøgevej 6","2900 Hellerup",26000000,"2021-03-28","Alm. Salg",93189,11,"Villa",279,1929]
[null,null,"Ordrup Jagtvej 40B, 1. tv","2920 Charlottenlund",4495000,"2021-03-28","Alm. Salg",37458,4,"Ejerlejlighed",120,1946]
[null,null,"Skovshovedvej 6, st. th","2920 Charlottenlund",5625000,"2021-03-28","Alm. Salg",58593,4,"Ejerlejlighed",96,1900]
[null,null,"Ordrup Jagtvej 133, st. tv","2920 Charlottenlund",3165000,"2021-03-28","Alm. Salg",47238,2,"Ejerlejlighed",67,1935]
[null,null,"Høeghsmindevej 39","2820 Gentofte",8900000,"2021-03-29","Alm. Salg",56329,6,"Villa",158,1911]
[null,null,"Søndersøvej 50","2820 Gentofte",7445000,"2021-03-29","Alm. Salg",55559,6,"Rækkehus",134,1945]
[null,null,"Skovshovedvej 23A","2920 Charlottenlund",19100000,"2021-03-29","Alm. Salg",80252,6,"Villa",238,1919]
[null,null,"Bernstorffsvej 218","2920 Charlottenlund",5325000,"2021-03-29","Alm. Salg",58516,3,"Rækkehus",91,1978]
[null,null,"Sønderbakken 38","2820 Gentofte",9400000,"2021-03-29","Alm. Salg",54022,8,"Villa",174,1943]
[null,null,"Vemmetofte Alle 26","2820 Gentofte",12950000,"2021-03-29","Alm. Salg",78012,5,"Villa",166,1915]
[null,null,"Mylius Erichsens Alle 10","2900 Hellerup",7290000,"2021-03-29","Alm. Salg",76736,4,"Villa",95,1933]
[null,null,"Snogegårdsvej 8B, st. tv","2820 Gentofte",1695000,"2021-03-29","Alm. Salg",33235,2,"Ejerlejlighed",51,1940]
[null,null,"Garderhøjvej 35","2820 Gentofte",10500000,"2021-03-29","Alm. Salg",54973,7,"Villa",191,1937]
[null,null,"Ordrupvej 41E, 1. th","2920 Charlottenlund",2595000,"2021-03-29","Alm. Salg",41190,2,"Ejerlejlighed",63,1961]
[null,null,"Tuborg Havnepark 22, 5. th","2900 Hellerup",16000000,"2021-03-29","Alm. Salg",98159,4,"Ejerlejlighed",163,2008]
[null,null,"Hultmannsvej 8, st","2900 Hellerup",13500000,"2021-03-30","Alm. Salg",83333,6,"Ejerlejlighed",162,1911]
[null,null,"Hultmannsvej 8, 1","2900 Hellerup",13500000,"2021-03-30","Alm. Salg",74585,6,"Ejerlejlighed",181,1911]
[null,null,"Ordrupvej 41A, 3. 1","2920 Charlottenlund",1820000,"2021-03-30","Alm. Salg",43333,1,"Ejerlejlighed",42,1961]
[null,null,"Lundeskovsvej 5","2900 Hellerup",13250000,"2021-03-30","Alm. Salg",53861,8,"Villa",246,1924]
[null,null,"Havsgårdsvej 29","2900 Hellerup",7000000,"2021-03-30","Alm. Salg",41916,7,"Villa",153,1969]
[null,null,"Brannersvej 25, 3. 69","2920 Charlottenlund",2675000,"2021-03-30","Alm. Salg",49537,2,"Ejerlejlighed",54,1972]
[null,null,"Lykkevej 8, st","2920 Charlottenlund",9300000,"2021-03-30","Alm. Salg",68888,4,"Ejerlejlighed",135,1913]
[null,null,"Lykkevej 8, 1","2920 Charlottenlund",9300000,"2021-03-30","Alm. Salg",55357,5,"Ejerlejlighed",168,1913]
[null,null,"Ellinorsvej 11","2920 Charlottenlund",15995000,"2021-03-30","Alm. Salg",95778,7,"Villa",167,1912]
[null,null,"Ørnekulsvej 17","2920 Charlottenlund",13650000,"2021-03-31","Alm. Salg",73783,5,"Villa",185,1935]
[null,null,"Nørrebakken 6","2820 Gentofte",5000000,"2021-03-31","Alm. Salg",42372,4,"Rækkehus",118,1942]
[null,null,"Jægersborg Alle 53B, st","2920 Charlottenlund",3550000,"2021-03-31","Fam. Salg",28861,3,"Ejerlejlighed",123,1903]
[null,null,"Jægersborg Alle 53B, 1","2920 Charlottenlund",3550000,"2021-03-31","Fam. Salg",18783,5,"Ejerlejlighed",189,1903]
[null,null,"Skovrankevej 8","2820 Gentofte",12225000,"2021-04-01","Alm. Salg",57665,6,"Villa",212,1934]
[null,null,"Ole Olsens Alle 2","2900 Hellerup",17750000,"2021-04-01","Alm. Salg",67748,8,"Villa",262,1930]
[null,null,"Ordrupvej 109, 2. tv","2920 Charlottenlund",3695000,"2021-04-02","Alm. Salg",43470,3,"Ejerlejlighed",85,1943]
[null,null,"Hvidørevej 60","2930 Klampenborg",11250000,"2021-04-02","Alm. Salg",57989,8,"Villa",194,1933]
[null,null,"Ordrupvej 127, 1","2920 Charlottenlund",6800000,"2021-04-03","Alm. Salg",43870,3,"Ejerlejlighed",155,1922]
[null,null,"Vangedevej 220A, 2. th","2870 Dyssegård ",3300000,"2021-04-03","Alm. Salg",38372,3,"Ejerlejlighed",86,1948]
[null,null,"Clarasvej 1D, st. 2","2920 Charlottenlund",2550000,"2021-04-03","Alm. Salg",46363,2,"Ejerlejlighed",55,1939]
[null,null,"Ibstrupvej 71","2820 Gentofte",10500000,"2021-04-04","Alm. Salg",86065,5,"Villa",122,1929]
[null,null,"Markvangen 8","2820 Gentofte",7200000,"2021-04-05","Alm. Salg",41142,7,"Villa",175,1946]
[null,null,"Dalstrøget 63, st. th","2870 Dyssegård ",2138812,"2021-04-05","Alm. Salg",36876,2,"Ejerlejlighed",58,1959]
[null,null,"Havslundevej 3","2900 Hellerup",6875000,"2021-04-05","Alm. Salg",39739,7,"Villa",173,1930]
[null,null,"Slotsvej 44","2920 Charlottenlund",4650000,"2021-04-05","Alm. Salg",31849,5,"Villa",146,1959]
[null,null,"Charlottenlundvej 5, 2. tv","2900 Hellerup",4200000,"2021-04-06","Alm. Salg",61764,3,"Ejerlejlighed",68,1906]
[null,null,"Jægersborg Alle 45, 2. th","2920 Charlottenlund",3995000,"2021-04-06","Alm. Salg",50569,4,"Ejerlejlighed",79,1968]
[null,null,"Brogårdsvej 102, 2. tv","2820 Gentofte",1975000,"2021-04-06","Alm. Salg",29477,2,"Ejerlejlighed",67,1936]
[null,null,"Trunnevangen 6","2920 Charlottenlund",11000000,"2021-04-06","Alm. Salg",69620,5,"Villa",158,1889]
[null,null,"Søndersøvej 33A, st. th","2820 Gentofte",2250000,"2021-04-06","Alm. Salg",40178,2,"Ejerlejlighed",56,1934]
[null,null,"Vangedevej 96","2820 Gentofte",5620000,"2021-04-07","Alm. Salg",35345,4,"Villa",159,2022]
[null,null,"Kameliavej 13","2900 Hellerup",17850000,"2021-04-07","Alm. Salg",71686,8,"Rækkehus",249,1929]
[null,null,"Ordrupvej 189","2920 Charlottenlund",2500000,"2021-04-07","Alm. Salg",17006,5,"Villa",147,1949]
[null,null,"Ordrup Jagtvej 177, 1. tv","2920 Charlottenlund",3970000,"2021-04-07","Alm. Salg",54383,3,"Ejerlejlighed",73,1935]
[null,null,"Annasvej 4A, 2. tv","2900 Hellerup",5750000,"2021-04-07","Alm. Salg",60526,3,"Ejerlejlighed",95,1994]
[null,null,"Ved Bommen 13","2820 Gentofte",6495000,"2021-04-07","Alm. Salg",44183,5,"Villa",147,1933]
[null,null,"Brønlunds Alle 9","2900 Hellerup",7875000,"2021-04-07","Alm. Salg",64024,5,"Villa",123,1912]
[null,null,"Hyldegårdsvej 26, st","2920 Charlottenlund",7325000,"2021-04-07","Alm. Salg",50171,5,"Ejerlejlighed",146,1885]
[null,null,"Hyldegårdsvej 26, 2","2920 Charlottenlund",7325000,"2021-04-07","Alm. Salg",114453,2,"Ejerlejlighed",64,1885]
[null,null,"Hyldegårdsvej 26, 1","2920 Charlottenlund",7325000,"2021-04-07","Alm. Salg",76302,4,"Ejerlejlighed",96,1885]
[null,null,"Kildebakkegårds Alle 22A","2870 Dyssegård ",5400000,"2021-04-07","Alm. Salg",50000,2,"Rækkehus",108,1919]
[null,null,"Fuglegårdsvænget 96, 1. mf","2820 Gentofte",1800000,"2021-04-08","Alm. Salg",31034,2,"Ejerlejlighed",58,1938]
[null,null,"Rådhusvej 29","2920 Charlottenlund",10500000,"2021-04-08","Alm. Salg",50480,8,"Villa",208,1892]
[null,null,"Bryggertorvet 2, 1. 1","2900 Hellerup",4500000,"2021-04-08","Alm. Salg",55555,2,"Ejerlejlighed",81,1995]
[null,null,"Ermelundsvænget 9","2920 Charlottenlund",10400000,"2021-04-08","Alm. Salg",60115,5,"Villa",173,1961]
[null,null,"Ordrupvej 94, 1. tv","2920 Charlottenlund",4570000,"2021-04-08","Alm. Salg",44803,3,"Ejerlejlighed",102,1924]
[null,null,"Clarasvej 1B, 1. 1","2920 Charlottenlund",2395000,"2021-04-08","Alm. Salg",44351,2,"Ejerlejlighed",54,1939]
[null,null,"Lindegårdsvej 25, st. 3","2920 Charlottenlund",3625000,"2021-04-08","Alm. Salg",41666,2,"Ejerlejlighed",87,1964]
[null,null,"Enighedsvej 5B, st","2920 Charlottenlund",5900000,"2021-04-08","Alm. Salg",49579,3,"Ejerlejlighed",119,1887]
[null,null,"Enighedsvej 5B, 1","2920 Charlottenlund",5900000,"2021-04-08","Alm. Salg",71951,3,"Ejerlejlighed",82,1887]
[null,null,"Ordrupvej 112B, 3. th","2920 Charlottenlund",5175000,"2021-04-09","Alm. Salg",47916,4,"Ejerlejlighed",108,1933]
[null,null,"Tværbommen 13, 1. th","2820 Gentofte",2050000,"2021-04-09","Alm. Salg",31060,3,"Ejerlejlighed",66,1946]
[null,null,"Rådhusvej 18, 2. tv","2920 Charlottenlund",3300000,"2021-04-09","Alm. Salg",44594,3,"Ejerlejlighed",74,1934]
[null,null,"Dalstrøget 80, 2","2870 Dyssegård ",2450000,"2021-04-09","Alm. Salg",32236,2,"Ejerlejlighed",76,1959]
[null,null,"Ordrupvej 98D, 4. th","2920 Charlottenlund",2550000,"2021-04-09","Alm. Salg",43965,2,"Ejerlejlighed",58,1934]
[null,null,"Ordrupvej 126A, 2. 3","2920 Charlottenlund",2350000,"2021-04-10","Alm. Salg",35074,2,"Ejerlejlighed",67,1931]
[null,null,"Teglgårdsvej 1, 2. th","2920 Charlottenlund",1495000,"2021-04-10","Fam. Salg",23730,2,"Ejerlejlighed",63,1906]
[null,null,"Ordrupvej 98, st. th","2920 Charlottenlund",1922000,"2021-04-10","Alm. Salg",30507,2,"Ejerlejlighed",63,1934]
[null,null,"Slotsvej 76","2920 Charlottenlund",9995000,"2021-04-10","Alm. Salg",105210,4,"Villa",95,1926]
[null,null,"Markvangen 6","2820 Gentofte",8100000,"2021-04-11","Alm. Salg",43085,6,"Villa",188,1950]
[null,null,"Hellerupvej 21, st. th","2900 Hellerup",2995000,"2021-04-11","Alm. Salg",53482,2,"Ejerlejlighed",56,1990]
[null,null,"Eivindsvej 33","2920 Charlottenlund",9100000,"2021-04-12","Alm. Salg",44174,8,"Villa",176,1913]
[null,null,"Schioldannsvej 1, 1","2920 Charlottenlund",6475000,"2021-04-12","Alm. Salg",49053,4,"Ejerlejlighed",132,1981]
[null,null,"Dalstrøget 101, 3. tv","2870 Dyssegård ",3050000,"2021-04-12","Alm. Salg",40131,3,"Ejerlejlighed",76,1959]
[null,null,"Plantevej 27, st. th","2870 Dyssegård ",1925000,"2021-04-12","Alm. Salg",35648,2,"Ejerlejlighed",54,1938]
[null,null,"Sløjfen 32","2820 Gentofte",3895000,"2021-04-12","Alm. Salg",33008,5,"Rækkehus",118,1956]
[null,null,"Smakkegårdsvej 131A, st","2820 Gentofte",3525000,"2021-04-12","Alm. Salg",26503,4,"Ejerlejlighed",133,1925]
[null,null,"Smakkegårdsvej 131B, 1","2820 Gentofte",3525000,"2021-04-12","Alm. Salg",40056,3,"Ejerlejlighed",88,1925]
[null,null,"Christiansholms Tværvej 5","2930 Klampenborg",16800000,"2021-04-12","Alm. Salg",72727,8,"Rækkehus",231,1903]
[null,null,"Blidahpark 3, 2. th","2900 Hellerup",5975000,"2021-04-12","Alm. Salg",65659,3,"Ejerlejlighed",91,1934]
[null,null,"Mylius Erichsens Alle 15","2900 Hellerup",9650000,"2021-04-13","Alm. Salg",77200,4,"Villa",125,1929]
[null,null,"Heslegårdsvej 6, 2. 1","2900 Hellerup",3000000,"2021-04-13","Alm. Salg",40000,2,"Ejerlejlighed",75,1992]
[null,null,"Lundely 17","2900 Hellerup",12600000,"2021-04-13","Alm. Salg",54782,9,"Villa",230,1939]
[null,null,"Vedbendvej 12, 1. th","2900 Hellerup",2985000,"2021-04-13","Alm. Salg",36402,3,"Ejerlejlighed",82,1939]
[null,null,"Hultmannsvej 6","2900 Hellerup",24400000,"2021-04-14","Alm. Salg",93486,7,"Villa",261,1911]
[null,null,"Søbredden 14","2820 Gentofte",12300000,"2021-04-14","Alm. Salg",57209,5,"Villa",215,1939]
[null,null,"Kløckersvej 4","2820 Gentofte",14350000,"2021-04-14","Alm. Salg",71039,8,"Villa",202,1920]
[null,null,"Frimodtsvej 10","2900 Hellerup",13600000,"2021-04-14","Alm. Salg",60714,6,"Villa",224,1932]
[null,null,"Ny Ordrup Sidealle 7, 2. tv","2920 Charlottenlund",2106000,"2021-04-14","Alm. Salg",37607,2,"Ejerlejlighed",56,1946]
[null,null,"Enighedsvej 32","2920 Charlottenlund",16150000,"2021-04-14","Alm. Salg",99079,7,"Villa",163,1886]
[null,null,"Jægersborg Alle 27A, 2. mf","2920 Charlottenlund",3325000,"2021-04-14","Alm. Salg",48188,2,"Ejerlejlighed",69,1936]
[null,null,"Kildebakkegårds Alle 9B","2870 Dyssegård ",5700000,"2021-04-14","Alm. Salg",45238,5,"Villa",126,1968]
[null,null,"Johannevej 13B","2920 Charlottenlund",25500000,"2021-04-14","Alm. Salg",86734,8,"Villa",294,1900]
[null,null,"Dyrehavevej 30","2930 Klampenborg",28250000,"2021-04-14","Alm. Salg",112103,7,"Villa",252,2017]
[null,null,"Kildedalen 10, st","2900 Hellerup",3200000,"2021-04-14","Alm. Salg",34408,3,"Ejerlejlighed",93,1949]
[null,null,"Kildedalen 10, 1","2900 Hellerup",3200000,"2021-04-14","Alm. Salg",39024,3,"Ejerlejlighed",82,1949]
[null,null,"Heslegårdsvej 7","2900 Hellerup",11995000,"2021-04-15","Alm. Salg",57668,8,"Rækkehus",208,1932]
[null,null,"Smakkegårdsvej 207, 1. th","2820 Gentofte",1900000,"2021-04-15","Alm. Salg",28358,2,"Ejerlejlighed",67,1946]
[null,null,"Ordrup Jagtvej 40C, 2. tv","2920 Charlottenlund",4200000,"2021-04-15","Alm. Salg",35897,4,"Ejerlejlighed",117,1946]
[null,null,"Krøyersvej 4","2930 Klampenborg",20150000,"2021-04-15","Alm. Salg",89159,7,"Villa",226,1914]
[null,null,"Høeghsmindevej 83","2820 Gentofte",6100000,"2021-04-15","Fam. Salg",16353,7,"Villa",373,1937]
[null,null,"Melchiorsvej 1","2920 Charlottenlund",20000000,"2021-04-15","Alm. Salg",91743,8,"Villa",218,1921]
[null,null,"Lysagervej 11","2920 Charlottenlund",15600000,"2021-04-15","Alm. Salg",53242,9,"Villa",293,1934]
[null,null,"Plantagevej 16","2820 Gentofte",5750000,"2021-04-15","Alm. Salg",55288,5,"Rækkehus",104,1940]
[null,null,"Vingårds Alle 65, 1. tv","2900 Hellerup",4032000,"2021-04-16","Alm. Salg",51692,3,"Ejerlejlighed",78,1952]
[null,null,"Heslegårdsvej 4, st. 4","2900 Hellerup",3995000,"2021-04-16","Alm. Salg",45919,3,"Ejerlejlighed",87,1992]
[null,null,"Ordrupvej 78B, 1. tv","2920 Charlottenlund",3500000,"2021-04-16","Alm. Salg",41176,3,"Ejerlejlighed",85,1947]
[null,null,"Strandhøjsvej 35, st. th","2920 Charlottenlund",5825000,"2021-04-16","Alm. Salg",67732,3,"Ejerlejlighed",86,1881]
[null,null,"Smakkegårdsvej 4","2820 Gentofte",9500000,"2021-04-17","Alm. Salg",60897,5,"Villa",156,1952]
[null,null,"Tranegårdsvej 59, 1. th","2900 Hellerup",5950000,"2021-04-17","Alm. Salg",52654,5,"Ejerlejlighed",113,1931]
[null,null,"Tuborg Havnepark 16, 5. th","2900 Hellerup",18700000,"2021-04-17","Alm. Salg",112650,4,"Ejerlejlighed",166,2008]
[null,null,"Strandvejen 419, 1. tv","2930 Klampenborg",4250000,"2021-04-18","Alm. Salg",59859,2,"Ejerlejlighed",71,1933]
[null,null,"Fortunvej 51B","2920 Charlottenlund",10900000,"2021-04-18","Alm. Salg",72666,6,"Rækkehus",150,1950]
[null,null,"Niels Andersens Vej 19","2900 Hellerup",13995000,"2021-04-18","Alm. Salg",58312,8,"Villa",240,1934]
[null,null,"Tuborgvej 76A","2900 Hellerup",5750000,"2021-04-18","Alm. Salg",54761,3,"Villa",105,1982]
[null,null,"Bryggertorvet 2, 1. 2","2900 Hellerup",4300000,"2021-04-19","Alm. Salg",53750,2,"Ejerlejlighed",80,1995]
[null,null,"Ellebakken 17, 1","2900 Hellerup",6800000,"2021-04-19","Alm. Salg",48571,6,"Ejerlejlighed",140,1931]
[null,null,"Ordrup Jagtvej 42A, st. th","2920 Charlottenlund",2800000,"2021-04-19","Alm. Salg",43076,2,"Ejerlejlighed",65,1934]
[null,null,"Ericastien 6","2820 Gentofte",5600000,"2021-04-20","Alm. Salg",46280,4,"Rækkehus",121,1967]
[null,null,"Rådhusvej 77","2920 Charlottenlund",6505000,"2021-04-20","Alm. Salg",54663,3,"Rækkehus",119,1911]
[null,null,"Vangedevej 226B, 2. th","2870 Dyssegård ",2070000,"2021-04-20","Alm. Salg",34500,2,"Ejerlejlighed",60,1948]
[null,null,"Skovhegnet 5","2920 Charlottenlund",13250000,"2021-04-20","Alm. Salg",64950,5,"Villa",204,1989]
[null,null,"Adolphsvej 30, 1","2820 Gentofte",7950000,"2021-04-20","Alm. Salg",35022,6,"Ejerlejlighed",227,1936]
[null,null,"Egehøjvej 16","2920 Charlottenlund",6484788,"2021-04-20","Fam. Salg",39783,7,"Villa",163,1923]
[null,null,"Margrethevej 24, st","2900 Hellerup",17995000,"2021-04-20","Alm. Salg",84088,3,"Ejerlejlighed",214,1906]
[null,null,"Margrethevej 24, 1","2900 Hellerup",17995000,"2021-04-20","Alm. Salg",55199,6,"Ejerlejlighed",326,1906]
[null,null,"Jægerbakken 7","2820 Gentofte",12725000,"2021-04-21","Alm. Salg",74852,7,"Villa",170,1929]
[null,null,"Tranegårdsvej 80","2900 Hellerup",7000000,"2021-04-21","Alm. Salg",51851,4,"Villa",135,1928]
[null,null,"Morescosvej 14, 2. th","2920 Charlottenlund",3495000,"2021-04-21","Alm. Salg",41117,3,"Ejerlejlighed",85,1943]
[null,null,"Poppelhøj 27","2900 Hellerup",8500000,"2021-04-21","Alm. Salg",62500,5,"Villa",136,1937]
[null,null,"Søndersøvej 19","2820 Gentofte",11500000,"2021-04-21","Alm. Salg",64606,5,"Villa",178,1965]
[null,null,"Rygårds Alle 61","2900 Hellerup",11700000,"2021-04-21","Alm. Salg",76470,6,"Villa",153,1925]
[null,null,"Ordrupvej 67, st. th","2920 Charlottenlund",2700000,"2021-04-22","Alm. Salg",39705,3,"Ejerlejlighed",68,1938]
[null,null,"Emilievej 9A","2920 Charlottenlund",17500000,"2021-04-22","Alm. Salg",79545,8,"Villa",220,1884]
[null,null,"Slotsvej 1, st","2920 Charlottenlund",10550000,"2021-04-22","Alm. Salg",77573,3,"Ejerlejlighed",136,1903]
[null,null,"Slotsvej 1, 1","2920 Charlottenlund",10550000,"2021-04-22","Alm. Salg",58611,3,"Ejerlejlighed",180,1903]
[null,null,"Tranevænget 2, 1. th","2900 Hellerup",11300000,"2021-04-22","Alm. Salg",56783,6,"Ejerlejlighed",199,1929]
[null,null,"Maglemosevej 33","2900 Hellerup",12300000,"2021-04-22","Alm. Salg",113888,4,"Rækkehus",108,1943]
[null,null,"Enighedsvej 4, 4. tv","2920 Charlottenlund",5050000,"2021-04-22","Alm. Salg",63924,3,"Ejerlejlighed",79,1934]
[null,null,"Enighedsvej 4, 5. 1","2920 Charlottenlund",5050000,"2021-04-22","Alm. Salg",144285,1,"Ejerlejlighed",35,1934]
[null,null,"Munkegårdsvej 6","2870 Dyssegård ",8900000,"2021-04-22","Alm. Salg",65441,6,"Villa",136,1938]
[null,null,"Lindegårdsvej 28B, 2. th","2920 Charlottenlund",3721000,"2021-04-22","Alm. Salg",50283,3,"Ejerlejlighed",74,1937]
[null,null,"Søgårdsvej 52A","2820 Gentofte",7777777,"2021-04-22","Alm. Salg",40509,6,"Villa",192,1944]
[null,null,"Skjoldagervej 70, 2. mf","2820 Gentofte",1330000,"2021-04-22","Alm. Salg",39117,1,"Ejerlejlighed",34,1958]
[null,null,"Krathusparken 15","2920 Charlottenlund",13550000,"2021-04-23","Alm. Salg",54858,6,"Villa",247,1971]
[null,null,"A N Hansens Alle 15, 2","2900 Hellerup",3430000,"2021-04-24","Alm. Salg",27886,5,"Ejerlejlighed",123,1902]
[null,null,"Langengen 16","2870 Dyssegård ",6220000,"2021-04-24","Alm. Salg",54561,5,"Rækkehus",114,1954]
[null,null,"Herthavej 5E, 1. th","2920 Charlottenlund",5400000,"2021-04-25","Alm. Salg",46153,4,"Ejerlejlighed",117,1982]
[null,null,"Smakkegårdsvej 183, 1. mf","2820 Gentofte",2600000,"2021-04-25","Alm. Salg",40625,2,"Ejerlejlighed",64,1946]
[null,null,"Fabritius Alle 2","2930 Klampenborg",10940000,"2021-04-25","Alm. Salg",73422,5,"Rækkehus",149,1953]
[null,null,"Høstvej 9","2920 Charlottenlund",21000000,"2021-04-25","Alm. Salg",93333,8,"Villa",225,1895]
[null,null,"Fabritius Alle 2A","2930 Klampenborg",10940000,"2021-04-25","Alm. Salg",77588,4,"Rækkehus",141,1953]
[null,null,"Ordrupvej 129, st. th","2920 Charlottenlund",2955000,"2021-04-26","Alm. Salg",40479,3,"Ejerlejlighed",73,1933]
[null,null,"Vilvordeparken 13","2920 Charlottenlund",12250000,"2021-04-26","Alm. Salg",59178,6,"Villa",207,1961]
[null,null,"Klampenborgvej 29","2930 Klampenborg",11525000,"2021-04-26","Alm. Salg",62635,6,"Villa",184,2014]
[null,null,"Vældegårdsvej 6","2820 Gentofte",8000000,"2021-04-26","Fam. Salg",26058,11,"Villa",307,1943]
[null,null,"Skovgårdsvej 16E","2920 Charlottenlund",11495000,"2021-04-27","Alm. Salg",79826,5,"Rækkehus",144,1955]
[null,null,"Jægersborg Alle 245, 3. tv","2820 Gentofte",3100000,"2021-04-27","Alm. Salg",27927,3,"Ejerlejlighed",111,1957]
[null,null,"Niels Steensens Vej 25","2820 Gentofte",5750000,"2021-04-27","Alm. Salg",44921,6,"Villa",128,1962]
[null,null,"Ericavej 147, 2. 36","2820 Gentofte",1826000,"2021-04-27","Alm. Salg",29934,2,"Ejerlejlighed",61,1968]
[null,null,"Vangedevej 232B, st. th","2870 Dyssegård ",1225000,"2021-04-27","Alm. Salg",32236,1,"Ejerlejlighed",38,1943]
[null,null,"Dalstrøget 76, 6","2870 Dyssegård ",1600000,"2021-04-27","Alm. Salg",18390,3,"Ejerlejlighed",87,1959]
[null,null,"Ahlmanns Alle 23, st","2900 Hellerup",11200000,"2021-04-28","Alm. Salg",90322,4,"Ejerlejlighed",124,1902]
[null,null,"Ahlmanns Alle 23, 1","2900 Hellerup",11200000,"2021-04-28","Alm. Salg",68292,7,"Ejerlejlighed",164,1902]
[null,null,"Eskeager 8","2870 Dyssegård ",6995000,"2021-04-28","Alm. Salg",60826,4,"Rækkehus",115,1955]
[null,null,"Vangede Bygade 105, 1. tv","2820 Gentofte",1900000,"2021-04-28","Alm. Salg",37254,2,"Ejerlejlighed",51,1958]
[null,null,"Vangedevej 222A, 2. th","2870 Dyssegård ",1621084,"2021-04-28","Fam. Salg",26575,2,"Ejerlejlighed",61,1948]
[null,null,"Strandvejen 38, 2. th","2900 Hellerup",7000000,"2021-04-28","Alm. Salg",58823,5,"Ejerlejlighed",119,1899]
[null,null,"Hyldegårds Tværvej 35","2920 Charlottenlund",8000000,"2021-04-28","Alm. Salg",106666,1,"Villa",75,2005]
[null,null,"Sognevej 53, st","2820 Gentofte",5800000,"2021-04-28","Alm. Salg",32222,4,"Ejerlejlighed",180,1934]
[null,null,"Broholms Alle 32, 1. tv","2920 Charlottenlund",4995000,"2021-04-28","Alm. Salg",46250,4,"Ejerlejlighed",108,1935]
[null,null,"Ewaldsbakken 4C","2900 Hellerup",9495000,"2021-04-28","Alm. Salg",51603,5,"Villa",184,1935]
[null,null,"Sognevej 53, 1","2820 Gentofte",5800000,"2021-04-28","Alm. Salg",32222,7,"Ejerlejlighed",180,1934]
[null,null,"Bengtasvej 15, st","2900 Hellerup",12500000,"2021-04-29","Alm. Salg",98425,4,"Ejerlejlighed",127,1898]
[null,null,"Bengtasvej 15, 2","2900 Hellerup",12500000,"2021-04-29","Alm. Salg",121359,4,"Ejerlejlighed",103,1898]
[null,null,"Bengtasvej 15, 1","2900 Hellerup",12500000,"2021-04-29","Alm. Salg",108695,3,"Ejerlejlighed",115,1898]
[null,null,"Frederikkevej 15, 1","2900 Hellerup",11150000,"2021-04-29","Alm. Salg",70569,5,"Ejerlejlighed",158,1902]
[null,null,"Bernstorfflund Alle 47","2920 Charlottenlund",11200000,"2021-04-29","Alm. Salg",71337,5,"Villa",157,1964]
[null,null,"Strandvejen 110D, 2. tv","2900 Hellerup",5300000,"2021-04-29","Alm. Salg",71621,3,"Ejerlejlighed",74,1902]
[null,null,"Kildegårdsvej 18E","2900 Hellerup",8400000,"2021-04-29","Alm. Salg",57931,4,"Rækkehus",145,2015]
[null,null,"Ordrupvej 98, 2. th","2920 Charlottenlund",2800000,"2021-04-29","Alm. Salg",44444,2,"Ejerlejlighed",63,1934]
[null,null,"Bernstorffsvej 191","2920 Charlottenlund",9300000,"2021-04-30","Alm. Salg",49206,6,"Villa",165,1933]
[null,null,"Enighedsvej 10B, 1","2920 Charlottenlund",4450000,"2021-05-01","Alm. Salg",42380,3,"Ejerlejlighed",105,1886]
[null,null,"Snogegårdsvej 16","2820 Gentofte",7000000,"2021-05-01","Alm. Salg",50724,5,"Villa",138,1933]
[null,null,"Enighedsvej 14, 3. th","2920 Charlottenlund",5200000,"2021-05-01","Alm. Salg",47272,3,"Ejerlejlighed",110,1955]
[null,null,"Kildegårdsvej 93","2900 Hellerup",8000000,"2021-05-01","Alm. Salg",50000,4,"Villa",160,1923]
[null,null,"Smakkegårdsvej 191, 1. tv","2820 Gentofte",3050000,"2021-05-02","Alm. Salg",32795,3,"Ejerlejlighed",93,1946]
[null,null,"Tranegårdsvej 62, 2. th","2900 Hellerup",2940000,"2021-05-03","Alm. Salg",41408,2,"Ejerlejlighed",71,1919]
[null,null,"Hvidørevej 61","2930 Klampenborg",8800000,"2021-05-03","Alm. Salg",74576,4,"Villa",118,1956]
[null,null,"Banevej 9","2920 Charlottenlund",10315000,"2021-05-03","Alm. Salg",78740,5,"Rækkehus",131,1929]
[null,null,"Valbirkvej 10","2900 Hellerup",1250000,"2021-05-03","Alm. Salg",5896,8,"Villa",212,1938]
[null,null,"Strandvejen 196","2920 Charlottenlund",31500000,"2021-05-03","Alm. Salg",72082,13,"Villa",437,1880]
[null,null,"Slotsvej 35A","2920 Charlottenlund",12050000,"2021-05-03","Alm. Salg",62113,6,"Villa",194,1966]
[null,null,"Hesselvang 1","2900 Hellerup",14350000,"2021-05-03","Alm. Salg",64932,7,"Rækkehus",221,1931]
[null,null,"Vangedevej 234, 2. th","2870 Dyssegård ",3250000,"2021-05-03","Alm. Salg",37790,3,"Ejerlejlighed",86,1931]
[null,null,"Cottagevej 5A","2900 Hellerup",11600000,"2021-05-04","Alm. Salg",79452,4,"Villa",146,1962]
[null,null,"Ved Renden 39","2870 Dyssegård ",9500000,"2021-05-04","Alm. Salg",86363,4,"Villa",110,1936]
[null,null,"Mosegårdsvænget 3","2820 Gentofte",2700000,"2021-05-04","Alm. Salg",19285,6,"Villa",140,1958]
[null,null,"Fennevangen 18","2820 Gentofte",6650000,"2021-05-04","Alm. Salg",27142,5,"Villa",245,0]
[null,null,"Fennevangen 18","2820 Gentofte",6650000,"2021-05-04","Alm. Salg",62149,4,"Villa",107,1934]
[null,null,"Ordrup Have 9","2920 Charlottenlund",11600000,"2021-05-04","Alm. Salg",76315,7,"Villa",152,1958]
[null,null,"Strandvejen 108A, 4. tv","2900 Hellerup",2850000,"2021-05-04","Fam. Salg",24782,4,"Ejerlejlighed",115,1911]
[null,null,"Hjortevangen 5","2920 Charlottenlund",14650000,"2021-05-04","Alm. Salg",80054,8,"Villa",183,1924]
[null,null,"Svejgårdsvej 16","2900 Hellerup",17050000,"2021-05-04","Alm. Salg",80046,8,"Villa",213,1913]
[null,null,"Annettevej 20, 1. tv","2920 Charlottenlund",3000000,"2021-05-04","Alm. Salg",44776,2,"Ejerlejlighed",67,1937]
[null,null,"Cottagevej 6","2900 Hellerup",16350000,"2021-05-05","Alm. Salg",105483,7,"Villa",155,1891]
[null,null,"Hurdlevej 3","2930 Klampenborg",20500000,"2021-05-05","Alm. Salg",65286,6,"Villa",314,1934]
[null,null,"Hurdlevej 3","2930 Klampenborg",20500000,"2021-05-05","Alm. Salg",366071,2,"Villa",56,1938]
[null,null,"Hovmarksvej 3","2920 Charlottenlund",16800000,"2021-05-05","Alm. Salg",90810,10,"Villa",185,1952]
[null,null,"Lindegårdsvej 25, 2. 2","2920 Charlottenlund",4795000,"2021-05-05","Alm. Salg",55114,2,"Ejerlejlighed",87,1964]
[null,null,"Rosenstandsvej 19, st","2920 Charlottenlund",9950000,"2021-05-06","Alm. Salg",67687,4,"Ejerlejlighed",147,1917]
[null,null,"Mosehøjvej 5B","2920 Charlottenlund",11700000,"2021-05-06","Alm. Salg",59090,5,"Ejerlejlighed",198,1974]
[null,null,"Ordrupvej 45A, 1. th","2920 Charlottenlund",2595000,"2021-05-06","Alm. Salg",39318,2,"Ejerlejlighed",66,1955]
[null,null,"Brannersvej 23, 3. 44","2920 Charlottenlund",2395000,"2021-05-06","Alm. Salg",54431,2,"Ejerlejlighed",44,1972]
[null,null,"Clarasvej 12","2920 Charlottenlund",13000000,"2021-05-06","Alm. Salg",52000,6,"Villa",250,2002]
[null,null,"Ordrupvej 46B, 4. th","2920 Charlottenlund",4250000,"2021-05-07","Alm. Salg",44270,4,"Ejerlejlighed",96,1939]
[null,null,"Ordrupvej 67C, st. tv","2920 Charlottenlund",2800000,"2021-05-09","Alm. Salg",40579,3,"Ejerlejlighed",69,1938]
[null,null,"Plantevej 19, 3. th","2870 Dyssegård ",2000000,"2021-05-09","Alm. Salg",34482,2,"Ejerlejlighed",58,1938]
[null,null,"Hellerupvej 15, 2. th","2900 Hellerup",6280000,"2021-05-09","Alm. Salg",65416,3,"Ejerlejlighed",96,1900]
[null,null,"Strandvejen 359","2930 Klampenborg",20500000,"2021-05-09","Alm. Salg",100490,8,"Villa",204,1858]
[null,null,"Plantevej 5, 2. tv","2870 Dyssegård ",1900000,"2021-05-09","Alm. Salg",32758,2,"Ejerlejlighed",58,1948]
[null,null,"Bernstorffsvej 129, 2","2900 Hellerup",3300000,"2021-05-09","Alm. Salg",52380,3,"Ejerlejlighed",63,1916]
[null,null,"Ellinorsvej 10","2920 Charlottenlund",16600000,"2021-05-09","Alm. Salg",79047,6,"Villa",210,1912]
[null,null,"Jensløvs Tværvej 12, 2. th","2920 Charlottenlund",3198000,"2021-05-09","Alm. Salg",49200,2,"Ejerlejlighed",65,1933]
[null,null,"Rakelsvej 5, 1. tv","2900 Hellerup",5405000,"2021-05-09","Alm. Salg",57500,4,"Ejerlejlighed",94,1929]
[null,null,"Tranegårdsvej 60, 3. th","2900 Hellerup",1207500,"2021-05-10","Fam. Salg",24642,2,"Ejerlejlighed",49,1919]
[null,null,"Phistersvej 15, 1. th","2900 Hellerup",6500000,"2021-05-10","Alm. Salg",61320,4,"Ejerlejlighed",106,1952]
[null,null,"Kirkevej 11, 1","2920 Charlottenlund",6400000,"2021-05-10","Alm. Salg",64000,3,"Ejerlejlighed",100,1901]
[null,null,"Skjoldagervej 22","2820 Gentofte",7995000,"2021-05-10","Alm. Salg",59222,5,"Rækkehus",135,1943]
[null,null,"Sølystvej 8","2930 Klampenborg",18275000,"2021-05-10","Alm. Salg",105635,7,"Villa",173,1924]
[null,null,"Mosehøjvej 28","2920 Charlottenlund",11600000,"2021-05-10","Alm. Salg",60103,5,"Rækkehus",193,1936]
[null,null,"Broholms Alle 39, st","2920 Charlottenlund",4450000,"2021-05-10","Alm. Salg",51149,3,"Ejerlejlighed",87,1988]
[null,null,"Søholm Park 8","2900 Hellerup",15800000,"2021-05-10","Alm. Salg",33263,12,"Villa",475,1935]
[null,null,"Dalstrøget 125, 2. th","2870 Dyssegård ",1355000,"2021-05-11","Fam. Salg",16130,4,"Ejerlejlighed",84,1962]
[null,null,"Skovgårdsvej 6, st. th","2920 Charlottenlund",3685000,"2021-05-11","Alm. Salg",44397,4,"Ejerlejlighed",83,1949]
[null,null,"Exnersvej 41","2930 Klampenborg",20550000,"2021-05-11","Alm. Salg",86344,8,"Villa",238,1936]
[null,null,"Høyrups Alle 22","2900 Hellerup",19375000,"2021-05-11","Alm. Salg",125000,6,"Villa",155,1959]
[null,null,"Margrethevej 3A, st. tv","2900 Hellerup",5040000,"2021-05-11","Alm. Salg",51428,3,"Ejerlejlighed",98,1968]
[null,null,"Vangede Bygade 115, st. th","2820 Gentofte",1995000,"2021-05-11","Alm. Salg",39117,2,"Ejerlejlighed",51,1958]
[null,null,"Toftekærsvej 12","2820 Gentofte",10945000,"2021-05-11","Alm. Salg",69272,6,"Villa",158,1930]
[null,null,"Ellebækvej 52, st. tv","2820 Gentofte",1600000,"2021-05-11","Alm. Salg",32000,2,"Ejerlejlighed",50,1942]
[null,null,"Christiansholms Parallelvej 9, 1","2930 Klampenborg",6400000,"2021-05-11","Alm. Salg",66666,3,"Ejerlejlighed",96,1903]
[null,null,"Skovkrogen 1, 1. tv","2920 Charlottenlund",1100000,"2021-05-11","Alm. Salg",18644,2,"Ejerlejlighed",59,1934]
[null,null,"Ermelundsvej 96","2820 Gentofte",9000000,"2021-05-11","Alm. Salg",63380,5,"Villa",142,1896]
[null,null,"Høyrups Alle 2, 4. tv","2900 Hellerup",9200000,"2021-05-11","Alm. Salg",68148,4,"Ejerlejlighed",135,1929]
[null,null,"Jensløvs Tværvej 5B, 2. tv","2920 Charlottenlund",3350000,"2021-05-12","Alm. Salg",50000,2,"Ejerlejlighed",67,1945]
[null,null,"Slotsvej 8","2920 Charlottenlund",11495000,"2021-05-12","Alm. Salg",72295,4,"Villa",159,1970]
[null,null,"Tuborgvej 104","2900 Hellerup",9000000,"2021-05-13","Alm. Salg",46153,8,"Villa",195,1935]
[null,null,"Mosegårdsvej 57","2820 Gentofte",7100000,"2021-05-13","Alm. Salg",67619,5,"Villa",105,1934]
[null,null,"Vingårds Alle 57, st. tv","2900 Hellerup",4330000,"2021-05-13","Alm. Salg",54125,2,"Ejerlejlighed",80,1952]
[null,null,"Skovkrogen 7, st. th","2920 Charlottenlund",1995000,"2021-05-13","Alm. Salg",41562,2,"Ejerlejlighed",48,1934]
[null,null,"Anemonevej 40, 1","2820 Gentofte",3995000,"2021-05-13","Alm. Salg",57071,3,"Ejerlejlighed",70,1902]
[null,null,"Ordrupvej 109, st. th","2920 Charlottenlund",3450000,"2021-05-15","Alm. Salg",39204,3,"Ejerlejlighed",88,1943]
[null,null,"Udsigten 18, st","2820 Gentofte",9750000,"2021-05-15","Alm. Salg",69642,4,"Ejerlejlighed",140,1920]
[null,null,"Bernstorffsvej 202","2920 Charlottenlund",7000000,"2021-05-16","Fam. Salg",27667,8,"Villa",253,1934]
[null,null,"Brannersvej 1A, 2. tv","2920 Charlottenlund",4700000,"2021-05-16","Alm. Salg",57317,3,"Ejerlejlighed",82,1939]
[null,null,"Emilievej 7","2920 Charlottenlund",17500000,"2021-05-16","Alm. Salg",73839,7,"Villa",237,1924]
[null,null,"Schioldannsvej 3, st. c","2920 Charlottenlund",1660000,"2021-05-16","Alm. Salg",44864,1,"Ejerlejlighed",37,1962]
[null,null,"Brannersvej 1A, 3. 20","2920 Charlottenlund",4700000,"2021-05-16","Alm. Salg",204347,1,"Ejerlejlighed",23,1939]
[null,null,"Bernstorffsvej 71B, 2. tv","2900 Hellerup",3995000,"2021-05-16","Alm. Salg",48719,3,"Ejerlejlighed",82,1936]
[null,null,"Strandvejen 112, 3. th","2900 Hellerup",11200000,"2021-05-16","Alm. Salg",59574,6,"Ejerlejlighed",188,1902]
[null,null,"Tværbommen 27, 2. tv","2820 Gentofte",2307500,"2021-05-16","Alm. Salg",34440,2,"Ejerlejlighed",67,1946]
[null,null,"Brannersvej 21, 3. 19","2920 Charlottenlund",2200000,"2021-05-16","Alm. Salg",46808,2,"Ejerlejlighed",47,1972]
[null,null,"Grøntoften 7, st. tv","2870 Dyssegård ",1104000,"2021-05-16","Fam. Salg",17523,3,"Ejerlejlighed",63,1931]
[null,null,"Ordrup Jagtvej 40A, st. th","2920 Charlottenlund",2550000,"2021-05-17","Alm. Salg",41129,2,"Ejerlejlighed",62,1946]
[null,null,"Sønderengen 74","2870 Dyssegård ",7300000,"2021-05-17","Alm. Salg",78494,3,"Villa",93,1935]
[null,null,"Mosegårdsvej 33, st. th","2820 Gentofte",2115000,"2021-05-17","Alm. Salg",34112,2,"Ejerlejlighed",62,1932]
[null,null,"Teglgårdsvej 7B","2920 Charlottenlund",15105000,"2021-05-17","Alm. Salg",108669,6,"Villa",139,1898]
[null,null,"Vintervej 6, 1","2920 Charlottenlund",7500000,"2021-05-18","Alm. Salg",55555,5,"Ejerlejlighed",135,1923]
[null,null,"Hjortevangen 7","2920 Charlottenlund",17000000,"2021-05-18","Alm. Salg",76576,6,"Villa",222,1929]
[null,null,"Ellebækvej 56, st. th","2820 Gentofte",900000,"2021-05-18","Alm. Salg",18367,2,"Ejerlejlighed",49,1942]
[null,null,"Maglemosevej 1, 2. th","2900 Hellerup",7100000,"2021-05-18","Alm. Salg",62831,4,"Ejerlejlighed",113,1933]
[null,null,"Henningsens Alle 22","2900 Hellerup",15500000,"2021-05-18","Alm. Salg",65400,7,"Villa",237,1893]
[null,null,"Strandvejen 313","2920 Charlottenlund",9900000,"2021-05-18","Alm. Salg",107608,4,"Villa",92,1907]
[null,null,"Tuborg Havnepark 20, 2. th","2900 Hellerup",15000000,"2021-05-18","Alm. Salg",89820,4,"Ejerlejlighed",167,2008]
[null,null,"Strandvejen 334","2930 Klampenborg",41750000,"2021-05-19","Alm. Salg",163725,7,"Villa",255,1918]
[null,null,"Ny Ordrup Sidealle 1, 2. th","2920 Charlottenlund",550000,"2021-05-19","Alm. Salg",5045,4,"Ejerlejlighed",109,1946]
[null,null,"Lille Fredensvej 1D, 2. th","2920 Charlottenlund",4795000,"2021-05-19","Alm. Salg",65684,3,"Ejerlejlighed",73,1977]
[null,null,"Bramsvej 14","2920 Charlottenlund",12000000,"2021-05-19","Alm. Salg",73170,5,"Villa",164,1960]
[null,null,"Dalsvinget 10","2900 Hellerup",7600000,"2021-05-19","Alm. Salg",48101,4,"Villa",158,1934]
[null,null,"Adolphsvej 43B, st","2820 Gentofte",2585700,"2021-05-19","Fam. Salg",18873,4,"Ejerlejlighed",137,1919]
[null,null,"Adolphsvej 43B, 1","2820 Gentofte",2585700,"2021-05-19","Fam. Salg",13059,5,"Ejerlejlighed",198,1919]
[null,null,"Ærenprisvej 11, st. tv","2820 Gentofte",4750000,"2021-05-19","Alm. Salg",48469,4,"Ejerlejlighed",98,1939]
[null,null,"Forårsvej 18","2920 Charlottenlund",17995000,"2021-05-19","Alm. Salg",109725,7,"Villa",164,1901]
[null,null,"Phistersvej 24, 2. tv","2900 Hellerup",7250000,"2021-05-19","Alm. Salg",54104,4,"Ejerlejlighed",134,1927]
[null,null,"Vangedevej 179","2870 Dyssegård ",9600000,"2021-05-19","Alm. Salg",67605,6,"Villa",142,1929]
[null,null,"Henningsens Alle 52","2900 Hellerup",15345000,"2021-05-19","Alm. Salg",42625,8,"Villa",360,1916]
[null,null,"Slotsvej 84B","2920 Charlottenlund",16800000,"2021-05-19","Alm. Salg",75000,6,"Villa",224,1993]
[null,null,"Smakkegårdsvej 8","2820 Gentofte",10800000,"2021-05-20","Alm. Salg",51674,7,"Villa",209,1934]
[null,null,"Tuborgvej 100A","2900 Hellerup",9475000,"2021-05-20","Alm. Salg",40319,9,"Villa",235,1938]
[null,null,"Jægersborg Alle 247, st. th","2820 Gentofte",3290000,"2021-05-20","Alm. Salg",28608,3,"Ejerlejlighed",115,1957]
[null,null,"Christianshvilevej 8, st","2920 Charlottenlund",5100000,"2021-05-20","Alm. Salg",48113,4,"Ejerlejlighed",106,1896]
[null,null,"Jensløvs Tværvej 12, 4. th","2920 Charlottenlund",3275000,"2021-05-20","Alm. Salg",43092,3,"Ejerlejlighed",76,1933]
[null,null,"Callisensvej 18, 3. th","2900 Hellerup",3850000,"2021-05-20","Alm. Salg",59230,3,"Ejerlejlighed",65,1899]
[null,null,"Heilsmindevej 2","2920 Charlottenlund",16750000,"2021-05-20","Alm. Salg",74444,6,"Villa",225,1875]
[null,null,"Vangedevej 4, 2. tv","2820 Gentofte",1780000,"2021-05-20","Alm. Salg",30169,2,"Ejerlejlighed",59,1939]
[null,null,"Einar Holbølls Vej 3, st","2920 Charlottenlund",11900000,"2021-05-22","Alm. Salg",69186,4,"Ejerlejlighed",172,1923]
[null,null,"Ellevadsvej 1, 1. tv","2920 Charlottenlund",8600000,"2021-05-22","Alm. Salg",52121,5,"Ejerlejlighed",165,1910]
[null,null,"Ellevadsvej 1, 2","2920 Charlottenlund",8600000,"2021-05-22","Alm. Salg",153571,2,"Ejerlejlighed",56,1910]
[null,null,"Brannersvej 21, 1. 7","2920 Charlottenlund",2600000,"2021-05-22","Alm. Salg",47272,2,"Ejerlejlighed",55,1972]
[null,null,"Ordrupvej 98D, 2. th","2920 Charlottenlund",2365000,"2021-05-23","Alm. Salg",40775,2,"Ejerlejlighed",58,1934]
[null,null,"Plantevej 27, 4. th","2870 Dyssegård ",968000,"2021-05-24","Alm. Salg",18264,2,"Ejerlejlighed",53,1938]
[null,null,"Jægersborg Alle 43, st. th","2920 Charlottenlund",1595000,"2021-05-24","Alm. Salg",37976,1,"Ejerlejlighed",42,1981]
[null,null,"Clarasvej 1C, st. 4","2920 Charlottenlund",2295000,"2021-05-24","Alm. Salg",43301,2,"Ejerlejlighed",53,1939]
[null,null,"Plantevej 23, 3. tv","2870 Dyssegård ",1125000,"2021-05-24","Alm. Salg",19736,2,"Ejerlejlighed",57,1938]
[null,null,"Brogårdsvej 102, 1. tv","2820 Gentofte",1800000,"2021-05-24","Alm. Salg",26865,2,"Ejerlejlighed",67,1936]
[null,null,"Taffelbays Alle 2, st. 1","2900 Hellerup",3375000,"2021-05-24","Andet",24635,4,"Ejerlejlighed",137,1912]
[null,null,"Dalstrøget 74, 2. th","2870 Dyssegård ",4800000,"2021-05-24","Alm. Salg",45714,4,"Ejerlejlighed",105,1959]
[null,null,"Høeghsmindevej 13","2820 Gentofte",9250000,"2021-05-25","Alm. Salg",61258,7,"Villa",151,1918]
[null,null,"Ordrupvej 10, 2. th","2920 Charlottenlund",2700000,"2021-05-25","Alm. Salg",40909,2,"Ejerlejlighed",66,1936]
[null,null,"Vedbendvej 2A, 1. th","2900 Hellerup",2100000,"2021-05-25","Alm. Salg",30000,3,"Ejerlejlighed",70,1938]
[null,null,"Vangedevej 232A","2870 Dyssegård ",1305000,"2021-05-25","Alm. Salg",23727,3,"Ejerlejlighed",55,1943]
[null,null,"Ahlmanns Alle 27, 1","2900 Hellerup",10175000,"2021-05-26","Alm. Salg",67384,5,"Ejerlejlighed",151,1904]
[null,null,"Vangede Bygade 103, 1. th","2820 Gentofte",1965000,"2021-05-26","Alm. Salg",31693,2,"Ejerlejlighed",62,1935]
[null,null,"Hellerupvej 17A, 1","2900 Hellerup",14525000,"2021-05-26","Alm. Salg",134490,3,"Ejerlejlighed",108,1904]
[null,null,"Lindegårdsvej 17, 2. tv","2920 Charlottenlund",4850000,"2021-05-26","Alm. Salg",44090,4,"Ejerlejlighed",110,1895]
[null,null,"Garderhøjvej 21","2820 Gentofte",10750000,"2021-05-26","Alm. Salg",55699,6,"Villa",193,1934]
[null,null,"Tjørnegårdsvej 11","2820 Gentofte",12250000,"2021-05-26","Alm. Salg",67307,6,"Villa",182,1931]
[null,null,"Skovbrinken 14","2920 Charlottenlund",4125000,"2021-05-26","Fam. Salg",18171,4,"Villa",227,1953]
[null,null,"Hellerupvej 17A","2900 Hellerup",14525000,"2021-05-26","Alm. Salg",558653,6,"Villa",26,1904]
[null,null,"Dalstrøget 115, st","2870 Dyssegård ",3800000,"2021-05-26","Alm. Salg",41758,4,"Ejerlejlighed",91,1959]
[null,null,"Søborg Hovedgade 10A, st","2870 Dyssegård ",2845000,"2021-05-26","Alm. Salg",33081,3,"Ejerlejlighed",86,1987]
[null,null,"Ordrupvej 41C, 2. 2","2920 Charlottenlund",1970000,"2021-05-26","Alm. Salg",45813,2,"Ejerlejlighed",43,1961]
[null,null,"Dalstrøget 71, 3. mf","2870 Dyssegård ",1900000,"2021-05-26","Alm. Salg",43181,1,"Ejerlejlighed",44,1959]
[null,null,"Kildegårdsvej 18D","2900 Hellerup",8850000,"2021-05-26","Alm. Salg",63214,4,"Rækkehus",140,2015]
[null,null,"Tuborg Havnepark 22, 3. th","2900 Hellerup",15100000,"2021-05-26","Alm. Salg",92638,3,"Ejerlejlighed",163,2008]
[null,null,"Wilhelm Smidts Vej 11","2820 Gentofte",4500000,"2021-05-27","Fam. Salg",20737,7,"Villa",217,1923]
[null,null,"Lille Fredensvej 5A, st. tv","2920 Charlottenlund",5345000,"2021-05-27","Alm. Salg",66812,3,"Ejerlejlighed",80,1983]
[null,null,"Vangedevej 220B, 1. th","2870 Dyssegård ",2150000,"2021-05-27","Alm. Salg",35245,2,"Ejerlejlighed",61,1948]
[null,null,"Solsiden 4","2820 Gentofte",12650000,"2021-05-27","Alm. Salg",75297,5,"Villa",168,2011]
[null,null,"Torkel Badens Vej 15","2900 Hellerup",15200000,"2021-05-27","Alm. Salg",86857,8,"Villa",175,1922]
[null,null,"Jægersborgvej 116, st. tv","2820 Gentofte",2500000,"2021-05-27","Alm. Salg",26315,4,"Ejerlejlighed",95,1949]
[null,null,"Sophus Bauditz Vej 21","2920 Charlottenlund",20000000,"2021-05-27","Alm. Salg",81632,8,"Villa",245,1904]
[null,null,"Springbanen 35, 2. 1","2820 Gentofte",3250000,"2021-05-27","Alm. Salg",43333,2,"Ejerlejlighed",75,1992]
[null,null,"Blidahpark 5, 2. tv","2900 Hellerup",4995000,"2021-05-27","Alm. Salg",55500,3,"Ejerlejlighed",90,1934]
[null,null,"Strandvejen 417D, 1. th","2930 Klampenborg",8100000,"2021-05-28","Alm. Salg",61832,5,"Ejerlejlighed",131,1959]
[null,null,"A N Hansens Alle 28, 2","2900 Hellerup",13995000,"2021-05-29","Alm. Salg",109335,4,"Ejerlejlighed",128,1902]
[null,null,"Slettevej 11","2870 Dyssegård ",7000000,"2021-05-29","Alm. Salg",70000,5,"Rækkehus",100,1943]
[null,null,"Lyngbyvej 281","2900 Hellerup",5750000,"2021-05-29","Alm. Salg",45634,5,"Villa",126,1934]
[null,null,"Tværbommen 33, 2. tv","2820 Gentofte",2750000,"2021-05-29","Alm. Salg",33132,4,"Ejerlejlighed",83,1946]
[null,null,"Callisensvej 39, 2. 1","2900 Hellerup",10200000,"2021-05-29","Alm. Salg",392307,2,"Ejerlejlighed",26,1911]
[null,null,"Callisensvej 39, st","2900 Hellerup",10200000,"2021-05-29","Alm. Salg",68456,4,"Ejerlejlighed",149,1911]
[null,null,"Callisensvej 39, 1","2900 Hellerup",10200000,"2021-05-29","Alm. Salg",68456,3,"Ejerlejlighed",149,1911]
[null,null,"Callisensvej 39, 2. 2","2900 Hellerup",10200000,"2021-05-29","Alm. Salg",566666,1,"Ejerlejlighed",18,1911]
[null,null,"Vingårds Alle 57, 2. th","2900 Hellerup",7025000,"2021-05-30","Alm. Salg",65654,4,"Ejerlejlighed",107,1952]
[null,null,"Phistersvej 9, 2. th","2900 Hellerup",4400000,"2021-05-30","Alm. Salg",57142,2,"Ejerlejlighed",77,1952]
[null,null,"Nørrebakken 8","2820 Gentofte",2250000,"2021-05-30","Andet",17307,3,"Rækkehus",130,1942]
[null,null,"Broholms Alle 13F, 2. tv","2920 Charlottenlund",3695000,"2021-05-30","Alm. Salg",43988,4,"Ejerlejlighed",84,1939]
[null,null,"Vangedevej 220B, 2. tv","2870 Dyssegård ",2195000,"2021-05-31","Alm. Salg",36583,2,"Ejerlejlighed",60,1948]
[null,null,"Ericavej 147, 1. 24","2820 Gentofte",1725000,"2021-05-31","Alm. Salg",28278,2,"Ejerlejlighed",61,1968]
[null,null,"Springbanen 33, 2. 1","2820 Gentofte",3750000,"2021-05-31","Alm. Salg",47468,3,"Ejerlejlighed",79,1992]
[null,null,"Kildegårdsvej 40A","2900 Hellerup",8156000,"2021-05-31","Alm. Salg",54738,4,"Villa",149,1935]
[null,null,"Skovvej 103","2920 Charlottenlund",4665000,"2021-06-01","Alm. Salg",13842,9,"Villa",337,1937]
[null,null,"Einar Holbølls Vej 3, 1","2920 Charlottenlund",8000000,"2021-06-01","Alm. Salg",73394,6,"Ejerlejlighed",109,1923]
[null,null,"Sophus Bauditz Vej 11, 1","2920 Charlottenlund",5350000,"2021-06-01","Alm. Salg",74305,3,"Ejerlejlighed",72,1905]
[null,null,"Sophus Bauditz Vej 11, st","2920 Charlottenlund",5350000,"2021-06-01","Alm. Salg",69480,3,"Ejerlejlighed",77,1905]
[null,null,"Klampenborgvej 7A","2930 Klampenborg",10900000,"2021-06-01","Alm. Salg",71710,5,"Rækkehus",152,1936]
[null,null,"Zeuthens Alle 8","2900 Hellerup",14010000,"2021-06-01","Alm. Salg",78707,6,"Villa",178,1900]
[null,null,"Skovholmvej 6","2920 Charlottenlund",18250000,"2021-06-02","Alm. Salg",100828,6,"Villa",181,1934]
[null,null,"Rakelsvej 3, 3. th","2900 Hellerup",5375000,"2021-06-02","Alm. Salg",57795,4,"Ejerlejlighed",93,1929]
[null,null,"Ordrupvej 46B, 4. mf","2920 Charlottenlund",3215000,"2021-06-02","Alm. Salg",47279,3,"Ejerlejlighed",68,1939]
[null,null,"Ordrupvej 67C, 4. tv","2920 Charlottenlund",2250000,"2021-06-03","Alm. Salg",20454,4,"Ejerlejlighed",110,1938]
[null,null,"Strandlund 103","2920 Charlottenlund",940000,"2021-06-03","Fam. Salg",10930,3,"Ejerlejlighed",86,1978]
[null,null,"Skovgårdsvej 18B, st. tv","2920 Charlottenlund",4410000,"2021-06-03","Alm. Salg",64852,2,"Ejerlejlighed",68,1938]
[null,null,"Emmasvej 19","2820 Gentofte",17500000,"2021-06-03","Alm. Salg",82938,6,"Villa",211,1913]
[null,null,"Søbakken 33","2920 Charlottenlund",23950000,"2021-06-03","Alm. Salg",125392,7,"Villa",191,1954]
[null,null,"Smakkegårdsvej 78B","2820 Gentofte",8375000,"2021-06-03","Alm. Salg",47857,4,"Rækkehus",175,2013]
[null,null,"Dyssebakken 13","2900 Hellerup",11300000,"2021-06-03","Alm. Salg",72435,6,"Villa",156,1935]
[null,null,"Lille Strandvej 4A, 3. tv","2900 Hellerup",28056000,"2021-06-03","Fam. Salg",452516,2,"Ejerlejlighed",62,1941]
[null,null,"Lille Strandvej 4A, 4. tv","2900 Hellerup",28056000,"2021-06-03","Fam. Salg",452516,2,"Ejerlejlighed",62,1941]
[null,null,"Lille Strandvej 4A, 4. th","2900 Hellerup",28056000,"2021-06-03","Fam. Salg",445333,2,"Ejerlejlighed",63,1941]
[null,null,"Lille Strandvej 4B, st. th","2900 Hellerup",28056000,"2021-06-03","Fam. Salg",425090,2,"Ejerlejlighed",66,1941]
[null,null,"Lille Strandvej 4A, 1. tv","2900 Hellerup",28056000,"2021-06-03","Fam. Salg",452516,2,"Ejerlejlighed",62,1941]
[null,null,"Lille Strandvej 4A, 2. th","2900 Hellerup",28056000,"2021-06-03","Fam. Salg",445333,2,"Ejerlejlighed",63,1941]
[null,null,"Lille Strandvej 4A, 2. tv","2900 Hellerup",28056000,"2021-06-03","Fam. Salg",452516,2,"Ejerlejlighed",62,1941]
[null,null,"Lille Strandvej 4A, 3. th","2900 Hellerup",28056000,"2021-06-03","Fam. Salg",445333,2,"Ejerlejlighed",63,1941]
[null,null,"Lille Strandvej 4A, st","2900 Hellerup",28056000,"2021-06-03","Fam. Salg",346370,3,"Ejerlejlighed",81,1941]
[null,null,"Lille Strandvej 4A, 1. th","2900 Hellerup",28056000,"2021-06-03","Fam. Salg",445333,2,"Ejerlejlighed",63,1941]
[null,null,"Lille Strandvej 4B, st. tv","2900 Hellerup",28056000,"2021-06-03","Fam. Salg",425090,2,"Ejerlejlighed",66,1941]
[null,null,"Lille Strandvej 4B, 1. th","2900 Hellerup",28056000,"2021-06-03","Fam. Salg",445333,2,"Ejerlejlighed",63,1941]
[null,null,"Lille Strandvej 4B, 2. th","2900 Hellerup",28056000,"2021-06-03","Fam. Salg",445333,2,"Ejerlejlighed",63,1941]
[null,null,"Lille Strandvej 4B, 1. tv","2900 Hellerup",28056000,"2021-06-03","Fam. Salg",445333,2,"Ejerlejlighed",63,1941]
[null,null,"Lille Strandvej 4B, 2. tv","2900 Hellerup",28056000,"2021-06-03","Fam. Salg",445333,2,"Ejerlejlighed",63,1941]
[null,null,"Lille Strandvej 4B, 3. tv","2900 Hellerup",28056000,"2021-06-03","Fam. Salg",445333,2,"Ejerlejlighed",63,1941]
[null,null,"Lille Strandvej 4B, 4. th","2900 Hellerup",28056000,"2021-06-03","Fam. Salg",445333,2,"Ejerlejlighed",63,1941]
[null,null,"Lille Strandvej 4B, 3. th","2900 Hellerup",28056000,"2021-06-03","Fam. Salg",445333,2,"Ejerlejlighed",63,1941]
[null,null,"Lille Strandvej 4B, 4. tv","2900 Hellerup",28056000,"2021-06-03","Fam. Salg",445333,2,"Ejerlejlighed",63,1941]
[null,null,"Ordrup Jagtvej 40B, 1. th","2920 Charlottenlund",977500,"2021-06-04","Fam. Salg",16291,2,"Ejerlejlighed",60,1946]
[null,null,"Hultmannsvej 3, st","2900 Hellerup",10500000,"2021-06-04","Alm. Salg",95454,4,"Ejerlejlighed",110,1911]
[null,null,"Vangede Bygade 112, 1. th","2820 Gentofte",2705000,"2021-06-05","Alm. Salg",38098,2,"Ejerlejlighed",71,1981]
[null,null,"Lindegårdsvej 25, st. 2","2920 Charlottenlund",4995000,"2021-06-05","Alm. Salg",57413,2,"Ejerlejlighed",87,1964]
[null,null,"Ordrupvej 61D, 2. th","2920 Charlottenlund",6200000,"2021-06-05","Alm. Salg",43055,4,"Ejerlejlighed",144,1985]
[null,null,"Christiansholmsvej 14","2930 Klampenborg",20500001,"2021-06-05","Alm. Salg",78244,7,"Villa",262,1932]
[null,null,"Eggersvej 25","2900 Hellerup",42500000,"2021-06-06","Alm. Salg",106250,11,"Villa",400,1919]
[null,null,"Ordrupvej 112B, 3. tv","2920 Charlottenlund",4000000,"2021-06-06","Alm. Salg",38834,4,"Ejerlejlighed",103,1933]
[null,null,"Plantevej 23, 1. th","2870 Dyssegård ",2150000,"2021-06-06","Alm. Salg",37719,2,"Ejerlejlighed",57,1938]
[null,null,"Kirkehøj 3","2900 Hellerup",14500000,"2021-06-06","Alm. Salg",97972,4,"Villa",148,1933]
[null,null,"Dalstrøget 116, 1","2870 Dyssegård ",1640000,"2021-06-06","Alm. Salg",33469,1,"Ejerlejlighed",49,1959]
[null,null,"Strandlund 69","2920 Charlottenlund",5600000,"2021-06-06","Alm. Salg",64367,3,"Ejerlejlighed",87,1979]
[null,null,"Tuborg Havnepark 9, 4. th","2900 Hellerup",16995000,"2021-06-07","Alm. Salg",109645,4,"Ejerlejlighed",155,2008]
[null,null,"Parkovsvej 28","2820 Gentofte",6750000,"2021-06-07","Alm. Salg",43548,5,"Villa",155,1928]
[null,null,"Lille Fredensvej 6C, 1. th","2920 Charlottenlund",6700000,"2021-06-08","Alm. Salg",50000,3,"Ejerlejlighed",134,1880]
[null,null,"Skovbrinken 12","2920 Charlottenlund",17500000,"2021-06-08","Alm. Salg",90673,5,"Villa",193,1957]
[null,null,"Vilhelmshåbsvej 1","2920 Charlottenlund",16000000,"2021-06-08","Alm. Salg",83333,5,"Villa",192,1943]
[null,null,"Kildeskovsvej 77","2820 Gentofte",19500000,"2021-06-09","Alm. Salg",58558,9,"Villa",333,1904]
[null,null,"Løvspringsvej 4A, 2. th","2920 Charlottenlund",3050000,"2021-06-09","Alm. Salg",43571,2,"Ejerlejlighed",70,1950]
[null,null,"Ibstrupvej 21","2820 Gentofte",10995000,"2021-06-09","Alm. Salg",59432,8,"Villa",170,1967]
[null,null,"Ingeborgvej 11B","2920 Charlottenlund",12027000,"2021-06-09","Alm. Salg",71589,5,"Villa",168,1969]
[null,null,"Ordrupvej 132A, 1","2920 Charlottenlund",3645000,"2021-06-09","Alm. Salg",49256,3,"Ejerlejlighed",74,1953]
[null,null,"Fortunvej 52","2920 Charlottenlund",13500000,"2021-06-09","Alm. Salg",60267,8,"Villa",224,1923]
[null,null,"Lindegårdsvej 32","2920 Charlottenlund",15700000,"2021-06-09","Alm. Salg",57090,9,"Villa",275,1916]
[null,null,"Ridebanevang 2","2820 Gentofte",8805000,"2021-06-09","Alm. Salg",63804,6,"Rækkehus",138,1946]
[null,null,"Tværbommen 37, 2. tv","2820 Gentofte",2600000,"2021-06-09","Alm. Salg",38235,3,"Ejerlejlighed",68,1946]
[null,null,"Springbanen 99","2820 Gentofte",8825000,"2021-06-09","Alm. Salg",67884,6,"Villa",130,1955]
[null,null,"Ordrupvej 37B, 1. tv","2920 Charlottenlund",2075000,"2021-06-10","Alm. Salg",38425,2,"Ejerlejlighed",54,1957]
[null,null,"Vangedevej 152B, st. mf","2870 Dyssegård ",1530000,"2021-06-10","Alm. Salg",30600,1,"Ejerlejlighed",50,1956]
[null,null,"Marievej 13","2900 Hellerup",23200000,"2021-06-10","Alm. Salg",86245,7,"Villa",269,1896]
[null,null,"Ermelundsvej 128","2820 Gentofte",9520000,"2021-06-10","Alm. Salg",61419,4,"Villa",155,1923]
[null,null,"Callisensvej 18, 4. tv","2900 Hellerup",2895000,"2021-06-10","Alm. Salg",57900,2,"Ejerlejlighed",50,1899]
[null,null,"Stigaardsvej 3","2900 Hellerup",16900000,"2021-06-11","Alm. Salg",92857,8,"Villa",182,1899]
[null,null,"Strandvejen 347, 1","2930 Klampenborg",8850000,"2021-06-11","Alm. Salg",66541,5,"Ejerlejlighed",133,1933]
[null,null,"Liljevej 20","2820 Gentofte",2300000,"2021-06-11","Alm. Salg",18852,4,"Ejerlejlighed",122,1903]
[null,null,"Merianvej 3","2900 Hellerup",6200000,"2021-06-11","Alm. Salg",45255,6,"Villa",137,1949]
[null,null,"Skovvej 71B","2920 Charlottenlund",11500000,"2021-06-11","Alm. Salg",68862,4,"Villa",167,1952]
[null,null,"Gentoftegade 79, 1","2820 Gentofte",2300000,"2021-06-11","Alm. Salg",47916,3,"Ejerlejlighed",48,1903]
[null,null,"Snogegårdsvej 8K, st. tv","2820 Gentofte",2895000,"2021-06-12","Alm. Salg",47459,2,"Ejerlejlighed",61,1940]
[null,null,"Broholms Alle 34, 2. tv","2920 Charlottenlund",2595000,"2021-06-12","Alm. Salg",38731,2,"Ejerlejlighed",67,1935]
[null,null,"Kærmindevej 12","2820 Gentofte",7050000,"2021-06-13","Alm. Salg",72680,4,"Villa",97,1934]
[null,null,"Lyngbyvej 347B, st. tv","2820 Gentofte",1920000,"2021-06-13","Alm. Salg",24615,3,"Ejerlejlighed",78,1937]
[null,null,"Clarasvej 1D, 1. 1","2920 Charlottenlund",2195000,"2021-06-13","Alm. Salg",40648,3,"Ejerlejlighed",54,1939]
[null,null,"Bernstorffsvej 32","2900 Hellerup",1832500,"2021-06-13","Alm. Salg",7330,8,"Rækkehus",250,1928]
[null,null,"Ellegårdsvænge 5A","2820 Gentofte",7500000,"2021-06-13","Alm. Salg",58593,4,"Villa",128,1965]
[null,null,"Vintervej 4","2920 Charlottenlund",10500000,"2021-06-14","Alm. Salg",67741,6,"Villa",155,1962]
[null,null,"Strandvejen 419, st. tv","2930 Klampenborg",4195000,"2021-06-14","Alm. Salg",64538,2,"Ejerlejlighed",65,1933]
[null,null,"Høeghs Alle 4, 1","2820 Gentofte",10000000,"2021-06-14","Alm. Salg",49751,8,"Ejerlejlighed",201,1910]
[null,null,"Høeghs Alle 4, st","2820 Gentofte",10000000,"2021-06-14","Alm. Salg",76923,5,"Ejerlejlighed",130,1910]
[null,null,"Kollegiehaven 30","2920 Charlottenlund",9850000,"2021-06-14","Alm. Salg",87168,5,"Rækkehus",113,1942]
[null,null,"C V E Knuths Vej 34","2900 Hellerup",12700000,"2021-06-15","Alm. Salg",71348,7,"Villa",178,1924]
[null,null,"Ermelundsvej 116A, st","2820 Gentofte",9925000,"2021-06-15","Alm. Salg",66166,6,"Ejerlejlighed",150,1913]
[null,null,"Lille Strandvej 9, 1","2900 Hellerup",8000000,"2021-06-16","Alm. Salg",57971,4,"Ejerlejlighed",138,1884]
[null,null,"Sigridsvej 25","2900 Hellerup",28000000,"2021-06-16","Fam. Salg",100719,3,"Villa",278,2021]
[null,null,"Hyldegårds Tværvej 1, 1. th","2920 Charlottenlund",1000000,"2021-06-16","Fam. Salg",12820,3,"Ejerlejlighed",78,1949]
[null,null,"Ordrupvej 83B, 1. tv","2920 Charlottenlund",2650000,"2021-06-16","Alm. Salg",44166,2,"Ejerlejlighed",60,1934]
[null,null,"Edithsvej 6","2920 Charlottenlund",32250000,"2021-06-16","Alm. Salg",114361,9,"Villa",282,1918]
[null,null,"Ordrupvej 41B, 1. 2","2920 Charlottenlund",2500000,"2021-06-17","Alm. Salg",44642,2,"Ejerlejlighed",56,1961]
[null,null,"Hegelsvej 31","2920 Charlottenlund",23000000,"2021-06-17","Alm. Salg",100000,7,"Villa",230,1934]
[null,null,"Høstvej 29","2920 Charlottenlund",17095000,"2021-06-17","Alm. Salg",69491,7,"Villa",246,1931]
[null,null,"Stænget 16","2820 Gentofte",6495000,"2021-06-17","Alm. Salg",67656,4,"Villa",96,1947]
[null,null,"Klampenborgvej 12D","2930 Klampenborg",12050000,"2021-06-18","Alm. Salg",67696,5,"Villa",178,1959]
[null,null,"Resedavej 17","2820 Gentofte",11400000,"2021-06-19","Alm. Salg",67857,6,"Villa",168,1936]
[null,null,"Dalstrøget 101, 3. th","2870 Dyssegård ",2775000,"2021-06-19","Alm. Salg",38013,3,"Ejerlejlighed",73,1959]
[null,null,"Strandvejen 110C, st. th","2900 Hellerup",5050000,"2021-06-20","Alm. Salg",60843,4,"Ejerlejlighed",83,1902]
[null,null,"Vangede Bygade 39, 2. tv","2820 Gentofte",2330000,"2021-06-20","Alm. Salg",32361,3,"Ejerlejlighed",72,1939]
[null,null,"Onsgårdsvej 23, st","2900 Hellerup",42000000,"2021-06-20","Alm. Salg",338709,4,"Ejerlejlighed",124,1906]
[null,null,"Onsgårdsvej 23, 1","2900 Hellerup",42000000,"2021-06-20","Alm. Salg",371681,3,"Ejerlejlighed",113,1906]
[null,null,"Onsgårdsvej 23, 2","2900 Hellerup",42000000,"2021-06-20","Alm. Salg",3818181,1,"Ejerlejlighed",11,1906]
[null,null,"Ordrupvej 47A, 1. tv","2920 Charlottenlund",3650000,"2021-06-20","Alm. Salg",40555,3,"Ejerlejlighed",90,1955]
[null,null,"Traverbanevej 6","2920 Charlottenlund",23200000,"2021-06-20","Alm. Salg",91338,7,"Villa",254,1903]
[null,null,"Tuborg Havnepark 2, 5. th","2900 Hellerup",12005000,"2021-06-20","Alm. Salg",91641,4,"Ejerlejlighed",131,2007]
[null,null,"Tranegårdsvej 60, 3. tv","2900 Hellerup",2550000,"2021-06-21","Alm. Salg",44736,2,"Ejerlejlighed",57,1919]
[null,null,"Ordrupvej 109, 4. th","2920 Charlottenlund",1890000,"2021-06-21","Alm. Salg",22235,3,"Ejerlejlighed",85,1943]
[null,null,"Ørnegårdsvej 24","2820 Gentofte",2250000,"2021-06-21","Fam. Salg",19067,5,"Rækkehus",118,1956]
[null,null,"Klampenborgvej 40, st","2930 Klampenborg",5900000,"2021-06-21","Alm. Salg",38311,5,"Villa",154,1920]
[null,null,"Klampenborgvej 40, 1","2930 Klampenborg",5900000,"2021-06-21","Alm. Salg",44360,4,"Ejerlejlighed",133,1920]
[null,null,"Skovshovedvej 22","2920 Charlottenlund",19995000,"2021-06-21","Alm. Salg",93873,5,"Villa",213,2017]
[null,null,"Rakelsvej 3, st. tv","2900 Hellerup",6350000,"2021-06-21","Alm. Salg",63500,4,"Ejerlejlighed",100,1929]
[null,null,"Fortunvej 5","2920 Charlottenlund",11000000,"2021-06-21","Alm. Salg",62857,6,"Villa",175,1935]
[null,null,"Solbakkevej 25","2820 Gentofte",1671863,"2021-06-21","Fam. Salg",10786,5,"Villa",155,1935]
[null,null,"Jægersborg Alle 100, 1","2920 Charlottenlund",6150000,"2021-06-22","Alm. Salg",53017,4,"Ejerlejlighed",116,1935]
[null,null,"Jægersborg Alle 100, st","2920 Charlottenlund",6150000,"2021-06-22","Alm. Salg",53017,4,"Ejerlejlighed",116,1935]
[null,null,"Broholms Alle 15, st","2920 Charlottenlund",6100000,"2021-06-22","Alm. Salg",56481,4,"Ejerlejlighed",108,1920]
[null,null,"Frisersvej 2B","2920 Charlottenlund",13000000,"2021-06-22","Alm. Salg",62200,5,"Villa",209,1880]
[null,null,"Broholms Alle 15, 1","2920 Charlottenlund",6100000,"2021-06-22","Alm. Salg",83561,3,"Ejerlejlighed",73,1920]
[null,null,"Bernstorffsvej 129, st","2900 Hellerup",5900000,"2021-06-22","Alm. Salg",50000,5,"Ejerlejlighed",118,1916]
[null,null,"Henrik Hertz Vej 2, 1. th","2920 Charlottenlund",5100000,"2021-06-23","Alm. Salg",49038,4,"Ejerlejlighed",104,1898]
[null,null,"Strandvejen 110E, 3. tv","2900 Hellerup",4900000,"2021-06-23","Alm. Salg",67123,3,"Ejerlejlighed",73,1902]
[null,null,"Ordrupvej 41B, 2. 1","2920 Charlottenlund",2292000,"2021-06-23","Alm. Salg",40210,2,"Ejerlejlighed",57,1961]
[null,null,"Schioldannsvej 8A, kl","2920 Charlottenlund",6100000,"2021-06-23","Alm. Salg",67777,2,"Ejerlejlighed",90,1914]
[null,null,"Schioldannsvej 8A, 1","2920 Charlottenlund",6100000,"2021-06-23","Alm. Salg",67777,3,"Ejerlejlighed",90,1914]
[null,null,"Schioldannsvej 8A, st","2920 Charlottenlund",6100000,"2021-06-23","Alm. Salg",59803,3,"Ejerlejlighed",102,1914]
[null,null,"Schioldannsvej 8A, 2","2920 Charlottenlund",6100000,"2021-06-23","Alm. Salg",305000,2,"Ejerlejlighed",20,1914]
[null,null,"Blidahpark 9, 1. tv","2900 Hellerup",3500000,"2021-06-23","Fam. Salg",44871,3,"Ejerlejlighed",78,1933]
[null,null,"Vingårds Alle 36","2900 Hellerup",6375000,"2021-06-23","Fam. Salg",35027,7,"Villa",182,1925]
[null,null,"Søbøtkers Alle 1","2900 Hellerup",23000000,"2021-06-23","Alm. Salg",111111,6,"Villa",207,1900]
[{"$f":"ReplaceNumbers(C1022)","v":"Frugtparken"},{"$f":"_xlfn.NUMBERVALUE(FindNumbers(C1022))","v":27},"Frugtparken 27","2820 Gentofte",8650000,"2021-06-24","Alm. Salg",63602,6,"Villa",136,1938,{"$f":"IF(ISBLANK(VLOOKUP(A1022,Veje!A:B,2,FALSE)),INDEX(Veje!$D$2:$RT$652,MATCH(A1022,Veje!$A$2:$A$652,0),MATCH(B1022,Veje!$D$1:$RT$1,0)),VLOOKUP(A1022,Veje!A:B,2,FALSE))","v":"GSG"},{"$f":"IFERROR(VLOOKUP(C1022,Medlemmer!A:C,3,FALSE),\"\")","v":""},{"$f":"IFERROR(VLOOKUP(C1022,Medlemmer!A:C,2,FALSE),\"\")","v":""},{"$f":"IFERROR(VLOOKUP(C1022,Tidligere_henvendelser!A:B,2,FALSE),\"\")","v":""}]
[{"$f":"ReplaceNumbers(C1023)","v":"Nordvestvej"},{"$f":"_xlfn.NUMBERVALUE(FindNumbers(C1023))","v":5},"Nordvestvej 5B","2920 Charlottenlund",8450000,"2021-06-24","Alm. Salg",67063,4,"Villa",126,1995,{"$f":"IF(ISBLANK(VLOOKUP(A1023,Veje!A:B,2,FALSE)),INDEX(Veje!$D$2:$RT$652,MATCH(A1023,Veje!$A$2:$A$652,0),MATCH(B1023,Veje!$D$1:$RT$1,0)),VLOOKUP(A1023,Veje!A:B,2,FALSE))","v":"SKGF"},{"$f":"IFERROR(VLOOKUP(C1023,Medlemmer!A:C,3,FALSE),\"\")","v":""},{"$f":"IFERROR(VLOOKUP(C1023,Medlemmer!A:C,2,FALSE),\"\")","v":""},{"$f":"IFERROR(VLOOKUP(C1023,Tidligere_henvendelser!A:B,2,FALSE),\"\")","v":""}]
[{"$f":"ReplaceNumbers(C1024)","v":"Emiliekildevej"},{"$f":"_xlfn.NUMBERVALUE(FindNumbers(C1024))","v":49},"Emiliekildevej 49","2930 Klampenborg",21800000,"2021-06-24","Alm. Salg",78417,7,"Villa",278,1956,{"$f":"IF(ISBLANK(VLOOKUP(A1024,Veje!A:B,2,FALSE)),INDEX(Veje!$D$2:$RT$652,MATCH(A1024,Veje!$A$2:$A$652,0),MATCH(B1024,Veje!$D$1:$RT$1,0)),VLOOKUP(A1024,Veje!A:B,2,FALSE))","v":"SKGF"},{"$f":"IFERROR(VLOOKUP(C1024,Medlemmer!A:C,3,FALSE),\"\")","v":""},{"$f":"IFERROR(VLOOKUP(C1024,Medlemmer!A:C,2,FALSE),\"\")","v":""},{"$f":"IFERROR(VLOOKUP(C1024,Tidligere_henvendelser!A:B,2,FALSE),\"\")","v":""}]
[{"$f":"ReplaceNumbers(C1025)","v":"Tjørnegårdsvej"},{"$f":"_xlfn.NUMBERVALUE(FindNumbers(C1025))","v":3},"Tjørnegårdsvej 3","2820 Gentofte",9400000,"2021-06-24","Alm. Salg",58385,6,"Villa",161,1923,{"$f":"IF(ISBLANK(VLOOKUP(A1025,Veje!A:B,2,FALSE)),INDEX(Veje!$D$2:$RT$652,MATCH(A1025,Veje!$A$2:$A$652,0),MATCH(B1025,Veje!$D$1:$RT$1,0)),VLOOKUP(A1025,Veje!A:B,2,FALSE))","v":"GSG"},{"$f":"IFERROR(VLOOKUP(C1025,Medlemmer!A:C,3,FALSE),\"\")","v":""},{"$f":"IFERROR(VLOOKUP(C1025,Medlemmer!A:C,2,FALSE),\"\")","v":""},{"$f":"IFERROR(VLOOKUP(C1025,Tidligere_henvendelser!A:B,2,FALSE),\"\")","v":""}]
[{"$f":"ReplaceNumbers(C1026)","v":"Strandvejen"},{"$f":"_xlfn.NUMBERVALUE(FindNumbers(C1026))","v":262},"Strandvejen 262B","2920 Charlottenlund",5750000,"2021-06-24","Alm. Salg",92741,2,"Villa",62,1880,{"$f":"IF(ISBLANK(VLOOKUP(A1026,Veje!A:B,2,FALSE)),INDEX(Veje!$D$2:$RT$652,MATCH(A1026,Veje!$A$2:$A$652,0),MATCH(B1026,Veje!$D$1:$RT$1,0)),VLOOKUP(A1026,Veje!A:B,2,FALSE))","v":"Skovshoved By"},{"$f":"IFERROR(VLOOKUP(C1026,Medlemmer!A:C,3,FALSE),\"\")","v":""},{"$f":"IFERROR(VLOOKUP(C1026,Medlemmer!A:C,2,FALSE),\"\")","v":""},{"$f":"IFERROR(VLOOKUP(C1026,Tidligere_henvendelser!A:B,2,FALSE),\"\")","v":""}]
[{"$f":"ReplaceNumbers(C1027)","v":"Bloksbjerget"},{"$f":"_xlfn.NUMBERVALUE(FindNumbers(C1027))","v":1},"Bloksbjerget 1","2930 Klampenborg",13200000,"2021-06-24","Alm. Salg",55000,7,"Villa",240,1935,{"$f":"IF(ISBLANK(VLOOKUP(A1027,Veje!A:B,2,FALSE)),INDEX(Veje!$D$2:$RT$652,MATCH(A1027,Veje!$A$2:$A$652,0),MATCH(B1027,Veje!$D$1:$RT$1,0)),VLOOKUP(A1027,Veje!A:B,2,FALSE))","v":"OCG"},{"$f":"IFERROR(VLOOKUP(C1027,Medlemmer!A:C,3,FALSE),\"\")","v":""},{"$f":"IFERROR(VLOOKUP(C1027,Medlemmer!A:C,2,FALSE),\"\")","v":""},{"$f":"IFERROR(VLOOKUP(C1027,Tidligere_henvendelser!A:B,2,FALSE),\"\")","v":""}]
[{"$f":"ReplaceNumbers(C1028)","v":"Gentoftegade"},{"$f":"_xlfn.NUMBERVALUE(FindNumbers(C1028))","v":86},"Gentoftegade 86, 1","2820 Gentofte",5275000,"2021-06-25","Alm. Salg",49299,4,"Ejerlejlighed",107,1900,{"$f":"IF(ISBLANK(VLOOKUP(A1028,Veje!A:B,2,FALSE)),INDEX(Veje!$D$2:$RT$652,MATCH(A1028,Veje!$A$2:$A$652,0),MATCH(B1028,Veje!$D$1:$RT$1,0)),VLOOKUP(A1028,Veje!A:B,2,FALSE))","v":"GSG"},{"$f":"IFERROR(VLOOKUP(C1028,Medlemmer!A:C,3,FALSE),\"\")","v":""},{"$f":"IFERROR(VLOOKUP(C1028,Medlemmer!A:C,2,FALSE),\"\")","v":""},{"$f":"IFERROR(VLOOKUP(C1028,Tidligere_henvendelser!A:B,2,FALSE),\"\")","v":""}]
[{"$f":"ReplaceNumbers(C1029)","v":"Strandvejen"},{"$f":"_xlfn.NUMBERVALUE(FindNumbers(C1029))","v":211},"Strandvejen 211B, 2. th","2900 Hellerup",5150000,"2021-06-26","Alm. Salg",57865,3,"Ejerlejlighed",89,1982,{"$f":"IF(ISBLANK(VLOOKUP(A1029,Veje!A:B,2,FALSE)),INDEX(Veje!$D$2:$RT$652,MATCH(A1029,Veje!$A$2:$A$652,0),MATCH(B1029,Veje!$D$1:$RT$1,0)),VLOOKUP(A1029,Veje!A:B,2,FALSE))","v":"HMG"},{"$f":"IFERROR(VLOOKUP(C1029,Medlemmer!A:C,3,FALSE),\"\")","v":""},{"$f":"IFERROR(VLOOKUP(C1029,Medlemmer!A:C,2,FALSE),\"\")","v":""},{"$f":"IFERROR(VLOOKUP(C1029,Tidligere_henvendelser!A:B,2,FALSE),\"\")","v":""}]
[{"$f":"ReplaceNumbers(C1030)","v":"Sophus Bauditz Vej"},{"$f":"_xlfn.NUMBERVALUE(FindNumbers(C1030))","v":4},"Sophus Bauditz Vej 4, 1. tv","2920 Charlottenlund",6000000,"2021-06-26","Alm. Salg",61855,4,"Ejerlejlighed",97,1900,{"$f":"IF(ISBLANK(VLOOKUP(A1030,Veje!A:B,2,FALSE)),INDEX(Veje!$D$2:$RT$652,MATCH(A1030,Veje!$A$2:$A$652,0),MATCH(B1030,Veje!$D$1:$RT$1,0)),VLOOKUP(A1030,Veje!A:B,2,FALSE))","v":"SKGF"},{"$f":"IFERROR(VLOOKUP(C1030,Medlemmer!A:C,3,FALSE),\"\")","v":""},{"$f":"IFERROR(VLOOKUP(C1030,Medlemmer!A:C,2,FALSE),\"\")","v":""},{"$f":"IFERROR(VLOOKUP(C1030,Tidligere_henvendelser!A:B,2,FALSE),\"\")","v":""}]
[{"$f":"ReplaceNumbers(C1031)","v":"Adolphsvej"},{"$f":"_xlfn.NUMBERVALUE(FindNumbers(C1031))","v":51},"Adolphsvej 51","2820 Gentofte",9250000,"2021-06-27","Fam. Salg",29179,9,"Villa",317,1923,{"$f":"IF(ISBLANK(VLOOKUP(A1031,Veje!A:B,2,FALSE)),INDEX(Veje!$D$2:$RT$652,MATCH(A1031,Veje!$A$2:$A$652,0),MATCH(B1031,Veje!$D$1:$RT$1,0)),VLOOKUP(A1031,Veje!A:B,2,FALSE))","v":"GSG"},{"$f":"IFERROR(VLOOKUP(C1031,Medlemmer!A:C,3,FALSE),\"\")","v":""},{"$f":"IFERROR(VLOOKUP(C1031,Medlemmer!A:C,2,FALSE),\"\")","v":""},{"$f":"IFERROR(VLOOKUP(C1031,Tidligere_henvendelser!A:B,2,FALSE),\"\")","v":""}]
[{"$f":"ReplaceNumbers(C1032)","v":"Ordrup Jagtvej"},{"$f":"_xlfn.NUMBERVALUE(FindNumbers(C1032))","v":40},"Ordrup Jagtvej 40B, st. th","2920 Charlottenlund",2300000,"2021-06-27","Alm. Salg",37096,2,"Ejerlejlighed",62,1946,{"$f":"IF(ISBLANK(VLOOKUP(A1032,Veje!A:B,2,FALSE)),INDEX(Veje!$D$2:$RT$652,MATCH(A1032,Veje!$A$2:$A$652,0),MATCH(B1032,Veje!$D$1:$RT$1,0)),VLOOKUP(A1032,Veje!A:B,2,FALSE))","v":"SKGF"},{"$f":"IFERROR(VLOOKUP(C1032,Medlemmer!A:C,3,FALSE),\"\")","v":""},{"$f":"IFERROR(VLOOKUP(C1032,Medlemmer!A:C,2,FALSE),\"\")","v":""},{"$f":"IFERROR(VLOOKUP(C1032,Tidligere_henvendelser!A:B,2,FALSE),\"\")","v":""}]
[{"$f":"ReplaceNumbers(C1033)","v":"Fuglegårdsvej"},{"$f":"_xlfn.NUMBERVALUE(FindNumbers(C1033))","v":8},"Fuglegårdsvej 8, 1","2820 Gentofte",4850000,"2021-06-27","Alm. Salg",42920,4,"Ejerlejlighed",113,1934,{"$f":"IF(ISBLANK(VLOOKUP(A1033,Veje!A:B,2,FALSE)),INDEX(Veje!$D$2:$RT$652,MATCH(A1033,Veje!$A$2:$A$652,0),MATCH(B1033,Veje!$D$1:$RT$1,0)),VLOOKUP(A1033,Veje!A:B,2,FALSE))","v":"GSG"},{"$f":"IFERROR(VLOOKUP(C1033,Medlemmer!A:C,3,FALSE),\"\")","v":""},{"$f":"IFERROR(VLOOKUP(C1033,Medlemmer!A:C,2,FALSE),\"\")","v":""},{"$f":"IFERROR(VLOOKUP(C1033,Tidligere_henvendelser!A:B,2,FALSE),\"\")","v":""}]
[{"$f":"ReplaceNumbers(C1034)","v":"Jahnsensvej"},{"$f":"_xlfn.NUMBERVALUE(FindNumbers(C1034))","v":19},"Jahnsensvej 19A","2820 Gentofte",8275000,"2021-06-28","Alm. Salg",52044,5,"Rækkehus",159,1986,{"$f":"IF(ISBLANK(VLOOKUP(A1034,Veje!A:B,2,FALSE)),INDEX(Veje!$D$2:$RT$652,MATCH(A1034,Veje!$A$2:$A$652,0),MATCH(B1034,Veje!$D$1:$RT$1,0)),VLOOKUP(A1034,Veje!A:B,2,FALSE))","v":"GSG"},{"$f":"IFERROR(VLOOKUP(C1034,Medlemmer!A:C,3,FALSE),\"\")","v":""},{"$f":"IFERROR(VLOOKUP(C1034,Medlemmer!A:C,2,FALSE),\"\")","v":""},{"$f":"IFERROR(VLOOKUP(C1034,Tidligere_henvendelser!A:B,2,FALSE),\"\")","v":""}]
[{"$f":"ReplaceNumbers(C1035)","v":"Blidahpark"},{"$f":"_xlfn.NUMBERVALUE(FindNumbers(C1035))","v":27},"Blidahpark 27, 2. tv","2900 Hellerup",5695000,"2021-06-28","Alm. Salg",54238,3,"Ejerlejlighed",105,1934,{"$f":"IF(ISBLANK(VLOOKUP(A1035,Veje!A:B,2,FALSE)),INDEX(Veje!$D$2:$RT$652,MATCH(A1035,Veje!$A$2:$A$652,0),MATCH(B1035,Veje!$D$1:$RT$1,0)),VLOOKUP(A1035,Veje!A:B,2,FALSE))","v":"HMG"},{"$f":"IFERROR(VLOOKUP(C1035,Medlemmer!A:C,3,FALSE),\"\")","v":""},{"$f":"IFERROR(VLOOKUP(C1035,Medlemmer!A:C,2,FALSE),\"\")","v":""},{"$f":"IFERROR(VLOOKUP(C1035,Tidligere_henvendelser!A:B,2,FALSE),\"\")","v":""}]
[{"$f":"ReplaceNumbers(C1036)","v":"Ibstrupvej"},{"$f":"_xlfn.NUMBERVALUE(FindNumbers(C1036))","v":34},"Ibstrupvej 34","2820 Gentofte",12450000,"2021-06-28","Alm. Salg",83000,6,"Villa",150,1958,{"$f":"IF(ISBLANK(VLOOKUP(A1036,Veje!A:B,2,FALSE)),INDEX(Veje!$D$2:$RT$652,MATCH(A1036,Veje!$A$2:$A$652,0),MATCH(B1036,Veje!$D$1:$RT$1,0)),VLOOKUP(A1036,Veje!A:B,2,FALSE))","v":"BJGF"},{"$f":"IFERROR(VLOOKUP(C1036,Medlemmer!A:C,3,FALSE),\"\")","v":""},{"$f":"IFERROR(VLOOKUP(C1036,Medlemmer!A:C,2,FALSE),\"\")","v":""},{"$f":"IFERROR(VLOOKUP(C1036,Tidligere_henvendelser!A:B,2,FALSE),\"\")","v":""}]
[{"$f":"ReplaceNumbers(C1037)","v":"Ermelundsvej"},{"$f":"_xlfn.NUMBERVALUE(FindNumbers(C1037))","v":47},"Ermelundsvej 47, 1. tv","2820 Gentofte",3150000,"2021-06-28","Alm. Salg",39375,3,"Ejerlejlighed",80,1934,{"$f":"IF(ISBLANK(VLOOKUP(A1037,Veje!A:B,2,FALSE)),INDEX(Veje!$D$2:$RT$652,MATCH(A1037,Veje!$A$2:$A$652,0),MATCH(B1037,Veje!$D$1:$RT$1,0)),VLOOKUP(A1037,Veje!A:B,2,FALSE))","v":"BJGF"},{"$f":"IFERROR(VLOOKUP(C1037,Medlemmer!A:C,3,FALSE),\"\")","v":""},{"$f":"IFERROR(VLOOKUP(C1037,Medlemmer!A:C,2,FALSE),\"\")","v":""},{"$f":"IFERROR(VLOOKUP(C1037,Tidligere_henvendelser!A:B,2,FALSE),\"\")","v":""}]
[{"$f":"ReplaceNumbers(C1038)","v":"Tuborg Havnepark"},{"$f":"_xlfn.NUMBERVALUE(FindNumbers(C1038))","v":4},"Tuborg Havnepark 4, 5. tv","2900 Hellerup",17250000,"2021-06-28","Alm. Salg",107812,4,"Ejerlejlighed",160,2007,{"$f":"IF(ISBLANK(VLOOKUP(A1038,Veje!A:B,2,FALSE)),INDEX(Veje!$D$2:$RT$652,MATCH(A1038,Veje!$A$2:$A$652,0),MATCH(B1038,Veje!$D$1:$RT$1,0)),VLOOKUP(A1038,Veje!A:B,2,FALSE))","v":"HMG"},{"$f":"IFERROR(VLOOKUP(C1038,Medlemmer!A:C,3,FALSE),\"\")","v":""},{"$f":"IFERROR(VLOOKUP(C1038,Medlemmer!A:C,2,FALSE),\"\")","v":""},{"$f":"IFERROR(VLOOKUP(C1038,Tidligere_henvendelser!A:B,2,FALSE),\"\")","v":""}]
[{"$f":"ReplaceNumbers(C1039)","v":"C L Ibsens Vej"},{"$f":"_xlfn.NUMBERVALUE(FindNumbers(C1039))","v":45},"C L Ibsens Vej 45","2820 Gentofte",10500000,"2021-06-29","Alm. Salg",70945,6,"Villa",148,1959,{"$f":"IF(ISBLANK(VLOOKUP(A1039,Veje!A:B,2,FALSE)),INDEX(Veje!$D$2:$RT$652,MATCH(A1039,Veje!$A$2:$A$652,0),MATCH(B1039,Veje!$D$1:$RT$1,0)),VLOOKUP(A1039,Veje!A:B,2,FALSE))","v":"GSG"},{"$f":"IFERROR(VLOOKUP(C1039,Medlemmer!A:C,3,FALSE),\"\")","v":""},{"$f":"IFERROR(VLOOKUP(C1039,Medlemmer!A:C,2,FALSE),\"\")","v":""},{"$f":"IFERROR(VLOOKUP(C1039,Tidligere_henvendelser!A:B,2,FALSE),\"\")","v":""}]
[{"$f":"ReplaceNumbers(C1040)","v":"Svejgårdsvej"},{"$f":"_xlfn.NUMBERVALUE(FindNumbers(C1040))","v":24},"Svejgårdsvej 24","2900 Hellerup",17050000,"2021-06-29","Alm. Salg",68200,10,"Villa",250,1918,{"$f":"IF(ISBLANK(VLOOKUP(A1040,Veje!A:B,2,FALSE)),INDEX(Veje!$D$2:$RT$652,MATCH(A1040,Veje!$A$2:$A$652,0),MATCH(B1040,Veje!$D$1:$RT$1,0)),VLOOKUP(A1040,Veje!A:B,2,FALSE))","v":"HMG"},{"$f":"IFERROR(VLOOKUP(C1040,Medlemmer!A:C,3,FALSE),\"\")","v":""},{"$f":"IFERROR(VLOOKUP(C1040,Medlemmer!A:C,2,FALSE),\"\")","v":""},{"$f":"IFERROR(VLOOKUP(C1040,Tidligere_henvendelser!A:B,2,FALSE),\"\")","v":""}]
[{"$f":"ReplaceNumbers(C1041)","v":"Phistersvej"},{"$f":"_xlfn.NUMBERVALUE(FindNumbers(C1041))","v":15},"Phistersvej 15, 2. tv","2900 Hellerup",3000000,"2021-06-29","Fam. Salg",27272,4,"Ejerlejlighed",110,1952,{"$f":"IF(ISBLANK(VLOOKUP(A1041,Veje!A:B,2,FALSE)),INDEX(Veje!$D$2:$RT$652,MATCH(A1041,Veje!$A$2:$A$652,0),MATCH(B1041,Veje!$D$1:$RT$1,0)),VLOOKUP(A1041,Veje!A:B,2,FALSE))","v":"HMG"},{"$f":"IFERROR(VLOOKUP(C1041,Medlemmer!A:C,3,FALSE),\"\")","v":""},{"$f":"IFERROR(VLOOKUP(C1041,Medlemmer!A:C,2,FALSE),\"\")","v":""},{"$f":"IFERROR(VLOOKUP(C1041,Tidligere_henvendelser!A:B,2,FALSE),\"\")","v":""}]
[{"$f":"ReplaceNumbers(C1042)","v":"Eggersvej"},{"$f":"_xlfn.NUMBERVALUE(FindNumbers(C1042))","v":19},"Eggersvej 19, st. tv","2900 Hellerup",13445000,"2021-06-29","Alm. Salg",80029,7,"Rækkehus",168,1922,{"$f":"IF(ISBLANK(VLOOKUP(A1042,Veje!A:B,2,FALSE)),INDEX(Veje!$D$2:$RT$652,MATCH(A1042,Veje!$A$2:$A$652,0),MATCH(B1042,Veje!$D$1:$RT$1,0)),VLOOKUP(A1042,Veje!A:B,2,FALSE))","v":"GSG"},{"$f":"IFERROR(VLOOKUP(C1042,Medlemmer!A:C,3,FALSE),\"\")","v":""},{"$f":"IFERROR(VLOOKUP(C1042,Medlemmer!A:C,2,FALSE),\"\")","v":""},{"$f":"IFERROR(VLOOKUP(C1042,Tidligere_henvendelser!A:B,2,FALSE),\"\")","v":""}]
[{"$f":"ReplaceNumbers(C1043)","v":"Tværbommen"},{"$f":"_xlfn.NUMBERVALUE(FindNumbers(C1043))","v":23},"Tværbommen 23, 2. th","2820 Gentofte",2625000,"2021-06-29","Alm. Salg",31626,4,"Ejerlejlighed",83,1946,{"$f":"IF(ISBLANK(VLOOKUP(A1043,Veje!A:B,2,FALSE)),INDEX(Veje!$D$2:$RT$652,MATCH(A1043,Veje!$A$2:$A$652,0),MATCH(B1043,Veje!$D$1:$RT$1,0)),VLOOKUP(A1043,Veje!A:B,2,FALSE))","v":"GSG"},{"$f":"IFERROR(VLOOKUP(C1043,Medlemmer!A:C,3,FALSE),\"\")","v":""},{"$f":"IFERROR(VLOOKUP(C1043,Medlemmer!A:C,2,FALSE),\"\")","v":""},{"$f":"IFERROR(VLOOKUP(C1043,Tidligere_henvendelser!A:B,2,FALSE),\"\")","v":""}]
[{"$f":"ReplaceNumbers(C1044)","v":"Christiansholms Tværvej"},{"$f":"_xlfn.NUMBERVALUE(FindNumbers(C1044))","v":6},"Christiansholms Tværvej 6","2930 Klampenborg",27000000,"2021-06-29","Alm. Salg",100000,8,"Villa",270,1934,{"$f":"IF(ISBLANK(VLOOKUP(A1044,Veje!A:B,2,FALSE)),INDEX(Veje!$D$2:$RT$652,MATCH(A1044,Veje!$A$2:$A$652,0),MATCH(B1044,Veje!$D$1:$RT$1,0)),VLOOKUP(A1044,Veje!A:B,2,FALSE))","v":"SKGF"},{"$f":"IFERROR(VLOOKUP(C1044,Medlemmer!A:C,3,FALSE),\"\")","v":""},{"$f":"IFERROR(VLOOKUP(C1044,Medlemmer!A:C,2,FALSE),\"\")","v":""},{"$f":"IFERROR(VLOOKUP(C1044,Tidligere_henvendelser!A:B,2,FALSE),\"\")","v":""}]
[{"$f":"ReplaceNumbers(C1045)","v":"Viadukt Alle"},{"$f":"_xlfn.NUMBERVALUE(FindNumbers(C1045))","v":14},"Viadukt Alle 14","2900 Hellerup",3350000,"2021-06-29","Fam. Salg",24275,5,"Villa",138,1923,{"$f":"IF(ISBLANK(VLOOKUP(A1045,Veje!A:B,2,FALSE)),INDEX(Veje!$D$2:$RT$652,MATCH(A1045,Veje!$A$2:$A$652,0),MATCH(B1045,Veje!$D$1:$RT$1,0)),VLOOKUP(A1045,Veje!A:B,2,FALSE))","v":"HMG"},{"$f":"IFERROR(VLOOKUP(C1045,Medlemmer!A:C,3,FALSE),\"\")","v":""},{"$f":"IFERROR(VLOOKUP(C1045,Medlemmer!A:C,2,FALSE),\"\")","v":""},{"$f":"IFERROR(VLOOKUP(C1045,Tidligere_henvendelser!A:B,2,FALSE),\"\")","v":""}]
[{"$f":"ReplaceNumbers(C1046)","v":"Lindegårdsvej"},{"$f":"_xlfn.NUMBERVALUE(FindNumbers(C1046))","v":28},"Lindegårdsvej 28C, st. tv","2920 Charlottenlund",2700000,"2021-06-29","Alm. Salg",38028,3,"Ejerlejlighed",71,1937,{"$f":"IF(ISBLANK(VLOOKUP(A1046,Veje!A:B,2,FALSE)),INDEX(Veje!$D$2:$RT$652,MATCH(A1046,Veje!$A$2:$A$652,0),MATCH(B1046,Veje!$D$1:$RT$1,0)),VLOOKUP(A1046,Veje!A:B,2,FALSE))","v":"OCG"},{"$f":"IFERROR(VLOOKUP(C1046,Medlemmer!A:C,3,FALSE),\"\")","v":""},{"$f":"IFERROR(VLOOKUP(C1046,Medlemmer!A:C,2,FALSE),\"\")","v":""},{"$f":"IFERROR(VLOOKUP(C1046,Tidligere_henvendelser!A:B,2,FALSE),\"\")","v":""}]
[{"$f":"ReplaceNumbers(C1047)","v":"Gentoftegade"},{"$f":"_xlfn.NUMBERVALUE(FindNumbers(C1047))","v":38},"Gentoftegade 38, 3. tv","2820 Gentofte",1782500,"2021-06-30","Fam. Salg",21737,3,"Ejerlejlighed",82,1958,{"$f":"IF(ISBLANK(VLOOKUP(A1047,Veje!A:B,2,FALSE)),INDEX(Veje!$D$2:$RT$652,MATCH(A1047,Veje!$A$2:$A$652,0),MATCH(B1047,Veje!$D$1:$RT$1,0)),VLOOKUP(A1047,Veje!A:B,2,FALSE))","v":"GSG"},{"$f":"IFERROR(VLOOKUP(C1047,Medlemmer!A:C,3,FALSE),\"\")","v":""},{"$f":"IFERROR(VLOOKUP(C1047,Medlemmer!A:C,2,FALSE),\"\")","v":""},{"$f":"IFERROR(VLOOKUP(C1047,Tidligere_henvendelser!A:B,2,FALSE),\"\")","v":""}]
[{"$f":"ReplaceNumbers(C1048)","v":"Lindegårdsvej"},{"$f":"_xlfn.NUMBERVALUE(FindNumbers(C1048))","v":17},"Lindegårdsvej 17, 1. th","2920 Charlottenlund",5450000,"2021-06-30","Alm. Salg",49545,4,"Ejerlejlighed",110,1895,{"$f":"IF(ISBLANK(VLOOKUP(A1048,Veje!A:B,2,FALSE)),INDEX(Veje!$D$2:$RT$652,MATCH(A1048,Veje!$A$2:$A$652,0),MATCH(B1048,Veje!$D$1:$RT$1,0)),VLOOKUP(A1048,Veje!A:B,2,FALSE))","v":"OCG"},{"$f":"IFERROR(VLOOKUP(C1048,Medlemmer!A:C,3,FALSE),\"\")","v":""},{"$f":"IFERROR(VLOOKUP(C1048,Medlemmer!A:C,2,FALSE),\"\")","v":""},{"$f":"IFERROR(VLOOKUP(C1048,Tidligere_henvendelser!A:B,2,FALSE),\"\")","v":""}]
[{"$f":"ReplaceNumbers(C1049)","v":"Lindegårdsvej"},{"$f":"_xlfn.NUMBERVALUE(FindNumbers(C1049))","v":46},"Lindegårdsvej 46, 2. th","2920 Charlottenlund",4695000,"2021-06-30","Alm. Salg",55892,3,"Ejerlejlighed",84,1990,{"$f":"IF(ISBLANK(VLOOKUP(A1049,Veje!A:B,2,FALSE)),INDEX(Veje!$D$2:$RT$652,MATCH(A1049,Veje!$A$2:$A$652,0),MATCH(B1049,Veje!$D$1:$RT$1,0)),VLOOKUP(A1049,Veje!A:B,2,FALSE))","v":"OCG"},{"$f":"IFERROR(VLOOKUP(C1049,Medlemmer!A:C,3,FALSE),\"\")","v":""},{"$f":"IFERROR(VLOOKUP(C1049,Medlemmer!A:C,2,FALSE),\"\")","v":""},{"$f":"IFERROR(VLOOKUP(C1049,Tidligere_henvendelser!A:B,2,FALSE),\"\")","v":""}]
[{"$f":"ReplaceNumbers(C1050)","v":"Plantevej"},{"$f":"_xlfn.NUMBERVALUE(FindNumbers(C1050))","v":25},"Plantevej 25, 3. tv","2870 Dyssegård ",1995000,"2021-06-30","Alm. Salg",34396,2,"Ejerlejlighed",58,1938,{"$f":"IF(ISBLANK(VLOOKUP(A1050,Veje!A:B,2,FALSE)),INDEX(Veje!$D$2:$RT$652,MATCH(A1050,Veje!$A$2:$A$652,0),MATCH(B1050,Veje!$D$1:$RT$1,0)),VLOOKUP(A1050,Veje!A:B,2,FALSE))","v":"DY"},{"$f":"IFERROR(VLOOKUP(C1050,Medlemmer!A:C,3,FALSE),\"\")","v":""},{"$f":"IFERROR(VLOOKUP(C1050,Medlemmer!A:C,2,FALSE),\"\")","v":""},{"$f":"IFERROR(VLOOKUP(C1050,Tidligere_henvendelser!A:B,2,FALSE),\"\")","v":""}]
[{"$f":"ReplaceNumbers(C1051)","v":"Hjemmevej"},{"$f":"_xlfn.NUMBERVALUE(FindNumbers(C1051))","v":50},"Hjemmevej 50","2870 Dyssegård ",1525000,"2021-06-30","Fam. Salg",13863,4,"Villa",110,1936,{"$f":"IF(ISBLANK(VLOOKUP(A1051,Veje!A:B,2,FALSE)),INDEX(Veje!$D$2:$RT$652,MATCH(A1051,Veje!$A$2:$A$652,0),MATCH(B1051,Veje!$D$1:$RT$1,0)),VLOOKUP(A1051,Veje!A:B,2,FALSE))","v":"DY"},{"$f":"IFERROR(VLOOKUP(C1051,Medlemmer!A:C,3,FALSE),\"\")","v":""},{"$f":"IFERROR(VLOOKUP(C1051,Medlemmer!A:C,2,FALSE),\"\")","v":""},{"$f":"IFERROR(VLOOKUP(C1051,Tidligere_henvendelser!A:B,2,FALSE),\"\")","v":""}]
[{"$f":"ReplaceNumbers(C1052)","v":"Ordrupvej"},{"$f":"_xlfn.NUMBERVALUE(FindNumbers(C1052))","v":20},"Ordrupvej 20, st. tv","2920 Charlottenlund",3102500,"2021-06-30","Alm. Salg",40292,3,"Ejerlejlighed",77,1936,{"$f":"IF(ISBLANK(VLOOKUP(A1052,Veje!A:B,2,FALSE)),INDEX(Veje!$D$2:$RT$652,MATCH(A1052,Veje!$A$2:$A$652,0),MATCH(B1052,Veje!$D$1:$RT$1,0)),VLOOKUP(A1052,Veje!A:B,2,FALSE))","v":"OCG"},{"$f":"IFERROR(VLOOKUP(C1052,Medlemmer!A:C,3,FALSE),\"\")","v":""},{"$f":"IFERROR(VLOOKUP(C1052,Medlemmer!A:C,2,FALSE),\"\")","v":""},{"$f":"IFERROR(VLOOKUP(C1052,Tidligere_henvendelser!A:B,2,FALSE),\"\")","v":""}]
[{"$f":"ReplaceNumbers(C1053)","v":"Stigaardsvej"},{"$f":"_xlfn.NUMBERVALUE(FindNumbers(C1053))","v":10},"Stigaardsvej 10, 1","2900 Hellerup",9400000,"2021-07-01","Alm. Salg",90384,3,"Ejerlejlighed",104,1899,{"$f":"IF(ISBLANK(VLOOKUP(A1053,Veje!A:B,2,FALSE)),INDEX(Veje!$D$2:$RT$652,MATCH(A1053,Veje!$A$2:$A$652,0),MATCH(B1053,Veje!$D$1:$RT$1,0)),VLOOKUP(A1053,Veje!A:B,2,FALSE))","v":"HMG"},{"$f":"IFERROR(VLOOKUP(C1053,Medlemmer!A:C,3,FALSE),\"\")","v":""},{"$f":"IFERROR(VLOOKUP(C1053,Medlemmer!A:C,2,FALSE),\"\")","v":""},{"$f":"IFERROR(VLOOKUP(C1053,Tidligere_henvendelser!A:B,2,FALSE),\"\")","v":""}]
[{"$f":"ReplaceNumbers(C1054)","v":"Bernstorfflund Alle"},{"$f":"_xlfn.NUMBERVALUE(FindNumbers(C1054))","v":6},"Bernstorfflund Alle 6A","2920 Charlottenlund",5995000,"2021-07-01","Alm. Salg",57095,3,"Rækkehus",105,1979,{"$f":"IF(ISBLANK(VLOOKUP(A1054,Veje!A:B,2,FALSE)),INDEX(Veje!$D$2:$RT$652,MATCH(A1054,Veje!$A$2:$A$652,0),MATCH(B1054,Veje!$D$1:$RT$1,0)),VLOOKUP(A1054,Veje!A:B,2,FALSE))","v":"BJGF"},{"$f":"IFERROR(VLOOKUP(C1054,Medlemmer!A:C,3,FALSE),\"\")","v":""},{"$f":"IFERROR(VLOOKUP(C1054,Medlemmer!A:C,2,FALSE),\"\")","v":""},{"$f":"IFERROR(VLOOKUP(C1054,Tidligere_henvendelser!A:B,2,FALSE),\"\")","v":""}]
[{"$f":"ReplaceNumbers(C1055)","v":"Brogårdsvej"},{"$f":"_xlfn.NUMBERVALUE(FindNumbers(C1055))","v":137},"Brogårdsvej 137, 3. th","2820 Gentofte",1750000,"2021-07-01","Alm. Salg",37234,2,"Ejerlejlighed",47,1946,{"$f":"IF(ISBLANK(VLOOKUP(A1055,Veje!A:B,2,FALSE)),INDEX(Veje!$D$2:$RT$652,MATCH(A1055,Veje!$A$2:$A$652,0),MATCH(B1055,Veje!$D$1:$RT$1,0)),VLOOKUP(A1055,Veje!A:B,2,FALSE))","v":"GSG"},{"$f":"IFERROR(VLOOKUP(C1055,Medlemmer!A:C,3,FALSE),\"\")","v":""},{"$f":"IFERROR(VLOOKUP(C1055,Medlemmer!A:C,2,FALSE),\"\")","v":""},{"$f":"IFERROR(VLOOKUP(C1055,Tidligere_henvendelser!A:B,2,FALSE),\"\")","v":""}]
[{"$f":"ReplaceNumbers(C1056)","v":"Gentoftegade"},{"$f":"_xlfn.NUMBERVALUE(FindNumbers(C1056))","v":36},"Gentoftegade 36, st. tv","2820 Gentofte",2650000,"2021-07-01","Alm. Salg",41406,3,"Ejerlejlighed",64,1958,{"$f":"IF(ISBLANK(VLOOKUP(A1056,Veje!A:B,2,FALSE)),INDEX(Veje!$D$2:$RT$652,MATCH(A1056,Veje!$A$2:$A$652,0),MATCH(B1056,Veje!$D$1:$RT$1,0)),VLOOKUP(A1056,Veje!A:B,2,FALSE))","v":"GSG"},{"$f":"IFERROR(VLOOKUP(C1056,Medlemmer!A:C,3,FALSE),\"\")","v":""},{"$f":"IFERROR(VLOOKUP(C1056,Medlemmer!A:C,2,FALSE),\"\")","v":""},{"$f":"IFERROR(VLOOKUP(C1056,Tidligere_henvendelser!A:B,2,FALSE),\"\")","v":""}]
[{"$f":"ReplaceNumbers(C1057)","v":"Strandvejen"},{"$f":"_xlfn.NUMBERVALUE(FindNumbers(C1057))","v":419},"Strandvejen 419, st. th","2930 Klampenborg",4195000,"2021-07-01","Alm. Salg",68770,2,"Ejerlejlighed",61,1933,{"$f":"IF(ISBLANK(VLOOKUP(A1057,Veje!A:B,2,FALSE)),INDEX(Veje!$D$2:$RT$652,MATCH(A1057,Veje!$A$2:$A$652,0),MATCH(B1057,Veje!$D$1:$RT$1,0)),VLOOKUP(A1057,Veje!A:B,2,FALSE))","v":"SKGF"},{"$f":"IFERROR(VLOOKUP(C1057,Medlemmer!A:C,3,FALSE),\"\")","v":""},{"$f":"IFERROR(VLOOKUP(C1057,Medlemmer!A:C,2,FALSE),\"\")","v":""},{"$f":"IFERROR(VLOOKUP(C1057,Tidligere_henvendelser!A:B,2,FALSE),\"\")","v":""}]
[{"$f":"ReplaceNumbers(C1058)","v":"Dalvej"},{"$f":"_xlfn.NUMBERVALUE(FindNumbers(C1058))","v":8},"Dalvej 8","2820 Gentofte",10800000,"2021-07-01","Alm. Salg",78832,5,"Villa",137,1933,{"$f":"IF(ISBLANK(VLOOKUP(A1058,Veje!A:B,2,FALSE)),INDEX(Veje!$D$2:$RT$652,MATCH(A1058,Veje!$A$2:$A$652,0),MATCH(B1058,Veje!$D$1:$RT$1,0)),VLOOKUP(A1058,Veje!A:B,2,FALSE))","v":"BJGF"},{"$f":"IFERROR(VLOOKUP(C1058,Medlemmer!A:C,3,FALSE),\"\")","v":""},{"$f":"IFERROR(VLOOKUP(C1058,Medlemmer!A:C,2,FALSE),\"\")","v":""},{"$f":"IFERROR(VLOOKUP(C1058,Tidligere_henvendelser!A:B,2,FALSE),\"\")","v":""}]
[{"$f":"ReplaceNumbers(C1059)","v":"Hellerupvej"},{"$f":"_xlfn.NUMBERVALUE(FindNumbers(C1059))","v":58},"Hellerupvej 58","2900 Hellerup",1000000,"2021-07-01","Andet",12658,2,"Ejerlejlighed",79,1930,{"$f":"IF(ISBLANK(VLOOKUP(A1059,Veje!A:B,2,FALSE)),INDEX(Veje!$D$2:$RT$652,MATCH(A1059,Veje!$A$2:$A$652,0),MATCH(B1059,Veje!$D$1:$RT$1,0)),VLOOKUP(A1059,Veje!A:B,2,FALSE))","v":"HMG"},{"$f":"IFERROR(VLOOKUP(C1059,Medlemmer!A:C,3,FALSE),\"\")","v":""},{"$f":"IFERROR(VLOOKUP(C1059,Medlemmer!A:C,2,FALSE),\"\")","v":""},{"$f":"IFERROR(VLOOKUP(C1059,Tidligere_henvendelser!A:B,2,FALSE),\"\")","v":""}]
[{"$f":"ReplaceNumbers(C1060)","v":"Callisensvej"},{"$f":"_xlfn.NUMBERVALUE(FindNumbers(C1060))","v":18},"Callisensvej 18, 2. th","2900 Hellerup",3955000,"2021-07-01","Alm. Salg",60846,3,"Ejerlejlighed",65,1899,{"$f":"IF(ISBLANK(VLOOKUP(A1060,Veje!A:B,2,FALSE)),INDEX(Veje!$D$2:$RT$652,MATCH(A1060,Veje!$A$2:$A$652,0),MATCH(B1060,Veje!$D$1:$RT$1,0)),VLOOKUP(A1060,Veje!A:B,2,FALSE))","v":"HMG"},{"$f":"IFERROR(VLOOKUP(C1060,Medlemmer!A:C,3,FALSE),\"\")","v":""},{"$f":"IFERROR(VLOOKUP(C1060,Medlemmer!A:C,2,FALSE),\"\")","v":""},{"$f":"IFERROR(VLOOKUP(C1060,Tidligere_henvendelser!A:B,2,FALSE),\"\")","v":""}]
[{"$f":"ReplaceNumbers(C1061)","v":"Ordrupvej"},{"$f":"_xlfn.NUMBERVALUE(FindNumbers(C1061))","v":49},"Ordrupvej 49, 2. 203","2920 Charlottenlund",2750000,"2021-07-03","Alm. Salg",40441,2,"Ejerlejlighed",68,1971,{"$f":"IF(ISBLANK(VLOOKUP(A1061,Veje!A:B,2,FALSE)),INDEX(Veje!$D$2:$RT$652,MATCH(A1061,Veje!$A$2:$A$652,0),MATCH(B1061,Veje!$D$1:$RT$1,0)),VLOOKUP(A1061,Veje!A:B,2,FALSE))","v":"OCG"},{"$f":"IFERROR(VLOOKUP(C1061,Medlemmer!A:C,3,FALSE),\"\")","v":""},{"$f":"IFERROR(VLOOKUP(C1061,Medlemmer!A:C,2,FALSE),\"\")","v":""},{"$f":"IFERROR(VLOOKUP(C1061,Tidligere_henvendelser!A:B,2,FALSE),\"\")","v":""}]
[{"$f":"ReplaceNumbers(C1062)","v":"Krathusvej"},{"$f":"_xlfn.NUMBERVALUE(FindNumbers(C1062))","v":22},"Krathusvej 22","2920 Charlottenlund",31000000,"2021-07-03","Alm. Salg",96875,7,"Villa",320,1999,{"$f":"IF(ISBLANK(VLOOKUP(A1062,Veje!A:B,2,FALSE)),INDEX(Veje!$D$2:$RT$652,MATCH(A1062,Veje!$A$2:$A$652,0),MATCH(B1062,Veje!$D$1:$RT$1,0)),VLOOKUP(A1062,Veje!A:B,2,FALSE))","v":"OCG"},{"$f":"IFERROR(VLOOKUP(C1062,Medlemmer!A:C,3,FALSE),\"\")","v":""},{"$f":"IFERROR(VLOOKUP(C1062,Medlemmer!A:C,2,FALSE),\"\")","v":""},{"$f":"IFERROR(VLOOKUP(C1062,Tidligere_henvendelser!A:B,2,FALSE),\"\")","v":""}]
[{"$f":"ReplaceNumbers(C1063)","v":"Gladsaxevej"},{"$f":"_xlfn.NUMBERVALUE(FindNumbers(C1063))","v":6},"Gladsaxevej 6","2870 Dyssegård ",2975000,"2021-07-03","Fam. Salg",29166,4,"Villa",102,1921,{"$f":"IF(ISBLANK(VLOOKUP(A1063,Veje!A:B,2,FALSE)),INDEX(Veje!$D$2:$RT$652,MATCH(A1063,Veje!$A$2:$A$652,0),MATCH(B1063,Veje!$D$1:$RT$1,0)),VLOOKUP(A1063,Veje!A:B,2,FALSE))","v":"DY"},{"$f":"IFERROR(VLOOKUP(C1063,Medlemmer!A:C,3,FALSE),\"\")","v":""},{"$f":"IFERROR(VLOOKUP(C1063,Medlemmer!A:C,2,FALSE),\"\")","v":""},{"$f":"IFERROR(VLOOKUP(C1063,Tidligere_henvendelser!A:B,2,FALSE),\"\")","v":""}]
[{"$f":"ReplaceNumbers(C1064)","v":"Bernstorfflund Alle"},{"$f":"_xlfn.NUMBERVALUE(FindNumbers(C1064))","v":42},"Bernstorfflund Alle 42","2920 Charlottenlund",8000000,"2021-07-04","Alm. Salg",70796,3,"Villa",113,1959,{"$f":"IF(ISBLANK(VLOOKUP(A1064,Veje!A:B,2,FALSE)),INDEX(Veje!$D$2:$RT$652,MATCH(A1064,Veje!$A$2:$A$652,0),MATCH(B1064,Veje!$D$1:$RT$1,0)),VLOOKUP(A1064,Veje!A:B,2,FALSE))","v":"BJGF"},{"$f":"IFERROR(VLOOKUP(C1064,Medlemmer!A:C,3,FALSE),\"\")","v":""},{"$f":"IFERROR(VLOOKUP(C1064,Medlemmer!A:C,2,FALSE),\"\")","v":""},{"$f":"IFERROR(VLOOKUP(C1064,Tidligere_henvendelser!A:B,2,FALSE),\"\")","v":""}]
[{"$f":"ReplaceNumbers(C1065)","v":"Ordrupvej"},{"$f":"_xlfn.NUMBERVALUE(FindNumbers(C1065))","v":132},"Ordrupvej 132C, 1. th","2920 Charlottenlund",4560000,"2021-07-04","Alm. Salg",43428,4,"Ejerlejlighed",105,1953,{"$f":"IF(ISBLANK(VLOOKUP(A1065,Veje!A:B,2,FALSE)),INDEX(Veje!$D$2:$RT$652,MATCH(A1065,Veje!$A$2:$A$652,0),MATCH(B1065,Veje!$D$1:$RT$1,0)),VLOOKUP(A1065,Veje!A:B,2,FALSE))","v":"OCG"},{"$f":"IFERROR(VLOOKUP(C1065,Medlemmer!A:C,3,FALSE),\"\")","v":""},{"$f":"IFERROR(VLOOKUP(C1065,Medlemmer!A:C,2,FALSE),\"\")","v":""},{"$f":"IFERROR(VLOOKUP(C1065,Tidligere_henvendelser!A:B,2,FALSE),\"\")","v":""}]
[{"$f":"ReplaceNumbers(C1066)","v":"Ingeborgvej"},{"$f":"_xlfn.NUMBERVALUE(FindNumbers(C1066))","v":29},"Ingeborgvej 29","2920 Charlottenlund",14995000,"2021-07-04","Alm. Salg",86676,7,"Villa",173,1923,{"$f":"IF(ISBLANK(VLOOKUP(A1066,Veje!A:B,2,FALSE)),INDEX(Veje!$D$2:$RT$652,MATCH(A1066,Veje!$A$2:$A$652,0),MATCH(B1066,Veje!$D$1:$RT$1,0)),VLOOKUP(A1066,Veje!A:B,2,FALSE))","v":"OCG"},{"$f":"IFERROR(VLOOKUP(C1066,Medlemmer!A:C,3,FALSE),\"\")","v":""},{"$f":"IFERROR(VLOOKUP(C1066,Medlemmer!A:C,2,FALSE),\"\")","v":""},{"$f":"IFERROR(VLOOKUP(C1066,Tidligere_henvendelser!A:B,2,FALSE),\"\")","v":""}]
[{"$f":"ReplaceNumbers(C1067)","v":"Ellevadsvej"},{"$f":"_xlfn.NUMBERVALUE(FindNumbers(C1067))","v":19},"Ellevadsvej 19","2920 Charlottenlund",11200000,"2021-07-04","Alm. Salg",70440,7,"Villa",159,1960,{"$f":"IF(ISBLANK(VLOOKUP(A1067,Veje!A:B,2,FALSE)),INDEX(Veje!$D$2:$RT$652,MATCH(A1067,Veje!$A$2:$A$652,0),MATCH(B1067,Veje!$D$1:$RT$1,0)),VLOOKUP(A1067,Veje!A:B,2,FALSE))","v":"OCG"},{"$f":"IFERROR(VLOOKUP(C1067,Medlemmer!A:C,3,FALSE),\"\")","v":""},{"$f":"IFERROR(VLOOKUP(C1067,Medlemmer!A:C,2,FALSE),\"\")","v":""},{"$f":"IFERROR(VLOOKUP(C1067,Tidligere_henvendelser!A:B,2,FALSE),\"\")","v":""}]
[{"$f":"ReplaceNumbers(C1068)","v":"Lyngbyvej"},{"$f":"_xlfn.NUMBERVALUE(FindNumbers(C1068))","v":391},"Lyngbyvej 391","2820 Gentofte",5800000,"2021-07-04","Alm. Salg",29896,6,"Villa",194,1934,{"$f":"IF(ISBLANK(VLOOKUP(A1068,Veje!A:B,2,FALSE)),INDEX(Veje!$D$2:$RT$652,MATCH(A1068,Veje!$A$2:$A$652,0),MATCH(B1068,Veje!$D$1:$RT$1,0)),VLOOKUP(A1068,Veje!A:B,2,FALSE))","v":"GSG"},{"$f":"IFERROR(VLOOKUP(C1068,Medlemmer!A:C,3,FALSE),\"\")","v":""},{"$f":"IFERROR(VLOOKUP(C1068,Medlemmer!A:C,2,FALSE),\"\")","v":""},{"$f":"IFERROR(VLOOKUP(C1068,Tidligere_henvendelser!A:B,2,FALSE),\"\")","v":"20Q2"}]
[{"$f":"ReplaceNumbers(C1069)","v":"Skovkrogen"},{"$f":"_xlfn.NUMBERVALUE(FindNumbers(C1069))","v":5},"Skovkrogen 5, 1. tv","2920 Charlottenlund",3150000,"2021-07-04","Alm. Salg",43150,3,"Ejerlejlighed",73,1934,{"$f":"IF(ISBLANK(VLOOKUP(A1069,Veje!A:B,2,FALSE)),INDEX(Veje!$D$2:$RT$652,MATCH(A1069,Veje!$A$2:$A$652,0),MATCH(B1069,Veje!$D$1:$RT$1,0)),VLOOKUP(A1069,Veje!A:B,2,FALSE))","v":"OCG"},{"$f":"IFERROR(VLOOKUP(C1069,Medlemmer!A:C,3,FALSE),\"\")","v":""},{"$f":"IFERROR(VLOOKUP(C1069,Medlemmer!A:C,2,FALSE),\"\")","v":""},{"$f":"IFERROR(VLOOKUP(C1069,Tidligere_henvendelser!A:B,2,FALSE),\"\")","v":""}]
[{"$f":"ReplaceNumbers(C1070)","v":"Frisersvej"},{"$f":"_xlfn.NUMBERVALUE(FindNumbers(C1070))","v":24},"Frisersvej 24, st. tv","2920 Charlottenlund",1175000,"2021-07-04","Alm. Salg",9957,4,"Ejerlejlighed",118,1902,{"$f":"IF(ISBLANK(VLOOKUP(A1070,Veje!A:B,2,FALSE)),INDEX(Veje!$D$2:$RT$652,MATCH(A1070,Veje!$A$2:$A$652,0),MATCH(B1070,Veje!$D$1:$RT$1,0)),VLOOKUP(A1070,Veje!A:B,2,FALSE))","v":"OCG"},{"$f":"IFERROR(VLOOKUP(C1070,Medlemmer!A:C,3,FALSE),\"\")","v":""},{"$f":"IFERROR(VLOOKUP(C1070,Medlemmer!A:C,2,FALSE),\"\")","v":""},{"$f":"IFERROR(VLOOKUP(C1070,Tidligere_henvendelser!A:B,2,FALSE),\"\")","v":""}]
[{"$f":"ReplaceNumbers(C1071)","v":"Frisersvej"},{"$f":"_xlfn.NUMBERVALUE(FindNumbers(C1071))","v":24},"Frisersvej 24, 2. th","2920 Charlottenlund",760000,"2021-07-04","Alm. Salg",10000,4,"Ejerlejlighed",76,1902,{"$f":"IF(ISBLANK(VLOOKUP(A1071,Veje!A:B,2,FALSE)),INDEX(Veje!$D$2:$RT$652,MATCH(A1071,Veje!$A$2:$A$652,0),MATCH(B1071,Veje!$D$1:$RT$1,0)),VLOOKUP(A1071,Veje!A:B,2,FALSE))","v":"OCG"},{"$f":"IFERROR(VLOOKUP(C1071,Medlemmer!A:C,3,FALSE),\"\")","v":""},{"$f":"IFERROR(VLOOKUP(C1071,Medlemmer!A:C,2,FALSE),\"\")","v":""},{"$f":"IFERROR(VLOOKUP(C1071,Tidligere_henvendelser!A:B,2,FALSE),\"\")","v":""}]
[{"$f":"ReplaceNumbers(C1072)","v":"Strandvejen"},{"$f":"_xlfn.NUMBERVALUE(FindNumbers(C1072))","v":110},"Strandvejen 110B, 4. th","2900 Hellerup",5015000,"2021-07-05","Alm. Salg",63481,3,"Ejerlejlighed",79,1902,{"$f":"IF(ISBLANK(VLOOKUP(A1072,Veje!A:B,2,FALSE)),INDEX(Veje!$D$2:$RT$652,MATCH(A1072,Veje!$A$2:$A$652,0),MATCH(B1072,Veje!$D$1:$RT$1,0)),VLOOKUP(A1072,Veje!A:B,2,FALSE))","v":"HMG"},{"$f":"IFERROR(VLOOKUP(C1072,Medlemmer!A:C,3,FALSE),\"\")","v":""},{"$f":"IFERROR(VLOOKUP(C1072,Medlemmer!A:C,2,FALSE),\"\")","v":""},{"$f":"IFERROR(VLOOKUP(C1072,Tidligere_henvendelser!A:B,2,FALSE),\"\")","v":""}]
[{"$f":"ReplaceNumbers(C1073)","v":"Frisersvej"},{"$f":"_xlfn.NUMBERVALUE(FindNumbers(C1073))","v":2},"Frisersvej 2A, st","2920 Charlottenlund",7750000,"2021-07-05","Alm. Salg",54964,5,"Ejerlejlighed",141,1884,{"$f":"IF(ISBLANK(VLOOKUP(A1073,Veje!A:B,2,FALSE)),INDEX(Veje!$D$2:$RT$652,MATCH(A1073,Veje!$A$2:$A$652,0),MATCH(B1073,Veje!$D$1:$RT$1,0)),VLOOKUP(A1073,Veje!A:B,2,FALSE))","v":"OCG"},{"$f":"IFERROR(VLOOKUP(C1073,Medlemmer!A:C,3,FALSE),\"\")","v":""},{"$f":"IFERROR(VLOOKUP(C1073,Medlemmer!A:C,2,FALSE),\"\")","v":""},{"$f":"IFERROR(VLOOKUP(C1073,Tidligere_henvendelser!A:B,2,FALSE),\"\")","v":""}]
[{"$f":"ReplaceNumbers(C1074)","v":"Frisersvej"},{"$f":"_xlfn.NUMBERVALUE(FindNumbers(C1074))","v":2},"Frisersvej 2A, 1","2920 Charlottenlund",7750000,"2021-07-05","Alm. Salg",75980,4,"Ejerlejlighed",102,1884,{"$f":"IF(ISBLANK(VLOOKUP(A1074,Veje!A:B,2,FALSE)),INDEX(Veje!$D$2:$RT$652,MATCH(A1074,Veje!$A$2:$A$652,0),MATCH(B1074,Veje!$D$1:$RT$1,0)),VLOOKUP(A1074,Veje!A:B,2,FALSE))","v":"OCG"},{"$f":"IFERROR(VLOOKUP(C1074,Medlemmer!A:C,3,FALSE),\"\")","v":""},{"$f":"IFERROR(VLOOKUP(C1074,Medlemmer!A:C,2,FALSE),\"\")","v":""},{"$f":"IFERROR(VLOOKUP(C1074,Tidligere_henvendelser!A:B,2,FALSE),\"\")","v":""}]
[{"$f":"ReplaceNumbers(C1075)","v":"Onsgårdsvej"},{"$f":"_xlfn.NUMBERVALUE(FindNumbers(C1075))","v":16},"Onsgårdsvej 16, 1","2900 Hellerup",31500000,"2021-07-05","Andet",125498,7,"Ejerlejlighed",251,1906,{"$f":"IF(ISBLANK(VLOOKUP(A1075,Veje!A:B,2,FALSE)),INDEX(Veje!$D$2:$RT$652,MATCH(A1075,Veje!$A$2:$A$652,0),MATCH(B1075,Veje!$D$1:$RT$1,0)),VLOOKUP(A1075,Veje!A:B,2,FALSE))","v":"HMG"},{"$f":"IFERROR(VLOOKUP(C1075,Medlemmer!A:C,3,FALSE),\"\")","v":""},{"$f":"IFERROR(VLOOKUP(C1075,Medlemmer!A:C,2,FALSE),\"\")","v":""},{"$f":"IFERROR(VLOOKUP(C1075,Tidligere_henvendelser!A:B,2,FALSE),\"\")","v":""}]
[{"$f":"ReplaceNumbers(C1076)","v":"Kongeledet"},{"$f":"_xlfn.NUMBERVALUE(FindNumbers(C1076))","v":23},"Kongeledet 23","2920 Charlottenlund",15600000,"2021-07-05","Alm. Salg",63673,7,"Villa",245,1934,{"$f":"IF(ISBLANK(VLOOKUP(A1076,Veje!A:B,2,FALSE)),INDEX(Veje!$D$2:$RT$652,MATCH(A1076,Veje!$A$2:$A$652,0),MATCH(B1076,Veje!$D$1:$RT$1,0)),VLOOKUP(A1076,Veje!A:B,2,FALSE))","v":"OCG"},{"$f":"IFERROR(VLOOKUP(C1076,Medlemmer!A:C,3,FALSE),\"\")","v":""},{"$f":"IFERROR(VLOOKUP(C1076,Medlemmer!A:C,2,FALSE),\"\")","v":""},{"$f":"IFERROR(VLOOKUP(C1076,Tidligere_henvendelser!A:B,2,FALSE),\"\")","v":""}]
[{"$f":"ReplaceNumbers(C1077)","v":"Rådhusvej"},{"$f":"_xlfn.NUMBERVALUE(FindNumbers(C1077))","v":26},"Rådhusvej 26, 1","2920 Charlottenlund",10248000,"2021-07-05","Alm. Salg",37130,8,"Ejerlejlighed",276,1904,{"$f":"IF(ISBLANK(VLOOKUP(A1077,Veje!A:B,2,FALSE)),INDEX(Veje!$D$2:$RT$652,MATCH(A1077,Veje!$A$2:$A$652,0),MATCH(B1077,Veje!$D$1:$RT$1,0)),VLOOKUP(A1077,Veje!A:B,2,FALSE))","v":"OCG"},{"$f":"IFERROR(VLOOKUP(C1077,Medlemmer!A:C,3,FALSE),\"\")","v":""},{"$f":"IFERROR(VLOOKUP(C1077,Medlemmer!A:C,2,FALSE),\"\")","v":""},{"$f":"IFERROR(VLOOKUP(C1077,Tidligere_henvendelser!A:B,2,FALSE),\"\")","v":""}]
[{"$f":"ReplaceNumbers(C1078)","v":"Rådhusvej"},{"$f":"_xlfn.NUMBERVALUE(FindNumbers(C1078))","v":26},"Rådhusvej 26, st","2920 Charlottenlund",10248000,"2021-07-05","Alm. Salg",57573,3,"Ejerlejlighed",178,1904,{"$f":"IF(ISBLANK(VLOOKUP(A1078,Veje!A:B,2,FALSE)),INDEX(Veje!$D$2:$RT$652,MATCH(A1078,Veje!$A$2:$A$652,0),MATCH(B1078,Veje!$D$1:$RT$1,0)),VLOOKUP(A1078,Veje!A:B,2,FALSE))","v":"OCG"},{"$f":"IFERROR(VLOOKUP(C1078,Medlemmer!A:C,3,FALSE),\"\")","v":""},{"$f":"IFERROR(VLOOKUP(C1078,Medlemmer!A:C,2,FALSE),\"\")","v":""},{"$f":"IFERROR(VLOOKUP(C1078,Tidligere_henvendelser!A:B,2,FALSE),\"\")","v":""}]
[{"$f":"ReplaceNumbers(C1079)","v":"Gentoftegade"},{"$f":"_xlfn.NUMBERVALUE(FindNumbers(C1079))","v":46},"Gentoftegade 46, 1. tv","2820 Gentofte",960000,"2021-07-05","Fam. Salg",19200,1,"Ejerlejlighed",50,1958,{"$f":"IF(ISBLANK(VLOOKUP(A1079,Veje!A:B,2,FALSE)),INDEX(Veje!$D$2:$RT$652,MATCH(A1079,Veje!$A$2:$A$652,0),MATCH(B1079,Veje!$D$1:$RT$1,0)),VLOOKUP(A1079,Veje!A:B,2,FALSE))","v":"GSG"},{"$f":"IFERROR(VLOOKUP(C1079,Medlemmer!A:C,3,FALSE),\"\")","v":""},{"$f":"IFERROR(VLOOKUP(C1079,Medlemmer!A:C,2,FALSE),\"\")","v":""},{"$f":"IFERROR(VLOOKUP(C1079,Tidligere_henvendelser!A:B,2,FALSE),\"\")","v":""}]
[{"$f":"ReplaceNumbers(C1080)","v":"Ellegårdsvænge"},{"$f":"_xlfn.NUMBERVALUE(FindNumbers(C1080))","v":18},"Ellegårdsvænge 18","2820 Gentofte",1168750,"2021-07-05","Fam. Salg",8657,5,"Villa",135,0,{"$f":"IF(ISBLANK(VLOOKUP(A1080,Veje!A:B,2,FALSE)),INDEX(Veje!$D$2:$RT$652,MATCH(A1080,Veje!$A$2:$A$652,0),MATCH(B1080,Veje!$D$1:$RT$1,0)),VLOOKUP(A1080,Veje!A:B,2,FALSE))","v":"GSG"},{"$f":"IFERROR(VLOOKUP(C1080,Medlemmer!A:C,3,FALSE),\"\")","v":""},{"$f":"IFERROR(VLOOKUP(C1080,Medlemmer!A:C,2,FALSE),\"\")","v":""},{"$f":"IFERROR(VLOOKUP(C1080,Tidligere_henvendelser!A:B,2,FALSE),\"\")","v":""}]
[{"$f":"ReplaceNumbers(C1081)","v":"Mantziusvej"},{"$f":"_xlfn.NUMBERVALUE(FindNumbers(C1081))","v":7},"Mantziusvej 7","2900 Hellerup",14300000,"2021-07-06","Alm. Salg",98620,5,"Villa",145,1913,{"$f":"IF(ISBLANK(VLOOKUP(A1081,Veje!A:B,2,FALSE)),INDEX(Veje!$D$2:$RT$652,MATCH(A1081,Veje!$A$2:$A$652,0),MATCH(B1081,Veje!$D$1:$RT$1,0)),VLOOKUP(A1081,Veje!A:B,2,FALSE))","v":"HMG"},{"$f":"IFERROR(VLOOKUP(C1081,Medlemmer!A:C,3,FALSE),\"\")","v":""},{"$f":"IFERROR(VLOOKUP(C1081,Medlemmer!A:C,2,FALSE),\"\")","v":""},{"$f":"IFERROR(VLOOKUP(C1081,Tidligere_henvendelser!A:B,2,FALSE),\"\")","v":""}]
[{"$f":"ReplaceNumbers(C1082)","v":"Ordrupvej"},{"$f":"_xlfn.NUMBERVALUE(FindNumbers(C1082))","v":112},"Ordrupvej 112B, 4. tv","2920 Charlottenlund",5150000,"2021-07-06","Alm. Salg",50000,4,"Ejerlejlighed",103,1933,{"$f":"IF(ISBLANK(VLOOKUP(A1082,Veje!A:B,2,FALSE)),INDEX(Veje!$D$2:$RT$652,MATCH(A1082,Veje!$A$2:$A$652,0),MATCH(B1082,Veje!$D$1:$RT$1,0)),VLOOKUP(A1082,Veje!A:B,2,FALSE))","v":"OCG"},{"$f":"IFERROR(VLOOKUP(C1082,Medlemmer!A:C,3,FALSE),\"\")","v":""},{"$f":"IFERROR(VLOOKUP(C1082,Medlemmer!A:C,2,FALSE),\"\")","v":""},{"$f":"IFERROR(VLOOKUP(C1082,Tidligere_henvendelser!A:B,2,FALSE),\"\")","v":""}]
[{"$f":"ReplaceNumbers(C1083)","v":"Ellegårdsvænge"},{"$f":"_xlfn.NUMBERVALUE(FindNumbers(C1083))","v":2},"Ellegårdsvænge 2, 1. th","2820 Gentofte",3150000,"2021-07-06","Alm. Salg",42000,3,"Ejerlejlighed",75,1938,{"$f":"IF(ISBLANK(VLOOKUP(A1083,Veje!A:B,2,FALSE)),INDEX(Veje!$D$2:$RT$652,MATCH(A1083,Veje!$A$2:$A$652,0),MATCH(B1083,Veje!$D$1:$RT$1,0)),VLOOKUP(A1083,Veje!A:B,2,FALSE))","v":"GSG"},{"$f":"IFERROR(VLOOKUP(C1083,Medlemmer!A:C,3,FALSE),\"\")","v":""},{"$f":"IFERROR(VLOOKUP(C1083,Medlemmer!A:C,2,FALSE),\"\")","v":""},{"$f":"IFERROR(VLOOKUP(C1083,Tidligere_henvendelser!A:B,2,FALSE),\"\")","v":""}]
[{"$f":"ReplaceNumbers(C1084)","v":"Eggersvej"},{"$f":"_xlfn.NUMBERVALUE(FindNumbers(C1084))","v":29},"Eggersvej 29A","2900 Hellerup",8400000,"2021-07-07","Alm. Salg",85714,4,"Ejerlejlighed",98,1933,{"$f":"IF(ISBLANK(VLOOKUP(A1084,Veje!A:B,2,FALSE)),INDEX(Veje!$D$2:$RT$652,MATCH(A1084,Veje!$A$2:$A$652,0),MATCH(B1084,Veje!$D$1:$RT$1,0)),VLOOKUP(A1084,Veje!A:B,2,FALSE))","v":"GSG"},{"$f":"IFERROR(VLOOKUP(C1084,Medlemmer!A:C,3,FALSE),\"\")","v":""},{"$f":"IFERROR(VLOOKUP(C1084,Medlemmer!A:C,2,FALSE),\"\")","v":""},{"$f":"IFERROR(VLOOKUP(C1084,Tidligere_henvendelser!A:B,2,FALSE),\"\")","v":""}]
[{"$f":"ReplaceNumbers(C1085)","v":"Ærenprisvej"},{"$f":"_xlfn.NUMBERVALUE(FindNumbers(C1085))","v":11},"Ærenprisvej 11, 1. mf","2820 Gentofte",1995000,"2021-07-08","Alm. Salg",39117,2,"Ejerlejlighed",51,1939,{"$f":"IF(ISBLANK(VLOOKUP(A1085,Veje!A:B,2,FALSE)),INDEX(Veje!$D$2:$RT$652,MATCH(A1085,Veje!$A$2:$A$652,0),MATCH(B1085,Veje!$D$1:$RT$1,0)),VLOOKUP(A1085,Veje!A:B,2,FALSE))","v":"GSG"},{"$f":"IFERROR(VLOOKUP(C1085,Medlemmer!A:C,3,FALSE),\"\")","v":""},{"$f":"IFERROR(VLOOKUP(C1085,Medlemmer!A:C,2,FALSE),\"\")","v":""},{"$f":"IFERROR(VLOOKUP(C1085,Tidligere_henvendelser!A:B,2,FALSE),\"\")","v":""}]
[{"$f":"ReplaceNumbers(C1086)","v":"Fuglegårdsvænget"},{"$f":"_xlfn.NUMBERVALUE(FindNumbers(C1086))","v":94},"Fuglegårdsvænget 94, st. tv","2820 Gentofte",1615000,"2021-07-08","Alm. Salg",31057,2,"Ejerlejlighed",52,1936,{"$f":"IF(ISBLANK(VLOOKUP(A1086,Veje!A:B,2,FALSE)),INDEX(Veje!$D$2:$RT$652,MATCH(A1086,Veje!$A$2:$A$652,0),MATCH(B1086,Veje!$D$1:$RT$1,0)),VLOOKUP(A1086,Veje!A:B,2,FALSE))","v":"GSG"},{"$f":"IFERROR(VLOOKUP(C1086,Medlemmer!A:C,3,FALSE),\"\")","v":""},{"$f":"IFERROR(VLOOKUP(C1086,Medlemmer!A:C,2,FALSE),\"\")","v":""},{"$f":"IFERROR(VLOOKUP(C1086,Tidligere_henvendelser!A:B,2,FALSE),\"\")","v":""}]
[{"$f":"ReplaceNumbers(C1087)","v":"Hambros Alle"},{"$f":"_xlfn.NUMBERVALUE(FindNumbers(C1087))","v":9},"Hambros Alle 9","2900 Hellerup",35000000,"2021-07-08","Alm. Salg",134615,6,"Villa",260,1906,{"$f":"IF(ISBLANK(VLOOKUP(A1087,Veje!A:B,2,FALSE)),INDEX(Veje!$D$2:$RT$652,MATCH(A1087,Veje!$A$2:$A$652,0),MATCH(B1087,Veje!$D$1:$RT$1,0)),VLOOKUP(A1087,Veje!A:B,2,FALSE))","v":"HMG"},{"$f":"IFERROR(VLOOKUP(C1087,Medlemmer!A:C,3,FALSE),\"\")","v":""},{"$f":"IFERROR(VLOOKUP(C1087,Medlemmer!A:C,2,FALSE),\"\")","v":""},{"$f":"IFERROR(VLOOKUP(C1087,Tidligere_henvendelser!A:B,2,FALSE),\"\")","v":""}]
[{"$f":"ReplaceNumbers(C1088)","v":"Dalstrøget"},{"$f":"_xlfn.NUMBERVALUE(FindNumbers(C1088))","v":87},"Dalstrøget 87, 3. tv","2870 Dyssegård ",2245000,"2021-07-10","Alm. Salg",38050,2,"Ejerlejlighed",59,1959,{"$f":"IF(ISBLANK(VLOOKUP(A1088,Veje!A:B,2,FALSE)),INDEX(Veje!$D$2:$RT$652,MATCH(A1088,Veje!$A$2:$A$652,0),MATCH(B1088,Veje!$D$1:$RT$1,0)),VLOOKUP(A1088,Veje!A:B,2,FALSE))","v":"DY"},{"$f":"IFERROR(VLOOKUP(C1088,Medlemmer!A:C,3,FALSE),\"\")","v":""},{"$f":"IFERROR(VLOOKUP(C1088,Medlemmer!A:C,2,FALSE),\"\")","v":""},{"$f":"IFERROR(VLOOKUP(C1088,Tidligere_henvendelser!A:B,2,FALSE),\"\")","v":""}]
[{"$f":"ReplaceNumbers(C1089)","v":"Tuborg Havnepark"},{"$f":"_xlfn.NUMBERVALUE(FindNumbers(C1089))","v":7},"Tuborg Havnepark 7, 4. th","2900 Hellerup",16500000,"2021-07-10","Alm. Salg",107142,4,"Ejerlejlighed",154,2007,{"$f":"IF(ISBLANK(VLOOKUP(A1089,Veje!A:B,2,FALSE)),INDEX(Veje!$D$2:$RT$652,MATCH(A1089,Veje!$A$2:$A$652,0),MATCH(B1089,Veje!$D$1:$RT$1,0)),VLOOKUP(A1089,Veje!A:B,2,FALSE))","v":"HMG"},{"$f":"IFERROR(VLOOKUP(C1089,Medlemmer!A:C,3,FALSE),\"\")","v":""},{"$f":"IFERROR(VLOOKUP(C1089,Medlemmer!A:C,2,FALSE),\"\")","v":""},{"$f":"IFERROR(VLOOKUP(C1089,Tidligere_henvendelser!A:B,2,FALSE),\"\")","v":""}]
[{"$f":"ReplaceNumbers(C1090)","v":"Fæstevej"},{"$f":"_xlfn.NUMBERVALUE(FindNumbers(C1090))","v":7},"Fæstevej 7","2820 Gentofte",7500000,"2021-07-11","Alm. Salg",68807,3,"Villa",109,1944,{"$f":"IF(ISBLANK(VLOOKUP(A1090,Veje!A:B,2,FALSE)),INDEX(Veje!$D$2:$RT$652,MATCH(A1090,Veje!$A$2:$A$652,0),MATCH(B1090,Veje!$D$1:$RT$1,0)),VLOOKUP(A1090,Veje!A:B,2,FALSE))","v":"GSG"},{"$f":"IFERROR(VLOOKUP(C1090,Medlemmer!A:C,3,FALSE),\"\")","v":""},{"$f":"IFERROR(VLOOKUP(C1090,Medlemmer!A:C,2,FALSE),\"\")","v":""},{"$f":"IFERROR(VLOOKUP(C1090,Tidligere_henvendelser!A:B,2,FALSE),\"\")","v":""}]
[{"$f":"ReplaceNumbers(C1091)","v":"Søndergårdsvej"},{"$f":"_xlfn.NUMBERVALUE(FindNumbers(C1091))","v":4},"Søndergårdsvej 4","2870 Dyssegård ",7495000,"2021-07-11","Alm. Salg",45981,7,"Villa",163,1939,{"$f":"IF(ISBLANK(VLOOKUP(A1091,Veje!A:B,2,FALSE)),INDEX(Veje!$D$2:$RT$652,MATCH(A1091,Veje!$A$2:$A$652,0),MATCH(B1091,Veje!$D$1:$RT$1,0)),VLOOKUP(A1091,Veje!A:B,2,FALSE))","v":"DY"},{"$f":"IFERROR(VLOOKUP(C1091,Medlemmer!A:C,3,FALSE),\"\")","v":""},{"$f":"IFERROR(VLOOKUP(C1091,Medlemmer!A:C,2,FALSE),\"\")","v":""},{"$f":"IFERROR(VLOOKUP(C1091,Tidligere_henvendelser!A:B,2,FALSE),\"\")","v":""}]
[{"$f":"ReplaceNumbers(C1092)","v":"Ny Ordrup Sidealle"},{"$f":"_xlfn.NUMBERVALUE(FindNumbers(C1092))","v":3},"Ny Ordrup Sidealle 3, 2. th","2920 Charlottenlund",4900000,"2021-07-11","Alm. Salg",45370,4,"Ejerlejlighed",108,1946,{"$f":"IF(ISBLANK(VLOOKUP(A1092,Veje!A:B,2,FALSE)),INDEX(Veje!$D$2:$RT$652,MATCH(A1092,Veje!$A$2:$A$652,0),MATCH(B1092,Veje!$D$1:$RT$1,0)),VLOOKUP(A1092,Veje!A:B,2,FALSE))","v":"SKGF"},{"$f":"IFERROR(VLOOKUP(C1092,Medlemmer!A:C,3,FALSE),\"\")","v":""},{"$f":"IFERROR(VLOOKUP(C1092,Medlemmer!A:C,2,FALSE),\"\")","v":""},{"$f":"IFERROR(VLOOKUP(C1092,Tidligere_henvendelser!A:B,2,FALSE),\"\")","v":""}]
[{"$f":"ReplaceNumbers(C1093)","v":"Lindegårdsvej"},{"$f":"_xlfn.NUMBERVALUE(FindNumbers(C1093))","v":26},"Lindegårdsvej 26, st. d","2920 Charlottenlund",1950000,"2021-07-11","Alm. Salg",46428,1,"Ejerlejlighed",42,1972,{"$f":"IF(ISBLANK(VLOOKUP(A1093,Veje!A:B,2,FALSE)),INDEX(Veje!$D$2:$RT$652,MATCH(A1093,Veje!$A$2:$A$652,0),MATCH(B1093,Veje!$D$1:$RT$1,0)),VLOOKUP(A1093,Veje!A:B,2,FALSE))","v":"OCG"},{"$f":"IFERROR(VLOOKUP(C1093,Medlemmer!A:C,3,FALSE),\"\")","v":""},{"$f":"IFERROR(VLOOKUP(C1093,Medlemmer!A:C,2,FALSE),\"\")","v":""},{"$f":"IFERROR(VLOOKUP(C1093,Tidligere_henvendelser!A:B,2,FALSE),\"\")","v":""}]
[{"$f":"ReplaceNumbers(C1094)","v":"Jensløvs Tværvej"},{"$f":"_xlfn.NUMBERVALUE(FindNumbers(C1094))","v":12},"Jensløvs Tværvej 12, 1. tv","2920 Charlottenlund",2789000,"2021-07-11","Alm. Salg",41626,2,"Ejerlejlighed",67,1933,{"$f":"IF(ISBLANK(VLOOKUP(A1094,Veje!A:B,2,FALSE)),INDEX(Veje!$D$2:$RT$652,MATCH(A1094,Veje!$A$2:$A$652,0),MATCH(B1094,Veje!$D$1:$RT$1,0)),VLOOKUP(A1094,Veje!A:B,2,FALSE))","v":"OCG"},{"$f":"IFERROR(VLOOKUP(C1094,Medlemmer!A:C,3,FALSE),\"\")","v":""},{"$f":"IFERROR(VLOOKUP(C1094,Medlemmer!A:C,2,FALSE),\"\")","v":""},{"$f":"IFERROR(VLOOKUP(C1094,Tidligere_henvendelser!A:B,2,FALSE),\"\")","v":""}]
[{"$f":"ReplaceNumbers(C1095)","v":"Vingårds Alle"},{"$f":"_xlfn.NUMBERVALUE(FindNumbers(C1095))","v":63},"Vingårds Alle 63, 2. th","2900 Hellerup",3400000,"2021-07-12","Alm. Salg",54838,2,"Ejerlejlighed",62,1952,{"$f":"IF(ISBLANK(VLOOKUP(A1095,Veje!A:B,2,FALSE)),INDEX(Veje!$D$2:$RT$652,MATCH(A1095,Veje!$A$2:$A$652,0),MATCH(B1095,Veje!$D$1:$RT$1,0)),VLOOKUP(A1095,Veje!A:B,2,FALSE))","v":"HMG"},{"$f":"IFERROR(VLOOKUP(C1095,Medlemmer!A:C,3,FALSE),\"\")","v":""},{"$f":"IFERROR(VLOOKUP(C1095,Medlemmer!A:C,2,FALSE),\"\")","v":""},{"$f":"IFERROR(VLOOKUP(C1095,Tidligere_henvendelser!A:B,2,FALSE),\"\")","v":""}]
[{"$f":"ReplaceNumbers(C1096)","v":"Vangede Bygade"},{"$f":"_xlfn.NUMBERVALUE(FindNumbers(C1096))","v":107},"Vangede Bygade 107, 1. tv","2820 Gentofte",2000000,"2021-07-12","Alm. Salg",33333,2,"Ejerlejlighed",60,1958,{"$f":"IF(ISBLANK(VLOOKUP(A1096,Veje!A:B,2,FALSE)),INDEX(Veje!$D$2:$RT$652,MATCH(A1096,Veje!$A$2:$A$652,0),MATCH(B1096,Veje!$D$1:$RT$1,0)),VLOOKUP(A1096,Veje!A:B,2,FALSE))","v":"GSG"},{"$f":"IFERROR(VLOOKUP(C1096,Medlemmer!A:C,3,FALSE),\"\")","v":""},{"$f":"IFERROR(VLOOKUP(C1096,Medlemmer!A:C,2,FALSE),\"\")","v":""},{"$f":"IFERROR(VLOOKUP(C1096,Tidligere_henvendelser!A:B,2,FALSE),\"\")","v":""}]
[{"$f":"ReplaceNumbers(C1097)","v":"Jægersborg Alle"},{"$f":"_xlfn.NUMBERVALUE(FindNumbers(C1097))","v":243},"Jægersborg Alle 243, 1. tv","2820 Gentofte",3325000,"2021-07-12","Alm. Salg",30227,3,"Ejerlejlighed",110,1957,{"$f":"IF(ISBLANK(VLOOKUP(A1097,Veje!A:B,2,FALSE)),INDEX(Veje!$D$2:$RT$652,MATCH(A1097,Veje!$A$2:$A$652,0),MATCH(B1097,Veje!$D$1:$RT$1,0)),VLOOKUP(A1097,Veje!A:B,2,FALSE))","v":"BJGF"},{"$f":"IFERROR(VLOOKUP(C1097,Medlemmer!A:C,3,FALSE),\"\")","v":""},{"$f":"IFERROR(VLOOKUP(C1097,Medlemmer!A:C,2,FALSE),\"\")","v":""},{"$f":"IFERROR(VLOOKUP(C1097,Tidligere_henvendelser!A:B,2,FALSE),\"\")","v":""}]
[{"$f":"ReplaceNumbers(C1098)","v":"Heslegårdsvej"},{"$f":"_xlfn.NUMBERVALUE(FindNumbers(C1098))","v":8},"Heslegårdsvej 8, 1. 1","2900 Hellerup",2950000,"2021-07-12","Alm. Salg",39333,2,"Ejerlejlighed",75,1992,{"$f":"IF(ISBLANK(VLOOKUP(A1098,Veje!A:B,2,FALSE)),INDEX(Veje!$D$2:$RT$652,MATCH(A1098,Veje!$A$2:$A$652,0),MATCH(B1098,Veje!$D$1:$RT$1,0)),VLOOKUP(A1098,Veje!A:B,2,FALSE))","v":"GSG"},{"$f":"IFERROR(VLOOKUP(C1098,Medlemmer!A:C,3,FALSE),\"\")","v":""},{"$f":"IFERROR(VLOOKUP(C1098,Medlemmer!A:C,2,FALSE),\"\")","v":""},{"$f":"IFERROR(VLOOKUP(C1098,Tidligere_henvendelser!A:B,2,FALSE),\"\")","v":""}]
[{"$f":"ReplaceNumbers(C1099)","v":"Hagens Alle"},{"$f":"_xlfn.NUMBERVALUE(FindNumbers(C1099))","v":21},"Hagens Alle 21","2900 Hellerup",10600000,"2021-07-12","Alm. Salg",65030,9,"Villa",163,1931,{"$f":"IF(ISBLANK(VLOOKUP(A1099,Veje!A:B,2,FALSE)),INDEX(Veje!$D$2:$RT$652,MATCH(A1099,Veje!$A$2:$A$652,0),MATCH(B1099,Veje!$D$1:$RT$1,0)),VLOOKUP(A1099,Veje!A:B,2,FALSE))","v":"DY"},{"$f":"IFERROR(VLOOKUP(C1099,Medlemmer!A:C,3,FALSE),\"\")","v":""},{"$f":"IFERROR(VLOOKUP(C1099,Medlemmer!A:C,2,FALSE),\"\")","v":""},{"$f":"IFERROR(VLOOKUP(C1099,Tidligere_henvendelser!A:B,2,FALSE),\"\")","v":""}]
[{"$f":"ReplaceNumbers(C1100)","v":"Smakkegårdsvej"},{"$f":"_xlfn.NUMBERVALUE(FindNumbers(C1100))","v":167},"Smakkegårdsvej 167, st. tv","2820 Gentofte",3950000,"2021-07-12","Alm. Salg",37980,4,"Ejerlejlighed",104,1946,{"$f":"IF(ISBLANK(VLOOKUP(A1100,Veje!A:B,2,FALSE)),INDEX(Veje!$D$2:$RT$652,MATCH(A1100,Veje!$A$2:$A$652,0),MATCH(B1100,Veje!$D$1:$RT$1,0)),VLOOKUP(A1100,Veje!A:B,2,FALSE))","v":"GSG"},{"$f":"IFERROR(VLOOKUP(C1100,Medlemmer!A:C,3,FALSE),\"\")","v":""},{"$f":"IFERROR(VLOOKUP(C1100,Medlemmer!A:C,2,FALSE),\"\")","v":""},{"$f":"IFERROR(VLOOKUP(C1100,Tidligere_henvendelser!A:B,2,FALSE),\"\")","v":""}]
[{"$f":"ReplaceNumbers(C1101)","v":"Ordrup Jagtvej"},{"$f":"_xlfn.NUMBERVALUE(FindNumbers(C1101))","v":179},"Ordrup Jagtvej 179, st. th","2920 Charlottenlund",700000,"2021-07-13","Alm. Salg",9589,2,"Ejerlejlighed",73,1935,{"$f":"IF(ISBLANK(VLOOKUP(A1101,Veje!A:B,2,FALSE)),INDEX(Veje!$D$2:$RT$652,MATCH(A1101,Veje!$A$2:$A$652,0),MATCH(B1101,Veje!$D$1:$RT$1,0)),VLOOKUP(A1101,Veje!A:B,2,FALSE))","v":"SKGF"},{"$f":"IFERROR(VLOOKUP(C1101,Medlemmer!A:C,3,FALSE),\"\")","v":""},{"$f":"IFERROR(VLOOKUP(C1101,Medlemmer!A:C,2,FALSE),\"\")","v":""},{"$f":"IFERROR(VLOOKUP(C1101,Tidligere_henvendelser!A:B,2,FALSE),\"\")","v":""}]
[{"$f":"ReplaceNumbers(C1102)","v":"Plantevej"},{"$f":"_xlfn.NUMBERVALUE(FindNumbers(C1102))","v":23},"Plantevej 23, 3. th","2870 Dyssegård ",900000,"2021-07-13","Alm. Salg",15789,2,"Ejerlejlighed",57,1938,{"$f":"IF(ISBLANK(VLOOKUP(A1102,Veje!A:B,2,FALSE)),INDEX(Veje!$D$2:$RT$652,MATCH(A1102,Veje!$A$2:$A$652,0),MATCH(B1102,Veje!$D$1:$RT$1,0)),VLOOKUP(A1102,Veje!A:B,2,FALSE))","v":"DY"},{"$f":"IFERROR(VLOOKUP(C1102,Medlemmer!A:C,3,FALSE),\"\")","v":""},{"$f":"IFERROR(VLOOKUP(C1102,Medlemmer!A:C,2,FALSE),\"\")","v":""},{"$f":"IFERROR(VLOOKUP(C1102,Tidligere_henvendelser!A:B,2,FALSE),\"\")","v":""}]
[{"$f":"ReplaceNumbers(C1103)","v":"Søbakken"},{"$f":"_xlfn.NUMBERVALUE(FindNumbers(C1103))","v":34},"Søbakken 34, 2. th","2920 Charlottenlund",4200000,"2021-07-13","Alm. Salg",63636,3,"Ejerlejlighed",66,1905,{"$f":"IF(ISBLANK(VLOOKUP(A1103,Veje!A:B,2,FALSE)),INDEX(Veje!$D$2:$RT$652,MATCH(A1103,Veje!$A$2:$A$652,0),MATCH(B1103,Veje!$D$1:$RT$1,0)),VLOOKUP(A1103,Veje!A:B,2,FALSE))","v":"SKGF"},{"$f":"IFERROR(VLOOKUP(C1103,Medlemmer!A:C,3,FALSE),\"\")","v":""},{"$f":"IFERROR(VLOOKUP(C1103,Medlemmer!A:C,2,FALSE),\"\")","v":""},{"$f":"IFERROR(VLOOKUP(C1103,Tidligere_henvendelser!A:B,2,FALSE),\"\")","v":""}]
[{"$f":"ReplaceNumbers(C1104)","v":"Ordrupvej"},{"$f":"_xlfn.NUMBERVALUE(FindNumbers(C1104))","v":16},"Ordrupvej 16, 2. th","2920 Charlottenlund",6100000,"2021-07-13","Alm. Salg",47286,5,"Ejerlejlighed",129,1936,{"$f":"IF(ISBLANK(VLOOKUP(A1104,Veje!A:B,2,FALSE)),INDEX(Veje!$D$2:$RT$652,MATCH(A1104,Veje!$A$2:$A$652,0),MATCH(B1104,Veje!$D$1:$RT$1,0)),VLOOKUP(A1104,Veje!A:B,2,FALSE))","v":"OCG"},{"$f":"IFERROR(VLOOKUP(C1104,Medlemmer!A:C,3,FALSE),\"\")","v":""},{"$f":"IFERROR(VLOOKUP(C1104,Medlemmer!A:C,2,FALSE),\"\")","v":""},{"$f":"IFERROR(VLOOKUP(C1104,Tidligere_henvendelser!A:B,2,FALSE),\"\")","v":""}]
[{"$f":"ReplaceNumbers(C1105)","v":"Bernstorffsvej"},{"$f":"_xlfn.NUMBERVALUE(FindNumbers(C1105))","v":45},"Bernstorffsvej 45","2900 Hellerup",12100000,"2021-07-13","Alm. Salg",37694,8,"Villa",321,1934,{"$f":"IF(ISBLANK(VLOOKUP(A1105,Veje!A:B,2,FALSE)),INDEX(Veje!$D$2:$RT$652,MATCH(A1105,Veje!$A$2:$A$652,0),MATCH(B1105,Veje!$D$1:$RT$1,0)),VLOOKUP(A1105,Veje!A:B,2,FALSE))","v":"GSG"},{"$f":"IFERROR(VLOOKUP(C1105,Medlemmer!A:C,3,FALSE),\"\")","v":""},{"$f":"IFERROR(VLOOKUP(C1105,Medlemmer!A:C,2,FALSE),\"\")","v":""},{"$f":"IFERROR(VLOOKUP(C1105,Tidligere_henvendelser!A:B,2,FALSE),\"\")","v":""}]
[{"$f":"ReplaceNumbers(C1106)","v":"Tuborgvej"},{"$f":"_xlfn.NUMBERVALUE(FindNumbers(C1106))","v":77},"Tuborgvej 77A","2900 Hellerup",8676000,"2021-07-13","Alm. Salg",62869,5,"Rækkehus",138,1931,{"$f":"IF(ISBLANK(VLOOKUP(A1106,Veje!A:B,2,FALSE)),INDEX(Veje!$D$2:$RT$652,MATCH(A1106,Veje!$A$2:$A$652,0),MATCH(B1106,Veje!$D$1:$RT$1,0)),VLOOKUP(A1106,Veje!A:B,2,FALSE))","v":"HMG"},{"$f":"IFERROR(VLOOKUP(C1106,Medlemmer!A:C,3,FALSE),\"\")","v":""},{"$f":"IFERROR(VLOOKUP(C1106,Medlemmer!A:C,2,FALSE),\"\")","v":""},{"$f":"IFERROR(VLOOKUP(C1106,Tidligere_henvendelser!A:B,2,FALSE),\"\")","v":""}]
[{"$f":"ReplaceNumbers(C1107)","v":"Tuborgvej"},{"$f":"_xlfn.NUMBERVALUE(FindNumbers(C1107))","v":77},"Tuborgvej 77B","2900 Hellerup",8676000,"2021-07-13","Alm. Salg",59020,4,"Rækkehus",147,1931,{"$f":"IF(ISBLANK(VLOOKUP(A1107,Veje!A:B,2,FALSE)),INDEX(Veje!$D$2:$RT$652,MATCH(A1107,Veje!$A$2:$A$652,0),MATCH(B1107,Veje!$D$1:$RT$1,0)),VLOOKUP(A1107,Veje!A:B,2,FALSE))","v":"HMG"},{"$f":"IFERROR(VLOOKUP(C1107,Medlemmer!A:C,3,FALSE),\"\")","v":""},{"$f":"IFERROR(VLOOKUP(C1107,Medlemmer!A:C,2,FALSE),\"\")","v":""},{"$f":"IFERROR(VLOOKUP(C1107,Tidligere_henvendelser!A:B,2,FALSE),\"\")","v":""}]
[{"$f":"ReplaceNumbers(C1108)","v":"Bernstorffsvej"},{"$f":"_xlfn.NUMBERVALUE(FindNumbers(C1108))","v":96},"Bernstorffsvej 96, st","2900 Hellerup",9800000,"2021-07-14","Alm. Salg",56321,5,"Ejerlejlighed",174,1897,{"$f":"IF(ISBLANK(VLOOKUP(A1108,Veje!A:B,2,FALSE)),INDEX(Veje!$D$2:$RT$652,MATCH(A1108,Veje!$A$2:$A$652,0),MATCH(B1108,Veje!$D$1:$RT$1,0)),VLOOKUP(A1108,Veje!A:B,2,FALSE))","v":"HMG"},{"$f":"IFERROR(VLOOKUP(C1108,Medlemmer!A:C,3,FALSE),\"\")","v":""},{"$f":"IFERROR(VLOOKUP(C1108,Medlemmer!A:C,2,FALSE),\"\")","v":""},{"$f":"IFERROR(VLOOKUP(C1108,Tidligere_henvendelser!A:B,2,FALSE),\"\")","v":""}]
[{"$f":"ReplaceNumbers(C1109)","v":"Mosehøjvej"},{"$f":"_xlfn.NUMBERVALUE(FindNumbers(C1109))","v":24},"Mosehøjvej 24","2920 Charlottenlund",11500000,"2021-07-14","Alm. Salg",60209,5,"Rækkehus",191,1936,{"$f":"IF(ISBLANK(VLOOKUP(A1109,Veje!A:B,2,FALSE)),INDEX(Veje!$D$2:$RT$652,MATCH(A1109,Veje!$A$2:$A$652,0),MATCH(B1109,Veje!$D$1:$RT$1,0)),VLOOKUP(A1109,Veje!A:B,2,FALSE))","v":"OCG"},{"$f":"IFERROR(VLOOKUP(C1109,Medlemmer!A:C,3,FALSE),\"\")","v":""},{"$f":"IFERROR(VLOOKUP(C1109,Medlemmer!A:C,2,FALSE),\"\")","v":""},{"$f":"IFERROR(VLOOKUP(C1109,Tidligere_henvendelser!A:B,2,FALSE),\"\")","v":""}]
[{"$f":"ReplaceNumbers(C1110)","v":"Kornvej"},{"$f":"_xlfn.NUMBERVALUE(FindNumbers(C1110))","v":6},"Kornvej 6","2920 Charlottenlund",23100000,"2021-07-14","Alm. Salg",100873,7,"Villa",229,1904,{"$f":"IF(ISBLANK(VLOOKUP(A1110,Veje!A:B,2,FALSE)),INDEX(Veje!$D$2:$RT$652,MATCH(A1110,Veje!$A$2:$A$652,0),MATCH(B1110,Veje!$D$1:$RT$1,0)),VLOOKUP(A1110,Veje!A:B,2,FALSE))","v":"OCG"},{"$f":"IFERROR(VLOOKUP(C1110,Medlemmer!A:C,3,FALSE),\"\")","v":""},{"$f":"IFERROR(VLOOKUP(C1110,Medlemmer!A:C,2,FALSE),\"\")","v":""},{"$f":"IFERROR(VLOOKUP(C1110,Tidligere_henvendelser!A:B,2,FALSE),\"\")","v":""}]
[{"$f":"ReplaceNumbers(C1111)","v":"Hjemmevej"},{"$f":"_xlfn.NUMBERVALUE(FindNumbers(C1111))","v":32},"Hjemmevej 32","2870 Dyssegård ",8670000,"2021-07-14","Alm. Salg",44690,7,"Villa",194,1937,{"$f":"IF(ISBLANK(VLOOKUP(A1111,Veje!A:B,2,FALSE)),INDEX(Veje!$D$2:$RT$652,MATCH(A1111,Veje!$A$2:$A$652,0),MATCH(B1111,Veje!$D$1:$RT$1,0)),VLOOKUP(A1111,Veje!A:B,2,FALSE))","v":"DY"},{"$f":"IFERROR(VLOOKUP(C1111,Medlemmer!A:C,3,FALSE),\"\")","v":""},{"$f":"IFERROR(VLOOKUP(C1111,Medlemmer!A:C,2,FALSE),\"\")","v":""},{"$f":"IFERROR(VLOOKUP(C1111,Tidligere_henvendelser!A:B,2,FALSE),\"\")","v":""}]
[{"$f":"ReplaceNumbers(C1112)","v":"Strandhøjsvej"},{"$f":"_xlfn.NUMBERVALUE(FindNumbers(C1112))","v":2},"Strandhøjsvej 2B","2920 Charlottenlund",20850000,"2021-07-14","Alm. Salg",93497,8,"Villa",223,1962,{"$f":"IF(ISBLANK(VLOOKUP(A1112,Veje!A:B,2,FALSE)),INDEX(Veje!$D$2:$RT$652,MATCH(A1112,Veje!$A$2:$A$652,0),MATCH(B1112,Veje!$D$1:$RT$1,0)),VLOOKUP(A1112,Veje!A:B,2,FALSE))","v":"SKGF"},{"$f":"IFERROR(VLOOKUP(C1112,Medlemmer!A:C,3,FALSE),\"\")","v":""},{"$f":"IFERROR(VLOOKUP(C1112,Medlemmer!A:C,2,FALSE),\"\")","v":""},{"$f":"IFERROR(VLOOKUP(C1112,Tidligere_henvendelser!A:B,2,FALSE),\"\")","v":""}]
[{"$f":"ReplaceNumbers(C1113)","v":"Ordruphøjvej"},{"$f":"_xlfn.NUMBERVALUE(FindNumbers(C1113))","v":24},"Ordruphøjvej 24, 1","2920 Charlottenlund",5000000,"2021-07-14","Alm. Salg",45871,4,"Ejerlejlighed",109,1934,{"$f":"IF(ISBLANK(VLOOKUP(A1113,Veje!A:B,2,FALSE)),INDEX(Veje!$D$2:$RT$652,MATCH(A1113,Veje!$A$2:$A$652,0),MATCH(B1113,Veje!$D$1:$RT$1,0)),VLOOKUP(A1113,Veje!A:B,2,FALSE))","v":"OCG"},{"$f":"IFERROR(VLOOKUP(C1113,Medlemmer!A:C,3,FALSE),\"\")","v":""},{"$f":"IFERROR(VLOOKUP(C1113,Medlemmer!A:C,2,FALSE),\"\")","v":""},{"$f":"IFERROR(VLOOKUP(C1113,Tidligere_henvendelser!A:B,2,FALSE),\"\")","v":""}]
[{"$f":"ReplaceNumbers(C1114)","v":"Ordruphøjvej"},{"$f":"_xlfn.NUMBERVALUE(FindNumbers(C1114))","v":24},"Ordruphøjvej 24, st","2920 Charlottenlund",5000000,"2021-07-14","Alm. Salg",40322,5,"Ejerlejlighed",124,1934,{"$f":"IF(ISBLANK(VLOOKUP(A1114,Veje!A:B,2,FALSE)),INDEX(Veje!$D$2:$RT$652,MATCH(A1114,Veje!$A$2:$A$652,0),MATCH(B1114,Veje!$D$1:$RT$1,0)),VLOOKUP(A1114,Veje!A:B,2,FALSE))","v":"OCG"},{"$f":"IFERROR(VLOOKUP(C1114,Medlemmer!A:C,3,FALSE),\"\")","v":""},{"$f":"IFERROR(VLOOKUP(C1114,Medlemmer!A:C,2,FALSE),\"\")","v":""},{"$f":"IFERROR(VLOOKUP(C1114,Tidligere_henvendelser!A:B,2,FALSE),\"\")","v":""}]
[{"$f":"ReplaceNumbers(C1115)","v":"Paul-Petersensvej"},{"$f":"_xlfn.NUMBERVALUE(FindNumbers(C1115))","v":15},"Paul-Petersensvej 15","2820 Gentofte",20675000,"2021-07-14","Alm. Salg",54551,11,"Villa",379,1923,{"$f":"IF(ISBLANK(VLOOKUP(A1115,Veje!A:B,2,FALSE)),INDEX(Veje!$D$2:$RT$652,MATCH(A1115,Veje!$A$2:$A$652,0),MATCH(B1115,Veje!$D$1:$RT$1,0)),VLOOKUP(A1115,Veje!A:B,2,FALSE))","v":"GSG"},{"$f":"IFERROR(VLOOKUP(C1115,Medlemmer!A:C,3,FALSE),\"\")","v":""},{"$f":"IFERROR(VLOOKUP(C1115,Medlemmer!A:C,2,FALSE),\"\")","v":""},{"$f":"IFERROR(VLOOKUP(C1115,Tidligere_henvendelser!A:B,2,FALSE),\"\")","v":""}]
[{"$f":"ReplaceNumbers(C1116)","v":"Snogegårdsvej"},{"$f":"_xlfn.NUMBERVALUE(FindNumbers(C1116))","v":8},"Snogegårdsvej 8H, st. th","2820 Gentofte",1350000,"2021-07-15","Alm. Salg",26470,2,"Ejerlejlighed",51,1940,{"$f":"IF(ISBLANK(VLOOKUP(A1116,Veje!A:B,2,FALSE)),INDEX(Veje!$D$2:$RT$652,MATCH(A1116,Veje!$A$2:$A$652,0),MATCH(B1116,Veje!$D$1:$RT$1,0)),VLOOKUP(A1116,Veje!A:B,2,FALSE))","v":"GSG"},{"$f":"IFERROR(VLOOKUP(C1116,Medlemmer!A:C,3,FALSE),\"\")","v":""},{"$f":"IFERROR(VLOOKUP(C1116,Medlemmer!A:C,2,FALSE),\"\")","v":""},{"$f":"IFERROR(VLOOKUP(C1116,Tidligere_henvendelser!A:B,2,FALSE),\"\")","v":""}]
[{"$f":"ReplaceNumbers(C1117)","v":"Bregnevej"},{"$f":"_xlfn.NUMBERVALUE(FindNumbers(C1117))","v":33},"Bregnevej 33","2820 Gentofte",9800000,"2021-07-15","Alm. Salg",74809,5,"Villa",131,1901,{"$f":"IF(ISBLANK(VLOOKUP(A1117,Veje!A:B,2,FALSE)),INDEX(Veje!$D$2:$RT$652,MATCH(A1117,Veje!$A$2:$A$652,0),MATCH(B1117,Veje!$D$1:$RT$1,0)),VLOOKUP(A1117,Veje!A:B,2,FALSE))","v":"GSG"},{"$f":"IFERROR(VLOOKUP(C1117,Medlemmer!A:C,3,FALSE),\"\")","v":""},{"$f":"IFERROR(VLOOKUP(C1117,Medlemmer!A:C,2,FALSE),\"\")","v":""},{"$f":"IFERROR(VLOOKUP(C1117,Tidligere_henvendelser!A:B,2,FALSE),\"\")","v":""}]
[{"$f":"ReplaceNumbers(C1118)","v":"Højsgårds Alle"},{"$f":"_xlfn.NUMBERVALUE(FindNumbers(C1118))","v":57},"Højsgårds Alle 57, st","2900 Hellerup",3995000,"2021-07-15","Alm. Salg",40765,3,"Ejerlejlighed",98,1930,{"$f":"IF(ISBLANK(VLOOKUP(A1118,Veje!A:B,2,FALSE)),INDEX(Veje!$D$2:$RT$652,MATCH(A1118,Veje!$A$2:$A$652,0),MATCH(B1118,Veje!$D$1:$RT$1,0)),VLOOKUP(A1118,Veje!A:B,2,FALSE))","v":"DY"},{"$f":"IFERROR(VLOOKUP(C1118,Medlemmer!A:C,3,FALSE),\"\")","v":""},{"$f":"IFERROR(VLOOKUP(C1118,Medlemmer!A:C,2,FALSE),\"\")","v":""},{"$f":"IFERROR(VLOOKUP(C1118,Tidligere_henvendelser!A:B,2,FALSE),\"\")","v":""}]
[{"$f":"ReplaceNumbers(C1119)","v":"Højsgårds Alle"},{"$f":"_xlfn.NUMBERVALUE(FindNumbers(C1119))","v":57},"Højsgårds Alle 57, 1","2900 Hellerup",3995000,"2021-07-15","Alm. Salg",40765,3,"Ejerlejlighed",98,1930,{"$f":"IF(ISBLANK(VLOOKUP(A1119,Veje!A:B,2,FALSE)),INDEX(Veje!$D$2:$RT$652,MATCH(A1119,Veje!$A$2:$A$652,0),MATCH(B1119,Veje!$D$1:$RT$1,0)),VLOOKUP(A1119,Veje!A:B,2,FALSE))","v":"DY"},{"$f":"IFERROR(VLOOKUP(C1119,Medlemmer!A:C,3,FALSE),\"\")","v":""},{"$f":"IFERROR(VLOOKUP(C1119,Medlemmer!A:C,2,FALSE),\"\")","v":""},{"$f":"IFERROR(VLOOKUP(C1119,Tidligere_henvendelser!A:B,2,FALSE),\"\")","v":""}]
[{"$f":"ReplaceNumbers(C1120)","v":"Øresundshøj"},{"$f":"_xlfn.NUMBERVALUE(FindNumbers(C1120))","v":10},"Øresundshøj 10A","2920 Charlottenlund",18400000,"2021-07-15","Alm. Salg",72727,5,"Villa",253,1950,{"$f":"IF(ISBLANK(VLOOKUP(A1120,Veje!A:B,2,FALSE)),INDEX(Veje!$D$2:$RT$652,MATCH(A1120,Veje!$A$2:$A$652,0),MATCH(B1120,Veje!$D$1:$RT$1,0)),VLOOKUP(A1120,Veje!A:B,2,FALSE))","v":"SKGF"},{"$f":"IFERROR(VLOOKUP(C1120,Medlemmer!A:C,3,FALSE),\"\")","v":""},{"$f":"IFERROR(VLOOKUP(C1120,Medlemmer!A:C,2,FALSE),\"\")","v":""},{"$f":"IFERROR(VLOOKUP(C1120,Tidligere_henvendelser!A:B,2,FALSE),\"\")","v":""}]
[{"$f":"ReplaceNumbers(C1121)","v":"Skovvej"},{"$f":"_xlfn.NUMBERVALUE(FindNumbers(C1121))","v":66},"Skovvej 66","2920 Charlottenlund",11000000,"2021-07-15","Alm. Salg",65088,6,"Villa",169,1968,{"$f":"IF(ISBLANK(VLOOKUP(A1121,Veje!A:B,2,FALSE)),INDEX(Veje!$D$2:$RT$652,MATCH(A1121,Veje!$A$2:$A$652,0),MATCH(B1121,Veje!$D$1:$RT$1,0)),VLOOKUP(A1121,Veje!A:B,2,FALSE))","v":"BJGF"},{"$f":"IFERROR(VLOOKUP(C1121,Medlemmer!A:C,3,FALSE),\"\")","v":""},{"$f":"IFERROR(VLOOKUP(C1121,Medlemmer!A:C,2,FALSE),\"\")","v":""},{"$f":"IFERROR(VLOOKUP(C1121,Tidligere_henvendelser!A:B,2,FALSE),\"\")","v":""}]
[{"$f":"ReplaceNumbers(C1122)","v":"Vesterbyvej"},{"$f":"_xlfn.NUMBERVALUE(FindNumbers(C1122))","v":9},"Vesterbyvej 9","2820 Gentofte",8600000,"2021-07-15","Alm. Salg",48044,7,"Villa",179,1938,{"$f":"IF(ISBLANK(VLOOKUP(A1122,Veje!A:B,2,FALSE)),INDEX(Veje!$D$2:$RT$652,MATCH(A1122,Veje!$A$2:$A$652,0),MATCH(B1122,Veje!$D$1:$RT$1,0)),VLOOKUP(A1122,Veje!A:B,2,FALSE))","v":"GSG"},{"$f":"IFERROR(VLOOKUP(C1122,Medlemmer!A:C,3,FALSE),\"\")","v":""},{"$f":"IFERROR(VLOOKUP(C1122,Medlemmer!A:C,2,FALSE),\"\")","v":""},{"$f":"IFERROR(VLOOKUP(C1122,Tidligere_henvendelser!A:B,2,FALSE),\"\")","v":""}]
[{"$f":"ReplaceNumbers(C1123)","v":"Skjoldagervej"},{"$f":"_xlfn.NUMBERVALUE(FindNumbers(C1123))","v":86},"Skjoldagervej 86, 3. tv","2820 Gentofte",2350000,"2021-07-16","Alm. Salg",42727,2,"Ejerlejlighed",55,1953,{"$f":"IF(ISBLANK(VLOOKUP(A1123,Veje!A:B,2,FALSE)),INDEX(Veje!$D$2:$RT$652,MATCH(A1123,Veje!$A$2:$A$652,0),MATCH(B1123,Veje!$D$1:$RT$1,0)),VLOOKUP(A1123,Veje!A:B,2,FALSE))","v":"BJGF"},{"$f":"IFERROR(VLOOKUP(C1123,Medlemmer!A:C,3,FALSE),\"\")","v":""},{"$f":"IFERROR(VLOOKUP(C1123,Medlemmer!A:C,2,FALSE),\"\")","v":""},{"$f":"IFERROR(VLOOKUP(C1123,Tidligere_henvendelser!A:B,2,FALSE),\"\")","v":""}]
[{"$f":"ReplaceNumbers(C1124)","v":"Rakelsvej"},{"$f":"_xlfn.NUMBERVALUE(FindNumbers(C1124))","v":3},"Rakelsvej 3, 3. tv","2900 Hellerup",6005000,"2021-07-17","Alm. Salg",63210,4,"Ejerlejlighed",95,1929,{"$f":"IF(ISBLANK(VLOOKUP(A1124,Veje!A:B,2,FALSE)),INDEX(Veje!$D$2:$RT$652,MATCH(A1124,Veje!$A$2:$A$652,0),MATCH(B1124,Veje!$D$1:$RT$1,0)),VLOOKUP(A1124,Veje!A:B,2,FALSE))","v":"HMG"},{"$f":"IFERROR(VLOOKUP(C1124,Medlemmer!A:C,3,FALSE),\"\")","v":""},{"$f":"IFERROR(VLOOKUP(C1124,Medlemmer!A:C,2,FALSE),\"\")","v":""},{"$f":"IFERROR(VLOOKUP(C1124,Tidligere_henvendelser!A:B,2,FALSE),\"\")","v":""}]
[{"$f":"ReplaceNumbers(C1125)","v":"Duntzfelts Alle"},{"$f":"_xlfn.NUMBERVALUE(FindNumbers(C1125))","v":7},"Duntzfelts Alle 7A","2900 Hellerup",19800000,"2021-07-18","Alm. Salg",94285,5,"Villa",210,1951,{"$f":"IF(ISBLANK(VLOOKUP(A1125,Veje!A:B,2,FALSE)),INDEX(Veje!$D$2:$RT$652,MATCH(A1125,Veje!$A$2:$A$652,0),MATCH(B1125,Veje!$D$1:$RT$1,0)),VLOOKUP(A1125,Veje!A:B,2,FALSE))","v":"HMG"},{"$f":"IFERROR(VLOOKUP(C1125,Medlemmer!A:C,3,FALSE),\"\")","v":""},{"$f":"IFERROR(VLOOKUP(C1125,Medlemmer!A:C,2,FALSE),\"\")","v":""},{"$f":"IFERROR(VLOOKUP(C1125,Tidligere_henvendelser!A:B,2,FALSE),\"\")","v":""}]
[{"$f":"ReplaceNumbers(C1126)","v":"Emilievej"},{"$f":"_xlfn.NUMBERVALUE(FindNumbers(C1126))","v":10},"Emilievej 10","2920 Charlottenlund",18300000,"2021-07-19","Alm. Salg",76250,6,"Villa",240,1896,{"$f":"IF(ISBLANK(VLOOKUP(A1126,Veje!A:B,2,FALSE)),INDEX(Veje!$D$2:$RT$652,MATCH(A1126,Veje!$A$2:$A$652,0),MATCH(B1126,Veje!$D$1:$RT$1,0)),VLOOKUP(A1126,Veje!A:B,2,FALSE))","v":"OCG"},{"$f":"IFERROR(VLOOKUP(C1126,Medlemmer!A:C,3,FALSE),\"\")","v":""},{"$f":"IFERROR(VLOOKUP(C1126,Medlemmer!A:C,2,FALSE),\"\")","v":""},{"$f":"IFERROR(VLOOKUP(C1126,Tidligere_henvendelser!A:B,2,FALSE),\"\")","v":""}]
[{"$f":"ReplaceNumbers(C1127)","v":"Ordrupvej"},{"$f":"_xlfn.NUMBERVALUE(FindNumbers(C1127))","v":132},"Ordrupvej 132F, st. mf","2920 Charlottenlund",1400000,"2021-07-19","Alm. Salg",30434,1,"Ejerlejlighed",46,1953,{"$f":"IF(ISBLANK(VLOOKUP(A1127,Veje!A:B,2,FALSE)),INDEX(Veje!$D$2:$RT$652,MATCH(A1127,Veje!$A$2:$A$652,0),MATCH(B1127,Veje!$D$1:$RT$1,0)),VLOOKUP(A1127,Veje!A:B,2,FALSE))","v":"OCG"},{"$f":"IFERROR(VLOOKUP(C1127,Medlemmer!A:C,3,FALSE),\"\")","v":""},{"$f":"IFERROR(VLOOKUP(C1127,Medlemmer!A:C,2,FALSE),\"\")","v":""},{"$f":"IFERROR(VLOOKUP(C1127,Tidligere_henvendelser!A:B,2,FALSE),\"\")","v":""}]
[{"$f":"ReplaceNumbers(C1128)","v":"Hellerupvej"},{"$f":"_xlfn.NUMBERVALUE(FindNumbers(C1128))","v":61},"Hellerupvej 61, st","2900 Hellerup",15350000,"2021-07-19","Alm. Salg",139545,2,"Ejerlejlighed",110,1904,{"$f":"IF(ISBLANK(VLOOKUP(A1128,Veje!A:B,2,FALSE)),INDEX(Veje!$D$2:$RT$652,MATCH(A1128,Veje!$A$2:$A$652,0),MATCH(B1128,Veje!$D$1:$RT$1,0)),VLOOKUP(A1128,Veje!A:B,2,FALSE))","v":"HMG"},{"$f":"IFERROR(VLOOKUP(C1128,Medlemmer!A:C,3,FALSE),\"\")","v":""},{"$f":"IFERROR(VLOOKUP(C1128,Medlemmer!A:C,2,FALSE),\"\")","v":""},{"$f":"IFERROR(VLOOKUP(C1128,Tidligere_henvendelser!A:B,2,FALSE),\"\")","v":""}]
[{"$f":"ReplaceNumbers(C1129)","v":"Hellerupvej"},{"$f":"_xlfn.NUMBERVALUE(FindNumbers(C1129))","v":61},"Hellerupvej 61, 1","2900 Hellerup",15350000,"2021-07-19","Alm. Salg",99675,7,"Ejerlejlighed",154,1904,{"$f":"IF(ISBLANK(VLOOKUP(A1129,Veje!A:B,2,FALSE)),INDEX(Veje!$D$2:$RT$652,MATCH(A1129,Veje!$A$2:$A$652,0),MATCH(B1129,Veje!$D$1:$RT$1,0)),VLOOKUP(A1129,Veje!A:B,2,FALSE))","v":"HMG"},{"$f":"IFERROR(VLOOKUP(C1129,Medlemmer!A:C,3,FALSE),\"\")","v":""},{"$f":"IFERROR(VLOOKUP(C1129,Medlemmer!A:C,2,FALSE),\"\")","v":""},{"$f":"IFERROR(VLOOKUP(C1129,Tidligere_henvendelser!A:B,2,FALSE),\"\")","v":""}]
[{"$f":"ReplaceNumbers(C1130)","v":"Sømarksvej"},{"$f":"_xlfn.NUMBERVALUE(FindNumbers(C1130))","v":18},"Sømarksvej 18","2900 Hellerup",14200000,"2021-07-20","Alm. Salg",101428,5,"Villa",140,1922,{"$f":"IF(ISBLANK(VLOOKUP(A1130,Veje!A:B,2,FALSE)),INDEX(Veje!$D$2:$RT$652,MATCH(A1130,Veje!$A$2:$A$652,0),MATCH(B1130,Veje!$D$1:$RT$1,0)),VLOOKUP(A1130,Veje!A:B,2,FALSE))","v":"HMG"},{"$f":"IFERROR(VLOOKUP(C1130,Medlemmer!A:C,3,FALSE),\"\")","v":""},{"$f":"IFERROR(VLOOKUP(C1130,Medlemmer!A:C,2,FALSE),\"\")","v":""},{"$f":"IFERROR(VLOOKUP(C1130,Tidligere_henvendelser!A:B,2,FALSE),\"\")","v":""}]
[{"$f":"ReplaceNumbers(C1131)","v":"Skjoldagervej"},{"$f":"_xlfn.NUMBERVALUE(FindNumbers(C1131))","v":86},"Skjoldagervej 86, st. tv","2820 Gentofte",2800000,"2021-07-20","Alm. Salg",38888,3,"Ejerlejlighed",72,1953,{"$f":"IF(ISBLANK(VLOOKUP(A1131,Veje!A:B,2,FALSE)),INDEX(Veje!$D$2:$RT$652,MATCH(A1131,Veje!$A$2:$A$652,0),MATCH(B1131,Veje!$D$1:$RT$1,0)),VLOOKUP(A1131,Veje!A:B,2,FALSE))","v":"BJGF"},{"$f":"IFERROR(VLOOKUP(C1131,Medlemmer!A:C,3,FALSE),\"\")","v":""},{"$f":"IFERROR(VLOOKUP(C1131,Medlemmer!A:C,2,FALSE),\"\")","v":""},{"$f":"IFERROR(VLOOKUP(C1131,Tidligere_henvendelser!A:B,2,FALSE),\"\")","v":""}]
[{"$f":"ReplaceNumbers(C1132)","v":"Høyrups Alle"},{"$f":"_xlfn.NUMBERVALUE(FindNumbers(C1132))","v":17},"Høyrups Alle 17","2900 Hellerup",26800000,"2021-07-20","Alm. Salg",135353,7,"Villa",198,1908,{"$f":"IF(ISBLANK(VLOOKUP(A1132,Veje!A:B,2,FALSE)),INDEX(Veje!$D$2:$RT$652,MATCH(A1132,Veje!$A$2:$A$652,0),MATCH(B1132,Veje!$D$1:$RT$1,0)),VLOOKUP(A1132,Veje!A:B,2,FALSE))","v":"HMG"},{"$f":"IFERROR(VLOOKUP(C1132,Medlemmer!A:C,3,FALSE),\"\")","v":""},{"$f":"IFERROR(VLOOKUP(C1132,Medlemmer!A:C,2,FALSE),\"\")","v":""},{"$f":"IFERROR(VLOOKUP(C1132,Tidligere_henvendelser!A:B,2,FALSE),\"\")","v":""}]
[{"$f":"ReplaceNumbers(C1133)","v":"Dalstrøget"},{"$f":"_xlfn.NUMBERVALUE(FindNumbers(C1133))","v":5},"Dalstrøget 5","2870 Dyssegård ",5500000,"2021-07-20","Alm. Salg",39568,6,"Villa",139,1927,{"$f":"IF(ISBLANK(VLOOKUP(A1133,Veje!A:B,2,FALSE)),INDEX(Veje!$D$2:$RT$652,MATCH(A1133,Veje!$A$2:$A$652,0),MATCH(B1133,Veje!$D$1:$RT$1,0)),VLOOKUP(A1133,Veje!A:B,2,FALSE))","v":"DY"},{"$f":"IFERROR(VLOOKUP(C1133,Medlemmer!A:C,3,FALSE),\"\")","v":""},{"$f":"IFERROR(VLOOKUP(C1133,Medlemmer!A:C,2,FALSE),\"\")","v":""},{"$f":"IFERROR(VLOOKUP(C1133,Tidligere_henvendelser!A:B,2,FALSE),\"\")","v":""}]
[{"$f":"ReplaceNumbers(C1134)","v":"Ericavej"},{"$f":"_xlfn.NUMBERVALUE(FindNumbers(C1134))","v":147},"Ericavej 147, 2. 31","2820 Gentofte",1795000,"2021-07-20","Alm. Salg",29426,2,"Ejerlejlighed",61,1968,{"$f":"IF(ISBLANK(VLOOKUP(A1134,Veje!A:B,2,FALSE)),INDEX(Veje!$D$2:$RT$652,MATCH(A1134,Veje!$A$2:$A$652,0),MATCH(B1134,Veje!$D$1:$RT$1,0)),VLOOKUP(A1134,Veje!A:B,2,FALSE))","v":"GSG"},{"$f":"IFERROR(VLOOKUP(C1134,Medlemmer!A:C,3,FALSE),\"\")","v":""},{"$f":"IFERROR(VLOOKUP(C1134,Medlemmer!A:C,2,FALSE),\"\")","v":""},{"$f":"IFERROR(VLOOKUP(C1134,Tidligere_henvendelser!A:B,2,FALSE),\"\")","v":""}]
[{"$f":"ReplaceNumbers(C1135)","v":"Henningsens Alle"},{"$f":"_xlfn.NUMBERVALUE(FindNumbers(C1135))","v":68},"Henningsens Alle 68","2900 Hellerup",23800000,"2021-07-20","Alm. Salg",59203,9,"Villa",402,1918,{"$f":"IF(ISBLANK(VLOOKUP(A1135,Veje!A:B,2,FALSE)),INDEX(Veje!$D$2:$RT$652,MATCH(A1135,Veje!$A$2:$A$652,0),MATCH(B1135,Veje!$D$1:$RT$1,0)),VLOOKUP(A1135,Veje!A:B,2,FALSE))","v":"HMG"},{"$f":"IFERROR(VLOOKUP(C1135,Medlemmer!A:C,3,FALSE),\"\")","v":""},{"$f":"IFERROR(VLOOKUP(C1135,Medlemmer!A:C,2,FALSE),\"\")","v":""},{"$f":"IFERROR(VLOOKUP(C1135,Tidligere_henvendelser!A:B,2,FALSE),\"\")","v":""}]
[{"$f":"ReplaceNumbers(C1136)","v":"Slotsalleen"},{"$f":"_xlfn.NUMBERVALUE(FindNumbers(C1136))","v":3},"Slotsalleen 3","2930 Klampenborg",26000000,"2021-07-21","Alm. Salg",120370,6,"Villa",216,1900,{"$f":"IF(ISBLANK(VLOOKUP(A1136,Veje!A:B,2,FALSE)),INDEX(Veje!$D$2:$RT$652,MATCH(A1136,Veje!$A$2:$A$652,0),MATCH(B1136,Veje!$D$1:$RT$1,0)),VLOOKUP(A1136,Veje!A:B,2,FALSE))","v":"SKGF"},{"$f":"IFERROR(VLOOKUP(C1136,Medlemmer!A:C,3,FALSE),\"\")","v":""},{"$f":"IFERROR(VLOOKUP(C1136,Medlemmer!A:C,2,FALSE),\"\")","v":""},{"$f":"IFERROR(VLOOKUP(C1136,Tidligere_henvendelser!A:B,2,FALSE),\"\")","v":""}]
[{"$f":"ReplaceNumbers(C1137)","v":"Vangede Bygade"},{"$f":"_xlfn.NUMBERVALUE(FindNumbers(C1137))","v":107},"Vangede Bygade 107, st. th","2820 Gentofte",1825000,"2021-07-21","Alm. Salg",32589,2,"Ejerlejlighed",56,1958,{"$f":"IF(ISBLANK(VLOOKUP(A1137,Veje!A:B,2,FALSE)),INDEX(Veje!$D$2:$RT$652,MATCH(A1137,Veje!$A$2:$A$652,0),MATCH(B1137,Veje!$D$1:$RT$1,0)),VLOOKUP(A1137,Veje!A:B,2,FALSE))","v":"GSG"},{"$f":"IFERROR(VLOOKUP(C1137,Medlemmer!A:C,3,FALSE),\"\")","v":""},{"$f":"IFERROR(VLOOKUP(C1137,Medlemmer!A:C,2,FALSE),\"\")","v":""},{"$f":"IFERROR(VLOOKUP(C1137,Tidligere_henvendelser!A:B,2,FALSE),\"\")","v":""}]
[{"$f":"ReplaceNumbers(C1138)","v":"Helsebakken"},{"$f":"_xlfn.NUMBERVALUE(FindNumbers(C1138))","v":13},"Helsebakken 13","2900 Hellerup",8695000,"2021-07-21","Alm. Salg",55737,7,"Villa",156,1997,{"$f":"IF(ISBLANK(VLOOKUP(A1138,Veje!A:B,2,FALSE)),INDEX(Veje!$D$2:$RT$652,MATCH(A1138,Veje!$A$2:$A$652,0),MATCH(B1138,Veje!$D$1:$RT$1,0)),VLOOKUP(A1138,Veje!A:B,2,FALSE))","v":"GSG"},{"$f":"IFERROR(VLOOKUP(C1138,Medlemmer!A:C,3,FALSE),\"\")","v":""},{"$f":"IFERROR(VLOOKUP(C1138,Medlemmer!A:C,2,FALSE),\"\")","v":""},{"$f":"IFERROR(VLOOKUP(C1138,Tidligere_henvendelser!A:B,2,FALSE),\"\")","v":""}]
[{"$f":"ReplaceNumbers(C1139)","v":"Baunegårdsvej"},{"$f":"_xlfn.NUMBERVALUE(FindNumbers(C1139))","v":67},"Baunegårdsvej 67C","2900 Hellerup",9000000,"2021-07-21","Alm. Salg",75000,4,"Rækkehus",120,1931,{"$f":"IF(ISBLANK(VLOOKUP(A1139,Veje!A:B,2,FALSE)),INDEX(Veje!$D$2:$RT$652,MATCH(A1139,Veje!$A$2:$A$652,0),MATCH(B1139,Veje!$D$1:$RT$1,0)),VLOOKUP(A1139,Veje!A:B,2,FALSE))","v":"GSG"},{"$f":"IFERROR(VLOOKUP(C1139,Medlemmer!A:C,3,FALSE),\"\")","v":""},{"$f":"IFERROR(VLOOKUP(C1139,Medlemmer!A:C,2,FALSE),\"\")","v":""},{"$f":"IFERROR(VLOOKUP(C1139,Tidligere_henvendelser!A:B,2,FALSE),\"\")","v":""}]
[{"$f":"ReplaceNumbers(C1140)","v":"Edlevej"},{"$f":"_xlfn.NUMBERVALUE(FindNumbers(C1140))","v":10},"Edlevej 10","2900 Hellerup",7945000,"2021-07-21","Alm. Salg",37833,10,"Villa",180,1902,{"$f":"IF(ISBLANK(VLOOKUP(A1140,Veje!A:B,2,FALSE)),INDEX(Veje!$D$2:$RT$652,MATCH(A1140,Veje!$A$2:$A$652,0),MATCH(B1140,Veje!$D$1:$RT$1,0)),VLOOKUP(A1140,Veje!A:B,2,FALSE))","v":"HMG"},{"$f":"IFERROR(VLOOKUP(C1140,Medlemmer!A:C,3,FALSE),\"\")","v":""},{"$f":"IFERROR(VLOOKUP(C1140,Medlemmer!A:C,2,FALSE),\"\")","v":""},{"$f":"IFERROR(VLOOKUP(C1140,Tidligere_henvendelser!A:B,2,FALSE),\"\")","v":""}]
[{"$f":"ReplaceNumbers(C1141)","v":"Sløjfen"},{"$f":"_xlfn.NUMBERVALUE(FindNumbers(C1141))","v":28},"Sløjfen 28","2820 Gentofte",4500000,"2021-07-22","Alm. Salg",38135,5,"Rækkehus",118,1956,{"$f":"IF(ISBLANK(VLOOKUP(A1141,Veje!A:B,2,FALSE)),INDEX(Veje!$D$2:$RT$652,MATCH(A1141,Veje!$A$2:$A$652,0),MATCH(B1141,Veje!$D$1:$RT$1,0)),VLOOKUP(A1141,Veje!A:B,2,FALSE))","v":"GSG"},{"$f":"IFERROR(VLOOKUP(C1141,Medlemmer!A:C,3,FALSE),\"\")","v":""},{"$f":"IFERROR(VLOOKUP(C1141,Medlemmer!A:C,2,FALSE),\"\")","v":""},{"$f":"IFERROR(VLOOKUP(C1141,Tidligere_henvendelser!A:B,2,FALSE),\"\")","v":""}]
[{"$f":"ReplaceNumbers(C1142)","v":"Jægersborg Alle"},{"$f":"_xlfn.NUMBERVALUE(FindNumbers(C1142))","v":233},"Jægersborg Alle 233, 3. th","2820 Gentofte",3600000,"2021-07-24","Alm. Salg",32727,3,"Ejerlejlighed",110,1958,{"$f":"IF(ISBLANK(VLOOKUP(A1142,Veje!A:B,2,FALSE)),INDEX(Veje!$D$2:$RT$652,MATCH(A1142,Veje!$A$2:$A$652,0),MATCH(B1142,Veje!$D$1:$RT$1,0)),VLOOKUP(A1142,Veje!A:B,2,FALSE))","v":"BJGF"},{"$f":"IFERROR(VLOOKUP(C1142,Medlemmer!A:C,3,FALSE),\"\")","v":""},{"$f":"IFERROR(VLOOKUP(C1142,Medlemmer!A:C,2,FALSE),\"\")","v":""},{"$f":"IFERROR(VLOOKUP(C1142,Tidligere_henvendelser!A:B,2,FALSE),\"\")","v":""}]
[{"$f":"ReplaceNumbers(C1143)","v":"Tranegårdsvej"},{"$f":"_xlfn.NUMBERVALUE(FindNumbers(C1143))","v":61},"Tranegårdsvej 61, 2. tv","2900 Hellerup",4400000,"2021-07-25","Alm. Salg",38938,4,"Ejerlejlighed",113,1931,{"$f":"IF(ISBLANK(VLOOKUP(A1143,Veje!A:B,2,FALSE)),INDEX(Veje!$D$2:$RT$652,MATCH(A1143,Veje!$A$2:$A$652,0),MATCH(B1143,Veje!$D$1:$RT$1,0)),VLOOKUP(A1143,Veje!A:B,2,FALSE))","v":"HMG"},{"$f":"IFERROR(VLOOKUP(C1143,Medlemmer!A:C,3,FALSE),\"\")","v":""},{"$f":"IFERROR(VLOOKUP(C1143,Medlemmer!A:C,2,FALSE),\"\")","v":""},{"$f":"IFERROR(VLOOKUP(C1143,Tidligere_henvendelser!A:B,2,FALSE),\"\")","v":""}]
[{"$f":"ReplaceNumbers(C1144)","v":"Holmegårdsvej"},{"$f":"_xlfn.NUMBERVALUE(FindNumbers(C1144))","v":1},"Holmegårdsvej 1E, 1. th","2920 Charlottenlund",3400001,"2021-07-25","Alm. Salg",43589,3,"Ejerlejlighed",78,1939,{"$f":"IF(ISBLANK(VLOOKUP(A1144,Veje!A:B,2,FALSE)),INDEX(Veje!$D$2:$RT$652,MATCH(A1144,Veje!$A$2:$A$652,0),MATCH(B1144,Veje!$D$1:$RT$1,0)),VLOOKUP(A1144,Veje!A:B,2,FALSE))","v":"OCG"},{"$f":"IFERROR(VLOOKUP(C1144,Medlemmer!A:C,3,FALSE),\"\")","v":""},{"$f":"IFERROR(VLOOKUP(C1144,Medlemmer!A:C,2,FALSE),\"\")","v":""},{"$f":"IFERROR(VLOOKUP(C1144,Tidligere_henvendelser!A:B,2,FALSE),\"\")","v":""}]
[{"$f":"ReplaceNumbers(C1145)","v":"Gentoftegade"},{"$f":"_xlfn.NUMBERVALUE(FindNumbers(C1145))","v":36},"Gentoftegade 36, 3. mf","2820 Gentofte",2160000,"2021-07-26","Alm. Salg",45957,1,"Ejerlejlighed",47,1958,{"$f":"IF(ISBLANK(VLOOKUP(A1145,Veje!A:B,2,FALSE)),INDEX(Veje!$D$2:$RT$652,MATCH(A1145,Veje!$A$2:$A$652,0),MATCH(B1145,Veje!$D$1:$RT$1,0)),VLOOKUP(A1145,Veje!A:B,2,FALSE))","v":"GSG"},{"$f":"IFERROR(VLOOKUP(C1145,Medlemmer!A:C,3,FALSE),\"\")","v":""},{"$f":"IFERROR(VLOOKUP(C1145,Medlemmer!A:C,2,FALSE),\"\")","v":""},{"$f":"IFERROR(VLOOKUP(C1145,Tidligere_henvendelser!A:B,2,FALSE),\"\")","v":""}]
[{"$f":"ReplaceNumbers(C1146)","v":"Rådhusvej"},{"$f":"_xlfn.NUMBERVALUE(FindNumbers(C1146))","v":18},"Rådhusvej 18, 3. th","2920 Charlottenlund",2660000,"2021-07-26","Alm. Salg",41562,2,"Ejerlejlighed",64,1934,{"$f":"IF(ISBLANK(VLOOKUP(A1146,Veje!A:B,2,FALSE)),INDEX(Veje!$D$2:$RT$652,MATCH(A1146,Veje!$A$2:$A$652,0),MATCH(B1146,Veje!$D$1:$RT$1,0)),VLOOKUP(A1146,Veje!A:B,2,FALSE))","v":"OCG"},{"$f":"IFERROR(VLOOKUP(C1146,Medlemmer!A:C,3,FALSE),\"\")","v":""},{"$f":"IFERROR(VLOOKUP(C1146,Medlemmer!A:C,2,FALSE),\"\")","v":""},{"$f":"IFERROR(VLOOKUP(C1146,Tidligere_henvendelser!A:B,2,FALSE),\"\")","v":""}]
[{"$f":"ReplaceNumbers(C1147)","v":"Strandvejen"},{"$f":"_xlfn.NUMBERVALUE(FindNumbers(C1147))","v":110},"Strandvejen 110, 4. th","2900 Hellerup",12000000,"2021-07-26","Alm. Salg",64864,6,"Ejerlejlighed",185,1902,{"$f":"IF(ISBLANK(VLOOKUP(A1147,Veje!A:B,2,FALSE)),INDEX(Veje!$D$2:$RT$652,MATCH(A1147,Veje!$A$2:$A$652,0),MATCH(B1147,Veje!$D$1:$RT$1,0)),VLOOKUP(A1147,Veje!A:B,2,FALSE))","v":"HMG"},{"$f":"IFERROR(VLOOKUP(C1147,Medlemmer!A:C,3,FALSE),\"\")","v":""},{"$f":"IFERROR(VLOOKUP(C1147,Medlemmer!A:C,2,FALSE),\"\")","v":""},{"$f":"IFERROR(VLOOKUP(C1147,Tidligere_henvendelser!A:B,2,FALSE),\"\")","v":""}]
[{"$f":"ReplaceNumbers(C1148)","v":"Strandvejen"},{"$f":"_xlfn.NUMBERVALUE(FindNumbers(C1148))","v":128},"Strandvejen 128B","2900 Hellerup",20000000,"2021-07-26","Alm. Salg",76335,6,"Villa",262,2002,{"$f":"IF(ISBLANK(VLOOKUP(A1148,Veje!A:B,2,FALSE)),INDEX(Veje!$D$2:$RT$652,MATCH(A1148,Veje!$A$2:$A$652,0),MATCH(B1148,Veje!$D$1:$RT$1,0)),VLOOKUP(A1148,Veje!A:B,2,FALSE))","v":"HMG"},{"$f":"IFERROR(VLOOKUP(C1148,Medlemmer!A:C,3,FALSE),\"\")","v":""},{"$f":"IFERROR(VLOOKUP(C1148,Medlemmer!A:C,2,FALSE),\"\")","v":""},{"$f":"IFERROR(VLOOKUP(C1148,Tidligere_henvendelser!A:B,2,FALSE),\"\")","v":""}]
[{"$f":"ReplaceNumbers(C1149)","v":"Broholms Alle"},{"$f":"_xlfn.NUMBERVALUE(FindNumbers(C1149))","v":12},"Broholms Alle 12A, st. th","2920 Charlottenlund",6395000,"2021-07-26","Alm. Salg",50753,5,"Ejerlejlighed",126,1936,{"$f":"IF(ISBLANK(VLOOKUP(A1149,Veje!A:B,2,FALSE)),INDEX(Veje!$D$2:$RT$652,MATCH(A1149,Veje!$A$2:$A$652,0),MATCH(B1149,Veje!$D$1:$RT$1,0)),VLOOKUP(A1149,Veje!A:B,2,FALSE))","v":"SKGF"},{"$f":"IFERROR(VLOOKUP(C1149,Medlemmer!A:C,3,FALSE),\"\")","v":""},{"$f":"IFERROR(VLOOKUP(C1149,Medlemmer!A:C,2,FALSE),\"\")","v":""},{"$f":"IFERROR(VLOOKUP(C1149,Tidligere_henvendelser!A:B,2,FALSE),\"\")","v":""}]
[{"$f":"ReplaceNumbers(C1150)","v":"Højsgårds Alle"},{"$f":"_xlfn.NUMBERVALUE(FindNumbers(C1150))","v":22},"Højsgårds Alle 22","2900 Hellerup",8060000,"2021-07-27","Alm. Salg",72612,5,"Villa",111,1936,{"$f":"IF(ISBLANK(VLOOKUP(A1150,Veje!A:B,2,FALSE)),INDEX(Veje!$D$2:$RT$652,MATCH(A1150,Veje!$A$2:$A$652,0),MATCH(B1150,Veje!$D$1:$RT$1,0)),VLOOKUP(A1150,Veje!A:B,2,FALSE))","v":"DY"},{"$f":"IFERROR(VLOOKUP(C1150,Medlemmer!A:C,3,FALSE),\"\")","v":""},{"$f":"IFERROR(VLOOKUP(C1150,Medlemmer!A:C,2,FALSE),\"\")","v":""},{"$f":"IFERROR(VLOOKUP(C1150,Tidligere_henvendelser!A:B,2,FALSE),\"\")","v":""}]
[{"$f":"ReplaceNumbers(C1151)","v":"Strandvejen"},{"$f":"_xlfn.NUMBERVALUE(FindNumbers(C1151))","v":417},"Strandvejen 417E, 2. 2","2930 Klampenborg",1600000,"2021-07-27","Alm. Salg",61538,1,"Ejerlejlighed",26,1959,{"$f":"IF(ISBLANK(VLOOKUP(A1151,Veje!A:B,2,FALSE)),INDEX(Veje!$D$2:$RT$652,MATCH(A1151,Veje!$A$2:$A$652,0),MATCH(B1151,Veje!$D$1:$RT$1,0)),VLOOKUP(A1151,Veje!A:B,2,FALSE))","v":"SKGF"},{"$f":"IFERROR(VLOOKUP(C1151,Medlemmer!A:C,3,FALSE),\"\")","v":""},{"$f":"IFERROR(VLOOKUP(C1151,Medlemmer!A:C,2,FALSE),\"\")","v":""},{"$f":"IFERROR(VLOOKUP(C1151,Tidligere_henvendelser!A:B,2,FALSE),\"\")","v":""}]
[{"$f":"ReplaceNumbers(C1152)","v":"Aftenbakken"},{"$f":"_xlfn.NUMBERVALUE(FindNumbers(C1152))","v":13},"Aftenbakken 13","2870 Dyssegård ",9000000,"2021-07-27","Alm. Salg",61224,5,"Villa",147,1934,{"$f":"IF(ISBLANK(VLOOKUP(A1152,Veje!A:B,2,FALSE)),INDEX(Veje!$D$2:$RT$652,MATCH(A1152,Veje!$A$2:$A$652,0),MATCH(B1152,Veje!$D$1:$RT$1,0)),VLOOKUP(A1152,Veje!A:B,2,FALSE))","v":"DY"},{"$f":"IFERROR(VLOOKUP(C1152,Medlemmer!A:C,3,FALSE),\"\")","v":""},{"$f":"IFERROR(VLOOKUP(C1152,Medlemmer!A:C,2,FALSE),\"\")","v":""},{"$f":"IFERROR(VLOOKUP(C1152,Tidligere_henvendelser!A:B,2,FALSE),\"\")","v":""}]
[{"$f":"ReplaceNumbers(C1153)","v":"Engbakkevej"},{"$f":"_xlfn.NUMBERVALUE(FindNumbers(C1153))","v":22},"Engbakkevej 22","2920 Charlottenlund",12500000,"2021-07-27","Alm. Salg",69060,6,"Villa",181,1936,{"$f":"IF(ISBLANK(VLOOKUP(A1153,Veje!A:B,2,FALSE)),INDEX(Veje!$D$2:$RT$652,MATCH(A1153,Veje!$A$2:$A$652,0),MATCH(B1153,Veje!$D$1:$RT$1,0)),VLOOKUP(A1153,Veje!A:B,2,FALSE))","v":"BJGF"},{"$f":"IFERROR(VLOOKUP(C1153,Medlemmer!A:C,3,FALSE),\"\")","v":""},{"$f":"IFERROR(VLOOKUP(C1153,Medlemmer!A:C,2,FALSE),\"\")","v":""},{"$f":"IFERROR(VLOOKUP(C1153,Tidligere_henvendelser!A:B,2,FALSE),\"\")","v":""}]
[{"$f":"ReplaceNumbers(C1154)","v":"Jægersborg Alle"},{"$f":"_xlfn.NUMBERVALUE(FindNumbers(C1154))","v":239},"Jægersborg Alle 239, 1. th","2820 Gentofte",2780000,"2021-07-27","Alm. Salg",30888,2,"Ejerlejlighed",90,1958,{"$f":"IF(ISBLANK(VLOOKUP(A1154,Veje!A:B,2,FALSE)),INDEX(Veje!$D$2:$RT$652,MATCH(A1154,Veje!$A$2:$A$652,0),MATCH(B1154,Veje!$D$1:$RT$1,0)),VLOOKUP(A1154,Veje!A:B,2,FALSE))","v":"BJGF"},{"$f":"IFERROR(VLOOKUP(C1154,Medlemmer!A:C,3,FALSE),\"\")","v":""},{"$f":"IFERROR(VLOOKUP(C1154,Medlemmer!A:C,2,FALSE),\"\")","v":""},{"$f":"IFERROR(VLOOKUP(C1154,Tidligere_henvendelser!A:B,2,FALSE),\"\")","v":""}]
[{"$f":"ReplaceNumbers(C1155)","v":"Hyldegårdsvej"},{"$f":"_xlfn.NUMBERVALUE(FindNumbers(C1155))","v":34},"Hyldegårdsvej 34C, 1. th","2920 Charlottenlund",3950000,"2021-07-27","Alm. Salg",43888,3,"Ejerlejlighed",90,1936,{"$f":"IF(ISBLANK(VLOOKUP(A1155,Veje!A:B,2,FALSE)),INDEX(Veje!$D$2:$RT$652,MATCH(A1155,Veje!$A$2:$A$652,0),MATCH(B1155,Veje!$D$1:$RT$1,0)),VLOOKUP(A1155,Veje!A:B,2,FALSE))","v":"OCG"},{"$f":"IFERROR(VLOOKUP(C1155,Medlemmer!A:C,3,FALSE),\"\")","v":""},{"$f":"IFERROR(VLOOKUP(C1155,Medlemmer!A:C,2,FALSE),\"\")","v":""},{"$f":"IFERROR(VLOOKUP(C1155,Tidligere_henvendelser!A:B,2,FALSE),\"\")","v":""}]
[{"$f":"ReplaceNumbers(C1156)","v":"Maglemosevej"},{"$f":"_xlfn.NUMBERVALUE(FindNumbers(C1156))","v":83},"Maglemosevej 83","2920 Charlottenlund",12925000,"2021-07-27","Alm. Salg",51907,8,"Villa",249,1933,{"$f":"IF(ISBLANK(VLOOKUP(A1156,Veje!A:B,2,FALSE)),INDEX(Veje!$D$2:$RT$652,MATCH(A1156,Veje!$A$2:$A$652,0),MATCH(B1156,Veje!$D$1:$RT$1,0)),VLOOKUP(A1156,Veje!A:B,2,FALSE))","v":"HMG"},{"$f":"IFERROR(VLOOKUP(C1156,Medlemmer!A:C,3,FALSE),\"\")","v":""},{"$f":"IFERROR(VLOOKUP(C1156,Medlemmer!A:C,2,FALSE),\"\")","v":""},{"$f":"IFERROR(VLOOKUP(C1156,Tidligere_henvendelser!A:B,2,FALSE),\"\")","v":""}]
[{"$f":"ReplaceNumbers(C1157)","v":"Ordruphøjvej"},{"$f":"_xlfn.NUMBERVALUE(FindNumbers(C1157))","v":46},"Ordruphøjvej 46","2920 Charlottenlund",13000000,"2021-07-27","Alm. Salg",78313,5,"Villa",166,1965,{"$f":"IF(ISBLANK(VLOOKUP(A1157,Veje!A:B,2,FALSE)),INDEX(Veje!$D$2:$RT$652,MATCH(A1157,Veje!$A$2:$A$652,0),MATCH(B1157,Veje!$D$1:$RT$1,0)),VLOOKUP(A1157,Veje!A:B,2,FALSE))","v":"OCG"},{"$f":"IFERROR(VLOOKUP(C1157,Medlemmer!A:C,3,FALSE),\"\")","v":""},{"$f":"IFERROR(VLOOKUP(C1157,Medlemmer!A:C,2,FALSE),\"\")","v":""},{"$f":"IFERROR(VLOOKUP(C1157,Tidligere_henvendelser!A:B,2,FALSE),\"\")","v":""}]
[{"$f":"ReplaceNumbers(C1158)","v":"Vangede Bygade"},{"$f":"_xlfn.NUMBERVALUE(FindNumbers(C1158))","v":88},"Vangede Bygade 88, 2. th","2820 Gentofte",3300000,"2021-07-28","Alm. Salg",35483,3,"Ejerlejlighed",93,1940,{"$f":"IF(ISBLANK(VLOOKUP(A1158,Veje!A:B,2,FALSE)),INDEX(Veje!$D$2:$RT$652,MATCH(A1158,Veje!$A$2:$A$652,0),MATCH(B1158,Veje!$D$1:$RT$1,0)),VLOOKUP(A1158,Veje!A:B,2,FALSE))","v":"GSG"},{"$f":"IFERROR(VLOOKUP(C1158,Medlemmer!A:C,3,FALSE),\"\")","v":""},{"$f":"IFERROR(VLOOKUP(C1158,Medlemmer!A:C,2,FALSE),\"\")","v":""},{"$f":"IFERROR(VLOOKUP(C1158,Tidligere_henvendelser!A:B,2,FALSE),\"\")","v":""}]
[{"$f":"ReplaceNumbers(C1159)","v":"Clarasvej"},{"$f":"_xlfn.NUMBERVALUE(FindNumbers(C1159))","v":1},"Clarasvej 1A, 2. th","2920 Charlottenlund",1640000,"2021-07-28","Alm. Salg",42051,1,"Ejerlejlighed",39,1939,{"$f":"IF(ISBLANK(VLOOKUP(A1159,Veje!A:B,2,FALSE)),INDEX(Veje!$D$2:$RT$652,MATCH(A1159,Veje!$A$2:$A$652,0),MATCH(B1159,Veje!$D$1:$RT$1,0)),VLOOKUP(A1159,Veje!A:B,2,FALSE))","v":"OCG"},{"$f":"IFERROR(VLOOKUP(C1159,Medlemmer!A:C,3,FALSE),\"\")","v":""},{"$f":"IFERROR(VLOOKUP(C1159,Medlemmer!A:C,2,FALSE),\"\")","v":""},{"$f":"IFERROR(VLOOKUP(C1159,Tidligere_henvendelser!A:B,2,FALSE),\"\")","v":""}]
[{"$f":"ReplaceNumbers(C1160)","v":"Ericavej"},{"$f":"_xlfn.NUMBERVALUE(FindNumbers(C1160))","v":147},"Ericavej 147, 1. 23","2820 Gentofte",1695000,"2021-07-28","Alm. Salg",33900,1,"Ejerlejlighed",50,1968,{"$f":"IF(ISBLANK(VLOOKUP(A1160,Veje!A:B,2,FALSE)),INDEX(Veje!$D$2:$RT$652,MATCH(A1160,Veje!$A$2:$A$652,0),MATCH(B1160,Veje!$D$1:$RT$1,0)),VLOOKUP(A1160,Veje!A:B,2,FALSE))","v":"GSG"},{"$f":"IFERROR(VLOOKUP(C1160,Medlemmer!A:C,3,FALSE),\"\")","v":""},{"$f":"IFERROR(VLOOKUP(C1160,Medlemmer!A:C,2,FALSE),\"\")","v":""},{"$f":"IFERROR(VLOOKUP(C1160,Tidligere_henvendelser!A:B,2,FALSE),\"\")","v":""}]
[{"$f":"ReplaceNumbers(C1161)","v":"Granhøjen"},{"$f":"_xlfn.NUMBERVALUE(FindNumbers(C1161))","v":15},"Granhøjen 15","2900 Hellerup",11200000,"2021-07-29","Alm. Salg",58031,6,"Villa",193,1935,{"$f":"IF(ISBLANK(VLOOKUP(A1161,Veje!A:B,2,FALSE)),INDEX(Veje!$D$2:$RT$652,MATCH(A1161,Veje!$A$2:$A$652,0),MATCH(B1161,Veje!$D$1:$RT$1,0)),VLOOKUP(A1161,Veje!A:B,2,FALSE))","v":"GSG"},{"$f":"IFERROR(VLOOKUP(C1161,Medlemmer!A:C,3,FALSE),\"\")","v":""},{"$f":"IFERROR(VLOOKUP(C1161,Medlemmer!A:C,2,FALSE),\"\")","v":""},{"$f":"IFERROR(VLOOKUP(C1161,Tidligere_henvendelser!A:B,2,FALSE),\"\")","v":""}]
[{"$f":"ReplaceNumbers(C1162)","v":"Margrethevej"},{"$f":"_xlfn.NUMBERVALUE(FindNumbers(C1162))","v":18},"Margrethevej 18","2900 Hellerup",4505000,"2021-07-31","Fam. Salg",25308,7,"Villa",178,1900,{"$f":"IF(ISBLANK(VLOOKUP(A1162,Veje!A:B,2,FALSE)),INDEX(Veje!$D$2:$RT$652,MATCH(A1162,Veje!$A$2:$A$652,0),MATCH(B1162,Veje!$D$1:$RT$1,0)),VLOOKUP(A1162,Veje!A:B,2,FALSE))","v":"HMG"},{"$f":"IFERROR(VLOOKUP(C1162,Medlemmer!A:C,3,FALSE),\"\")","v":""},{"$f":"IFERROR(VLOOKUP(C1162,Medlemmer!A:C,2,FALSE),\"\")","v":""},{"$f":"IFERROR(VLOOKUP(C1162,Tidligere_henvendelser!A:B,2,FALSE),\"\")","v":""}]
[{"$f":"ReplaceNumbers(C1163)","v":"Vangede Bygade"},{"$f":"_xlfn.NUMBERVALUE(FindNumbers(C1163))","v":90},"Vangede Bygade 90, 1. th","2820 Gentofte",1600000,"2021-08-01","Alm. Salg",33333,2,"Ejerlejlighed",48,1940,{"$f":"IF(ISBLANK(VLOOKUP(A1163,Veje!A:B,2,FALSE)),INDEX(Veje!$D$2:$RT$652,MATCH(A1163,Veje!$A$2:$A$652,0),MATCH(B1163,Veje!$D$1:$RT$1,0)),VLOOKUP(A1163,Veje!A:B,2,FALSE))","v":"GSG"},{"$f":"IFERROR(VLOOKUP(C1163,Medlemmer!A:C,3,FALSE),\"\")","v":""},{"$f":"IFERROR(VLOOKUP(C1163,Medlemmer!A:C,2,FALSE),\"\")","v":""},{"$f":"IFERROR(VLOOKUP(C1163,Tidligere_henvendelser!A:B,2,FALSE),\"\")","v":""}]
[{"$f":"ReplaceNumbers(C1164)","v":"Skovgårdsvej"},{"$f":"_xlfn.NUMBERVALUE(FindNumbers(C1164))","v":6},"Skovgårdsvej 6, 2. th","2920 Charlottenlund",3650000,"2021-08-01","Alm. Salg",43975,4,"Ejerlejlighed",83,1949,{"$f":"IF(ISBLANK(VLOOKUP(A1164,Veje!A:B,2,FALSE)),INDEX(Veje!$D$2:$RT$652,MATCH(A1164,Veje!$A$2:$A$652,0),MATCH(B1164,Veje!$D$1:$RT$1,0)),VLOOKUP(A1164,Veje!A:B,2,FALSE))","v":"OCG"},{"$f":"IFERROR(VLOOKUP(C1164,Medlemmer!A:C,3,FALSE),\"\")","v":""},{"$f":"IFERROR(VLOOKUP(C1164,Medlemmer!A:C,2,FALSE),\"\")","v":""},{"$f":"IFERROR(VLOOKUP(C1164,Tidligere_henvendelser!A:B,2,FALSE),\"\")","v":""}]
[{"$f":"ReplaceNumbers(C1165)","v":"Vilvordevej"},{"$f":"_xlfn.NUMBERVALUE(FindNumbers(C1165))","v":12},"Vilvordevej 12","2920 Charlottenlund",11400000,"2021-08-01","Alm. Salg",62637,7,"Villa",182,1930,{"$f":"IF(ISBLANK(VLOOKUP(A1165,Veje!A:B,2,FALSE)),INDEX(Veje!$D$2:$RT$652,MATCH(A1165,Veje!$A$2:$A$652,0),MATCH(B1165,Veje!$D$1:$RT$1,0)),VLOOKUP(A1165,Veje!A:B,2,FALSE))","v":"OCG"},{"$f":"IFERROR(VLOOKUP(C1165,Medlemmer!A:C,3,FALSE),\"\")","v":""},{"$f":"IFERROR(VLOOKUP(C1165,Medlemmer!A:C,2,FALSE),\"\")","v":""},{"$f":"IFERROR(VLOOKUP(C1165,Tidligere_henvendelser!A:B,2,FALSE),\"\")","v":""}]
[{"$f":"ReplaceNumbers(C1166)","v":"Vingårds Alle"},{"$f":"_xlfn.NUMBERVALUE(FindNumbers(C1166))","v":71},"Vingårds Alle 71, 3. tv","2900 Hellerup",3925000,"2021-08-01","Alm. Salg",58582,3,"Ejerlejlighed",67,1952,{"$f":"IF(ISBLANK(VLOOKUP(A1166,Veje!A:B,2,FALSE)),INDEX(Veje!$D$2:$RT$652,MATCH(A1166,Veje!$A$2:$A$652,0),MATCH(B1166,Veje!$D$1:$RT$1,0)),VLOOKUP(A1166,Veje!A:B,2,FALSE))","v":"HMG"},{"$f":"IFERROR(VLOOKUP(C1166,Medlemmer!A:C,3,FALSE),\"\")","v":""},{"$f":"IFERROR(VLOOKUP(C1166,Medlemmer!A:C,2,FALSE),\"\")","v":""},{"$f":"IFERROR(VLOOKUP(C1166,Tidligere_henvendelser!A:B,2,FALSE),\"\")","v":""}]
[{"$f":"ReplaceNumbers(C1167)","v":"Soløsevej"},{"$f":"_xlfn.NUMBERVALUE(FindNumbers(C1167))","v":41},"Soløsevej 41","2820 Gentofte",7500000,"2021-08-01","Alm. Salg",44642,6,"Villa",168,1958,{"$f":"IF(ISBLANK(VLOOKUP(A1167,Veje!A:B,2,FALSE)),INDEX(Veje!$D$2:$RT$652,MATCH(A1167,Veje!$A$2:$A$652,0),MATCH(B1167,Veje!$D$1:$RT$1,0)),VLOOKUP(A1167,Veje!A:B,2,FALSE))","v":"BJGF"},{"$f":"IFERROR(VLOOKUP(C1167,Medlemmer!A:C,3,FALSE),\"\")","v":""},{"$f":"IFERROR(VLOOKUP(C1167,Medlemmer!A:C,2,FALSE),\"\")","v":""},{"$f":"IFERROR(VLOOKUP(C1167,Tidligere_henvendelser!A:B,2,FALSE),\"\")","v":""}]
[{"$f":"ReplaceNumbers(C1168)","v":"Ellinorsvej"},{"$f":"_xlfn.NUMBERVALUE(FindNumbers(C1168))","v":18},"Ellinorsvej 18","2920 Charlottenlund",16000000,"2021-08-01","Alm. Salg",70484,7,"Villa",227,1913,{"$f":"IF(ISBLANK(VLOOKUP(A1168,Veje!A:B,2,FALSE)),INDEX(Veje!$D$2:$RT$652,MATCH(A1168,Veje!$A$2:$A$652,0),MATCH(B1168,Veje!$D$1:$RT$1,0)),VLOOKUP(A1168,Veje!A:B,2,FALSE))","v":"OCG"},{"$f":"IFERROR(VLOOKUP(C1168,Medlemmer!A:C,3,FALSE),\"\")","v":""},{"$f":"IFERROR(VLOOKUP(C1168,Medlemmer!A:C,2,FALSE),\"\")","v":""},{"$f":"IFERROR(VLOOKUP(C1168,Tidligere_henvendelser!A:B,2,FALSE),\"\")","v":""}]
[{"$f":"ReplaceNumbers(C1169)","v":"Herthavej"},{"$f":"_xlfn.NUMBERVALUE(FindNumbers(C1169))","v":5},"Herthavej 5F, st. tv","2920 Charlottenlund",5750000,"2021-08-02","Alm. Salg",56930,2,"Ejerlejlighed",101,1982,{"$f":"IF(ISBLANK(VLOOKUP(A1169,Veje!A:B,2,FALSE)),INDEX(Veje!$D$2:$RT$652,MATCH(A1169,Veje!$A$2:$A$652,0),MATCH(B1169,Veje!$D$1:$RT$1,0)),VLOOKUP(A1169,Veje!A:B,2,FALSE))","v":"OCG"},{"$f":"IFERROR(VLOOKUP(C1169,Medlemmer!A:C,3,FALSE),\"\")","v":""},{"$f":"IFERROR(VLOOKUP(C1169,Medlemmer!A:C,2,FALSE),\"\")","v":""},{"$f":"IFERROR(VLOOKUP(C1169,Tidligere_henvendelser!A:B,2,FALSE),\"\")","v":""}]
[{"$f":"ReplaceNumbers(C1170)","v":"Baunegårdsvej"},{"$f":"_xlfn.NUMBERVALUE(FindNumbers(C1170))","v":50},"Baunegårdsvej 50A","2900 Hellerup",7295000,"2021-08-02","Alm. Salg",70825,4,"Rækkehus",103,1978,{"$f":"IF(ISBLANK(VLOOKUP(A1170,Veje!A:B,2,FALSE)),INDEX(Veje!$D$2:$RT$652,MATCH(A1170,Veje!$A$2:$A$652,0),MATCH(B1170,Veje!$D$1:$RT$1,0)),VLOOKUP(A1170,Veje!A:B,2,FALSE))","v":"GSG"},{"$f":"IFERROR(VLOOKUP(C1170,Medlemmer!A:C,3,FALSE),\"\")","v":""},{"$f":"IFERROR(VLOOKUP(C1170,Medlemmer!A:C,2,FALSE),\"\")","v":""},{"$f":"IFERROR(VLOOKUP(C1170,Tidligere_henvendelser!A:B,2,FALSE),\"\")","v":""}]
[{"$f":"ReplaceNumbers(C1171)","v":"Hyldegårds Tværvej"},{"$f":"_xlfn.NUMBERVALUE(FindNumbers(C1171))","v":3},"Hyldegårds Tværvej 3B, 2. tv","2920 Charlottenlund",2050000,"2021-08-02","Alm. Salg",41836,2,"Ejerlejlighed",49,1958,{"$f":"IF(ISBLANK(VLOOKUP(A1171,Veje!A:B,2,FALSE)),INDEX(Veje!$D$2:$RT$652,MATCH(A1171,Veje!$A$2:$A$652,0),MATCH(B1171,Veje!$D$1:$RT$1,0)),VLOOKUP(A1171,Veje!A:B,2,FALSE))","v":"OCG"},{"$f":"IFERROR(VLOOKUP(C1171,Medlemmer!A:C,3,FALSE),\"\")","v":""},{"$f":"IFERROR(VLOOKUP(C1171,Medlemmer!A:C,2,FALSE),\"\")","v":""},{"$f":"IFERROR(VLOOKUP(C1171,Tidligere_henvendelser!A:B,2,FALSE),\"\")","v":""}]
[{"$f":"ReplaceNumbers(C1172)","v":"Broholms Alle"},{"$f":"_xlfn.NUMBERVALUE(FindNumbers(C1172))","v":28},"Broholms Alle 28, 2. tv","2920 Charlottenlund",2795000,"2021-08-03","Alm. Salg",44365,2,"Ejerlejlighed",63,1935,{"$f":"IF(ISBLANK(VLOOKUP(A1172,Veje!A:B,2,FALSE)),INDEX(Veje!$D$2:$RT$652,MATCH(A1172,Veje!$A$2:$A$652,0),MATCH(B1172,Veje!$D$1:$RT$1,0)),VLOOKUP(A1172,Veje!A:B,2,FALSE))","v":"SKGF"},{"$f":"IFERROR(VLOOKUP(C1172,Medlemmer!A:C,3,FALSE),\"\")","v":""},{"$f":"IFERROR(VLOOKUP(C1172,Medlemmer!A:C,2,FALSE),\"\")","v":""},{"$f":"IFERROR(VLOOKUP(C1172,Tidligere_henvendelser!A:B,2,FALSE),\"\")","v":""}]
[{"$f":"ReplaceNumbers(C1173)","v":"Sløjfen"},{"$f":"_xlfn.NUMBERVALUE(FindNumbers(C1173))","v":42},"Sløjfen 42","2820 Gentofte",4400000,"2021-08-03","Alm. Salg",37288,6,"Rækkehus",118,1956,{"$f":"IF(ISBLANK(VLOOKUP(A1173,Veje!A:B,2,FALSE)),INDEX(Veje!$D$2:$RT$652,MATCH(A1173,Veje!$A$2:$A$652,0),MATCH(B1173,Veje!$D$1:$RT$1,0)),VLOOKUP(A1173,Veje!A:B,2,FALSE))","v":"GSG"},{"$f":"IFERROR(VLOOKUP(C1173,Medlemmer!A:C,3,FALSE),\"\")","v":""},{"$f":"IFERROR(VLOOKUP(C1173,Medlemmer!A:C,2,FALSE),\"\")","v":""},{"$f":"IFERROR(VLOOKUP(C1173,Tidligere_henvendelser!A:B,2,FALSE),\"\")","v":""}]
[{"$f":"ReplaceNumbers(C1174)","v":"Ordrupvej"},{"$f":"_xlfn.NUMBERVALUE(FindNumbers(C1174))","v":132},"Ordrupvej 132F, 1. tv","2920 Charlottenlund",3824000,"2021-08-04","Alm. Salg",48405,3,"Ejerlejlighed",79,1953,{"$f":"IF(ISBLANK(VLOOKUP(A1174,Veje!A:B,2,FALSE)),INDEX(Veje!$D$2:$RT$652,MATCH(A1174,Veje!$A$2:$A$652,0),MATCH(B1174,Veje!$D$1:$RT$1,0)),VLOOKUP(A1174,Veje!A:B,2,FALSE))","v":"OCG"},{"$f":"IFERROR(VLOOKUP(C1174,Medlemmer!A:C,3,FALSE),\"\")","v":""},{"$f":"IFERROR(VLOOKUP(C1174,Medlemmer!A:C,2,FALSE),\"\")","v":""},{"$f":"IFERROR(VLOOKUP(C1174,Tidligere_henvendelser!A:B,2,FALSE),\"\")","v":""}]
[{"$f":"ReplaceNumbers(C1175)","v":"Vilvordevej"},{"$f":"_xlfn.NUMBERVALUE(FindNumbers(C1175))","v":51},"Vilvordevej 51","2920 Charlottenlund",16750000,"2021-08-05","Alm. Salg",55833,9,"Villa",230,1937,{"$f":"IF(ISBLANK(VLOOKUP(A1175,Veje!A:B,2,FALSE)),INDEX(Veje!$D$2:$RT$652,MATCH(A1175,Veje!$A$2:$A$652,0),MATCH(B1175,Veje!$D$1:$RT$1,0)),VLOOKUP(A1175,Veje!A:B,2,FALSE))","v":"BJGF"},{"$f":"IFERROR(VLOOKUP(C1175,Medlemmer!A:C,3,FALSE),\"\")","v":""},{"$f":"IFERROR(VLOOKUP(C1175,Medlemmer!A:C,2,FALSE),\"\")","v":""},{"$f":"IFERROR(VLOOKUP(C1175,Tidligere_henvendelser!A:B,2,FALSE),\"\")","v":""}]
[{"$f":"ReplaceNumbers(C1176)","v":"Søgårdsvej"},{"$f":"_xlfn.NUMBERVALUE(FindNumbers(C1176))","v":5},"Søgårdsvej 5B, 2. th","2820 Gentofte",4645000,"2021-08-05","Alm. Salg",58062,3,"Ejerlejlighed",80,1957,{"$f":"IF(ISBLANK(VLOOKUP(A1176,Veje!A:B,2,FALSE)),INDEX(Veje!$D$2:$RT$652,MATCH(A1176,Veje!$A$2:$A$652,0),MATCH(B1176,Veje!$D$1:$RT$1,0)),VLOOKUP(A1176,Veje!A:B,2,FALSE))","v":"GSG"},{"$f":"IFERROR(VLOOKUP(C1176,Medlemmer!A:C,3,FALSE),\"\")","v":""},{"$f":"IFERROR(VLOOKUP(C1176,Medlemmer!A:C,2,FALSE),\"\")","v":""},{"$f":"IFERROR(VLOOKUP(C1176,Tidligere_henvendelser!A:B,2,FALSE),\"\")","v":""}]
[{"$f":"ReplaceNumbers(C1177)","v":"Ermelundsvej"},{"$f":"_xlfn.NUMBERVALUE(FindNumbers(C1177))","v":90},"Ermelundsvej 90B, 1. th","2820 Gentofte",10500000,"2021-08-05","Alm. Salg",67307,4,"Ejerlejlighed",156,2008,{"$f":"IF(ISBLANK(VLOOKUP(A1177,Veje!A:B,2,FALSE)),INDEX(Veje!$D$2:$RT$652,MATCH(A1177,Veje!$A$2:$A$652,0),MATCH(B1177,Veje!$D$1:$RT$1,0)),VLOOKUP(A1177,Veje!A:B,2,FALSE))","v":"BJGF"},{"$f":"IFERROR(VLOOKUP(C1177,Medlemmer!A:C,3,FALSE),\"\")","v":""},{"$f":"IFERROR(VLOOKUP(C1177,Medlemmer!A:C,2,FALSE),\"\")","v":""},{"$f":"IFERROR(VLOOKUP(C1177,Tidligere_henvendelser!A:B,2,FALSE),\"\")","v":""}]
[{"$f":"ReplaceNumbers(C1178)","v":"Bernstorfflund Alle"},{"$f":"_xlfn.NUMBERVALUE(FindNumbers(C1178))","v":57},"Bernstorfflund Alle 57","2920 Charlottenlund",16250000,"2021-08-07","Alm. Salg",80845,5,"Villa",201,1956,{"$f":"IF(ISBLANK(VLOOKUP(A1178,Veje!A:B,2,FALSE)),INDEX(Veje!$D$2:$RT$652,MATCH(A1178,Veje!$A$2:$A$652,0),MATCH(B1178,Veje!$D$1:$RT$1,0)),VLOOKUP(A1178,Veje!A:B,2,FALSE))","v":"BJGF"},{"$f":"IFERROR(VLOOKUP(C1178,Medlemmer!A:C,3,FALSE),\"\")","v":""},{"$f":"IFERROR(VLOOKUP(C1178,Medlemmer!A:C,2,FALSE),\"\")","v":""},{"$f":"IFERROR(VLOOKUP(C1178,Tidligere_henvendelser!A:B,2,FALSE),\"\")","v":""}]
[{"$f":"ReplaceNumbers(C1179)","v":"Exnersvej"},{"$f":"_xlfn.NUMBERVALUE(FindNumbers(C1179))","v":30},"Exnersvej 30","2930 Klampenborg",18870000,"2021-08-07","Alm. Salg",71749,7,"Villa",263,1927,{"$f":"IF(ISBLANK(VLOOKUP(A1179,Veje!A:B,2,FALSE)),INDEX(Veje!$D$2:$RT$652,MATCH(A1179,Veje!$A$2:$A$652,0),MATCH(B1179,Veje!$D$1:$RT$1,0)),VLOOKUP(A1179,Veje!A:B,2,FALSE))","v":"SKGF"},{"$f":"IFERROR(VLOOKUP(C1179,Medlemmer!A:C,3,FALSE),\"\")","v":""},{"$f":"IFERROR(VLOOKUP(C1179,Medlemmer!A:C,2,FALSE),\"\")","v":""},{"$f":"IFERROR(VLOOKUP(C1179,Tidligere_henvendelser!A:B,2,FALSE),\"\")","v":""}]
[{"$f":"ReplaceNumbers(C1180)","v":"Tuborg Havnepark"},{"$f":"_xlfn.NUMBERVALUE(FindNumbers(C1180))","v":2},"Tuborg Havnepark 2, 3. th","2900 Hellerup",11300000,"2021-08-07","Alm. Salg",86259,4,"Ejerlejlighed",131,2007,{"$f":"IF(ISBLANK(VLOOKUP(A1180,Veje!A:B,2,FALSE)),INDEX(Veje!$D$2:$RT$652,MATCH(A1180,Veje!$A$2:$A$652,0),MATCH(B1180,Veje!$D$1:$RT$1,0)),VLOOKUP(A1180,Veje!A:B,2,FALSE))","v":"HMG"},{"$f":"IFERROR(VLOOKUP(C1180,Medlemmer!A:C,3,FALSE),\"\")","v":""},{"$f":"IFERROR(VLOOKUP(C1180,Medlemmer!A:C,2,FALSE),\"\")","v":""},{"$f":"IFERROR(VLOOKUP(C1180,Tidligere_henvendelser!A:B,2,FALSE),\"\")","v":""}]
[{"$f":"ReplaceNumbers(C1181)","v":"Skiftevej"},{"$f":"_xlfn.NUMBERVALUE(FindNumbers(C1181))","v":18},"Skiftevej 18, 1","2820 Gentofte",5150000,"2021-08-08","Alm. Salg",41200,5,"Ejerlejlighed",125,1931,{"$f":"IF(ISBLANK(VLOOKUP(A1181,Veje!A:B,2,FALSE)),INDEX(Veje!$D$2:$RT$652,MATCH(A1181,Veje!$A$2:$A$652,0),MATCH(B1181,Veje!$D$1:$RT$1,0)),VLOOKUP(A1181,Veje!A:B,2,FALSE))","v":"GSG"},{"$f":"IFERROR(VLOOKUP(C1181,Medlemmer!A:C,3,FALSE),\"\")","v":""},{"$f":"IFERROR(VLOOKUP(C1181,Medlemmer!A:C,2,FALSE),\"\")","v":""},{"$f":"IFERROR(VLOOKUP(C1181,Tidligere_henvendelser!A:B,2,FALSE),\"\")","v":""}]
[{"$f":"ReplaceNumbers(C1182)","v":"Skiftevej"},{"$f":"_xlfn.NUMBERVALUE(FindNumbers(C1182))","v":25},"Skiftevej 25","2820 Gentofte",7875000,"2021-08-08","Alm. Salg",78750,3,"Villa",100,1934,{"$f":"IF(ISBLANK(VLOOKUP(A1182,Veje!A:B,2,FALSE)),INDEX(Veje!$D$2:$RT$652,MATCH(A1182,Veje!$A$2:$A$652,0),MATCH(B1182,Veje!$D$1:$RT$1,0)),VLOOKUP(A1182,Veje!A:B,2,FALSE))","v":"GSG"},{"$f":"IFERROR(VLOOKUP(C1182,Medlemmer!A:C,3,FALSE),\"\")","v":""},{"$f":"IFERROR(VLOOKUP(C1182,Medlemmer!A:C,2,FALSE),\"\")","v":""},{"$f":"IFERROR(VLOOKUP(C1182,Tidligere_henvendelser!A:B,2,FALSE),\"\")","v":""}]
[{"$f":"ReplaceNumbers(C1183)","v":"Skiftevej"},{"$f":"_xlfn.NUMBERVALUE(FindNumbers(C1183))","v":18},"Skiftevej 18, st","2820 Gentofte",5150000,"2021-08-08","Alm. Salg",57222,3,"Ejerlejlighed",90,1931,{"$f":"IF(ISBLANK(VLOOKUP(A1183,Veje!A:B,2,FALSE)),INDEX(Veje!$D$2:$RT$652,MATCH(A1183,Veje!$A$2:$A$652,0),MATCH(B1183,Veje!$D$1:$RT$1,0)),VLOOKUP(A1183,Veje!A:B,2,FALSE))","v":"GSG"},{"$f":"IFERROR(VLOOKUP(C1183,Medlemmer!A:C,3,FALSE),\"\")","v":""},{"$f":"IFERROR(VLOOKUP(C1183,Medlemmer!A:C,2,FALSE),\"\")","v":""},{"$f":"IFERROR(VLOOKUP(C1183,Tidligere_henvendelser!A:B,2,FALSE),\"\")","v":""}]
[{"$f":"ReplaceNumbers(C1184)","v":"Frederikkevej"},{"$f":"_xlfn.NUMBERVALUE(FindNumbers(C1184))","v":2},"Frederikkevej 2A, 1","2900 Hellerup",9000000,"2021-08-08","Alm. Salg",62068,4,"Ejerlejlighed",145,1901,{"$f":"IF(ISBLANK(VLOOKUP(A1184,Veje!A:B,2,FALSE)),INDEX(Veje!$D$2:$RT$652,MATCH(A1184,Veje!$A$2:$A$652,0),MATCH(B1184,Veje!$D$1:$RT$1,0)),VLOOKUP(A1184,Veje!A:B,2,FALSE))","v":"HMG"},{"$f":"IFERROR(VLOOKUP(C1184,Medlemmer!A:C,3,FALSE),\"\")","v":""},{"$f":"IFERROR(VLOOKUP(C1184,Medlemmer!A:C,2,FALSE),\"\")","v":""},{"$f":"IFERROR(VLOOKUP(C1184,Tidligere_henvendelser!A:B,2,FALSE),\"\")","v":""}]
[{"$f":"ReplaceNumbers(C1185)","v":"Solsiden"},{"$f":"_xlfn.NUMBERVALUE(FindNumbers(C1185))","v":8},"Solsiden 8","2820 Gentofte",10500000,"2021-08-08","Alm. Salg",69536,5,"Villa",151,1951,{"$f":"IF(ISBLANK(VLOOKUP(A1185,Veje!A:B,2,FALSE)),INDEX(Veje!$D$2:$RT$652,MATCH(A1185,Veje!$A$2:$A$652,0),MATCH(B1185,Veje!$D$1:$RT$1,0)),VLOOKUP(A1185,Veje!A:B,2,FALSE))","v":"BJGF"},{"$f":"IFERROR(VLOOKUP(C1185,Medlemmer!A:C,3,FALSE),\"\")","v":""},{"$f":"IFERROR(VLOOKUP(C1185,Medlemmer!A:C,2,FALSE),\"\")","v":""},{"$f":"IFERROR(VLOOKUP(C1185,Tidligere_henvendelser!A:B,2,FALSE),\"\")","v":""}]
[{"$f":"ReplaceNumbers(C1186)","v":"Grøntoften"},{"$f":"_xlfn.NUMBERVALUE(FindNumbers(C1186))","v":5},"Grøntoften 5, 2. th","2870 Dyssegård ",1850000,"2021-08-08","Alm. Salg",35576,2,"Ejerlejlighed",52,1931,{"$f":"IF(ISBLANK(VLOOKUP(A1186,Veje!A:B,2,FALSE)),INDEX(Veje!$D$2:$RT$652,MATCH(A1186,Veje!$A$2:$A$652,0),MATCH(B1186,Veje!$D$1:$RT$1,0)),VLOOKUP(A1186,Veje!A:B,2,FALSE))","v":"DY"},{"$f":"IFERROR(VLOOKUP(C1186,Medlemmer!A:C,3,FALSE),\"\")","v":""},{"$f":"IFERROR(VLOOKUP(C1186,Medlemmer!A:C,2,FALSE),\"\")","v":""},{"$f":"IFERROR(VLOOKUP(C1186,Tidligere_henvendelser!A:B,2,FALSE),\"\")","v":""}]
[{"$f":"ReplaceNumbers(C1187)","v":"Bloksbjerget"},{"$f":"_xlfn.NUMBERVALUE(FindNumbers(C1187))","v":14},"Bloksbjerget 14","2930 Klampenborg",17500000,"2021-08-08","Alm. Salg",74468,8,"Villa",235,1951,{"$f":"IF(ISBLANK(VLOOKUP(A1187,Veje!A:B,2,FALSE)),INDEX(Veje!$D$2:$RT$652,MATCH(A1187,Veje!$A$2:$A$652,0),MATCH(B1187,Veje!$D$1:$RT$1,0)),VLOOKUP(A1187,Veje!A:B,2,FALSE))","v":"OCG"},{"$f":"IFERROR(VLOOKUP(C1187,Medlemmer!A:C,3,FALSE),\"\")","v":""},{"$f":"IFERROR(VLOOKUP(C1187,Medlemmer!A:C,2,FALSE),\"\")","v":""},{"$f":"IFERROR(VLOOKUP(C1187,Tidligere_henvendelser!A:B,2,FALSE),\"\")","v":""}]
[{"$f":"ReplaceNumbers(C1188)","v":"Vangedevej"},{"$f":"_xlfn.NUMBERVALUE(FindNumbers(C1188))","v":222},"Vangedevej 222B, 3. th","2870 Dyssegård ",2125000,"2021-08-09","Alm. Salg",34274,2,"Ejerlejlighed",62,1948,{"$f":"IF(ISBLANK(VLOOKUP(A1188,Veje!A:B,2,FALSE)),INDEX(Veje!$D$2:$RT$652,MATCH(A1188,Veje!$A$2:$A$652,0),MATCH(B1188,Veje!$D$1:$RT$1,0)),VLOOKUP(A1188,Veje!A:B,2,FALSE))","v":"DY"},{"$f":"IFERROR(VLOOKUP(C1188,Medlemmer!A:C,3,FALSE),\"\")","v":""},{"$f":"IFERROR(VLOOKUP(C1188,Medlemmer!A:C,2,FALSE),\"\")","v":""},{"$f":"IFERROR(VLOOKUP(C1188,Tidligere_henvendelser!A:B,2,FALSE),\"\")","v":""}]
[{"$f":"ReplaceNumbers(C1189)","v":"Broholms Alle"},{"$f":"_xlfn.NUMBERVALUE(FindNumbers(C1189))","v":26},"Broholms Alle 26, st","2920 Charlottenlund",4350000,"2021-08-09","Alm. Salg",44387,4,"Ejerlejlighed",98,1935,{"$f":"IF(ISBLANK(VLOOKUP(A1189,Veje!A:B,2,FALSE)),INDEX(Veje!$D$2:$RT$652,MATCH(A1189,Veje!$A$2:$A$652,0),MATCH(B1189,Veje!$D$1:$RT$1,0)),VLOOKUP(A1189,Veje!A:B,2,FALSE))","v":"SKGF"},{"$f":"IFERROR(VLOOKUP(C1189,Medlemmer!A:C,3,FALSE),\"\")","v":""},{"$f":"IFERROR(VLOOKUP(C1189,Medlemmer!A:C,2,FALSE),\"\")","v":""},{"$f":"IFERROR(VLOOKUP(C1189,Tidligere_henvendelser!A:B,2,FALSE),\"\")","v":""}]
[{"$f":"ReplaceNumbers(C1190)","v":"Vangede Bygade"},{"$f":"_xlfn.NUMBERVALUE(FindNumbers(C1190))","v":48},"Vangede Bygade 48, st. 3","2820 Gentofte",1375000,"2021-08-09","Alm. Salg",26442,2,"Ejerlejlighed",52,1939,{"$f":"IF(ISBLANK(VLOOKUP(A1190,Veje!A:B,2,FALSE)),INDEX(Veje!$D$2:$RT$652,MATCH(A1190,Veje!$A$2:$A$652,0),MATCH(B1190,Veje!$D$1:$RT$1,0)),VLOOKUP(A1190,Veje!A:B,2,FALSE))","v":"GSG"},{"$f":"IFERROR(VLOOKUP(C1190,Medlemmer!A:C,3,FALSE),\"\")","v":""},{"$f":"IFERROR(VLOOKUP(C1190,Medlemmer!A:C,2,FALSE),\"\")","v":""},{"$f":"IFERROR(VLOOKUP(C1190,Tidligere_henvendelser!A:B,2,FALSE),\"\")","v":""}]
[{"$f":"ReplaceNumbers(C1191)","v":"Tranegårdsvej"},{"$f":"_xlfn.NUMBERVALUE(FindNumbers(C1191))","v":54},"Tranegårdsvej 54, 3. th","2900 Hellerup",2450000,"2021-08-09","Alm. Salg",46226,1,"Ejerlejlighed",53,1919,{"$f":"IF(ISBLANK(VLOOKUP(A1191,Veje!A:B,2,FALSE)),INDEX(Veje!$D$2:$RT$652,MATCH(A1191,Veje!$A$2:$A$652,0),MATCH(B1191,Veje!$D$1:$RT$1,0)),VLOOKUP(A1191,Veje!A:B,2,FALSE))","v":"HMG"},{"$f":"IFERROR(VLOOKUP(C1191,Medlemmer!A:C,3,FALSE),\"\")","v":""},{"$f":"IFERROR(VLOOKUP(C1191,Medlemmer!A:C,2,FALSE),\"\")","v":""},{"$f":"IFERROR(VLOOKUP(C1191,Tidligere_henvendelser!A:B,2,FALSE),\"\")","v":""}]
[{"$f":"ReplaceNumbers(C1192)","v":"Tuborg Boulevard"},{"$f":"_xlfn.NUMBERVALUE(FindNumbers(C1192))","v":22},"Tuborg Boulevard 22, 1. tv","2900 Hellerup",12000000,"2021-08-09","Alm. Salg",81632,3,"Ejerlejlighed",147,2002,{"$f":"IF(ISBLANK(VLOOKUP(A1192,Veje!A:B,2,FALSE)),INDEX(Veje!$D$2:$RT$652,MATCH(A1192,Veje!$A$2:$A$652,0),MATCH(B1192,Veje!$D$1:$RT$1,0)),VLOOKUP(A1192,Veje!A:B,2,FALSE))","v":"HMG"},{"$f":"IFERROR(VLOOKUP(C1192,Medlemmer!A:C,3,FALSE),\"\")","v":""},{"$f":"IFERROR(VLOOKUP(C1192,Medlemmer!A:C,2,FALSE),\"\")","v":""},{"$f":"IFERROR(VLOOKUP(C1192,Tidligere_henvendelser!A:B,2,FALSE),\"\")","v":""}]
[{"$f":"ReplaceNumbers(C1193)","v":"Klampenborgvej"},{"$f":"_xlfn.NUMBERVALUE(FindNumbers(C1193))","v":18},"Klampenborgvej 18A","2930 Klampenborg",13250000,"2021-08-10","Alm. Salg",73611,4,"Villa",180,1987,{"$f":"IF(ISBLANK(VLOOKUP(A1193,Veje!A:B,2,FALSE)),INDEX(Veje!$D$2:$RT$652,MATCH(A1193,Veje!$A$2:$A$652,0),MATCH(B1193,Veje!$D$1:$RT$1,0)),VLOOKUP(A1193,Veje!A:B,2,FALSE))","v":"OCG"},{"$f":"IFERROR(VLOOKUP(C1193,Medlemmer!A:C,3,FALSE),\"\")","v":""},{"$f":"IFERROR(VLOOKUP(C1193,Medlemmer!A:C,2,FALSE),\"\")","v":""},{"$f":"IFERROR(VLOOKUP(C1193,Tidligere_henvendelser!A:B,2,FALSE),\"\")","v":""}]
[{"$f":"ReplaceNumbers(C1194)","v":"Margrethevej"},{"$f":"_xlfn.NUMBERVALUE(FindNumbers(C1194))","v":3},"Margrethevej 3B, 4. tv","2900 Hellerup",6620000,"2021-08-10","Alm. Salg",69684,3,"Ejerlejlighed",95,1968,{"$f":"IF(ISBLANK(VLOOKUP(A1194,Veje!A:B,2,FALSE)),INDEX(Veje!$D$2:$RT$652,MATCH(A1194,Veje!$A$2:$A$652,0),MATCH(B1194,Veje!$D$1:$RT$1,0)),VLOOKUP(A1194,Veje!A:B,2,FALSE))","v":"HMG"},{"$f":"IFERROR(VLOOKUP(C1194,Medlemmer!A:C,3,FALSE),\"\")","v":""},{"$f":"IFERROR(VLOOKUP(C1194,Medlemmer!A:C,2,FALSE),\"\")","v":""},{"$f":"IFERROR(VLOOKUP(C1194,Tidligere_henvendelser!A:B,2,FALSE),\"\")","v":""}]
[{"$f":"ReplaceNumbers(C1195)","v":"Sundvænget"},{"$f":"_xlfn.NUMBERVALUE(FindNumbers(C1195))","v":44},"Sundvænget 44","2900 Hellerup",25000000,"2021-08-10","Alm. Salg",147058,6,"Rækkehus",170,1926,{"$f":"IF(ISBLANK(VLOOKUP(A1195,Veje!A:B,2,FALSE)),INDEX(Veje!$D$2:$RT$652,MATCH(A1195,Veje!$A$2:$A$652,0),MATCH(B1195,Veje!$D$1:$RT$1,0)),VLOOKUP(A1195,Veje!A:B,2,FALSE))","v":"HMG"},{"$f":"IFERROR(VLOOKUP(C1195,Medlemmer!A:C,3,FALSE),\"\")","v":""},{"$f":"IFERROR(VLOOKUP(C1195,Medlemmer!A:C,2,FALSE),\"\")","v":""},{"$f":"IFERROR(VLOOKUP(C1195,Tidligere_henvendelser!A:B,2,FALSE),\"\")","v":""}]
[{"$f":"ReplaceNumbers(C1196)","v":"Bryggertorvet"},{"$f":"_xlfn.NUMBERVALUE(FindNumbers(C1196))","v":2},"Bryggertorvet 2, 3. 3","2900 Hellerup",8100000,"2021-08-10","Alm. Salg",55102,5,"Ejerlejlighed",147,1995,{"$f":"IF(ISBLANK(VLOOKUP(A1196,Veje!A:B,2,FALSE)),INDEX(Veje!$D$2:$RT$652,MATCH(A1196,Veje!$A$2:$A$652,0),MATCH(B1196,Veje!$D$1:$RT$1,0)),VLOOKUP(A1196,Veje!A:B,2,FALSE))","v":"HMG"},{"$f":"IFERROR(VLOOKUP(C1196,Medlemmer!A:C,3,FALSE),\"\")","v":""},{"$f":"IFERROR(VLOOKUP(C1196,Medlemmer!A:C,2,FALSE),\"\")","v":""},{"$f":"IFERROR(VLOOKUP(C1196,Tidligere_henvendelser!A:B,2,FALSE),\"\")","v":""}]
[{"$f":"ReplaceNumbers(C1197)","v":"Blidahpark"},{"$f":"_xlfn.NUMBERVALUE(FindNumbers(C1197))","v":6},"Blidahpark 6, 1. tv","2900 Hellerup",2000000,"2021-08-10","Andet",21052,4,"Ejerlejlighed",95,1933,{"$f":"IF(ISBLANK(VLOOKUP(A1197,Veje!A:B,2,FALSE)),INDEX(Veje!$D$2:$RT$652,MATCH(A1197,Veje!$A$2:$A$652,0),MATCH(B1197,Veje!$D$1:$RT$1,0)),VLOOKUP(A1197,Veje!A:B,2,FALSE))","v":"HMG"},{"$f":"IFERROR(VLOOKUP(C1197,Medlemmer!A:C,3,FALSE),\"\")","v":""},{"$f":"IFERROR(VLOOKUP(C1197,Medlemmer!A:C,2,FALSE),\"\")","v":""},{"$f":"IFERROR(VLOOKUP(C1197,Tidligere_henvendelser!A:B,2,FALSE),\"\")","v":""}]
[{"$f":"ReplaceNumbers(C1198)","v":"Plantevej"},{"$f":"_xlfn.NUMBERVALUE(FindNumbers(C1198))","v":1},"Plantevej 1, st. tv","2870 Dyssegård ",2260000,"2021-08-10","Alm. Salg",31388,3,"Ejerlejlighed",72,1948,{"$f":"IF(ISBLANK(VLOOKUP(A1198,Veje!A:B,2,FALSE)),INDEX(Veje!$D$2:$RT$652,MATCH(A1198,Veje!$A$2:$A$652,0),MATCH(B1198,Veje!$D$1:$RT$1,0)),VLOOKUP(A1198,Veje!A:B,2,FALSE))","v":"DY"},{"$f":"IFERROR(VLOOKUP(C1198,Medlemmer!A:C,3,FALSE),\"\")","v":""},{"$f":"IFERROR(VLOOKUP(C1198,Medlemmer!A:C,2,FALSE),\"\")","v":""},{"$f":"IFERROR(VLOOKUP(C1198,Tidligere_henvendelser!A:B,2,FALSE),\"\")","v":""}]
[{"$f":"ReplaceNumbers(C1199)","v":"Birkehøj"},{"$f":"_xlfn.NUMBERVALUE(FindNumbers(C1199))","v":7},"Birkehøj 7, 2","2900 Hellerup",3350000,"2021-08-11","Alm. Salg",39411,4,"Ejerlejlighed",85,1922,{"$f":"IF(ISBLANK(VLOOKUP(A1199,Veje!A:B,2,FALSE)),INDEX(Veje!$D$2:$RT$652,MATCH(A1199,Veje!$A$2:$A$652,0),MATCH(B1199,Veje!$D$1:$RT$1,0)),VLOOKUP(A1199,Veje!A:B,2,FALSE))","v":"DY"},{"$f":"IFERROR(VLOOKUP(C1199,Medlemmer!A:C,3,FALSE),\"\")","v":""},{"$f":"IFERROR(VLOOKUP(C1199,Medlemmer!A:C,2,FALSE),\"\")","v":""},{"$f":"IFERROR(VLOOKUP(C1199,Tidligere_henvendelser!A:B,2,FALSE),\"\")","v":""}]
[{"$f":"ReplaceNumbers(C1200)","v":"Ordrup Jagtvej"},{"$f":"_xlfn.NUMBERVALUE(FindNumbers(C1200))","v":40},"Ordrup Jagtvej 40B, 2. th","2920 Charlottenlund",2250000,"2021-08-11","Fam. Salg",18145,4,"Ejerlejlighed",124,1946,{"$f":"IF(ISBLANK(VLOOKUP(A1200,Veje!A:B,2,FALSE)),INDEX(Veje!$D$2:$RT$652,MATCH(A1200,Veje!$A$2:$A$652,0),MATCH(B1200,Veje!$D$1:$RT$1,0)),VLOOKUP(A1200,Veje!A:B,2,FALSE))","v":"SKGF"},{"$f":"IFERROR(VLOOKUP(C1200,Medlemmer!A:C,3,FALSE),\"\")","v":""},{"$f":"IFERROR(VLOOKUP(C1200,Medlemmer!A:C,2,FALSE),\"\")","v":""},{"$f":"IFERROR(VLOOKUP(C1200,Tidligere_henvendelser!A:B,2,FALSE),\"\")","v":""}]
[{"$f":"ReplaceNumbers(C1201)","v":"Prins Axels Vej"},{"$f":"_xlfn.NUMBERVALUE(FindNumbers(C1201))","v":9},"Prins Axels Vej 9","2820 Gentofte",24000000,"2021-08-11","Alm. Salg",103896,6,"Villa",231,1981,{"$f":"IF(ISBLANK(VLOOKUP(A1201,Veje!A:B,2,FALSE)),INDEX(Veje!$D$2:$RT$652,MATCH(A1201,Veje!$A$2:$A$652,0),MATCH(B1201,Veje!$D$1:$RT$1,0)),VLOOKUP(A1201,Veje!A:B,2,FALSE))","v":"BJGF"},{"$f":"IFERROR(VLOOKUP(C1201,Medlemmer!A:C,3,FALSE),\"\")","v":""},{"$f":"IFERROR(VLOOKUP(C1201,Medlemmer!A:C,2,FALSE),\"\")","v":""},{"$f":"IFERROR(VLOOKUP(C1201,Tidligere_henvendelser!A:B,2,FALSE),\"\")","v":""}]
[{"$f":"ReplaceNumbers(C1202)","v":"Tværbommen"},{"$f":"_xlfn.NUMBERVALUE(FindNumbers(C1202))","v":49},"Tværbommen 49, 1. tv","2820 Gentofte",2150000,"2021-08-11","Alm. Salg",32575,3,"Ejerlejlighed",66,1946,{"$f":"IF(ISBLANK(VLOOKUP(A1202,Veje!A:B,2,FALSE)),INDEX(Veje!$D$2:$RT$652,MATCH(A1202,Veje!$A$2:$A$652,0),MATCH(B1202,Veje!$D$1:$RT$1,0)),VLOOKUP(A1202,Veje!A:B,2,FALSE))","v":"GSG"},{"$f":"IFERROR(VLOOKUP(C1202,Medlemmer!A:C,3,FALSE),\"\")","v":""},{"$f":"IFERROR(VLOOKUP(C1202,Medlemmer!A:C,2,FALSE),\"\")","v":""},{"$f":"IFERROR(VLOOKUP(C1202,Tidligere_henvendelser!A:B,2,FALSE),\"\")","v":""}]
[{"$f":"ReplaceNumbers(C1203)","v":"Tværbommen"},{"$f":"_xlfn.NUMBERVALUE(FindNumbers(C1203))","v":27},"Tværbommen 27, st. th","2820 Gentofte",2300000,"2021-08-11","Alm. Salg",35384,3,"Ejerlejlighed",65,1946,{"$f":"IF(ISBLANK(VLOOKUP(A1203,Veje!A:B,2,FALSE)),INDEX(Veje!$D$2:$RT$652,MATCH(A1203,Veje!$A$2:$A$652,0),MATCH(B1203,Veje!$D$1:$RT$1,0)),VLOOKUP(A1203,Veje!A:B,2,FALSE))","v":"GSG"},{"$f":"IFERROR(VLOOKUP(C1203,Medlemmer!A:C,3,FALSE),\"\")","v":""},{"$f":"IFERROR(VLOOKUP(C1203,Medlemmer!A:C,2,FALSE),\"\")","v":""},{"$f":"IFERROR(VLOOKUP(C1203,Tidligere_henvendelser!A:B,2,FALSE),\"\")","v":""}]
[{"$f":"ReplaceNumbers(C1204)","v":"Bernstorffsvej"},{"$f":"_xlfn.NUMBERVALUE(FindNumbers(C1204))","v":127},"Bernstorffsvej 127, 2","2900 Hellerup",3500000,"2021-08-11","Alm. Salg",53030,3,"Ejerlejlighed",66,1916,{"$f":"IF(ISBLANK(VLOOKUP(A1204,Veje!A:B,2,FALSE)),INDEX(Veje!$D$2:$RT$652,MATCH(A1204,Veje!$A$2:$A$652,0),MATCH(B1204,Veje!$D$1:$RT$1,0)),VLOOKUP(A1204,Veje!A:B,2,FALSE))","v":"GSG"},{"$f":"IFERROR(VLOOKUP(C1204,Medlemmer!A:C,3,FALSE),\"\")","v":""},{"$f":"IFERROR(VLOOKUP(C1204,Medlemmer!A:C,2,FALSE),\"\")","v":""},{"$f":"IFERROR(VLOOKUP(C1204,Tidligere_henvendelser!A:B,2,FALSE),\"\")","v":""}]
[{"$f":"ReplaceNumbers(C1205)","v":"Ewaldsbakken"},{"$f":"_xlfn.NUMBERVALUE(FindNumbers(C1205))","v":20},"Ewaldsbakken 20","2900 Hellerup",7200000,"2021-08-11","Alm. Salg",65454,5,"Villa",110,1932,{"$f":"IF(ISBLANK(VLOOKUP(A1205,Veje!A:B,2,FALSE)),INDEX(Veje!$D$2:$RT$652,MATCH(A1205,Veje!$A$2:$A$652,0),MATCH(B1205,Veje!$D$1:$RT$1,0)),VLOOKUP(A1205,Veje!A:B,2,FALSE))","v":"DY"},{"$f":"IFERROR(VLOOKUP(C1205,Medlemmer!A:C,3,FALSE),\"\")","v":""},{"$f":"IFERROR(VLOOKUP(C1205,Medlemmer!A:C,2,FALSE),\"\")","v":""},{"$f":"IFERROR(VLOOKUP(C1205,Tidligere_henvendelser!A:B,2,FALSE),\"\")","v":""}]
[{"$f":"ReplaceNumbers(C1206)","v":"Ewaldsbakken"},{"$f":"_xlfn.NUMBERVALUE(FindNumbers(C1206))","v":20},"Ewaldsbakken 20","2900 Hellerup",7200000,"2021-08-11","Alm. Salg",39130,5,"Villa",184,0,{"$f":"IF(ISBLANK(VLOOKUP(A1206,Veje!A:B,2,FALSE)),INDEX(Veje!$D$2:$RT$652,MATCH(A1206,Veje!$A$2:$A$652,0),MATCH(B1206,Veje!$D$1:$RT$1,0)),VLOOKUP(A1206,Veje!A:B,2,FALSE))","v":"DY"},{"$f":"IFERROR(VLOOKUP(C1206,Medlemmer!A:C,3,FALSE),\"\")","v":""},{"$f":"IFERROR(VLOOKUP(C1206,Medlemmer!A:C,2,FALSE),\"\")","v":""},{"$f":"IFERROR(VLOOKUP(C1206,Tidligere_henvendelser!A:B,2,FALSE),\"\")","v":""}]
[{"$f":"ReplaceNumbers(C1207)","v":"Ræveskovsvej"},{"$f":"_xlfn.NUMBERVALUE(FindNumbers(C1207))","v":10},"Ræveskovsvej 10B","2820 Gentofte",6500000,"2021-08-12","Alm. Salg",39877,6,"Villa",163,1912,{"$f":"IF(ISBLANK(VLOOKUP(A1207,Veje!A:B,2,FALSE)),INDEX(Veje!$D$2:$RT$652,MATCH(A1207,Veje!$A$2:$A$652,0),MATCH(B1207,Veje!$D$1:$RT$1,0)),VLOOKUP(A1207,Veje!A:B,2,FALSE))","v":"GSG"},{"$f":"IFERROR(VLOOKUP(C1207,Medlemmer!A:C,3,FALSE),\"\")","v":""},{"$f":"IFERROR(VLOOKUP(C1207,Medlemmer!A:C,2,FALSE),\"\")","v":""},{"$f":"IFERROR(VLOOKUP(C1207,Tidligere_henvendelser!A:B,2,FALSE),\"\")","v":"21Q1"}]
[{"$f":"ReplaceNumbers(C1208)","v":"Ahlmanns Alle"},{"$f":"_xlfn.NUMBERVALUE(FindNumbers(C1208))","v":13},"Ahlmanns Alle 13, 1. tv","2900 Hellerup",9700000,"2021-08-12","Alm. Salg",71323,5,"Ejerlejlighed",136,1902,{"$f":"IF(ISBLANK(VLOOKUP(A1208,Veje!A:B,2,FALSE)),INDEX(Veje!$D$2:$RT$652,MATCH(A1208,Veje!$A$2:$A$652,0),MATCH(B1208,Veje!$D$1:$RT$1,0)),VLOOKUP(A1208,Veje!A:B,2,FALSE))","v":"HMG"},{"$f":"IFERROR(VLOOKUP(C1208,Medlemmer!A:C,3,FALSE),\"\")","v":""},{"$f":"IFERROR(VLOOKUP(C1208,Medlemmer!A:C,2,FALSE),\"\")","v":""},{"$f":"IFERROR(VLOOKUP(C1208,Tidligere_henvendelser!A:B,2,FALSE),\"\")","v":""}]
[{"$f":"ReplaceNumbers(C1209)","v":"Skovgårdsvej"},{"$f":"_xlfn.NUMBERVALUE(FindNumbers(C1209))","v":42},"Skovgårdsvej 42","2920 Charlottenlund",12000000,"2021-08-12","Alm. Salg",61855,7,"Villa",194,1937,{"$f":"IF(ISBLANK(VLOOKUP(A1209,Veje!A:B,2,FALSE)),INDEX(Veje!$D$2:$RT$652,MATCH(A1209,Veje!$A$2:$A$652,0),MATCH(B1209,Veje!$D$1:$RT$1,0)),VLOOKUP(A1209,Veje!A:B,2,FALSE))","v":"OCG"},{"$f":"IFERROR(VLOOKUP(C1209,Medlemmer!A:C,3,FALSE),\"\")","v":""},{"$f":"IFERROR(VLOOKUP(C1209,Medlemmer!A:C,2,FALSE),\"\")","v":""},{"$f":"IFERROR(VLOOKUP(C1209,Tidligere_henvendelser!A:B,2,FALSE),\"\")","v":""}]
[{"$f":"ReplaceNumbers(C1210)","v":"Strandvejen"},{"$f":"_xlfn.NUMBERVALUE(FindNumbers(C1210))","v":240},"Strandvejen 240A","2920 Charlottenlund",5400000,"2021-08-13","Alm. Salg",75000,3,"Villa",72,1858,{"$f":"IF(ISBLANK(VLOOKUP(A1210,Veje!A:B,2,FALSE)),INDEX(Veje!$D$2:$RT$652,MATCH(A1210,Veje!$A$2:$A$652,0),MATCH(B1210,Veje!$D$1:$RT$1,0)),VLOOKUP(A1210,Veje!A:B,2,FALSE))","v":"Skovshoved By"},{"$f":"IFERROR(VLOOKUP(C1210,Medlemmer!A:C,3,FALSE),\"\")","v":""},{"$f":"IFERROR(VLOOKUP(C1210,Medlemmer!A:C,2,FALSE),\"\")","v":""},{"$f":"IFERROR(VLOOKUP(C1210,Tidligere_henvendelser!A:B,2,FALSE),\"\")","v":""}]
[{"$f":"ReplaceNumbers(C1211)","v":"Ordrupvej"},{"$f":"_xlfn.NUMBERVALUE(FindNumbers(C1211))","v":89},"Ordrupvej 89, 3. tv","2920 Charlottenlund",1650000,"2021-08-14","Alm. Salg",38372,1,"Ejerlejlighed",43,1958,{"$f":"IF(ISBLANK(VLOOKUP(A1211,Veje!A:B,2,FALSE)),INDEX(Veje!$D$2:$RT$652,MATCH(A1211,Veje!$A$2:$A$652,0),MATCH(B1211,Veje!$D$1:$RT$1,0)),VLOOKUP(A1211,Veje!A:B,2,FALSE))","v":"OCG"},{"$f":"IFERROR(VLOOKUP(C1211,Medlemmer!A:C,3,FALSE),\"\")","v":""},{"$f":"IFERROR(VLOOKUP(C1211,Medlemmer!A:C,2,FALSE),\"\")","v":""},{"$f":"IFERROR(VLOOKUP(C1211,Tidligere_henvendelser!A:B,2,FALSE),\"\")","v":""}]
[{"$f":"ReplaceNumbers(C1212)","v":"Fasanhaven"},{"$f":"_xlfn.NUMBERVALUE(FindNumbers(C1212))","v":26},"Fasanhaven 26","2820 Gentofte",10600000,"2021-08-14","Alm. Salg",73103,7,"Rækkehus",145,1928,{"$f":"IF(ISBLANK(VLOOKUP(A1212,Veje!A:B,2,FALSE)),INDEX(Veje!$D$2:$RT$652,MATCH(A1212,Veje!$A$2:$A$652,0),MATCH(B1212,Veje!$D$1:$RT$1,0)),VLOOKUP(A1212,Veje!A:B,2,FALSE))","v":"BJGF"},{"$f":"IFERROR(VLOOKUP(C1212,Medlemmer!A:C,3,FALSE),\"\")","v":""},{"$f":"IFERROR(VLOOKUP(C1212,Medlemmer!A:C,2,FALSE),\"\")","v":""},{"$f":"IFERROR(VLOOKUP(C1212,Tidligere_henvendelser!A:B,2,FALSE),\"\")","v":""}]
[{"$f":"ReplaceNumbers(C1213)","v":"Strandvejen"},{"$f":"_xlfn.NUMBERVALUE(FindNumbers(C1213))","v":110},"Strandvejen 110, 2. th","2900 Hellerup",6500000,"2021-08-15","Alm. Salg",35135,5,"Ejerlejlighed",185,1902,{"$f":"IF(ISBLANK(VLOOKUP(A1213,Veje!A:B,2,FALSE)),INDEX(Veje!$D$2:$RT$652,MATCH(A1213,Veje!$A$2:$A$652,0),MATCH(B1213,Veje!$D$1:$RT$1,0)),VLOOKUP(A1213,Veje!A:B,2,FALSE))","v":"HMG"},{"$f":"IFERROR(VLOOKUP(C1213,Medlemmer!A:C,3,FALSE),\"\")","v":""},{"$f":"IFERROR(VLOOKUP(C1213,Medlemmer!A:C,2,FALSE),\"\")","v":""},{"$f":"IFERROR(VLOOKUP(C1213,Tidligere_henvendelser!A:B,2,FALSE),\"\")","v":""}]
[{"$f":"ReplaceNumbers(C1214)","v":"Kildegårdsvej"},{"$f":"_xlfn.NUMBERVALUE(FindNumbers(C1214))","v":61},"Kildegårdsvej 61B","2900 Hellerup",8850000,"2021-08-15","Alm. Salg",61458,5,"Rækkehus",144,2015,{"$f":"IF(ISBLANK(VLOOKUP(A1214,Veje!A:B,2,FALSE)),INDEX(Veje!$D$2:$RT$652,MATCH(A1214,Veje!$A$2:$A$652,0),MATCH(B1214,Veje!$D$1:$RT$1,0)),VLOOKUP(A1214,Veje!A:B,2,FALSE))","v":"GSG"},{"$f":"IFERROR(VLOOKUP(C1214,Medlemmer!A:C,3,FALSE),\"\")","v":""},{"$f":"IFERROR(VLOOKUP(C1214,Medlemmer!A:C,2,FALSE),\"\")","v":""},{"$f":"IFERROR(VLOOKUP(C1214,Tidligere_henvendelser!A:B,2,FALSE),\"\")","v":""}]
[{"$f":"ReplaceNumbers(C1215)","v":"Tværbommen"},{"$f":"_xlfn.NUMBERVALUE(FindNumbers(C1215))","v":35},"Tværbommen 35, st. th","2820 Gentofte",2225000,"2021-08-15","Alm. Salg",32720,3,"Ejerlejlighed",68,1946,{"$f":"IF(ISBLANK(VLOOKUP(A1215,Veje!A:B,2,FALSE)),INDEX(Veje!$D$2:$RT$652,MATCH(A1215,Veje!$A$2:$A$652,0),MATCH(B1215,Veje!$D$1:$RT$1,0)),VLOOKUP(A1215,Veje!A:B,2,FALSE))","v":"GSG"},{"$f":"IFERROR(VLOOKUP(C1215,Medlemmer!A:C,3,FALSE),\"\")","v":""},{"$f":"IFERROR(VLOOKUP(C1215,Medlemmer!A:C,2,FALSE),\"\")","v":""},{"$f":"IFERROR(VLOOKUP(C1215,Tidligere_henvendelser!A:B,2,FALSE),\"\")","v":""}]
[{"$f":"ReplaceNumbers(C1216)","v":"Ridebanevang"},{"$f":"_xlfn.NUMBERVALUE(FindNumbers(C1216))","v":22},"Ridebanevang 22","2820 Gentofte",7495000,"2021-08-15","Alm. Salg",78072,4,"Rækkehus",96,1946,{"$f":"IF(ISBLANK(VLOOKUP(A1216,Veje!A:B,2,FALSE)),INDEX(Veje!$D$2:$RT$652,MATCH(A1216,Veje!$A$2:$A$652,0),MATCH(B1216,Veje!$D$1:$RT$1,0)),VLOOKUP(A1216,Veje!A:B,2,FALSE))","v":"BJGF"},{"$f":"IFERROR(VLOOKUP(C1216,Medlemmer!A:C,3,FALSE),\"\")","v":""},{"$f":"IFERROR(VLOOKUP(C1216,Medlemmer!A:C,2,FALSE),\"\")","v":""},{"$f":"IFERROR(VLOOKUP(C1216,Tidligere_henvendelser!A:B,2,FALSE),\"\")","v":""}]
[{"$f":"ReplaceNumbers(C1217)","v":"Ordrup Jagtvej"},{"$f":"_xlfn.NUMBERVALUE(FindNumbers(C1217))","v":129},"Ordrup Jagtvej 129, st. th","2920 Charlottenlund",2795000,"2021-08-15","Alm. Salg",41102,2,"Ejerlejlighed",68,1935,{"$f":"IF(ISBLANK(VLOOKUP(A1217,Veje!A:B,2,FALSE)),INDEX(Veje!$D$2:$RT$652,MATCH(A1217,Veje!$A$2:$A$652,0),MATCH(B1217,Veje!$D$1:$RT$1,0)),VLOOKUP(A1217,Veje!A:B,2,FALSE))","v":"SKGF"},{"$f":"IFERROR(VLOOKUP(C1217,Medlemmer!A:C,3,FALSE),\"\")","v":""},{"$f":"IFERROR(VLOOKUP(C1217,Medlemmer!A:C,2,FALSE),\"\")","v":""},{"$f":"IFERROR(VLOOKUP(C1217,Tidligere_henvendelser!A:B,2,FALSE),\"\")","v":""}]
[{"$f":"ReplaceNumbers(C1218)","v":"Tuborg Havnepark"},{"$f":"_xlfn.NUMBERVALUE(FindNumbers(C1218))","v":5},"Tuborg Havnepark 5, 6","2900 Hellerup",22000000,"2021-08-15","Alm. Salg",108910,6,"Ejerlejlighed",202,2007,{"$f":"IF(ISBLANK(VLOOKUP(A1218,Veje!A:B,2,FALSE)),INDEX(Veje!$D$2:$RT$652,MATCH(A1218,Veje!$A$2:$A$652,0),MATCH(B1218,Veje!$D$1:$RT$1,0)),VLOOKUP(A1218,Veje!A:B,2,FALSE))","v":"HMG"},{"$f":"IFERROR(VLOOKUP(C1218,Medlemmer!A:C,3,FALSE),\"\")","v":""},{"$f":"IFERROR(VLOOKUP(C1218,Medlemmer!A:C,2,FALSE),\"\")","v":""},{"$f":"IFERROR(VLOOKUP(C1218,Tidligere_henvendelser!A:B,2,FALSE),\"\")","v":""}]
[{"$f":"ReplaceNumbers(C1219)","v":"Vangede Bygade"},{"$f":"_xlfn.NUMBERVALUE(FindNumbers(C1219))","v":103},"Vangede Bygade 103, st. th","2820 Gentofte",2745000,"2021-08-16","Alm. Salg",44274,2,"Ejerlejlighed",62,1935,{"$f":"IF(ISBLANK(VLOOKUP(A1219,Veje!A:B,2,FALSE)),INDEX(Veje!$D$2:$RT$652,MATCH(A1219,Veje!$A$2:$A$652,0),MATCH(B1219,Veje!$D$1:$RT$1,0)),VLOOKUP(A1219,Veje!A:B,2,FALSE))","v":"GSG"},{"$f":"IFERROR(VLOOKUP(C1219,Medlemmer!A:C,3,FALSE),\"\")","v":""},{"$f":"IFERROR(VLOOKUP(C1219,Medlemmer!A:C,2,FALSE),\"\")","v":""},{"$f":"IFERROR(VLOOKUP(C1219,Tidligere_henvendelser!A:B,2,FALSE),\"\")","v":""}]
[{"$f":"ReplaceNumbers(C1220)","v":"Jensløvs Tværvej"},{"$f":"_xlfn.NUMBERVALUE(FindNumbers(C1220))","v":13},"Jensløvs Tværvej 13, 1. th","2920 Charlottenlund",3150000,"2021-08-16","Alm. Salg",47727,3,"Ejerlejlighed",66,1938,{"$f":"IF(ISBLANK(VLOOKUP(A1220,Veje!A:B,2,FALSE)),INDEX(Veje!$D$2:$RT$652,MATCH(A1220,Veje!$A$2:$A$652,0),MATCH(B1220,Veje!$D$1:$RT$1,0)),VLOOKUP(A1220,Veje!A:B,2,FALSE))","v":"OCG"},{"$f":"IFERROR(VLOOKUP(C1220,Medlemmer!A:C,3,FALSE),\"\")","v":""},{"$f":"IFERROR(VLOOKUP(C1220,Medlemmer!A:C,2,FALSE),\"\")","v":""},{"$f":"IFERROR(VLOOKUP(C1220,Tidligere_henvendelser!A:B,2,FALSE),\"\")","v":""}]
[{"$f":"ReplaceNumbers(C1221)","v":"Broholms Alle"},{"$f":"_xlfn.NUMBERVALUE(FindNumbers(C1221))","v":12},"Broholms Alle 12C, 1. th","2920 Charlottenlund",6395000,"2021-08-16","Alm. Salg",51991,5,"Ejerlejlighed",123,1936,{"$f":"IF(ISBLANK(VLOOKUP(A1221,Veje!A:B,2,FALSE)),INDEX(Veje!$D$2:$RT$652,MATCH(A1221,Veje!$A$2:$A$652,0),MATCH(B1221,Veje!$D$1:$RT$1,0)),VLOOKUP(A1221,Veje!A:B,2,FALSE))","v":"SKGF"},{"$f":"IFERROR(VLOOKUP(C1221,Medlemmer!A:C,3,FALSE),\"\")","v":""},{"$f":"IFERROR(VLOOKUP(C1221,Medlemmer!A:C,2,FALSE),\"\")","v":""},{"$f":"IFERROR(VLOOKUP(C1221,Tidligere_henvendelser!A:B,2,FALSE),\"\")","v":""}]
[{"$f":"ReplaceNumbers(C1222)","v":"Eskeager"},{"$f":"_xlfn.NUMBERVALUE(FindNumbers(C1222))","v":18},"Eskeager 18","2870 Dyssegård ",7695000,"2021-08-17","Alm. Salg",66913,5,"Rækkehus",115,1955,{"$f":"IF(ISBLANK(VLOOKUP(A1222,Veje!A:B,2,FALSE)),INDEX(Veje!$D$2:$RT$652,MATCH(A1222,Veje!$A$2:$A$652,0),MATCH(B1222,Veje!$D$1:$RT$1,0)),VLOOKUP(A1222,Veje!A:B,2,FALSE))","v":"DY"},{"$f":"IFERROR(VLOOKUP(C1222,Medlemmer!A:C,3,FALSE),\"\")","v":""},{"$f":"IFERROR(VLOOKUP(C1222,Medlemmer!A:C,2,FALSE),\"\")","v":""},{"$f":"IFERROR(VLOOKUP(C1222,Tidligere_henvendelser!A:B,2,FALSE),\"\")","v":""}]
[{"$f":"ReplaceNumbers(C1223)","v":"Strandvejen"},{"$f":"_xlfn.NUMBERVALUE(FindNumbers(C1223))","v":110},"Strandvejen 110D, 1. th","2900 Hellerup",4750000,"2021-08-18","Alm. Salg",63333,4,"Ejerlejlighed",75,1902,{"$f":"IF(ISBLANK(VLOOKUP(A1223,Veje!A:B,2,FALSE)),INDEX(Veje!$D$2:$RT$652,MATCH(A1223,Veje!$A$2:$A$652,0),MATCH(B1223,Veje!$D$1:$RT$1,0)),VLOOKUP(A1223,Veje!A:B,2,FALSE))","v":"HMG"},{"$f":"IFERROR(VLOOKUP(C1223,Medlemmer!A:C,3,FALSE),\"\")","v":""},{"$f":"IFERROR(VLOOKUP(C1223,Medlemmer!A:C,2,FALSE),\"\")","v":""},{"$f":"IFERROR(VLOOKUP(C1223,Tidligere_henvendelser!A:B,2,FALSE),\"\")","v":""}]
[{"$f":"ReplaceNumbers(C1224)","v":"Brogårdsvej"},{"$f":"_xlfn.NUMBERVALUE(FindNumbers(C1224))","v":102},"Brogårdsvej 102, 3. tv","2820 Gentofte",1750000,"2021-08-18","Alm. Salg",35000,2,"Ejerlejlighed",50,1936,{"$f":"IF(ISBLANK(VLOOKUP(A1224,Veje!A:B,2,FALSE)),INDEX(Veje!$D$2:$RT$652,MATCH(A1224,Veje!$A$2:$A$652,0),MATCH(B1224,Veje!$D$1:$RT$1,0)),VLOOKUP(A1224,Veje!A:B,2,FALSE))","v":"GSG"},{"$f":"IFERROR(VLOOKUP(C1224,Medlemmer!A:C,3,FALSE),\"\")","v":""},{"$f":"IFERROR(VLOOKUP(C1224,Medlemmer!A:C,2,FALSE),\"\")","v":""},{"$f":"IFERROR(VLOOKUP(C1224,Tidligere_henvendelser!A:B,2,FALSE),\"\")","v":""}]
[{"$f":"ReplaceNumbers(C1225)","v":"A N Hansens Alle"},{"$f":"_xlfn.NUMBERVALUE(FindNumbers(C1225))","v":28},"A N Hansens Alle 28, st","2900 Hellerup",14700000,"2021-08-19","Alm. Salg",82584,5,"Ejerlejlighed",178,1902,{"$f":"IF(ISBLANK(VLOOKUP(A1225,Veje!A:B,2,FALSE)),INDEX(Veje!$D$2:$RT$652,MATCH(A1225,Veje!$A$2:$A$652,0),MATCH(B1225,Veje!$D$1:$RT$1,0)),VLOOKUP(A1225,Veje!A:B,2,FALSE))","v":"HMG"},{"$f":"IFERROR(VLOOKUP(C1225,Medlemmer!A:C,3,FALSE),\"\")","v":""},{"$f":"IFERROR(VLOOKUP(C1225,Medlemmer!A:C,2,FALSE),\"\")","v":""},{"$f":"IFERROR(VLOOKUP(C1225,Tidligere_henvendelser!A:B,2,FALSE),\"\")","v":""}]
[{"$f":"ReplaceNumbers(C1226)","v":"Esperance Alle"},{"$f":"_xlfn.NUMBERVALUE(FindNumbers(C1226))","v":8},"Esperance Alle 8A, 1. tv","2920 Charlottenlund",11250000,"2021-08-19","Alm. Salg",83955,5,"Ejerlejlighed",134,1959,{"$f":"IF(ISBLANK(VLOOKUP(A1226,Veje!A:B,2,FALSE)),INDEX(Veje!$D$2:$RT$652,MATCH(A1226,Veje!$A$2:$A$652,0),MATCH(B1226,Veje!$D$1:$RT$1,0)),VLOOKUP(A1226,Veje!A:B,2,FALSE))","v":"HMG"},{"$f":"IFERROR(VLOOKUP(C1226,Medlemmer!A:C,3,FALSE),\"\")","v":""},{"$f":"IFERROR(VLOOKUP(C1226,Medlemmer!A:C,2,FALSE),\"\")","v":""},{"$f":"IFERROR(VLOOKUP(C1226,Tidligere_henvendelser!A:B,2,FALSE),\"\")","v":""}]
[{"$f":"ReplaceNumbers(C1227)","v":"Vangedevej"},{"$f":"_xlfn.NUMBERVALUE(FindNumbers(C1227))","v":139},"Vangedevej 139, st. th","2820 Gentofte",2050000,"2021-08-19","Alm. Salg",36607,2,"Ejerlejlighed",56,1939,{"$f":"IF(ISBLANK(VLOOKUP(A1227,Veje!A:B,2,FALSE)),INDEX(Veje!$D$2:$RT$652,MATCH(A1227,Veje!$A$2:$A$652,0),MATCH(B1227,Veje!$D$1:$RT$1,0)),VLOOKUP(A1227,Veje!A:B,2,FALSE))","v":"GSG"},{"$f":"IFERROR(VLOOKUP(C1227,Medlemmer!A:C,3,FALSE),\"\")","v":""},{"$f":"IFERROR(VLOOKUP(C1227,Medlemmer!A:C,2,FALSE),\"\")","v":""},{"$f":"IFERROR(VLOOKUP(C1227,Tidligere_henvendelser!A:B,2,FALSE),\"\")","v":""}]
[{"$f":"ReplaceNumbers(C1228)","v":"Kornvej"},{"$f":"_xlfn.NUMBERVALUE(FindNumbers(C1228))","v":8},"Kornvej 8","2920 Charlottenlund",9000000,"2021-08-19","Alm. Salg",103448,4,"Villa",87,1933,{"$f":"IF(ISBLANK(VLOOKUP(A1228,Veje!A:B,2,FALSE)),INDEX(Veje!$D$2:$RT$652,MATCH(A1228,Veje!$A$2:$A$652,0),MATCH(B1228,Veje!$D$1:$RT$1,0)),VLOOKUP(A1228,Veje!A:B,2,FALSE))","v":"OCG"},{"$f":"IFERROR(VLOOKUP(C1228,Medlemmer!A:C,3,FALSE),\"\")","v":""},{"$f":"IFERROR(VLOOKUP(C1228,Medlemmer!A:C,2,FALSE),\"\")","v":""},{"$f":"IFERROR(VLOOKUP(C1228,Tidligere_henvendelser!A:B,2,FALSE),\"\")","v":""}]
[{"$f":"ReplaceNumbers(C1229)","v":"Jægersborgvej"},{"$f":"_xlfn.NUMBERVALUE(FindNumbers(C1229))","v":116},"Jægersborgvej 116, 2. th","2820 Gentofte",2630000,"2021-08-19","Alm. Salg",27684,4,"Ejerlejlighed",95,1949,{"$f":"IF(ISBLANK(VLOOKUP(A1229,Veje!A:B,2,FALSE)),INDEX(Veje!$D$2:$RT$652,MATCH(A1229,Veje!$A$2:$A$652,0),MATCH(B1229,Veje!$D$1:$RT$1,0)),VLOOKUP(A1229,Veje!A:B,2,FALSE))","v":"GSG"},{"$f":"IFERROR(VLOOKUP(C1229,Medlemmer!A:C,3,FALSE),\"\")","v":""},{"$f":"IFERROR(VLOOKUP(C1229,Medlemmer!A:C,2,FALSE),\"\")","v":""},{"$f":"IFERROR(VLOOKUP(C1229,Tidligere_henvendelser!A:B,2,FALSE),\"\")","v":""}]
[{"$f":"ReplaceNumbers(C1230)","v":"Skjoldagervej"},{"$f":"_xlfn.NUMBERVALUE(FindNumbers(C1230))","v":72},"Skjoldagervej 72, st. mf","2820 Gentofte",775000,"2021-08-20","Alm. Salg",22794,1,"Ejerlejlighed",34,1958,{"$f":"IF(ISBLANK(VLOOKUP(A1230,Veje!A:B,2,FALSE)),INDEX(Veje!$D$2:$RT$652,MATCH(A1230,Veje!$A$2:$A$652,0),MATCH(B1230,Veje!$D$1:$RT$1,0)),VLOOKUP(A1230,Veje!A:B,2,FALSE))","v":"BJGF"},{"$f":"IFERROR(VLOOKUP(C1230,Medlemmer!A:C,3,FALSE),\"\")","v":""},{"$f":"IFERROR(VLOOKUP(C1230,Medlemmer!A:C,2,FALSE),\"\")","v":""},{"$f":"IFERROR(VLOOKUP(C1230,Tidligere_henvendelser!A:B,2,FALSE),\"\")","v":""}]
[{"$f":"ReplaceNumbers(C1231)","v":"Teglværksbakken"},{"$f":"_xlfn.NUMBERVALUE(FindNumbers(C1231))","v":23},"Teglværksbakken 23","2900 Hellerup",7815000,"2021-08-21","Alm. Salg",57463,6,"Villa",136,1933,{"$f":"IF(ISBLANK(VLOOKUP(A1231,Veje!A:B,2,FALSE)),INDEX(Veje!$D$2:$RT$652,MATCH(A1231,Veje!$A$2:$A$652,0),MATCH(B1231,Veje!$D$1:$RT$1,0)),VLOOKUP(A1231,Veje!A:B,2,FALSE))","v":"DY"},{"$f":"IFERROR(VLOOKUP(C1231,Medlemmer!A:C,3,FALSE),\"\")","v":""},{"$f":"IFERROR(VLOOKUP(C1231,Medlemmer!A:C,2,FALSE),\"\")","v":""},{"$f":"IFERROR(VLOOKUP(C1231,Tidligere_henvendelser!A:B,2,FALSE),\"\")","v":""}]
[{"$f":"ReplaceNumbers(C1232)","v":"Eggersvej"},{"$f":"_xlfn.NUMBERVALUE(FindNumbers(C1232))","v":33},"Eggersvej 33","2900 Hellerup",14900000,"2021-08-21","Alm. Salg",81868,6,"Villa",182,1934,{"$f":"IF(ISBLANK(VLOOKUP(A1232,Veje!A:B,2,FALSE)),INDEX(Veje!$D$2:$RT$652,MATCH(A1232,Veje!$A$2:$A$652,0),MATCH(B1232,Veje!$D$1:$RT$1,0)),VLOOKUP(A1232,Veje!A:B,2,FALSE))","v":"GSG"},{"$f":"IFERROR(VLOOKUP(C1232,Medlemmer!A:C,3,FALSE),\"\")","v":""},{"$f":"IFERROR(VLOOKUP(C1232,Medlemmer!A:C,2,FALSE),\"\")","v":""},{"$f":"IFERROR(VLOOKUP(C1232,Tidligere_henvendelser!A:B,2,FALSE),\"\")","v":""}]
[{"$f":"ReplaceNumbers(C1233)","v":"Ellebækvej"},{"$f":"_xlfn.NUMBERVALUE(FindNumbers(C1233))","v":7},"Ellebækvej 7, st","2820 Gentofte",5525000,"2021-08-21","Alm. Salg",54702,5,"Ejerlejlighed",101,1930,{"$f":"IF(ISBLANK(VLOOKUP(A1233,Veje!A:B,2,FALSE)),INDEX(Veje!$D$2:$RT$652,MATCH(A1233,Veje!$A$2:$A$652,0),MATCH(B1233,Veje!$D$1:$RT$1,0)),VLOOKUP(A1233,Veje!A:B,2,FALSE))","v":"GSG"},{"$f":"IFERROR(VLOOKUP(C1233,Medlemmer!A:C,3,FALSE),\"\")","v":""},{"$f":"IFERROR(VLOOKUP(C1233,Medlemmer!A:C,2,FALSE),\"\")","v":""},{"$f":"IFERROR(VLOOKUP(C1233,Tidligere_henvendelser!A:B,2,FALSE),\"\")","v":""}]
[{"$f":"ReplaceNumbers(C1234)","v":"Ellebækvej"},{"$f":"_xlfn.NUMBERVALUE(FindNumbers(C1234))","v":7},"Ellebækvej 7, 1","2820 Gentofte",5525000,"2021-08-21","Alm. Salg",34968,7,"Ejerlejlighed",158,1930,{"$f":"IF(ISBLANK(VLOOKUP(A1234,Veje!A:B,2,FALSE)),INDEX(Veje!$D$2:$RT$652,MATCH(A1234,Veje!$A$2:$A$652,0),MATCH(B1234,Veje!$D$1:$RT$1,0)),VLOOKUP(A1234,Veje!A:B,2,FALSE))","v":"GSG"},{"$f":"IFERROR(VLOOKUP(C1234,Medlemmer!A:C,3,FALSE),\"\")","v":""},{"$f":"IFERROR(VLOOKUP(C1234,Medlemmer!A:C,2,FALSE),\"\")","v":""},{"$f":"IFERROR(VLOOKUP(C1234,Tidligere_henvendelser!A:B,2,FALSE),\"\")","v":""}]
[{"$f":"ReplaceNumbers(C1235)","v":"Hartmannsvej"},{"$f":"_xlfn.NUMBERVALUE(FindNumbers(C1235))","v":31},"Hartmannsvej 31","2900 Hellerup",10900000,"2021-08-21","Alm. Salg",82575,5,"Villa",132,1935,{"$f":"IF(ISBLANK(VLOOKUP(A1235,Veje!A:B,2,FALSE)),INDEX(Veje!$D$2:$RT$652,MATCH(A1235,Veje!$A$2:$A$652,0),MATCH(B1235,Veje!$D$1:$RT$1,0)),VLOOKUP(A1235,Veje!A:B,2,FALSE))","v":"HMG"},{"$f":"IFERROR(VLOOKUP(C1235,Medlemmer!A:C,3,FALSE),\"\")","v":""},{"$f":"IFERROR(VLOOKUP(C1235,Medlemmer!A:C,2,FALSE),\"\")","v":""},{"$f":"IFERROR(VLOOKUP(C1235,Tidligere_henvendelser!A:B,2,FALSE),\"\")","v":""}]
[{"$f":"ReplaceNumbers(C1236)","v":"Rådhusvej"},{"$f":"_xlfn.NUMBERVALUE(FindNumbers(C1236))","v":27},"Rådhusvej 27","2920 Charlottenlund",13500000,"2021-08-22","Alm. Salg",55785,7,"Villa",242,1887,{"$f":"IF(ISBLANK(VLOOKUP(A1236,Veje!A:B,2,FALSE)),INDEX(Veje!$D$2:$RT$652,MATCH(A1236,Veje!$A$2:$A$652,0),MATCH(B1236,Veje!$D$1:$RT$1,0)),VLOOKUP(A1236,Veje!A:B,2,FALSE))","v":"OCG"},{"$f":"IFERROR(VLOOKUP(C1236,Medlemmer!A:C,3,FALSE),\"\")","v":""},{"$f":"IFERROR(VLOOKUP(C1236,Medlemmer!A:C,2,FALSE),\"\")","v":""},{"$f":"IFERROR(VLOOKUP(C1236,Tidligere_henvendelser!A:B,2,FALSE),\"\")","v":""}]
[{"$f":"ReplaceNumbers(C1237)","v":"Ejgårdsvej"},{"$f":"_xlfn.NUMBERVALUE(FindNumbers(C1237))","v":2},"Ejgårdsvej 2, st. tv","2920 Charlottenlund",6250000,"2021-08-22","Alm. Salg",65789,3,"Ejerlejlighed",95,1999,{"$f":"IF(ISBLANK(VLOOKUP(A1237,Veje!A:B,2,FALSE)),INDEX(Veje!$D$2:$RT$652,MATCH(A1237,Veje!$A$2:$A$652,0),MATCH(B1237,Veje!$D$1:$RT$1,0)),VLOOKUP(A1237,Veje!A:B,2,FALSE))","v":"OCG"},{"$f":"IFERROR(VLOOKUP(C1237,Medlemmer!A:C,3,FALSE),\"\")","v":""},{"$f":"IFERROR(VLOOKUP(C1237,Medlemmer!A:C,2,FALSE),\"\")","v":""},{"$f":"IFERROR(VLOOKUP(C1237,Tidligere_henvendelser!A:B,2,FALSE),\"\")","v":""}]
[{"$f":"ReplaceNumbers(C1238)","v":"Hartmannsvej"},{"$f":"_xlfn.NUMBERVALUE(FindNumbers(C1238))","v":13},"Hartmannsvej 13","2900 Hellerup",3910000,"2021-08-22","Fam. Salg",21366,6,"Villa",183,1924,{"$f":"IF(ISBLANK(VLOOKUP(A1238,Veje!A:B,2,FALSE)),INDEX(Veje!$D$2:$RT$652,MATCH(A1238,Veje!$A$2:$A$652,0),MATCH(B1238,Veje!$D$1:$RT$1,0)),VLOOKUP(A1238,Veje!A:B,2,FALSE))","v":"HMG"},{"$f":"IFERROR(VLOOKUP(C1238,Medlemmer!A:C,3,FALSE),\"\")","v":""},{"$f":"IFERROR(VLOOKUP(C1238,Medlemmer!A:C,2,FALSE),\"\")","v":""},{"$f":"IFERROR(VLOOKUP(C1238,Tidligere_henvendelser!A:B,2,FALSE),\"\")","v":""}]
[{"$f":"ReplaceNumbers(C1239)","v":"Strandlund"},{"$f":"_xlfn.NUMBERVALUE(FindNumbers(C1239))","v":33},"Strandlund 33","2920 Charlottenlund",6400000,"2021-08-22","Alm. Salg",74418,3,"Ejerlejlighed",86,1979,{"$f":"IF(ISBLANK(VLOOKUP(A1239,Veje!A:B,2,FALSE)),INDEX(Veje!$D$2:$RT$652,MATCH(A1239,Veje!$A$2:$A$652,0),MATCH(B1239,Veje!$D$1:$RT$1,0)),VLOOKUP(A1239,Veje!A:B,2,FALSE))","v":"HMG"},{"$f":"IFERROR(VLOOKUP(C1239,Medlemmer!A:C,3,FALSE),\"\")","v":""},{"$f":"IFERROR(VLOOKUP(C1239,Medlemmer!A:C,2,FALSE),\"\")","v":""},{"$f":"IFERROR(VLOOKUP(C1239,Tidligere_henvendelser!A:B,2,FALSE),\"\")","v":""}]
[{"$f":"ReplaceNumbers(C1240)","v":"Fredensvej"},{"$f":"_xlfn.NUMBERVALUE(FindNumbers(C1240))","v":65},"Fredensvej 65, 1. th","2920 Charlottenlund",2760000,"2021-08-23","Alm. Salg",36315,4,"Ejerlejlighed",76,1886,{"$f":"IF(ISBLANK(VLOOKUP(A1240,Veje!A:B,2,FALSE)),INDEX(Veje!$D$2:$RT$652,MATCH(A1240,Veje!$A$2:$A$652,0),MATCH(B1240,Veje!$D$1:$RT$1,0)),VLOOKUP(A1240,Veje!A:B,2,FALSE))","v":"OCG"},{"$f":"IFERROR(VLOOKUP(C1240,Medlemmer!A:C,3,FALSE),\"\")","v":""},{"$f":"IFERROR(VLOOKUP(C1240,Medlemmer!A:C,2,FALSE),\"\")","v":""},{"$f":"IFERROR(VLOOKUP(C1240,Tidligere_henvendelser!A:B,2,FALSE),\"\")","v":""}]
[{"$f":"ReplaceNumbers(C1241)","v":"Fabritius Alle"},{"$f":"_xlfn.NUMBERVALUE(FindNumbers(C1241))","v":19},"Fabritius Alle 19","2930 Klampenborg",25500000,"2021-08-23","Alm. Salg",132812,4,"Villa",192,2016,{"$f":"IF(ISBLANK(VLOOKUP(A1241,Veje!A:B,2,FALSE)),INDEX(Veje!$D$2:$RT$652,MATCH(A1241,Veje!$A$2:$A$652,0),MATCH(B1241,Veje!$D$1:$RT$1,0)),VLOOKUP(A1241,Veje!A:B,2,FALSE))","v":"SKGF"},{"$f":"IFERROR(VLOOKUP(C1241,Medlemmer!A:C,3,FALSE),\"\")","v":""},{"$f":"IFERROR(VLOOKUP(C1241,Medlemmer!A:C,2,FALSE),\"\")","v":""},{"$f":"IFERROR(VLOOKUP(C1241,Tidligere_henvendelser!A:B,2,FALSE),\"\")","v":""}]
[{"$f":"ReplaceNumbers(C1242)","v":"Vingårds Alle"},{"$f":"_xlfn.NUMBERVALUE(FindNumbers(C1242))","v":73},"Vingårds Alle 73, 2. th","2900 Hellerup",4425000,"2021-08-23","Alm. Salg",57467,3,"Ejerlejlighed",77,1952,{"$f":"IF(ISBLANK(VLOOKUP(A1242,Veje!A:B,2,FALSE)),INDEX(Veje!$D$2:$RT$652,MATCH(A1242,Veje!$A$2:$A$652,0),MATCH(B1242,Veje!$D$1:$RT$1,0)),VLOOKUP(A1242,Veje!A:B,2,FALSE))","v":"HMG"},{"$f":"IFERROR(VLOOKUP(C1242,Medlemmer!A:C,3,FALSE),\"\")","v":""},{"$f":"IFERROR(VLOOKUP(C1242,Medlemmer!A:C,2,FALSE),\"\")","v":""},{"$f":"IFERROR(VLOOKUP(C1242,Tidligere_henvendelser!A:B,2,FALSE),\"\")","v":""}]
[{"$f":"ReplaceNumbers(C1243)","v":"Dyssebakken"},{"$f":"_xlfn.NUMBERVALUE(FindNumbers(C1243))","v":9},"Dyssebakken 9","2900 Hellerup",11000000,"2021-08-23","Alm. Salg",78014,5,"Villa",141,1931,{"$f":"IF(ISBLANK(VLOOKUP(A1243,Veje!A:B,2,FALSE)),INDEX(Veje!$D$2:$RT$652,MATCH(A1243,Veje!$A$2:$A$652,0),MATCH(B1243,Veje!$D$1:$RT$1,0)),VLOOKUP(A1243,Veje!A:B,2,FALSE))","v":"DY"},{"$f":"IFERROR(VLOOKUP(C1243,Medlemmer!A:C,3,FALSE),\"\")","v":""},{"$f":"IFERROR(VLOOKUP(C1243,Medlemmer!A:C,2,FALSE),\"\")","v":""},{"$f":"IFERROR(VLOOKUP(C1243,Tidligere_henvendelser!A:B,2,FALSE),\"\")","v":""}]
[{"$f":"ReplaceNumbers(C1244)","v":"Østerkildevej"},{"$f":"_xlfn.NUMBERVALUE(FindNumbers(C1244))","v":14},"Østerkildevej 14","2820 Gentofte",15150000,"2021-08-23","Alm. Salg",76130,8,"Villa",199,1934,{"$f":"IF(ISBLANK(VLOOKUP(A1244,Veje!A:B,2,FALSE)),INDEX(Veje!$D$2:$RT$652,MATCH(A1244,Veje!$A$2:$A$652,0),MATCH(B1244,Veje!$D$1:$RT$1,0)),VLOOKUP(A1244,Veje!A:B,2,FALSE))","v":"GSG"},{"$f":"IFERROR(VLOOKUP(C1244,Medlemmer!A:C,3,FALSE),\"\")","v":""},{"$f":"IFERROR(VLOOKUP(C1244,Medlemmer!A:C,2,FALSE),\"\")","v":""},{"$f":"IFERROR(VLOOKUP(C1244,Tidligere_henvendelser!A:B,2,FALSE),\"\")","v":""}]
[{"$f":"ReplaceNumbers(C1245)","v":"Rakelsvej"},{"$f":"_xlfn.NUMBERVALUE(FindNumbers(C1245))","v":5},"Rakelsvej 5, st. tv","2900 Hellerup",4025000,"2021-08-23","Alm. Salg",55902,3,"Ejerlejlighed",72,1929,{"$f":"IF(ISBLANK(VLOOKUP(A1245,Veje!A:B,2,FALSE)),INDEX(Veje!$D$2:$RT$652,MATCH(A1245,Veje!$A$2:$A$652,0),MATCH(B1245,Veje!$D$1:$RT$1,0)),VLOOKUP(A1245,Veje!A:B,2,FALSE))","v":"HMG"},{"$f":"IFERROR(VLOOKUP(C1245,Medlemmer!A:C,3,FALSE),\"\")","v":""},{"$f":"IFERROR(VLOOKUP(C1245,Medlemmer!A:C,2,FALSE),\"\")","v":""},{"$f":"IFERROR(VLOOKUP(C1245,Tidligere_henvendelser!A:B,2,FALSE),\"\")","v":""}]
[{"$f":"ReplaceNumbers(C1246)","v":"Svejgårdsvej"},{"$f":"_xlfn.NUMBERVALUE(FindNumbers(C1246))","v":27},"Svejgårdsvej 27","2900 Hellerup",13000000,"2021-08-24","Alm. Salg",72222,7,"Villa",180,1913,{"$f":"IF(ISBLANK(VLOOKUP(A1246,Veje!A:B,2,FALSE)),INDEX(Veje!$D$2:$RT$652,MATCH(A1246,Veje!$A$2:$A$652,0),MATCH(B1246,Veje!$D$1:$RT$1,0)),VLOOKUP(A1246,Veje!A:B,2,FALSE))","v":"HMG"},{"$f":"IFERROR(VLOOKUP(C1246,Medlemmer!A:C,3,FALSE),\"\")","v":""},{"$f":"IFERROR(VLOOKUP(C1246,Medlemmer!A:C,2,FALSE),\"\")","v":""},{"$f":"IFERROR(VLOOKUP(C1246,Tidligere_henvendelser!A:B,2,FALSE),\"\")","v":""}]
[{"$f":"ReplaceNumbers(C1247)","v":"Hovmarksvej"},{"$f":"_xlfn.NUMBERVALUE(FindNumbers(C1247))","v":4},"Hovmarksvej 4","2920 Charlottenlund",16800000,"2021-08-24","Alm. Salg",75336,6,"Villa",223,1903,{"$f":"IF(ISBLANK(VLOOKUP(A1247,Veje!A:B,2,FALSE)),INDEX(Veje!$D$2:$RT$652,MATCH(A1247,Veje!$A$2:$A$652,0),MATCH(B1247,Veje!$D$1:$RT$1,0)),VLOOKUP(A1247,Veje!A:B,2,FALSE))","v":"BJGF"},{"$f":"IFERROR(VLOOKUP(C1247,Medlemmer!A:C,3,FALSE),\"\")","v":""},{"$f":"IFERROR(VLOOKUP(C1247,Medlemmer!A:C,2,FALSE),\"\")","v":""},{"$f":"IFERROR(VLOOKUP(C1247,Tidligere_henvendelser!A:B,2,FALSE),\"\")","v":""}]
[{"$f":"ReplaceNumbers(C1248)","v":"På Højden"},{"$f":"_xlfn.NUMBERVALUE(FindNumbers(C1248))","v":6},"På Højden 6","2900 Hellerup",9850000,"2021-08-24","Alm. Salg",52673,7,"Villa",187,1930,{"$f":"IF(ISBLANK(VLOOKUP(A1248,Veje!A:B,2,FALSE)),INDEX(Veje!$D$2:$RT$652,MATCH(A1248,Veje!$A$2:$A$652,0),MATCH(B1248,Veje!$D$1:$RT$1,0)),VLOOKUP(A1248,Veje!A:B,2,FALSE))","v":"GSG"},{"$f":"IFERROR(VLOOKUP(C1248,Medlemmer!A:C,3,FALSE),\"\")","v":""},{"$f":"IFERROR(VLOOKUP(C1248,Medlemmer!A:C,2,FALSE),\"\")","v":""},{"$f":"IFERROR(VLOOKUP(C1248,Tidligere_henvendelser!A:B,2,FALSE),\"\")","v":""}]
[{"$f":"ReplaceNumbers(C1249)","v":"Ericavej"},{"$f":"_xlfn.NUMBERVALUE(FindNumbers(C1249))","v":147},"Ericavej 147, 2. 30","2820 Gentofte",1855000,"2021-08-24","Alm. Salg",30409,2,"Ejerlejlighed",61,1968,{"$f":"IF(ISBLANK(VLOOKUP(A1249,Veje!A:B,2,FALSE)),INDEX(Veje!$D$2:$RT$652,MATCH(A1249,Veje!$A$2:$A$652,0),MATCH(B1249,Veje!$D$1:$RT$1,0)),VLOOKUP(A1249,Veje!A:B,2,FALSE))","v":"GSG"},{"$f":"IFERROR(VLOOKUP(C1249,Medlemmer!A:C,3,FALSE),\"\")","v":""},{"$f":"IFERROR(VLOOKUP(C1249,Medlemmer!A:C,2,FALSE),\"\")","v":""},{"$f":"IFERROR(VLOOKUP(C1249,Tidligere_henvendelser!A:B,2,FALSE),\"\")","v":""}]
[{"$f":"ReplaceNumbers(C1250)","v":"Tuborg Sundpark"},{"$f":"_xlfn.NUMBERVALUE(FindNumbers(C1250))","v":2},"Tuborg Sundpark 2, st. tv","2900 Hellerup",10500000,"2021-08-25","Alm. Salg",107142,4,"Ejerlejlighed",98,2004,{"$f":"IF(ISBLANK(VLOOKUP(A1250,Veje!A:B,2,FALSE)),INDEX(Veje!$D$2:$RT$652,MATCH(A1250,Veje!$A$2:$A$652,0),MATCH(B1250,Veje!$D$1:$RT$1,0)),VLOOKUP(A1250,Veje!A:B,2,FALSE))","v":"HMG"},{"$f":"IFERROR(VLOOKUP(C1250,Medlemmer!A:C,3,FALSE),\"\")","v":""},{"$f":"IFERROR(VLOOKUP(C1250,Medlemmer!A:C,2,FALSE),\"\")","v":""},{"$f":"IFERROR(VLOOKUP(C1250,Tidligere_henvendelser!A:B,2,FALSE),\"\")","v":""}]
[{"$f":"ReplaceNumbers(C1251)","v":"Morescosvej"},{"$f":"_xlfn.NUMBERVALUE(FindNumbers(C1251))","v":10},"Morescosvej 10, st. th","2920 Charlottenlund",3029320,"2021-08-25","Alm. Salg",40936,2,"Ejerlejlighed",74,1943,{"$f":"IF(ISBLANK(VLOOKUP(A1251,Veje!A:B,2,FALSE)),INDEX(Veje!$D$2:$RT$652,MATCH(A1251,Veje!$A$2:$A$652,0),MATCH(B1251,Veje!$D$1:$RT$1,0)),VLOOKUP(A1251,Veje!A:B,2,FALSE))","v":"OCG"},{"$f":"IFERROR(VLOOKUP(C1251,Medlemmer!A:C,3,FALSE),\"\")","v":""},{"$f":"IFERROR(VLOOKUP(C1251,Medlemmer!A:C,2,FALSE),\"\")","v":""},{"$f":"IFERROR(VLOOKUP(C1251,Tidligere_henvendelser!A:B,2,FALSE),\"\")","v":""}]
[{"$f":"ReplaceNumbers(C1252)","v":"Frederikkevej"},{"$f":"_xlfn.NUMBERVALUE(FindNumbers(C1252))","v":4},"Frederikkevej 4","2900 Hellerup",28000000,"2021-08-25","Alm. Salg",126696,7,"Villa",221,1921,{"$f":"IF(ISBLANK(VLOOKUP(A1252,Veje!A:B,2,FALSE)),INDEX(Veje!$D$2:$RT$652,MATCH(A1252,Veje!$A$2:$A$652,0),MATCH(B1252,Veje!$D$1:$RT$1,0)),VLOOKUP(A1252,Veje!A:B,2,FALSE))","v":"HMG"},{"$f":"IFERROR(VLOOKUP(C1252,Medlemmer!A:C,3,FALSE),\"\")","v":""},{"$f":"IFERROR(VLOOKUP(C1252,Medlemmer!A:C,2,FALSE),\"\")","v":""},{"$f":"IFERROR(VLOOKUP(C1252,Tidligere_henvendelser!A:B,2,FALSE),\"\")","v":""}]
[{"$f":"ReplaceNumbers(C1253)","v":"Enighedsvej"},{"$f":"_xlfn.NUMBERVALUE(FindNumbers(C1253))","v":4},"Enighedsvej 4, st. tv","2920 Charlottenlund",6250000,"2021-08-25","Alm. Salg",60096,5,"Ejerlejlighed",104,1934,{"$f":"IF(ISBLANK(VLOOKUP(A1253,Veje!A:B,2,FALSE)),INDEX(Veje!$D$2:$RT$652,MATCH(A1253,Veje!$A$2:$A$652,0),MATCH(B1253,Veje!$D$1:$RT$1,0)),VLOOKUP(A1253,Veje!A:B,2,FALSE))","v":"OCG"},{"$f":"IFERROR(VLOOKUP(C1253,Medlemmer!A:C,3,FALSE),\"\")","v":""},{"$f":"IFERROR(VLOOKUP(C1253,Medlemmer!A:C,2,FALSE),\"\")","v":""},{"$f":"IFERROR(VLOOKUP(C1253,Tidligere_henvendelser!A:B,2,FALSE),\"\")","v":""}]
[{"$f":"ReplaceNumbers(C1254)","v":"Parkovsvej"},{"$f":"_xlfn.NUMBERVALUE(FindNumbers(C1254))","v":20},"Parkovsvej 20","2820 Gentofte",6250000,"2021-08-25","Alm. Salg",22241,6,"Villa",281,1938,{"$f":"IF(ISBLANK(VLOOKUP(A1254,Veje!A:B,2,FALSE)),INDEX(Veje!$D$2:$RT$652,MATCH(A1254,Veje!$A$2:$A$652,0),MATCH(B1254,Veje!$D$1:$RT$1,0)),VLOOKUP(A1254,Veje!A:B,2,FALSE))","v":"GSG"},{"$f":"IFERROR(VLOOKUP(C1254,Medlemmer!A:C,3,FALSE),\"\")","v":""},{"$f":"IFERROR(VLOOKUP(C1254,Medlemmer!A:C,2,FALSE),\"\")","v":""},{"$f":"IFERROR(VLOOKUP(C1254,Tidligere_henvendelser!A:B,2,FALSE),\"\")","v":""}]
[{"$f":"ReplaceNumbers(C1255)","v":"Maglemosevej"},{"$f":"_xlfn.NUMBERVALUE(FindNumbers(C1255))","v":18},"Maglemosevej 18, st","2920 Charlottenlund",11934000,"2021-08-25","Alm. Salg",60887,5,"Ejerlejlighed",196,1929,{"$f":"IF(ISBLANK(VLOOKUP(A1255,Veje!A:B,2,FALSE)),INDEX(Veje!$D$2:$RT$652,MATCH(A1255,Veje!$A$2:$A$652,0),MATCH(B1255,Veje!$D$1:$RT$1,0)),VLOOKUP(A1255,Veje!A:B,2,FALSE))","v":"HMG"},{"$f":"IFERROR(VLOOKUP(C1255,Medlemmer!A:C,3,FALSE),\"\")","v":""},{"$f":"IFERROR(VLOOKUP(C1255,Medlemmer!A:C,2,FALSE),\"\")","v":""},{"$f":"IFERROR(VLOOKUP(C1255,Tidligere_henvendelser!A:B,2,FALSE),\"\")","v":""}]
[{"$f":"ReplaceNumbers(C1256)","v":"Maglemosevej"},{"$f":"_xlfn.NUMBERVALUE(FindNumbers(C1256))","v":18},"Maglemosevej 18, 1","2920 Charlottenlund",11934000,"2021-08-25","Alm. Salg",76993,4,"Ejerlejlighed",155,1929,{"$f":"IF(ISBLANK(VLOOKUP(A1256,Veje!A:B,2,FALSE)),INDEX(Veje!$D$2:$RT$652,MATCH(A1256,Veje!$A$2:$A$652,0),MATCH(B1256,Veje!$D$1:$RT$1,0)),VLOOKUP(A1256,Veje!A:B,2,FALSE))","v":"HMG"},{"$f":"IFERROR(VLOOKUP(C1256,Medlemmer!A:C,3,FALSE),\"\")","v":""},{"$f":"IFERROR(VLOOKUP(C1256,Medlemmer!A:C,2,FALSE),\"\")","v":""},{"$f":"IFERROR(VLOOKUP(C1256,Tidligere_henvendelser!A:B,2,FALSE),\"\")","v":""}]
[{"$f":"ReplaceNumbers(C1257)","v":"Maglemosevej"},{"$f":"_xlfn.NUMBERVALUE(FindNumbers(C1257))","v":18},"Maglemosevej 18, 2","2920 Charlottenlund",11934000,"2021-08-25","Alm. Salg",189428,2,"Ejerlejlighed",63,1929,{"$f":"IF(ISBLANK(VLOOKUP(A1257,Veje!A:B,2,FALSE)),INDEX(Veje!$D$2:$RT$652,MATCH(A1257,Veje!$A$2:$A$652,0),MATCH(B1257,Veje!$D$1:$RT$1,0)),VLOOKUP(A1257,Veje!A:B,2,FALSE))","v":"HMG"},{"$f":"IFERROR(VLOOKUP(C1257,Medlemmer!A:C,3,FALSE),\"\")","v":""},{"$f":"IFERROR(VLOOKUP(C1257,Medlemmer!A:C,2,FALSE),\"\")","v":""},{"$f":"IFERROR(VLOOKUP(C1257,Tidligere_henvendelser!A:B,2,FALSE),\"\")","v":""}]
[{"$f":"ReplaceNumbers(C1258)","v":"Lille Fredensvej"},{"$f":"_xlfn.NUMBERVALUE(FindNumbers(C1258))","v":1},"Lille Fredensvej 1D, 1. th","2920 Charlottenlund",5095000,"2021-08-26","Alm. Salg",67039,3,"Ejerlejlighed",76,1977,{"$f":"IF(ISBLANK(VLOOKUP(A1258,Veje!A:B,2,FALSE)),INDEX(Veje!$D$2:$RT$652,MATCH(A1258,Veje!$A$2:$A$652,0),MATCH(B1258,Veje!$D$1:$RT$1,0)),VLOOKUP(A1258,Veje!A:B,2,FALSE))","v":"OCG"},{"$f":"IFERROR(VLOOKUP(C1258,Medlemmer!A:C,3,FALSE),\"\")","v":""},{"$f":"IFERROR(VLOOKUP(C1258,Medlemmer!A:C,2,FALSE),\"\")","v":""},{"$f":"IFERROR(VLOOKUP(C1258,Tidligere_henvendelser!A:B,2,FALSE),\"\")","v":""}]
[{"$f":"ReplaceNumbers(C1259)","v":"Høeghsmindevej"},{"$f":"_xlfn.NUMBERVALUE(FindNumbers(C1259))","v":59},"Høeghsmindevej 59","2820 Gentofte",8350000,"2021-08-26","Alm. Salg",56040,6,"Villa",149,1934,{"$f":"IF(ISBLANK(VLOOKUP(A1259,Veje!A:B,2,FALSE)),INDEX(Veje!$D$2:$RT$652,MATCH(A1259,Veje!$A$2:$A$652,0),MATCH(B1259,Veje!$D$1:$RT$1,0)),VLOOKUP(A1259,Veje!A:B,2,FALSE))","v":"GSG"},{"$f":"IFERROR(VLOOKUP(C1259,Medlemmer!A:C,3,FALSE),\"\")","v":""},{"$f":"IFERROR(VLOOKUP(C1259,Medlemmer!A:C,2,FALSE),\"\")","v":""},{"$f":"IFERROR(VLOOKUP(C1259,Tidligere_henvendelser!A:B,2,FALSE),\"\")","v":""}]
[{"$f":"ReplaceNumbers(C1260)","v":"Tværbommen"},{"$f":"_xlfn.NUMBERVALUE(FindNumbers(C1260))","v":3},"Tværbommen 3, 2. th","2820 Gentofte",2260000,"2021-08-26","Alm. Salg",34769,3,"Ejerlejlighed",65,1964,{"$f":"IF(ISBLANK(VLOOKUP(A1260,Veje!A:B,2,FALSE)),INDEX(Veje!$D$2:$RT$652,MATCH(A1260,Veje!$A$2:$A$652,0),MATCH(B1260,Veje!$D$1:$RT$1,0)),VLOOKUP(A1260,Veje!A:B,2,FALSE))","v":"GSG"},{"$f":"IFERROR(VLOOKUP(C1260,Medlemmer!A:C,3,FALSE),\"\")","v":""},{"$f":"IFERROR(VLOOKUP(C1260,Medlemmer!A:C,2,FALSE),\"\")","v":""},{"$f":"IFERROR(VLOOKUP(C1260,Tidligere_henvendelser!A:B,2,FALSE),\"\")","v":""}]
[{"$f":"ReplaceNumbers(C1261)","v":"Snogegårdsvænget"},{"$f":"_xlfn.NUMBERVALUE(FindNumbers(C1261))","v":4},"Snogegårdsvænget 4, st. th","2820 Gentofte",197000,"2021-08-26","Alm. Salg",3396,2,"Ejerlejlighed",58,1958,{"$f":"IF(ISBLANK(VLOOKUP(A1261,Veje!A:B,2,FALSE)),INDEX(Veje!$D$2:$RT$652,MATCH(A1261,Veje!$A$2:$A$652,0),MATCH(B1261,Veje!$D$1:$RT$1,0)),VLOOKUP(A1261,Veje!A:B,2,FALSE))","v":"GSG"},{"$f":"IFERROR(VLOOKUP(C1261,Medlemmer!A:C,3,FALSE),\"\")","v":""},{"$f":"IFERROR(VLOOKUP(C1261,Medlemmer!A:C,2,FALSE),\"\")","v":""},{"$f":"IFERROR(VLOOKUP(C1261,Tidligere_henvendelser!A:B,2,FALSE),\"\")","v":""}]
[{"$f":"ReplaceNumbers(C1262)","v":"Resedavej"},{"$f":"_xlfn.NUMBERVALUE(FindNumbers(C1262))","v":4},"Resedavej 4, st","2820 Gentofte",6650000,"2021-08-27","Alm. Salg",58333,4,"Ejerlejlighed",114,1927,{"$f":"IF(ISBLANK(VLOOKUP(A1262,Veje!A:B,2,FALSE)),INDEX(Veje!$D$2:$RT$652,MATCH(A1262,Veje!$A$2:$A$652,0),MATCH(B1262,Veje!$D$1:$RT$1,0)),VLOOKUP(A1262,Veje!A:B,2,FALSE))","v":"GSG"},{"$f":"IFERROR(VLOOKUP(C1262,Medlemmer!A:C,3,FALSE),\"\")","v":""},{"$f":"IFERROR(VLOOKUP(C1262,Medlemmer!A:C,2,FALSE),\"\")","v":""},{"$f":"IFERROR(VLOOKUP(C1262,Tidligere_henvendelser!A:B,2,FALSE),\"\")","v":""}]
[{"$f":"ReplaceNumbers(C1263)","v":"Resedavej"},{"$f":"_xlfn.NUMBERVALUE(FindNumbers(C1263))","v":4},"Resedavej 4, 1","2820 Gentofte",6650000,"2021-08-27","Alm. Salg",68556,4,"Ejerlejlighed",97,1927,{"$f":"IF(ISBLANK(VLOOKUP(A1263,Veje!A:B,2,FALSE)),INDEX(Veje!$D$2:$RT$652,MATCH(A1263,Veje!$A$2:$A$652,0),MATCH(B1263,Veje!$D$1:$RT$1,0)),VLOOKUP(A1263,Veje!A:B,2,FALSE))","v":"GSG"},{"$f":"IFERROR(VLOOKUP(C1263,Medlemmer!A:C,3,FALSE),\"\")","v":""},{"$f":"IFERROR(VLOOKUP(C1263,Medlemmer!A:C,2,FALSE),\"\")","v":""},{"$f":"IFERROR(VLOOKUP(C1263,Tidligere_henvendelser!A:B,2,FALSE),\"\")","v":""}]
[{"$f":"ReplaceNumbers(C1264)","v":"Resedavej"},{"$f":"_xlfn.NUMBERVALUE(FindNumbers(C1264))","v":4},"Resedavej 4, 2","2820 Gentofte",6650000,"2021-08-27","Alm. Salg",95000,3,"Ejerlejlighed",70,1927,{"$f":"IF(ISBLANK(VLOOKUP(A1264,Veje!A:B,2,FALSE)),INDEX(Veje!$D$2:$RT$652,MATCH(A1264,Veje!$A$2:$A$652,0),MATCH(B1264,Veje!$D$1:$RT$1,0)),VLOOKUP(A1264,Veje!A:B,2,FALSE))","v":"GSG"},{"$f":"IFERROR(VLOOKUP(C1264,Medlemmer!A:C,3,FALSE),\"\")","v":""},{"$f":"IFERROR(VLOOKUP(C1264,Medlemmer!A:C,2,FALSE),\"\")","v":""},{"$f":"IFERROR(VLOOKUP(C1264,Tidligere_henvendelser!A:B,2,FALSE),\"\")","v":""}]
[{"$f":"ReplaceNumbers(C1265)","v":"Lindegårdsvej"},{"$f":"_xlfn.NUMBERVALUE(FindNumbers(C1265))","v":28},"Lindegårdsvej 28A, 1. th","2920 Charlottenlund",1530000,"2021-08-27","Fam. Salg",18658,3,"Ejerlejlighed",82,1937,{"$f":"IF(ISBLANK(VLOOKUP(A1265,Veje!A:B,2,FALSE)),INDEX(Veje!$D$2:$RT$652,MATCH(A1265,Veje!$A$2:$A$652,0),MATCH(B1265,Veje!$D$1:$RT$1,0)),VLOOKUP(A1265,Veje!A:B,2,FALSE))","v":"OCG"},{"$f":"IFERROR(VLOOKUP(C1265,Medlemmer!A:C,3,FALSE),\"\")","v":""},{"$f":"IFERROR(VLOOKUP(C1265,Medlemmer!A:C,2,FALSE),\"\")","v":""},{"$f":"IFERROR(VLOOKUP(C1265,Tidligere_henvendelser!A:B,2,FALSE),\"\")","v":""}]
[{"$f":"ReplaceNumbers(C1266)","v":"Lindegårdsvej"},{"$f":"_xlfn.NUMBERVALUE(FindNumbers(C1266))","v":11},"Lindegårdsvej 11, st. tv","2920 Charlottenlund",6899000,"2021-08-28","Alm. Salg",61053,3,"Ejerlejlighed",113,1913,{"$f":"IF(ISBLANK(VLOOKUP(A1266,Veje!A:B,2,FALSE)),INDEX(Veje!$D$2:$RT$652,MATCH(A1266,Veje!$A$2:$A$652,0),MATCH(B1266,Veje!$D$1:$RT$1,0)),VLOOKUP(A1266,Veje!A:B,2,FALSE))","v":"OCG"},{"$f":"IFERROR(VLOOKUP(C1266,Medlemmer!A:C,3,FALSE),\"\")","v":""},{"$f":"IFERROR(VLOOKUP(C1266,Medlemmer!A:C,2,FALSE),\"\")","v":""},{"$f":"IFERROR(VLOOKUP(C1266,Tidligere_henvendelser!A:B,2,FALSE),\"\")","v":""}]
[{"$f":"ReplaceNumbers(C1267)","v":"Søager"},{"$f":"_xlfn.NUMBERVALUE(FindNumbers(C1267))","v":2},"Søager 2, st","2820 Gentofte",4900000,"2021-08-29","Alm. Salg",47572,4,"Ejerlejlighed",103,1930,{"$f":"IF(ISBLANK(VLOOKUP(A1267,Veje!A:B,2,FALSE)),INDEX(Veje!$D$2:$RT$652,MATCH(A1267,Veje!$A$2:$A$652,0),MATCH(B1267,Veje!$D$1:$RT$1,0)),VLOOKUP(A1267,Veje!A:B,2,FALSE))","v":"GSG"},{"$f":"IFERROR(VLOOKUP(C1267,Medlemmer!A:C,3,FALSE),\"\")","v":""},{"$f":"IFERROR(VLOOKUP(C1267,Medlemmer!A:C,2,FALSE),\"\")","v":""},{"$f":"IFERROR(VLOOKUP(C1267,Tidligere_henvendelser!A:B,2,FALSE),\"\")","v":""}]
[{"$f":"ReplaceNumbers(C1268)","v":"Broholms Alle"},{"$f":"_xlfn.NUMBERVALUE(FindNumbers(C1268))","v":20},"Broholms Alle 20, st. tv","2920 Charlottenlund",3995000,"2021-08-29","Alm. Salg",47559,4,"Ejerlejlighed",84,1945,{"$f":"IF(ISBLANK(VLOOKUP(A1268,Veje!A:B,2,FALSE)),INDEX(Veje!$D$2:$RT$652,MATCH(A1268,Veje!$A$2:$A$652,0),MATCH(B1268,Veje!$D$1:$RT$1,0)),VLOOKUP(A1268,Veje!A:B,2,FALSE))","v":"SKGF"},{"$f":"IFERROR(VLOOKUP(C1268,Medlemmer!A:C,3,FALSE),\"\")","v":""},{"$f":"IFERROR(VLOOKUP(C1268,Medlemmer!A:C,2,FALSE),\"\")","v":""},{"$f":"IFERROR(VLOOKUP(C1268,Tidligere_henvendelser!A:B,2,FALSE),\"\")","v":""}]
[{"$f":"ReplaceNumbers(C1269)","v":"Søager"},{"$f":"_xlfn.NUMBERVALUE(FindNumbers(C1269))","v":2},"Søager 2, 1","2820 Gentofte",4900000,"2021-08-29","Alm. Salg",57647,3,"Ejerlejlighed",85,1930,{"$f":"IF(ISBLANK(VLOOKUP(A1269,Veje!A:B,2,FALSE)),INDEX(Veje!$D$2:$RT$652,MATCH(A1269,Veje!$A$2:$A$652,0),MATCH(B1269,Veje!$D$1:$RT$1,0)),VLOOKUP(A1269,Veje!A:B,2,FALSE))","v":"GSG"},{"$f":"IFERROR(VLOOKUP(C1269,Medlemmer!A:C,3,FALSE),\"\")","v":""},{"$f":"IFERROR(VLOOKUP(C1269,Medlemmer!A:C,2,FALSE),\"\")","v":""},{"$f":"IFERROR(VLOOKUP(C1269,Tidligere_henvendelser!A:B,2,FALSE),\"\")","v":""}]
[{"$f":"ReplaceNumbers(C1270)","v":"Lille Fredensvej"},{"$f":"_xlfn.NUMBERVALUE(FindNumbers(C1270))","v":1},"Lille Fredensvej 1A, 2. tv","2920 Charlottenlund",4800000,"2021-08-29","Alm. Salg",65753,3,"Ejerlejlighed",73,1977,{"$f":"IF(ISBLANK(VLOOKUP(A1270,Veje!A:B,2,FALSE)),INDEX(Veje!$D$2:$RT$652,MATCH(A1270,Veje!$A$2:$A$652,0),MATCH(B1270,Veje!$D$1:$RT$1,0)),VLOOKUP(A1270,Veje!A:B,2,FALSE))","v":"OCG"},{"$f":"IFERROR(VLOOKUP(C1270,Medlemmer!A:C,3,FALSE),\"\")","v":""},{"$f":"IFERROR(VLOOKUP(C1270,Medlemmer!A:C,2,FALSE),\"\")","v":""},{"$f":"IFERROR(VLOOKUP(C1270,Tidligere_henvendelser!A:B,2,FALSE),\"\")","v":""}]
[{"$f":"ReplaceNumbers(C1271)","v":"Røntoftevej"},{"$f":"_xlfn.NUMBERVALUE(FindNumbers(C1271))","v":40},"Røntoftevej 40","2870 Dyssegård ",9100000,"2021-08-29","Alm. Salg",67910,5,"Villa",134,1927,{"$f":"IF(ISBLANK(VLOOKUP(A1271,Veje!A:B,2,FALSE)),INDEX(Veje!$D$2:$RT$652,MATCH(A1271,Veje!$A$2:$A$652,0),MATCH(B1271,Veje!$D$1:$RT$1,0)),VLOOKUP(A1271,Veje!A:B,2,FALSE))","v":"DY"},{"$f":"IFERROR(VLOOKUP(C1271,Medlemmer!A:C,3,FALSE),\"\")","v":""},{"$f":"IFERROR(VLOOKUP(C1271,Medlemmer!A:C,2,FALSE),\"\")","v":""},{"$f":"IFERROR(VLOOKUP(C1271,Tidligere_henvendelser!A:B,2,FALSE),\"\")","v":""}]
[{"$f":"ReplaceNumbers(C1272)","v":"Fuglegårdsvænget"},{"$f":"_xlfn.NUMBERVALUE(FindNumbers(C1272))","v":7},"Fuglegårdsvænget 7","2820 Gentofte",5500000,"2021-08-29","Alm. Salg",65476,4,"Rækkehus",84,1942,{"$f":"IF(ISBLANK(VLOOKUP(A1272,Veje!A:B,2,FALSE)),INDEX(Veje!$D$2:$RT$652,MATCH(A1272,Veje!$A$2:$A$652,0),MATCH(B1272,Veje!$D$1:$RT$1,0)),VLOOKUP(A1272,Veje!A:B,2,FALSE))","v":"GSG"},{"$f":"IFERROR(VLOOKUP(C1272,Medlemmer!A:C,3,FALSE),\"\")","v":""},{"$f":"IFERROR(VLOOKUP(C1272,Medlemmer!A:C,2,FALSE),\"\")","v":""},{"$f":"IFERROR(VLOOKUP(C1272,Tidligere_henvendelser!A:B,2,FALSE),\"\")","v":""}]
[{"$f":"ReplaceNumbers(C1273)","v":"Kirkevej"},{"$f":"_xlfn.NUMBERVALUE(FindNumbers(C1273))","v":4},"Kirkevej 4B","2920 Charlottenlund",11650000,"2021-08-29","Alm. Salg",75649,2,"Rækkehus",154,1885,{"$f":"IF(ISBLANK(VLOOKUP(A1273,Veje!A:B,2,FALSE)),INDEX(Veje!$D$2:$RT$652,MATCH(A1273,Veje!$A$2:$A$652,0),MATCH(B1273,Veje!$D$1:$RT$1,0)),VLOOKUP(A1273,Veje!A:B,2,FALSE))","v":"OCG"},{"$f":"IFERROR(VLOOKUP(C1273,Medlemmer!A:C,3,FALSE),\"\")","v":""},{"$f":"IFERROR(VLOOKUP(C1273,Medlemmer!A:C,2,FALSE),\"\")","v":""},{"$f":"IFERROR(VLOOKUP(C1273,Tidligere_henvendelser!A:B,2,FALSE),\"\")","v":""}]
[{"$f":"ReplaceNumbers(C1274)","v":"Sponnecksvej"},{"$f":"_xlfn.NUMBERVALUE(FindNumbers(C1274))","v":19},"Sponnecksvej 19","2820 Gentofte",8950000,"2021-08-29","Alm. Salg",63028,4,"Villa",142,1902,{"$f":"IF(ISBLANK(VLOOKUP(A1274,Veje!A:B,2,FALSE)),INDEX(Veje!$D$2:$RT$652,MATCH(A1274,Veje!$A$2:$A$652,0),MATCH(B1274,Veje!$D$1:$RT$1,0)),VLOOKUP(A1274,Veje!A:B,2,FALSE))","v":"GSG"},{"$f":"IFERROR(VLOOKUP(C1274,Medlemmer!A:C,3,FALSE),\"\")","v":""},{"$f":"IFERROR(VLOOKUP(C1274,Medlemmer!A:C,2,FALSE),\"\")","v":""},{"$f":"IFERROR(VLOOKUP(C1274,Tidligere_henvendelser!A:B,2,FALSE),\"\")","v":""}]
[{"$f":"ReplaceNumbers(C1275)","v":"Gotfred Rodes Vej"},{"$f":"_xlfn.NUMBERVALUE(FindNumbers(C1275))","v":10},"Gotfred Rodes Vej 10","2920 Charlottenlund",3200000,"2021-08-29","Fam. Salg",24242,5,"Villa",132,1934,{"$f":"IF(ISBLANK(VLOOKUP(A1275,Veje!A:B,2,FALSE)),INDEX(Veje!$D$2:$RT$652,MATCH(A1275,Veje!$A$2:$A$652,0),MATCH(B1275,Veje!$D$1:$RT$1,0)),VLOOKUP(A1275,Veje!A:B,2,FALSE))","v":"OCG"},{"$f":"IFERROR(VLOOKUP(C1275,Medlemmer!A:C,3,FALSE),\"\")","v":""},{"$f":"IFERROR(VLOOKUP(C1275,Medlemmer!A:C,2,FALSE),\"\")","v":""},{"$f":"IFERROR(VLOOKUP(C1275,Tidligere_henvendelser!A:B,2,FALSE),\"\")","v":""}]
[{"$f":"ReplaceNumbers(C1276)","v":"Schimmelmannsvej"},{"$f":"_xlfn.NUMBERVALUE(FindNumbers(C1276))","v":45},"Schimmelmannsvej 45, st","2920 Charlottenlund",18800000,"2021-08-29","Alm. Salg",167857,4,"Ejerlejlighed",112,1915,{"$f":"IF(ISBLANK(VLOOKUP(A1276,Veje!A:B,2,FALSE)),INDEX(Veje!$D$2:$RT$652,MATCH(A1276,Veje!$A$2:$A$652,0),MATCH(B1276,Veje!$D$1:$RT$1,0)),VLOOKUP(A1276,Veje!A:B,2,FALSE))","v":"OCG"},{"$f":"IFERROR(VLOOKUP(C1276,Medlemmer!A:C,3,FALSE),\"\")","v":""},{"$f":"IFERROR(VLOOKUP(C1276,Medlemmer!A:C,2,FALSE),\"\")","v":""},{"$f":"IFERROR(VLOOKUP(C1276,Tidligere_henvendelser!A:B,2,FALSE),\"\")","v":""}]
[{"$f":"ReplaceNumbers(C1277)","v":"Henrik Hertz Vej"},{"$f":"_xlfn.NUMBERVALUE(FindNumbers(C1277))","v":14},"Henrik Hertz Vej 14, 1","2920 Charlottenlund",5600000,"2021-08-30","Alm. Salg",61538,3,"Ejerlejlighed",91,1901,{"$f":"IF(ISBLANK(VLOOKUP(A1277,Veje!A:B,2,FALSE)),INDEX(Veje!$D$2:$RT$652,MATCH(A1277,Veje!$A$2:$A$652,0),MATCH(B1277,Veje!$D$1:$RT$1,0)),VLOOKUP(A1277,Veje!A:B,2,FALSE))","v":"OCG"},{"$f":"IFERROR(VLOOKUP(C1277,Medlemmer!A:C,3,FALSE),\"\")","v":""},{"$f":"IFERROR(VLOOKUP(C1277,Medlemmer!A:C,2,FALSE),\"\")","v":""},{"$f":"IFERROR(VLOOKUP(C1277,Tidligere_henvendelser!A:B,2,FALSE),\"\")","v":""}]
[{"$f":"ReplaceNumbers(C1278)","v":"Julie Sødrings Vej"},{"$f":"_xlfn.NUMBERVALUE(FindNumbers(C1278))","v":3},"Julie Sødrings Vej 3","2920 Charlottenlund",8585000,"2021-08-30","Fam. Salg",32153,6,"Villa",216,1931,{"$f":"IF(ISBLANK(VLOOKUP(A1278,Veje!A:B,2,FALSE)),INDEX(Veje!$D$2:$RT$652,MATCH(A1278,Veje!$A$2:$A$652,0),MATCH(B1278,Veje!$D$1:$RT$1,0)),VLOOKUP(A1278,Veje!A:B,2,FALSE))","v":"HMG"},{"$f":"IFERROR(VLOOKUP(C1278,Medlemmer!A:C,3,FALSE),\"\")","v":""},{"$f":"IFERROR(VLOOKUP(C1278,Medlemmer!A:C,2,FALSE),\"\")","v":""},{"$f":"IFERROR(VLOOKUP(C1278,Tidligere_henvendelser!A:B,2,FALSE),\"\")","v":""}]
[{"$f":"ReplaceNumbers(C1279)","v":"Vangedevej"},{"$f":"_xlfn.NUMBERVALUE(FindNumbers(C1279))","v":130},"Vangedevej 130","2820 Gentofte",7750000,"2021-08-30","Alm. Salg",44285,7,"Villa",175,1926,{"$f":"IF(ISBLANK(VLOOKUP(A1279,Veje!A:B,2,FALSE)),INDEX(Veje!$D$2:$RT$652,MATCH(A1279,Veje!$A$2:$A$652,0),MATCH(B1279,Veje!$D$1:$RT$1,0)),VLOOKUP(A1279,Veje!A:B,2,FALSE))","v":"GSG"},{"$f":"IFERROR(VLOOKUP(C1279,Medlemmer!A:C,3,FALSE),\"\")","v":""},{"$f":"IFERROR(VLOOKUP(C1279,Medlemmer!A:C,2,FALSE),\"\")","v":""},{"$f":"IFERROR(VLOOKUP(C1279,Tidligere_henvendelser!A:B,2,FALSE),\"\")","v":""}]
[{"$f":"ReplaceNumbers(C1280)","v":"Søgårdsvej"},{"$f":"_xlfn.NUMBERVALUE(FindNumbers(C1280))","v":5},"Søgårdsvej 5A, 2. th","2820 Gentofte",702500,"2021-08-30","Fam. Salg",8264,3,"Ejerlejlighed",85,1957,{"$f":"IF(ISBLANK(VLOOKUP(A1280,Veje!A:B,2,FALSE)),INDEX(Veje!$D$2:$RT$652,MATCH(A1280,Veje!$A$2:$A$652,0),MATCH(B1280,Veje!$D$1:$RT$1,0)),VLOOKUP(A1280,Veje!A:B,2,FALSE))","v":"GSG"},{"$f":"IFERROR(VLOOKUP(C1280,Medlemmer!A:C,3,FALSE),\"\")","v":""},{"$f":"IFERROR(VLOOKUP(C1280,Medlemmer!A:C,2,FALSE),\"\")","v":""},{"$f":"IFERROR(VLOOKUP(C1280,Tidligere_henvendelser!A:B,2,FALSE),\"\")","v":""}]
[{"$f":"ReplaceNumbers(C1281)","v":"Blidahpark"},{"$f":"_xlfn.NUMBERVALUE(FindNumbers(C1281))","v":12},"Blidahpark 12, 2. th","2900 Hellerup",3895000,"2021-08-30","Alm. Salg",56449,2,"Ejerlejlighed",69,1934,{"$f":"IF(ISBLANK(VLOOKUP(A1281,Veje!A:B,2,FALSE)),INDEX(Veje!$D$2:$RT$652,MATCH(A1281,Veje!$A$2:$A$652,0),MATCH(B1281,Veje!$D$1:$RT$1,0)),VLOOKUP(A1281,Veje!A:B,2,FALSE))","v":"HMG"},{"$f":"IFERROR(VLOOKUP(C1281,Medlemmer!A:C,3,FALSE),\"\")","v":""},{"$f":"IFERROR(VLOOKUP(C1281,Medlemmer!A:C,2,FALSE),\"\")","v":""},{"$f":"IFERROR(VLOOKUP(C1281,Tidligere_henvendelser!A:B,2,FALSE),\"\")","v":""}]
[{"$f":"ReplaceNumbers(C1282)","v":"Henrik Hertz Vej"},{"$f":"_xlfn.NUMBERVALUE(FindNumbers(C1282))","v":14},"Henrik Hertz Vej 14, st","2920 Charlottenlund",5600000,"2021-08-30","Alm. Salg",56565,3,"Ejerlejlighed",99,1901,{"$f":"IF(ISBLANK(VLOOKUP(A1282,Veje!A:B,2,FALSE)),INDEX(Veje!$D$2:$RT$652,MATCH(A1282,Veje!$A$2:$A$652,0),MATCH(B1282,Veje!$D$1:$RT$1,0)),VLOOKUP(A1282,Veje!A:B,2,FALSE))","v":"OCG"},{"$f":"IFERROR(VLOOKUP(C1282,Medlemmer!A:C,3,FALSE),\"\")","v":""},{"$f":"IFERROR(VLOOKUP(C1282,Medlemmer!A:C,2,FALSE),\"\")","v":""},{"$f":"IFERROR(VLOOKUP(C1282,Tidligere_henvendelser!A:B,2,FALSE),\"\")","v":""}]
[{"$f":"ReplaceNumbers(C1283)","v":"Bernstorffsvej"},{"$f":"_xlfn.NUMBERVALUE(FindNumbers(C1283))","v":33},"Bernstorffsvej 33","2900 Hellerup",11650000,"2021-08-30","Alm. Salg",40172,10,"Villa",290,1934,{"$f":"IF(ISBLANK(VLOOKUP(A1283,Veje!A:B,2,FALSE)),INDEX(Veje!$D$2:$RT$652,MATCH(A1283,Veje!$A$2:$A$652,0),MATCH(B1283,Veje!$D$1:$RT$1,0)),VLOOKUP(A1283,Veje!A:B,2,FALSE))","v":"GSG"},{"$f":"IFERROR(VLOOKUP(C1283,Medlemmer!A:C,3,FALSE),\"\")","v":""},{"$f":"IFERROR(VLOOKUP(C1283,Medlemmer!A:C,2,FALSE),\"\")","v":""},{"$f":"IFERROR(VLOOKUP(C1283,Tidligere_henvendelser!A:B,2,FALSE),\"\")","v":""}]
[{"$f":"ReplaceNumbers(C1284)","v":"Tranegårdsvej"},{"$f":"_xlfn.NUMBERVALUE(FindNumbers(C1284))","v":49},"Tranegårdsvej 49, 1. tv","2900 Hellerup",2345000,"2021-08-30","Alm. Salg",39083,2,"Ejerlejlighed",60,1920,{"$f":"IF(ISBLANK(VLOOKUP(A1284,Veje!A:B,2,FALSE)),INDEX(Veje!$D$2:$RT$652,MATCH(A1284,Veje!$A$2:$A$652,0),MATCH(B1284,Veje!$D$1:$RT$1,0)),VLOOKUP(A1284,Veje!A:B,2,FALSE))","v":"HMG"},{"$f":"IFERROR(VLOOKUP(C1284,Medlemmer!A:C,3,FALSE),\"\")","v":""},{"$f":"IFERROR(VLOOKUP(C1284,Medlemmer!A:C,2,FALSE),\"\")","v":""},{"$f":"IFERROR(VLOOKUP(C1284,Tidligere_henvendelser!A:B,2,FALSE),\"\")","v":""}]
[{"$f":"ReplaceNumbers(C1285)","v":"Dalstrøget"},{"$f":"_xlfn.NUMBERVALUE(FindNumbers(C1285))","v":96},"Dalstrøget 96, 4","2870 Dyssegård ",2995000,"2021-08-31","Alm. Salg",34425,3,"Ejerlejlighed",87,1959,{"$f":"IF(ISBLANK(VLOOKUP(A1285,Veje!A:B,2,FALSE)),INDEX(Veje!$D$2:$RT$652,MATCH(A1285,Veje!$A$2:$A$652,0),MATCH(B1285,Veje!$D$1:$RT$1,0)),VLOOKUP(A1285,Veje!A:B,2,FALSE))","v":"DY"},{"$f":"IFERROR(VLOOKUP(C1285,Medlemmer!A:C,3,FALSE),\"\")","v":""},{"$f":"IFERROR(VLOOKUP(C1285,Medlemmer!A:C,2,FALSE),\"\")","v":""},{"$f":"IFERROR(VLOOKUP(C1285,Tidligere_henvendelser!A:B,2,FALSE),\"\")","v":""}]
[{"$f":"ReplaceNumbers(C1286)","v":"Juul Steens Alle"},{"$f":"_xlfn.NUMBERVALUE(FindNumbers(C1286))","v":9},"Juul Steens Alle 9","2900 Hellerup",19995000,"2021-08-31","Alm. Salg",88866,8,"Villa",225,1930,{"$f":"IF(ISBLANK(VLOOKUP(A1286,Veje!A:B,2,FALSE)),INDEX(Veje!$D$2:$RT$652,MATCH(A1286,Veje!$A$2:$A$652,0),MATCH(B1286,Veje!$D$1:$RT$1,0)),VLOOKUP(A1286,Veje!A:B,2,FALSE))","v":"GSG"},{"$f":"IFERROR(VLOOKUP(C1286,Medlemmer!A:C,3,FALSE),\"\")","v":""},{"$f":"IFERROR(VLOOKUP(C1286,Medlemmer!A:C,2,FALSE),\"\")","v":""},{"$f":"IFERROR(VLOOKUP(C1286,Tidligere_henvendelser!A:B,2,FALSE),\"\")","v":""}]
[{"$f":"ReplaceNumbers(C1287)","v":"Røntoftevej"},{"$f":"_xlfn.NUMBERVALUE(FindNumbers(C1287))","v":41},"Røntoftevej 41","2870 Dyssegård ",7695000,"2021-08-31","Alm. Salg",63073,5,"Villa",122,1955,{"$f":"IF(ISBLANK(VLOOKUP(A1287,Veje!A:B,2,FALSE)),INDEX(Veje!$D$2:$RT$652,MATCH(A1287,Veje!$A$2:$A$652,0),MATCH(B1287,Veje!$D$1:$RT$1,0)),VLOOKUP(A1287,Veje!A:B,2,FALSE))","v":"DY"},{"$f":"IFERROR(VLOOKUP(C1287,Medlemmer!A:C,3,FALSE),\"\")","v":""},{"$f":"IFERROR(VLOOKUP(C1287,Medlemmer!A:C,2,FALSE),\"\")","v":""},{"$f":"IFERROR(VLOOKUP(C1287,Tidligere_henvendelser!A:B,2,FALSE),\"\")","v":""}]
[{"$f":"ReplaceNumbers(C1288)","v":"Callisensvej"},{"$f":"_xlfn.NUMBERVALUE(FindNumbers(C1288))","v":23},"Callisensvej 23, 1","2900 Hellerup",9120000,"2021-08-31","Alm. Salg",71250,4,"Ejerlejlighed",128,1901,{"$f":"IF(ISBLANK(VLOOKUP(A1288,Veje!A:B,2,FALSE)),INDEX(Veje!$D$2:$RT$652,MATCH(A1288,Veje!$A$2:$A$652,0),MATCH(B1288,Veje!$D$1:$RT$1,0)),VLOOKUP(A1288,Veje!A:B,2,FALSE))","v":"HMG"},{"$f":"IFERROR(VLOOKUP(C1288,Medlemmer!A:C,3,FALSE),\"\")","v":""},{"$f":"IFERROR(VLOOKUP(C1288,Medlemmer!A:C,2,FALSE),\"\")","v":""},{"$f":"IFERROR(VLOOKUP(C1288,Tidligere_henvendelser!A:B,2,FALSE),\"\")","v":""}]
[{"$f":"ReplaceNumbers(C1289)","v":"Skiftevej"},{"$f":"_xlfn.NUMBERVALUE(FindNumbers(C1289))","v":3},"Skiftevej 3","2820 Gentofte",1000000,"2021-09-01","Alm. Salg",6060,5,"Villa",165,2021,{"$f":"IF(ISBLANK(VLOOKUP(A1289,Veje!A:B,2,FALSE)),INDEX(Veje!$D$2:$RT$652,MATCH(A1289,Veje!$A$2:$A$652,0),MATCH(B1289,Veje!$D$1:$RT$1,0)),VLOOKUP(A1289,Veje!A:B,2,FALSE))","v":"GSG"},{"$f":"IFERROR(VLOOKUP(C1289,Medlemmer!A:C,3,FALSE),\"\")","v":""},{"$f":"IFERROR(VLOOKUP(C1289,Medlemmer!A:C,2,FALSE),\"\")","v":""},{"$f":"IFERROR(VLOOKUP(C1289,Tidligere_henvendelser!A:B,2,FALSE),\"\")","v":""}]
[{"$f":"ReplaceNumbers(C1290)","v":"Prins Valdemars Vej"},{"$f":"_xlfn.NUMBERVALUE(FindNumbers(C1290))","v":32},"Prins Valdemars Vej 32","2820 Gentofte",11600000,"2021-09-01","Alm. Salg",80555,6,"Villa",144,1942,{"$f":"IF(ISBLANK(VLOOKUP(A1290,Veje!A:B,2,FALSE)),INDEX(Veje!$D$2:$RT$652,MATCH(A1290,Veje!$A$2:$A$652,0),MATCH(B1290,Veje!$D$1:$RT$1,0)),VLOOKUP(A1290,Veje!A:B,2,FALSE))","v":"BJGF"},{"$f":"IFERROR(VLOOKUP(C1290,Medlemmer!A:C,3,FALSE),\"\")","v":""},{"$f":"IFERROR(VLOOKUP(C1290,Medlemmer!A:C,2,FALSE),\"\")","v":""},{"$f":"IFERROR(VLOOKUP(C1290,Tidligere_henvendelser!A:B,2,FALSE),\"\")","v":""}]
[{"$f":"ReplaceNumbers(C1291)","v":"Vangedevej"},{"$f":"_xlfn.NUMBERVALUE(FindNumbers(C1291))","v":222},"Vangedevej 222A, 3. tv","2870 Dyssegård ",2100000,"2021-09-01","Alm. Salg",35000,2,"Ejerlejlighed",60,1948,{"$f":"IF(ISBLANK(VLOOKUP(A1291,Veje!A:B,2,FALSE)),INDEX(Veje!$D$2:$RT$652,MATCH(A1291,Veje!$A$2:$A$652,0),MATCH(B1291,Veje!$D$1:$RT$1,0)),VLOOKUP(A1291,Veje!A:B,2,FALSE))","v":"DY"},{"$f":"IFERROR(VLOOKUP(C1291,Medlemmer!A:C,3,FALSE),\"\")","v":""},{"$f":"IFERROR(VLOOKUP(C1291,Medlemmer!A:C,2,FALSE),\"\")","v":""},{"$f":"IFERROR(VLOOKUP(C1291,Tidligere_henvendelser!A:B,2,FALSE),\"\")","v":""}]
[{"$f":"ReplaceNumbers(C1292)","v":"Kærvangen"},{"$f":"_xlfn.NUMBERVALUE(FindNumbers(C1292))","v":6},"Kærvangen 6","2820 Gentofte",10195000,"2021-09-01","Alm. Salg",65774,6,"Villa",155,1946,{"$f":"IF(ISBLANK(VLOOKUP(A1292,Veje!A:B,2,FALSE)),INDEX(Veje!$D$2:$RT$652,MATCH(A1292,Veje!$A$2:$A$652,0),MATCH(B1292,Veje!$D$1:$RT$1,0)),VLOOKUP(A1292,Veje!A:B,2,FALSE))","v":"GSG"},{"$f":"IFERROR(VLOOKUP(C1292,Medlemmer!A:C,3,FALSE),\"\")","v":""},{"$f":"IFERROR(VLOOKUP(C1292,Medlemmer!A:C,2,FALSE),\"\")","v":""},{"$f":"IFERROR(VLOOKUP(C1292,Tidligere_henvendelser!A:B,2,FALSE),\"\")","v":"20Q1"}]
[{"$f":"ReplaceNumbers(C1293)","v":"Soløsevej"},{"$f":"_xlfn.NUMBERVALUE(FindNumbers(C1293))","v":37},"Soløsevej 37","2820 Gentofte",17000000,"2021-09-01","Alm. Salg",73913,10,"Villa",126,1957,{"$f":"IF(ISBLANK(VLOOKUP(A1293,Veje!A:B,2,FALSE)),INDEX(Veje!$D$2:$RT$652,MATCH(A1293,Veje!$A$2:$A$652,0),MATCH(B1293,Veje!$D$1:$RT$1,0)),VLOOKUP(A1293,Veje!A:B,2,FALSE))","v":"BJGF"},{"$f":"IFERROR(VLOOKUP(C1293,Medlemmer!A:C,3,FALSE),\"\")","v":""},{"$f":"IFERROR(VLOOKUP(C1293,Medlemmer!A:C,2,FALSE),\"\")","v":""},{"$f":"IFERROR(VLOOKUP(C1293,Tidligere_henvendelser!A:B,2,FALSE),\"\")","v":""}]
[{"$f":"ReplaceNumbers(C1294)","v":"Bernstorffsvej"},{"$f":"_xlfn.NUMBERVALUE(FindNumbers(C1294))","v":178},"Bernstorffsvej 178","2920 Charlottenlund",8800000,"2021-09-01","Alm. Salg",56050,6,"Rækkehus",157,1927,{"$f":"IF(ISBLANK(VLOOKUP(A1294,Veje!A:B,2,FALSE)),INDEX(Veje!$D$2:$RT$652,MATCH(A1294,Veje!$A$2:$A$652,0),MATCH(B1294,Veje!$D$1:$RT$1,0)),VLOOKUP(A1294,Veje!A:B,2,FALSE))","v":"HMG"},{"$f":"IFERROR(VLOOKUP(C1294,Medlemmer!A:C,3,FALSE),\"\")","v":""},{"$f":"IFERROR(VLOOKUP(C1294,Medlemmer!A:C,2,FALSE),\"\")","v":""},{"$f":"IFERROR(VLOOKUP(C1294,Tidligere_henvendelser!A:B,2,FALSE),\"\")","v":""}]
[{"$f":"ReplaceNumbers(C1295)","v":"Ræveskovsvej"},{"$f":"_xlfn.NUMBERVALUE(FindNumbers(C1295))","v":3},"Ræveskovsvej 3B","2820 Gentofte",9650000,"2021-09-02","Alm. Salg",39876,8,"Villa",242,1923,{"$f":"IF(ISBLANK(VLOOKUP(A1295,Veje!A:B,2,FALSE)),INDEX(Veje!$D$2:$RT$652,MATCH(A1295,Veje!$A$2:$A$652,0),MATCH(B1295,Veje!$D$1:$RT$1,0)),VLOOKUP(A1295,Veje!A:B,2,FALSE))","v":"GSG"},{"$f":"IFERROR(VLOOKUP(C1295,Medlemmer!A:C,3,FALSE),\"\")","v":""},{"$f":"IFERROR(VLOOKUP(C1295,Medlemmer!A:C,2,FALSE),\"\")","v":""},{"$f":"IFERROR(VLOOKUP(C1295,Tidligere_henvendelser!A:B,2,FALSE),\"\")","v":""}]
[{"$f":"ReplaceNumbers(C1296)","v":"Vangedevej"},{"$f":"_xlfn.NUMBERVALUE(FindNumbers(C1296))","v":228},"Vangedevej 228, 2. th","2870 Dyssegård ",1720000,"2021-09-02","Alm. Salg",27741,2,"Ejerlejlighed",62,1948,{"$f":"IF(ISBLANK(VLOOKUP(A1296,Veje!A:B,2,FALSE)),INDEX(Veje!$D$2:$RT$652,MATCH(A1296,Veje!$A$2:$A$652,0),MATCH(B1296,Veje!$D$1:$RT$1,0)),VLOOKUP(A1296,Veje!A:B,2,FALSE))","v":"DY"},{"$f":"IFERROR(VLOOKUP(C1296,Medlemmer!A:C,3,FALSE),\"\")","v":""},{"$f":"IFERROR(VLOOKUP(C1296,Medlemmer!A:C,2,FALSE),\"\")","v":""},{"$f":"IFERROR(VLOOKUP(C1296,Tidligere_henvendelser!A:B,2,FALSE),\"\")","v":""}]
[{"$f":"ReplaceNumbers(C1297)","v":"Enighedsvej"},{"$f":"_xlfn.NUMBERVALUE(FindNumbers(C1297))","v":2},"Enighedsvej 2, 1. tv","2920 Charlottenlund",3867500,"2021-09-02","Fam. Salg",39464,4,"Ejerlejlighed",98,1934,{"$f":"IF(ISBLANK(VLOOKUP(A1297,Veje!A:B,2,FALSE)),INDEX(Veje!$D$2:$RT$652,MATCH(A1297,Veje!$A$2:$A$652,0),MATCH(B1297,Veje!$D$1:$RT$1,0)),VLOOKUP(A1297,Veje!A:B,2,FALSE))","v":"OCG"},{"$f":"IFERROR(VLOOKUP(C1297,Medlemmer!A:C,3,FALSE),\"\")","v":""},{"$f":"IFERROR(VLOOKUP(C1297,Medlemmer!A:C,2,FALSE),\"\")","v":""},{"$f":"IFERROR(VLOOKUP(C1297,Tidligere_henvendelser!A:B,2,FALSE),\"\")","v":""}]
[{"$f":"ReplaceNumbers(C1298)","v":"Blidahpark"},{"$f":"_xlfn.NUMBERVALUE(FindNumbers(C1298))","v":4},"Blidahpark 4, 1. tv","2900 Hellerup",5055000,"2021-09-02","Alm. Salg",53210,4,"Ejerlejlighed",95,1933,{"$f":"IF(ISBLANK(VLOOKUP(A1298,Veje!A:B,2,FALSE)),INDEX(Veje!$D$2:$RT$652,MATCH(A1298,Veje!$A$2:$A$652,0),MATCH(B1298,Veje!$D$1:$RT$1,0)),VLOOKUP(A1298,Veje!A:B,2,FALSE))","v":"HMG"},{"$f":"IFERROR(VLOOKUP(C1298,Medlemmer!A:C,3,FALSE),\"\")","v":""},{"$f":"IFERROR(VLOOKUP(C1298,Medlemmer!A:C,2,FALSE),\"\")","v":""},{"$f":"IFERROR(VLOOKUP(C1298,Tidligere_henvendelser!A:B,2,FALSE),\"\")","v":""}]
[{"$f":"ReplaceNumbers(C1299)","v":"Lyngbyvej"},{"$f":"_xlfn.NUMBERVALUE(FindNumbers(C1299))","v":291},"Lyngbyvej 291A","2900 Hellerup",6900000,"2021-09-03","Alm. Salg",30000,7,"Villa",230,1973,{"$f":"IF(ISBLANK(VLOOKUP(A1299,Veje!A:B,2,FALSE)),INDEX(Veje!$D$2:$RT$652,MATCH(A1299,Veje!$A$2:$A$652,0),MATCH(B1299,Veje!$D$1:$RT$1,0)),VLOOKUP(A1299,Veje!A:B,2,FALSE))","v":"DY"},{"$f":"IFERROR(VLOOKUP(C1299,Medlemmer!A:C,3,FALSE),\"\")","v":""},{"$f":"IFERROR(VLOOKUP(C1299,Medlemmer!A:C,2,FALSE),\"\")","v":""},{"$f":"IFERROR(VLOOKUP(C1299,Tidligere_henvendelser!A:B,2,FALSE),\"\")","v":""}]
[{"$f":"ReplaceNumbers(C1300)","v":"Rødstensvej"},{"$f":"_xlfn.NUMBERVALUE(FindNumbers(C1300))","v":21},"Rødstensvej 21","2900 Hellerup",11300000,"2021-09-03","Alm. Salg",63841,7,"Villa",177,1933,{"$f":"IF(ISBLANK(VLOOKUP(A1300,Veje!A:B,2,FALSE)),INDEX(Veje!$D$2:$RT$652,MATCH(A1300,Veje!$A$2:$A$652,0),MATCH(B1300,Veje!$D$1:$RT$1,0)),VLOOKUP(A1300,Veje!A:B,2,FALSE))","v":"DY"},{"$f":"IFERROR(VLOOKUP(C1300,Medlemmer!A:C,3,FALSE),\"\")","v":""},{"$f":"IFERROR(VLOOKUP(C1300,Medlemmer!A:C,2,FALSE),\"\")","v":""},{"$f":"IFERROR(VLOOKUP(C1300,Tidligere_henvendelser!A:B,2,FALSE),\"\")","v":""}]
[{"$f":"ReplaceNumbers(C1301)","v":"Tværbommen"},{"$f":"_xlfn.NUMBERVALUE(FindNumbers(C1301))","v":21},"Tværbommen 21, 2. tv","2820 Gentofte",2575000,"2021-09-04","Alm. Salg",40234,2,"Ejerlejlighed",64,1946,{"$f":"IF(ISBLANK(VLOOKUP(A1301,Veje!A:B,2,FALSE)),INDEX(Veje!$D$2:$RT$652,MATCH(A1301,Veje!$A$2:$A$652,0),MATCH(B1301,Veje!$D$1:$RT$1,0)),VLOOKUP(A1301,Veje!A:B,2,FALSE))","v":"GSG"},{"$f":"IFERROR(VLOOKUP(C1301,Medlemmer!A:C,3,FALSE),\"\")","v":""},{"$f":"IFERROR(VLOOKUP(C1301,Medlemmer!A:C,2,FALSE),\"\")","v":""},{"$f":"IFERROR(VLOOKUP(C1301,Tidligere_henvendelser!A:B,2,FALSE),\"\")","v":""}]
[{"$f":"ReplaceNumbers(C1302)","v":"Løvsangervej"},{"$f":"_xlfn.NUMBERVALUE(FindNumbers(C1302))","v":5},"Løvsangervej 5","2900 Hellerup",13125000,"2021-09-05","Alm. Salg",81521,6,"Villa",161,1925,{"$f":"IF(ISBLANK(VLOOKUP(A1302,Veje!A:B,2,FALSE)),INDEX(Veje!$D$2:$RT$652,MATCH(A1302,Veje!$A$2:$A$652,0),MATCH(B1302,Veje!$D$1:$RT$1,0)),VLOOKUP(A1302,Veje!A:B,2,FALSE))","v":"HMG"},{"$f":"IFERROR(VLOOKUP(C1302,Medlemmer!A:C,3,FALSE),\"\")","v":""},{"$f":"IFERROR(VLOOKUP(C1302,Medlemmer!A:C,2,FALSE),\"\")","v":""},{"$f":"IFERROR(VLOOKUP(C1302,Tidligere_henvendelser!A:B,2,FALSE),\"\")","v":""}]
[{"$f":"ReplaceNumbers(C1303)","v":"Skjoldagervej"},{"$f":"_xlfn.NUMBERVALUE(FindNumbers(C1303))","v":9},"Skjoldagervej 9","2820 Gentofte",8400000,"2021-09-05","Alm. Salg",89361,4,"Villa",94,1936,{"$f":"IF(ISBLANK(VLOOKUP(A1303,Veje!A:B,2,FALSE)),INDEX(Veje!$D$2:$RT$652,MATCH(A1303,Veje!$A$2:$A$652,0),MATCH(B1303,Veje!$D$1:$RT$1,0)),VLOOKUP(A1303,Veje!A:B,2,FALSE))","v":"BJGF"},{"$f":"IFERROR(VLOOKUP(C1303,Medlemmer!A:C,3,FALSE),\"\")","v":""},{"$f":"IFERROR(VLOOKUP(C1303,Medlemmer!A:C,2,FALSE),\"\")","v":""},{"$f":"IFERROR(VLOOKUP(C1303,Tidligere_henvendelser!A:B,2,FALSE),\"\")","v":""}]
[{"$f":"ReplaceNumbers(C1304)","v":"Torkel Badens Vej"},{"$f":"_xlfn.NUMBERVALUE(FindNumbers(C1304))","v":13},"Torkel Badens Vej 13","2900 Hellerup",15000000,"2021-09-05","Alm. Salg",66371,9,"Villa",226,1949,{"$f":"IF(ISBLANK(VLOOKUP(A1304,Veje!A:B,2,FALSE)),INDEX(Veje!$D$2:$RT$652,MATCH(A1304,Veje!$A$2:$A$652,0),MATCH(B1304,Veje!$D$1:$RT$1,0)),VLOOKUP(A1304,Veje!A:B,2,FALSE))","v":"HMG"},{"$f":"IFERROR(VLOOKUP(C1304,Medlemmer!A:C,3,FALSE),\"\")","v":""},{"$f":"IFERROR(VLOOKUP(C1304,Medlemmer!A:C,2,FALSE),\"\")","v":""},{"$f":"IFERROR(VLOOKUP(C1304,Tidligere_henvendelser!A:B,2,FALSE),\"\")","v":""}]
[{"$f":"ReplaceNumbers(C1305)","v":"Plantagevej"},{"$f":"_xlfn.NUMBERVALUE(FindNumbers(C1305))","v":53},"Plantagevej 53","2820 Gentofte",3400000,"2021-09-05","Fam. Salg",33333,5,"Villa",102,1952,{"$f":"IF(ISBLANK(VLOOKUP(A1305,Veje!A:B,2,FALSE)),INDEX(Veje!$D$2:$RT$652,MATCH(A1305,Veje!$A$2:$A$652,0),MATCH(B1305,Veje!$D$1:$RT$1,0)),VLOOKUP(A1305,Veje!A:B,2,FALSE))","v":"GSG"},{"$f":"IFERROR(VLOOKUP(C1305,Medlemmer!A:C,3,FALSE),\"\")","v":""},{"$f":"IFERROR(VLOOKUP(C1305,Medlemmer!A:C,2,FALSE),\"\")","v":""},{"$f":"IFERROR(VLOOKUP(C1305,Tidligere_henvendelser!A:B,2,FALSE),\"\")","v":""}]
[{"$f":"ReplaceNumbers(C1306)","v":"Hovmarksvej"},{"$f":"_xlfn.NUMBERVALUE(FindNumbers(C1306))","v":73},"Hovmarksvej 73","2920 Charlottenlund",17000000,"2021-09-05","Alm. Salg",76923,4,"Villa",221,1935,{"$f":"IF(ISBLANK(VLOOKUP(A1306,Veje!A:B,2,FALSE)),INDEX(Veje!$D$2:$RT$652,MATCH(A1306,Veje!$A$2:$A$652,0),MATCH(B1306,Veje!$D$1:$RT$1,0)),VLOOKUP(A1306,Veje!A:B,2,FALSE))","v":"BJGF"},{"$f":"IFERROR(VLOOKUP(C1306,Medlemmer!A:C,3,FALSE),\"\")","v":""},{"$f":"IFERROR(VLOOKUP(C1306,Medlemmer!A:C,2,FALSE),\"\")","v":""},{"$f":"IFERROR(VLOOKUP(C1306,Tidligere_henvendelser!A:B,2,FALSE),\"\")","v":""}]
[{"$f":"ReplaceNumbers(C1307)","v":"Callisensvej"},{"$f":"_xlfn.NUMBERVALUE(FindNumbers(C1307))","v":10},"Callisensvej 10C","2900 Hellerup",13500000,"2021-09-06","Alm. Salg",95744,5,"Villa",141,1921,{"$f":"IF(ISBLANK(VLOOKUP(A1307,Veje!A:B,2,FALSE)),INDEX(Veje!$D$2:$RT$652,MATCH(A1307,Veje!$A$2:$A$652,0),MATCH(B1307,Veje!$D$1:$RT$1,0)),VLOOKUP(A1307,Veje!A:B,2,FALSE))","v":"HMG"},{"$f":"IFERROR(VLOOKUP(C1307,Medlemmer!A:C,3,FALSE),\"\")","v":""},{"$f":"IFERROR(VLOOKUP(C1307,Medlemmer!A:C,2,FALSE),\"\")","v":""},{"$f":"IFERROR(VLOOKUP(C1307,Tidligere_henvendelser!A:B,2,FALSE),\"\")","v":""}]
[{"$f":"ReplaceNumbers(C1308)","v":"Phistersvej"},{"$f":"_xlfn.NUMBERVALUE(FindNumbers(C1308))","v":1},"Phistersvej 1, 1. th","2900 Hellerup",6525000,"2021-09-07","Alm. Salg",60416,4,"Ejerlejlighed",108,1952,{"$f":"IF(ISBLANK(VLOOKUP(A1308,Veje!A:B,2,FALSE)),INDEX(Veje!$D$2:$RT$652,MATCH(A1308,Veje!$A$2:$A$652,0),MATCH(B1308,Veje!$D$1:$RT$1,0)),VLOOKUP(A1308,Veje!A:B,2,FALSE))","v":"HMG"},{"$f":"IFERROR(VLOOKUP(C1308,Medlemmer!A:C,3,FALSE),\"\")","v":""},{"$f":"IFERROR(VLOOKUP(C1308,Medlemmer!A:C,2,FALSE),\"\")","v":""},{"$f":"IFERROR(VLOOKUP(C1308,Tidligere_henvendelser!A:B,2,FALSE),\"\")","v":""}]
[{"$f":"ReplaceNumbers(C1309)","v":"Søndergårdsvej"},{"$f":"_xlfn.NUMBERVALUE(FindNumbers(C1309))","v":2},"Søndergårdsvej 2, 2. th","2870 Dyssegård ",1650000,"2021-09-07","Fam. Salg",18539,3,"Ejerlejlighed",89,1986,{"$f":"IF(ISBLANK(VLOOKUP(A1309,Veje!A:B,2,FALSE)),INDEX(Veje!$D$2:$RT$652,MATCH(A1309,Veje!$A$2:$A$652,0),MATCH(B1309,Veje!$D$1:$RT$1,0)),VLOOKUP(A1309,Veje!A:B,2,FALSE))","v":"DY"},{"$f":"IFERROR(VLOOKUP(C1309,Medlemmer!A:C,3,FALSE),\"\")","v":""},{"$f":"IFERROR(VLOOKUP(C1309,Medlemmer!A:C,2,FALSE),\"\")","v":""},{"$f":"IFERROR(VLOOKUP(C1309,Tidligere_henvendelser!A:B,2,FALSE),\"\")","v":""}]
[{"$f":"ReplaceNumbers(C1310)","v":"Strandvejen"},{"$f":"_xlfn.NUMBERVALUE(FindNumbers(C1310))","v":383},"Strandvejen 383","2930 Klampenborg",22200000,"2021-09-07","Alm. Salg",118716,5,"Villa",187,1881,{"$f":"IF(ISBLANK(VLOOKUP(A1310,Veje!A:B,2,FALSE)),INDEX(Veje!$D$2:$RT$652,MATCH(A1310,Veje!$A$2:$A$652,0),MATCH(B1310,Veje!$D$1:$RT$1,0)),VLOOKUP(A1310,Veje!A:B,2,FALSE))","v":"SKGF"},{"$f":"IFERROR(VLOOKUP(C1310,Medlemmer!A:C,3,FALSE),\"\")","v":""},{"$f":"IFERROR(VLOOKUP(C1310,Medlemmer!A:C,2,FALSE),\"\")","v":""},{"$f":"IFERROR(VLOOKUP(C1310,Tidligere_henvendelser!A:B,2,FALSE),\"\")","v":""}]
[{"$f":"ReplaceNumbers(C1311)","v":"Hjortevangen"},{"$f":"_xlfn.NUMBERVALUE(FindNumbers(C1311))","v":4},"Hjortevangen 4","2920 Charlottenlund",16300000,"2021-09-08","Alm. Salg",98787,8,"Villa",116,1955,{"$f":"IF(ISBLANK(VLOOKUP(A1311,Veje!A:B,2,FALSE)),INDEX(Veje!$D$2:$RT$652,MATCH(A1311,Veje!$A$2:$A$652,0),MATCH(B1311,Veje!$D$1:$RT$1,0)),VLOOKUP(A1311,Veje!A:B,2,FALSE))","v":"OCG"},{"$f":"IFERROR(VLOOKUP(C1311,Medlemmer!A:C,3,FALSE),\"\")","v":""},{"$f":"IFERROR(VLOOKUP(C1311,Medlemmer!A:C,2,FALSE),\"\")","v":""},{"$f":"IFERROR(VLOOKUP(C1311,Tidligere_henvendelser!A:B,2,FALSE),\"\")","v":""}]
[{"$f":"ReplaceNumbers(C1312)","v":"Hartmannsvej"},{"$f":"_xlfn.NUMBERVALUE(FindNumbers(C1312))","v":31},"Hartmannsvej 31B","2900 Hellerup",6600000,"2021-09-08","Alm. Salg",66000,3,"Villa",100,1954,{"$f":"IF(ISBLANK(VLOOKUP(A1312,Veje!A:B,2,FALSE)),INDEX(Veje!$D$2:$RT$652,MATCH(A1312,Veje!$A$2:$A$652,0),MATCH(B1312,Veje!$D$1:$RT$1,0)),VLOOKUP(A1312,Veje!A:B,2,FALSE))","v":"HMG"},{"$f":"IFERROR(VLOOKUP(C1312,Medlemmer!A:C,3,FALSE),\"\")","v":""},{"$f":"IFERROR(VLOOKUP(C1312,Medlemmer!A:C,2,FALSE),\"\")","v":""},{"$f":"IFERROR(VLOOKUP(C1312,Tidligere_henvendelser!A:B,2,FALSE),\"\")","v":""}]
[{"$f":"ReplaceNumbers(C1313)","v":"Klampenborgvej"},{"$f":"_xlfn.NUMBERVALUE(FindNumbers(C1313))","v":35},"Klampenborgvej 35C","2930 Klampenborg",53000000,"2021-09-08","Alm. Salg",148459,12,"Villa",357,1926,{"$f":"IF(ISBLANK(VLOOKUP(A1313,Veje!A:B,2,FALSE)),INDEX(Veje!$D$2:$RT$652,MATCH(A1313,Veje!$A$2:$A$652,0),MATCH(B1313,Veje!$D$1:$RT$1,0)),VLOOKUP(A1313,Veje!A:B,2,FALSE))","v":"OCG"},{"$f":"IFERROR(VLOOKUP(C1313,Medlemmer!A:C,3,FALSE),\"\")","v":""},{"$f":"IFERROR(VLOOKUP(C1313,Medlemmer!A:C,2,FALSE),\"\")","v":""},{"$f":"IFERROR(VLOOKUP(C1313,Tidligere_henvendelser!A:B,2,FALSE),\"\")","v":""}]
[{"$f":"ReplaceNumbers(C1314)","v":"Plantevej"},{"$f":"_xlfn.NUMBERVALUE(FindNumbers(C1314))","v":1},"Plantevej 1, 4. th","2870 Dyssegård ",2100000,"2021-09-08","Alm. Salg",36206,2,"Ejerlejlighed",58,1948,{"$f":"IF(ISBLANK(VLOOKUP(A1314,Veje!A:B,2,FALSE)),INDEX(Veje!$D$2:$RT$652,MATCH(A1314,Veje!$A$2:$A$652,0),MATCH(B1314,Veje!$D$1:$RT$1,0)),VLOOKUP(A1314,Veje!A:B,2,FALSE))","v":"DY"},{"$f":"IFERROR(VLOOKUP(C1314,Medlemmer!A:C,3,FALSE),\"\")","v":""},{"$f":"IFERROR(VLOOKUP(C1314,Medlemmer!A:C,2,FALSE),\"\")","v":""},{"$f":"IFERROR(VLOOKUP(C1314,Tidligere_henvendelser!A:B,2,FALSE),\"\")","v":""}]
[{"$f":"ReplaceNumbers(C1315)","v":"Solbakkevej"},{"$f":"_xlfn.NUMBERVALUE(FindNumbers(C1315))","v":41},"Solbakkevej 41","2820 Gentofte",9495000,"2021-09-08","Alm. Salg",81153,3,"Villa",117,1947,{"$f":"IF(ISBLANK(VLOOKUP(A1315,Veje!A:B,2,FALSE)),INDEX(Veje!$D$2:$RT$652,MATCH(A1315,Veje!$A$2:$A$652,0),MATCH(B1315,Veje!$D$1:$RT$1,0)),VLOOKUP(A1315,Veje!A:B,2,FALSE))","v":"BJGF"},{"$f":"IFERROR(VLOOKUP(C1315,Medlemmer!A:C,3,FALSE),\"\")","v":""},{"$f":"IFERROR(VLOOKUP(C1315,Medlemmer!A:C,2,FALSE),\"\")","v":""},{"$f":"IFERROR(VLOOKUP(C1315,Tidligere_henvendelser!A:B,2,FALSE),\"\")","v":""}]
[{"$f":"ReplaceNumbers(C1316)","v":"Jægersborgvej"},{"$f":"_xlfn.NUMBERVALUE(FindNumbers(C1316))","v":118},"Jægersborgvej 118, 2. th","2820 Gentofte",1600000,"2021-09-08","Alm. Salg",16842,3,"Ejerlejlighed",95,1949,{"$f":"IF(ISBLANK(VLOOKUP(A1316,Veje!A:B,2,FALSE)),INDEX(Veje!$D$2:$RT$652,MATCH(A1316,Veje!$A$2:$A$652,0),MATCH(B1316,Veje!$D$1:$RT$1,0)),VLOOKUP(A1316,Veje!A:B,2,FALSE))","v":"GSG"},{"$f":"IFERROR(VLOOKUP(C1316,Medlemmer!A:C,3,FALSE),\"\")","v":""},{"$f":"IFERROR(VLOOKUP(C1316,Medlemmer!A:C,2,FALSE),\"\")","v":""},{"$f":"IFERROR(VLOOKUP(C1316,Tidligere_henvendelser!A:B,2,FALSE),\"\")","v":""}]
[{"$f":"ReplaceNumbers(C1317)","v":"Markvangen"},{"$f":"_xlfn.NUMBERVALUE(FindNumbers(C1317))","v":25},"Markvangen 25","2820 Gentofte",6495000,"2021-09-09","Alm. Salg",63676,3,"Villa",102,1932,{"$f":"IF(ISBLANK(VLOOKUP(A1317,Veje!A:B,2,FALSE)),INDEX(Veje!$D$2:$RT$652,MATCH(A1317,Veje!$A$2:$A$652,0),MATCH(B1317,Veje!$D$1:$RT$1,0)),VLOOKUP(A1317,Veje!A:B,2,FALSE))","v":"GSG"},{"$f":"IFERROR(VLOOKUP(C1317,Medlemmer!A:C,3,FALSE),\"\")","v":""},{"$f":"IFERROR(VLOOKUP(C1317,Medlemmer!A:C,2,FALSE),\"\")","v":""},{"$f":"IFERROR(VLOOKUP(C1317,Tidligere_henvendelser!A:B,2,FALSE),\"\")","v":""}]
[{"$f":"ReplaceNumbers(C1318)","v":"Ordrupvej"},{"$f":"_xlfn.NUMBERVALUE(FindNumbers(C1318))","v":81},"Ordrupvej 81B, 3. th","2920 Charlottenlund",3795000,"2021-09-09","Alm. Salg",44647,3,"Ejerlejlighed",85,1955,{"$f":"IF(ISBLANK(VLOOKUP(A1318,Veje!A:B,2,FALSE)),INDEX(Veje!$D$2:$RT$652,MATCH(A1318,Veje!$A$2:$A$652,0),MATCH(B1318,Veje!$D$1:$RT$1,0)),VLOOKUP(A1318,Veje!A:B,2,FALSE))","v":"OCG"},{"$f":"IFERROR(VLOOKUP(C1318,Medlemmer!A:C,3,FALSE),\"\")","v":""},{"$f":"IFERROR(VLOOKUP(C1318,Medlemmer!A:C,2,FALSE),\"\")","v":""},{"$f":"IFERROR(VLOOKUP(C1318,Tidligere_henvendelser!A:B,2,FALSE),\"\")","v":""}]
[{"$f":"ReplaceNumbers(C1319)","v":"Brannersvej"},{"$f":"_xlfn.NUMBERVALUE(FindNumbers(C1319))","v":23},"Brannersvej 23, 1. 33","2920 Charlottenlund",2950000,"2021-09-09","Alm. Salg",44696,2,"Ejerlejlighed",66,1972,{"$f":"IF(ISBLANK(VLOOKUP(A1319,Veje!A:B,2,FALSE)),INDEX(Veje!$D$2:$RT$652,MATCH(A1319,Veje!$A$2:$A$652,0),MATCH(B1319,Veje!$D$1:$RT$1,0)),VLOOKUP(A1319,Veje!A:B,2,FALSE))","v":"OCG"},{"$f":"IFERROR(VLOOKUP(C1319,Medlemmer!A:C,3,FALSE),\"\")","v":""},{"$f":"IFERROR(VLOOKUP(C1319,Medlemmer!A:C,2,FALSE),\"\")","v":""},{"$f":"IFERROR(VLOOKUP(C1319,Tidligere_henvendelser!A:B,2,FALSE),\"\")","v":""}]
[{"$f":"ReplaceNumbers(C1320)","v":"Erslevsvej"},{"$f":"_xlfn.NUMBERVALUE(FindNumbers(C1320))","v":1},"Erslevsvej 1","2820 Gentofte",4775000,"2021-09-11","Fam. Salg",31414,4,"Villa",152,1955,{"$f":"IF(ISBLANK(VLOOKUP(A1320,Veje!A:B,2,FALSE)),INDEX(Veje!$D$2:$RT$652,MATCH(A1320,Veje!$A$2:$A$652,0),MATCH(B1320,Veje!$D$1:$RT$1,0)),VLOOKUP(A1320,Veje!A:B,2,FALSE))","v":"BJGF"},{"$f":"IFERROR(VLOOKUP(C1320,Medlemmer!A:C,3,FALSE),\"\")","v":""},{"$f":"IFERROR(VLOOKUP(C1320,Medlemmer!A:C,2,FALSE),\"\")","v":""},{"$f":"IFERROR(VLOOKUP(C1320,Tidligere_henvendelser!A:B,2,FALSE),\"\")","v":""}]
[{"$f":"ReplaceNumbers(C1321)","v":"Schimmelmannsvej"},{"$f":"_xlfn.NUMBERVALUE(FindNumbers(C1321))","v":5},"Schimmelmannsvej 5, st","2930 Klampenborg",10400000,"2021-09-11","Alm. Salg",68874,3,"Ejerlejlighed",151,1929,{"$f":"IF(ISBLANK(VLOOKUP(A1321,Veje!A:B,2,FALSE)),INDEX(Veje!$D$2:$RT$652,MATCH(A1321,Veje!$A$2:$A$652,0),MATCH(B1321,Veje!$D$1:$RT$1,0)),VLOOKUP(A1321,Veje!A:B,2,FALSE))","v":"SKGF"},{"$f":"IFERROR(VLOOKUP(C1321,Medlemmer!A:C,3,FALSE),\"\")","v":""},{"$f":"IFERROR(VLOOKUP(C1321,Medlemmer!A:C,2,FALSE),\"\")","v":""},{"$f":"IFERROR(VLOOKUP(C1321,Tidligere_henvendelser!A:B,2,FALSE),\"\")","v":""}]
[{"$f":"ReplaceNumbers(C1322)","v":"Schimmelmannsvej"},{"$f":"_xlfn.NUMBERVALUE(FindNumbers(C1322))","v":5},"Schimmelmannsvej 5, 1","2930 Klampenborg",10400000,"2021-09-11","Alm. Salg",48148,6,"Ejerlejlighed",216,1929,{"$f":"IF(ISBLANK(VLOOKUP(A1322,Veje!A:B,2,FALSE)),INDEX(Veje!$D$2:$RT$652,MATCH(A1322,Veje!$A$2:$A$652,0),MATCH(B1322,Veje!$D$1:$RT$1,0)),VLOOKUP(A1322,Veje!A:B,2,FALSE))","v":"SKGF"},{"$f":"IFERROR(VLOOKUP(C1322,Medlemmer!A:C,3,FALSE),\"\")","v":""},{"$f":"IFERROR(VLOOKUP(C1322,Medlemmer!A:C,2,FALSE),\"\")","v":""},{"$f":"IFERROR(VLOOKUP(C1322,Tidligere_henvendelser!A:B,2,FALSE),\"\")","v":""}]
[{"$f":"ReplaceNumbers(C1323)","v":"Strandvejen"},{"$f":"_xlfn.NUMBERVALUE(FindNumbers(C1323))","v":294},"Strandvejen 294","2930 Klampenborg",20000000,"2021-09-11","Alm. Salg",99502,6,"Villa",201,1896,{"$f":"IF(ISBLANK(VLOOKUP(A1323,Veje!A:B,2,FALSE)),INDEX(Veje!$D$2:$RT$652,MATCH(A1323,Veje!$A$2:$A$652,0),MATCH(B1323,Veje!$D$1:$RT$1,0)),VLOOKUP(A1323,Veje!A:B,2,FALSE))","v":"SKGF"},{"$f":"IFERROR(VLOOKUP(C1323,Medlemmer!A:C,3,FALSE),\"\")","v":""},{"$f":"IFERROR(VLOOKUP(C1323,Medlemmer!A:C,2,FALSE),\"\")","v":""},{"$f":"IFERROR(VLOOKUP(C1323,Tidligere_henvendelser!A:B,2,FALSE),\"\")","v":""}]
[{"$f":"ReplaceNumbers(C1324)","v":"Dalstrøget"},{"$f":"_xlfn.NUMBERVALUE(FindNumbers(C1324))","v":114},"Dalstrøget 114, 1","2870 Dyssegård ",2520000,"2021-09-12","Alm. Salg",28965,3,"Ejerlejlighed",87,1959,{"$f":"IF(ISBLANK(VLOOKUP(A1324,Veje!A:B,2,FALSE)),INDEX(Veje!$D$2:$RT$652,MATCH(A1324,Veje!$A$2:$A$652,0),MATCH(B1324,Veje!$D$1:$RT$1,0)),VLOOKUP(A1324,Veje!A:B,2,FALSE))","v":"DY"},{"$f":"IFERROR(VLOOKUP(C1324,Medlemmer!A:C,3,FALSE),\"\")","v":""},{"$f":"IFERROR(VLOOKUP(C1324,Medlemmer!A:C,2,FALSE),\"\")","v":""},{"$f":"IFERROR(VLOOKUP(C1324,Tidligere_henvendelser!A:B,2,FALSE),\"\")","v":""}]
[{"$f":"ReplaceNumbers(C1325)","v":"Gisselfeld Alle"},{"$f":"_xlfn.NUMBERVALUE(FindNumbers(C1325))","v":8},"Gisselfeld Alle 8","2820 Gentofte",13350000,"2021-09-12","Alm. Salg",70263,8,"Villa",190,1934,{"$f":"IF(ISBLANK(VLOOKUP(A1325,Veje!A:B,2,FALSE)),INDEX(Veje!$D$2:$RT$652,MATCH(A1325,Veje!$A$2:$A$652,0),MATCH(B1325,Veje!$D$1:$RT$1,0)),VLOOKUP(A1325,Veje!A:B,2,FALSE))","v":"GSG"},{"$f":"IFERROR(VLOOKUP(C1325,Medlemmer!A:C,3,FALSE),\"\")","v":""},{"$f":"IFERROR(VLOOKUP(C1325,Medlemmer!A:C,2,FALSE),\"\")","v":""},{"$f":"IFERROR(VLOOKUP(C1325,Tidligere_henvendelser!A:B,2,FALSE),\"\")","v":""}]
[{"$f":"ReplaceNumbers(C1326)","v":"Snogegårdsvej"},{"$f":"_xlfn.NUMBERVALUE(FindNumbers(C1326))","v":97},"Snogegårdsvej 97","2820 Gentofte",6300000,"2021-09-12","Alm. Salg",54310,3,"Villa",116,1941,{"$f":"IF(ISBLANK(VLOOKUP(A1326,Veje!A:B,2,FALSE)),INDEX(Veje!$D$2:$RT$652,MATCH(A1326,Veje!$A$2:$A$652,0),MATCH(B1326,Veje!$D$1:$RT$1,0)),VLOOKUP(A1326,Veje!A:B,2,FALSE))","v":"GSG"},{"$f":"IFERROR(VLOOKUP(C1326,Medlemmer!A:C,3,FALSE),\"\")","v":""},{"$f":"IFERROR(VLOOKUP(C1326,Medlemmer!A:C,2,FALSE),\"\")","v":""},{"$f":"IFERROR(VLOOKUP(C1326,Tidligere_henvendelser!A:B,2,FALSE),\"\")","v":""}]
[{"$f":"ReplaceNumbers(C1327)","v":"Enighedsvej"},{"$f":"_xlfn.NUMBERVALUE(FindNumbers(C1327))","v":4},"Enighedsvej 4, 2. th","2920 Charlottenlund",4925000,"2021-09-12","Alm. Salg",50255,3,"Ejerlejlighed",98,1934,{"$f":"IF(ISBLANK(VLOOKUP(A1327,Veje!A:B,2,FALSE)),INDEX(Veje!$D$2:$RT$652,MATCH(A1327,Veje!$A$2:$A$652,0),MATCH(B1327,Veje!$D$1:$RT$1,0)),VLOOKUP(A1327,Veje!A:B,2,FALSE))","v":"OCG"},{"$f":"IFERROR(VLOOKUP(C1327,Medlemmer!A:C,3,FALSE),\"\")","v":""},{"$f":"IFERROR(VLOOKUP(C1327,Medlemmer!A:C,2,FALSE),\"\")","v":""},{"$f":"IFERROR(VLOOKUP(C1327,Tidligere_henvendelser!A:B,2,FALSE),\"\")","v":""}]
[{"$f":"ReplaceNumbers(C1328)","v":"Høstvej"},{"$f":"_xlfn.NUMBERVALUE(FindNumbers(C1328))","v":7},"Høstvej 7, 1","2920 Charlottenlund",10800000,"2021-09-12","Alm. Salg",90000,4,"Ejerlejlighed",120,1895,{"$f":"IF(ISBLANK(VLOOKUP(A1328,Veje!A:B,2,FALSE)),INDEX(Veje!$D$2:$RT$652,MATCH(A1328,Veje!$A$2:$A$652,0),MATCH(B1328,Veje!$D$1:$RT$1,0)),VLOOKUP(A1328,Veje!A:B,2,FALSE))","v":"OCG"},{"$f":"IFERROR(VLOOKUP(C1328,Medlemmer!A:C,3,FALSE),\"\")","v":""},{"$f":"IFERROR(VLOOKUP(C1328,Medlemmer!A:C,2,FALSE),\"\")","v":""},{"$f":"IFERROR(VLOOKUP(C1328,Tidligere_henvendelser!A:B,2,FALSE),\"\")","v":""}]
[{"$f":"ReplaceNumbers(C1329)","v":"Høstvej"},{"$f":"_xlfn.NUMBERVALUE(FindNumbers(C1329))","v":7},"Høstvej 7, st","2920 Charlottenlund",10800000,"2021-09-12","Alm. Salg",69677,5,"Ejerlejlighed",155,1895,{"$f":"IF(ISBLANK(VLOOKUP(A1329,Veje!A:B,2,FALSE)),INDEX(Veje!$D$2:$RT$652,MATCH(A1329,Veje!$A$2:$A$652,0),MATCH(B1329,Veje!$D$1:$RT$1,0)),VLOOKUP(A1329,Veje!A:B,2,FALSE))","v":"OCG"},{"$f":"IFERROR(VLOOKUP(C1329,Medlemmer!A:C,3,FALSE),\"\")","v":""},{"$f":"IFERROR(VLOOKUP(C1329,Medlemmer!A:C,2,FALSE),\"\")","v":""},{"$f":"IFERROR(VLOOKUP(C1329,Tidligere_henvendelser!A:B,2,FALSE),\"\")","v":""}]
[{"$f":"ReplaceNumbers(C1330)","v":"Mosegårdsvej"},{"$f":"_xlfn.NUMBERVALUE(FindNumbers(C1330))","v":25},"Mosegårdsvej 25, st. tv","2820 Gentofte",2150000,"2021-09-12","Alm. Salg",39814,2,"Ejerlejlighed",54,1932,{"$f":"IF(ISBLANK(VLOOKUP(A1330,Veje!A:B,2,FALSE)),INDEX(Veje!$D$2:$RT$652,MATCH(A1330,Veje!$A$2:$A$652,0),MATCH(B1330,Veje!$D$1:$RT$1,0)),VLOOKUP(A1330,Veje!A:B,2,FALSE))","v":"GSG"},{"$f":"IFERROR(VLOOKUP(C1330,Medlemmer!A:C,3,FALSE),\"\")","v":""},{"$f":"IFERROR(VLOOKUP(C1330,Medlemmer!A:C,2,FALSE),\"\")","v":""},{"$f":"IFERROR(VLOOKUP(C1330,Tidligere_henvendelser!A:B,2,FALSE),\"\")","v":""}]
[{"$f":"ReplaceNumbers(C1331)","v":"Ordrupvej"},{"$f":"_xlfn.NUMBERVALUE(FindNumbers(C1331))","v":46},"Ordrupvej 46B, 2. tv","2920 Charlottenlund",2825000,"2021-09-12","Alm. Salg",42164,3,"Ejerlejlighed",67,1939,{"$f":"IF(ISBLANK(VLOOKUP(A1331,Veje!A:B,2,FALSE)),INDEX(Veje!$D$2:$RT$652,MATCH(A1331,Veje!$A$2:$A$652,0),MATCH(B1331,Veje!$D$1:$RT$1,0)),VLOOKUP(A1331,Veje!A:B,2,FALSE))","v":"OCG"},{"$f":"IFERROR(VLOOKUP(C1331,Medlemmer!A:C,3,FALSE),\"\")","v":""},{"$f":"IFERROR(VLOOKUP(C1331,Medlemmer!A:C,2,FALSE),\"\")","v":""},{"$f":"IFERROR(VLOOKUP(C1331,Tidligere_henvendelser!A:B,2,FALSE),\"\")","v":""}]
[{"$f":"ReplaceNumbers(C1332)","v":"Dalstrøget"},{"$f":"_xlfn.NUMBERVALUE(FindNumbers(C1332))","v":92},"Dalstrøget 92, 1. tv","2870 Dyssegård ",3560000,"2021-09-13","Alm. Salg",37083,4,"Ejerlejlighed",96,1959,{"$f":"IF(ISBLANK(VLOOKUP(A1332,Veje!A:B,2,FALSE)),INDEX(Veje!$D$2:$RT$652,MATCH(A1332,Veje!$A$2:$A$652,0),MATCH(B1332,Veje!$D$1:$RT$1,0)),VLOOKUP(A1332,Veje!A:B,2,FALSE))","v":"DY"},{"$f":"IFERROR(VLOOKUP(C1332,Medlemmer!A:C,3,FALSE),\"\")","v":""},{"$f":"IFERROR(VLOOKUP(C1332,Medlemmer!A:C,2,FALSE),\"\")","v":""},{"$f":"IFERROR(VLOOKUP(C1332,Tidligere_henvendelser!A:B,2,FALSE),\"\")","v":""}]
[{"$f":"ReplaceNumbers(C1333)","v":"Vangedevej"},{"$f":"_xlfn.NUMBERVALUE(FindNumbers(C1333))","v":222},"Vangedevej 222A, st. tv","2870 Dyssegård ",2095000,"2021-09-13","Alm. Salg",34916,2,"Ejerlejlighed",60,1948,{"$f":"IF(ISBLANK(VLOOKUP(A1333,Veje!A:B,2,FALSE)),INDEX(Veje!$D$2:$RT$652,MATCH(A1333,Veje!$A$2:$A$652,0),MATCH(B1333,Veje!$D$1:$RT$1,0)),VLOOKUP(A1333,Veje!A:B,2,FALSE))","v":"DY"},{"$f":"IFERROR(VLOOKUP(C1333,Medlemmer!A:C,3,FALSE),\"\")","v":""},{"$f":"IFERROR(VLOOKUP(C1333,Medlemmer!A:C,2,FALSE),\"\")","v":""},{"$f":"IFERROR(VLOOKUP(C1333,Tidligere_henvendelser!A:B,2,FALSE),\"\")","v":""}]
[{"$f":"ReplaceNumbers(C1334)","v":"Dalstrøget"},{"$f":"_xlfn.NUMBERVALUE(FindNumbers(C1334))","v":107},"Dalstrøget 107, 3. tv","2870 Dyssegård ",2825000,"2021-09-13","Alm. Salg",38698,3,"Ejerlejlighed",73,1959,{"$f":"IF(ISBLANK(VLOOKUP(A1334,Veje!A:B,2,FALSE)),INDEX(Veje!$D$2:$RT$652,MATCH(A1334,Veje!$A$2:$A$652,0),MATCH(B1334,Veje!$D$1:$RT$1,0)),VLOOKUP(A1334,Veje!A:B,2,FALSE))","v":"DY"},{"$f":"IFERROR(VLOOKUP(C1334,Medlemmer!A:C,3,FALSE),\"\")","v":""},{"$f":"IFERROR(VLOOKUP(C1334,Medlemmer!A:C,2,FALSE),\"\")","v":""},{"$f":"IFERROR(VLOOKUP(C1334,Tidligere_henvendelser!A:B,2,FALSE),\"\")","v":""}]
[{"$f":"ReplaceNumbers(C1335)","v":"Henningsens Alle"},{"$f":"_xlfn.NUMBERVALUE(FindNumbers(C1335))","v":17},"Henningsens Alle 17","2900 Hellerup",13600000,"2021-09-13","Alm. Salg",72340,5,"Villa",188,2013,{"$f":"IF(ISBLANK(VLOOKUP(A1335,Veje!A:B,2,FALSE)),INDEX(Veje!$D$2:$RT$652,MATCH(A1335,Veje!$A$2:$A$652,0),MATCH(B1335,Veje!$D$1:$RT$1,0)),VLOOKUP(A1335,Veje!A:B,2,FALSE))","v":"HMG"},{"$f":"IFERROR(VLOOKUP(C1335,Medlemmer!A:C,3,FALSE),\"\")","v":""},{"$f":"IFERROR(VLOOKUP(C1335,Medlemmer!A:C,2,FALSE),\"\")","v":""},{"$f":"IFERROR(VLOOKUP(C1335,Tidligere_henvendelser!A:B,2,FALSE),\"\")","v":""}]
[{"$f":"ReplaceNumbers(C1336)","v":"Sønderengen"},{"$f":"_xlfn.NUMBERVALUE(FindNumbers(C1336))","v":53},"Sønderengen 53A","2870 Dyssegård ",2465000,"2021-09-14","Fam. Salg",25947,4,"Villa",95,1953,{"$f":"IF(ISBLANK(VLOOKUP(A1336,Veje!A:B,2,FALSE)),INDEX(Veje!$D$2:$RT$652,MATCH(A1336,Veje!$A$2:$A$652,0),MATCH(B1336,Veje!$D$1:$RT$1,0)),VLOOKUP(A1336,Veje!A:B,2,FALSE))","v":"DY"},{"$f":"IFERROR(VLOOKUP(C1336,Medlemmer!A:C,3,FALSE),\"\")","v":""},{"$f":"IFERROR(VLOOKUP(C1336,Medlemmer!A:C,2,FALSE),\"\")","v":""},{"$f":"IFERROR(VLOOKUP(C1336,Tidligere_henvendelser!A:B,2,FALSE),\"\")","v":""}]
[{"$f":"ReplaceNumbers(C1337)","v":"Vangedevej"},{"$f":"_xlfn.NUMBERVALUE(FindNumbers(C1337))","v":224},"Vangedevej 224B, 1. tv","2870 Dyssegård ",2875000,"2021-09-14","Alm. Salg",35937,3,"Ejerlejlighed",80,1948,{"$f":"IF(ISBLANK(VLOOKUP(A1337,Veje!A:B,2,FALSE)),INDEX(Veje!$D$2:$RT$652,MATCH(A1337,Veje!$A$2:$A$652,0),MATCH(B1337,Veje!$D$1:$RT$1,0)),VLOOKUP(A1337,Veje!A:B,2,FALSE))","v":"DY"},{"$f":"IFERROR(VLOOKUP(C1337,Medlemmer!A:C,3,FALSE),\"\")","v":""},{"$f":"IFERROR(VLOOKUP(C1337,Medlemmer!A:C,2,FALSE),\"\")","v":""},{"$f":"IFERROR(VLOOKUP(C1337,Tidligere_henvendelser!A:B,2,FALSE),\"\")","v":""}]
[{"$f":"ReplaceNumbers(C1338)","v":"Løvspringsvej"},{"$f":"_xlfn.NUMBERVALUE(FindNumbers(C1338))","v":4},"Løvspringsvej 4B, 1. th","2920 Charlottenlund",1800000,"2021-09-14","Alm. Salg",33333,1,"Ejerlejlighed",54,1950,{"$f":"IF(ISBLANK(VLOOKUP(A1338,Veje!A:B,2,FALSE)),INDEX(Veje!$D$2:$RT$652,MATCH(A1338,Veje!$A$2:$A$652,0),MATCH(B1338,Veje!$D$1:$RT$1,0)),VLOOKUP(A1338,Veje!A:B,2,FALSE))","v":"OCG"},{"$f":"IFERROR(VLOOKUP(C1338,Medlemmer!A:C,3,FALSE),\"\")","v":""},{"$f":"IFERROR(VLOOKUP(C1338,Medlemmer!A:C,2,FALSE),\"\")","v":""},{"$f":"IFERROR(VLOOKUP(C1338,Tidligere_henvendelser!A:B,2,FALSE),\"\")","v":""}]
[{"$f":"ReplaceNumbers(C1339)","v":"Henriettevej"},{"$f":"_xlfn.NUMBERVALUE(FindNumbers(C1339))","v":6},"Henriettevej 6, 4. tv","2920 Charlottenlund",5315000,"2021-09-14","Alm. Salg",51105,3,"Ejerlejlighed",104,1992,{"$f":"IF(ISBLANK(VLOOKUP(A1339,Veje!A:B,2,FALSE)),INDEX(Veje!$D$2:$RT$652,MATCH(A1339,Veje!$A$2:$A$652,0),MATCH(B1339,Veje!$D$1:$RT$1,0)),VLOOKUP(A1339,Veje!A:B,2,FALSE))","v":"OCG"},{"$f":"IFERROR(VLOOKUP(C1339,Medlemmer!A:C,3,FALSE),\"\")","v":""},{"$f":"IFERROR(VLOOKUP(C1339,Medlemmer!A:C,2,FALSE),\"\")","v":""},{"$f":"IFERROR(VLOOKUP(C1339,Tidligere_henvendelser!A:B,2,FALSE),\"\")","v":""}]
[{"$f":"ReplaceNumbers(C1340)","v":"Rygårds Alle"},{"$f":"_xlfn.NUMBERVALUE(FindNumbers(C1340))","v":5},"Rygårds Alle 5C","2900 Hellerup",2040000,"2021-09-14","Fam. Salg",18715,4,"Rækkehus",109,2011,{"$f":"IF(ISBLANK(VLOOKUP(A1340,Veje!A:B,2,FALSE)),INDEX(Veje!$D$2:$RT$652,MATCH(A1340,Veje!$A$2:$A$652,0),MATCH(B1340,Veje!$D$1:$RT$1,0)),VLOOKUP(A1340,Veje!A:B,2,FALSE))","v":"HMG"},{"$f":"IFERROR(VLOOKUP(C1340,Medlemmer!A:C,3,FALSE),\"\")","v":""},{"$f":"IFERROR(VLOOKUP(C1340,Medlemmer!A:C,2,FALSE),\"\")","v":""},{"$f":"IFERROR(VLOOKUP(C1340,Tidligere_henvendelser!A:B,2,FALSE),\"\")","v":""}]
[{"$f":"ReplaceNumbers(C1341)","v":"Strandvejen"},{"$f":"_xlfn.NUMBERVALUE(FindNumbers(C1341))","v":285},"Strandvejen 285","2920 Charlottenlund",11595000,"2021-09-14","Alm. Salg",66257,7,"Villa",175,1899,{"$f":"IF(ISBLANK(VLOOKUP(A1341,Veje!A:B,2,FALSE)),INDEX(Veje!$D$2:$RT$652,MATCH(A1341,Veje!$A$2:$A$652,0),MATCH(B1341,Veje!$D$1:$RT$1,0)),VLOOKUP(A1341,Veje!A:B,2,FALSE))","v":"Skovshoved By"},{"$f":"IFERROR(VLOOKUP(C1341,Medlemmer!A:C,3,FALSE),\"\")","v":""},{"$f":"IFERROR(VLOOKUP(C1341,Medlemmer!A:C,2,FALSE),\"\")","v":""},{"$f":"IFERROR(VLOOKUP(C1341,Tidligere_henvendelser!A:B,2,FALSE),\"\")","v":""}]
[{"$f":"ReplaceNumbers(C1342)","v":"Sønderengen"},{"$f":"_xlfn.NUMBERVALUE(FindNumbers(C1342))","v":22},"Sønderengen 22","2870 Dyssegård ",9475000,"2021-09-14","Alm. Salg",58850,5,"Villa",161,1958,{"$f":"IF(ISBLANK(VLOOKUP(A1342,Veje!A:B,2,FALSE)),INDEX(Veje!$D$2:$RT$652,MATCH(A1342,Veje!$A$2:$A$652,0),MATCH(B1342,Veje!$D$1:$RT$1,0)),VLOOKUP(A1342,Veje!A:B,2,FALSE))","v":"DY"},{"$f":"IFERROR(VLOOKUP(C1342,Medlemmer!A:C,3,FALSE),\"\")","v":""},{"$f":"IFERROR(VLOOKUP(C1342,Medlemmer!A:C,2,FALSE),\"\")","v":""},{"$f":"IFERROR(VLOOKUP(C1342,Tidligere_henvendelser!A:B,2,FALSE),\"\")","v":""}]
[{"$f":"ReplaceNumbers(C1343)","v":"Tuborg Sundpark"},{"$f":"_xlfn.NUMBERVALUE(FindNumbers(C1343))","v":3},"Tuborg Sundpark 3, 3. th","2900 Hellerup",19500000,"2021-09-15","Alm. Salg",120370,5,"Ejerlejlighed",162,2004,{"$f":"IF(ISBLANK(VLOOKUP(A1343,Veje!A:B,2,FALSE)),INDEX(Veje!$D$2:$RT$652,MATCH(A1343,Veje!$A$2:$A$652,0),MATCH(B1343,Veje!$D$1:$RT$1,0)),VLOOKUP(A1343,Veje!A:B,2,FALSE))","v":"HMG"},{"$f":"IFERROR(VLOOKUP(C1343,Medlemmer!A:C,3,FALSE),\"\")","v":""},{"$f":"IFERROR(VLOOKUP(C1343,Medlemmer!A:C,2,FALSE),\"\")","v":""},{"$f":"IFERROR(VLOOKUP(C1343,Tidligere_henvendelser!A:B,2,FALSE),\"\")","v":""}]
[{"$f":"ReplaceNumbers(C1344)","v":"Ellevadsvej"},{"$f":"_xlfn.NUMBERVALUE(FindNumbers(C1344))","v":4},"Ellevadsvej 4","2920 Charlottenlund",16750000,"2021-09-15","Alm. Salg",78271,8,"Villa",214,1897,{"$f":"IF(ISBLANK(VLOOKUP(A1344,Veje!A:B,2,FALSE)),INDEX(Veje!$D$2:$RT$652,MATCH(A1344,Veje!$A$2:$A$652,0),MATCH(B1344,Veje!$D$1:$RT$1,0)),VLOOKUP(A1344,Veje!A:B,2,FALSE))","v":"OCG"},{"$f":"IFERROR(VLOOKUP(C1344,Medlemmer!A:C,3,FALSE),\"\")","v":""},{"$f":"IFERROR(VLOOKUP(C1344,Medlemmer!A:C,2,FALSE),\"\")","v":""},{"$f":"IFERROR(VLOOKUP(C1344,Tidligere_henvendelser!A:B,2,FALSE),\"\")","v":""}]
[{"$f":"ReplaceNumbers(C1345)","v":"Ordrup Jagtvej"},{"$f":"_xlfn.NUMBERVALUE(FindNumbers(C1345))","v":129},"Ordrup Jagtvej 129, 1. tv","2920 Charlottenlund",3700000,"2021-09-15","Alm. Salg",55223,2,"Ejerlejlighed",67,1935,{"$f":"IF(ISBLANK(VLOOKUP(A1345,Veje!A:B,2,FALSE)),INDEX(Veje!$D$2:$RT$652,MATCH(A1345,Veje!$A$2:$A$652,0),MATCH(B1345,Veje!$D$1:$RT$1,0)),VLOOKUP(A1345,Veje!A:B,2,FALSE))","v":"SKGF"},{"$f":"IFERROR(VLOOKUP(C1345,Medlemmer!A:C,3,FALSE),\"\")","v":""},{"$f":"IFERROR(VLOOKUP(C1345,Medlemmer!A:C,2,FALSE),\"\")","v":""},{"$f":"IFERROR(VLOOKUP(C1345,Tidligere_henvendelser!A:B,2,FALSE),\"\")","v":""}]
[{"$f":"ReplaceNumbers(C1346)","v":"Anemonevej"},{"$f":"_xlfn.NUMBERVALUE(FindNumbers(C1346))","v":20},"Anemonevej 20","2820 Gentofte",365000,"2021-09-15","Fam. Salg",3173,6,"Villa",115,1902,{"$f":"IF(ISBLANK(VLOOKUP(A1346,Veje!A:B,2,FALSE)),INDEX(Veje!$D$2:$RT$652,MATCH(A1346,Veje!$A$2:$A$652,0),MATCH(B1346,Veje!$D$1:$RT$1,0)),VLOOKUP(A1346,Veje!A:B,2,FALSE))","v":"GSG"},{"$f":"IFERROR(VLOOKUP(C1346,Medlemmer!A:C,3,FALSE),\"\")","v":""},{"$f":"IFERROR(VLOOKUP(C1346,Medlemmer!A:C,2,FALSE),\"\")","v":""},{"$f":"IFERROR(VLOOKUP(C1346,Tidligere_henvendelser!A:B,2,FALSE),\"\")","v":""}]
[{"$f":"ReplaceNumbers(C1347)","v":"Tranegårdsvej"},{"$f":"_xlfn.NUMBERVALUE(FindNumbers(C1347))","v":57},"Tranegårdsvej 57, 1. th","2900 Hellerup",5850000,"2021-09-16","Alm. Salg",50431,4,"Ejerlejlighed",116,1931,{"$f":"IF(ISBLANK(VLOOKUP(A1347,Veje!A:B,2,FALSE)),INDEX(Veje!$D$2:$RT$652,MATCH(A1347,Veje!$A$2:$A$652,0),MATCH(B1347,Veje!$D$1:$RT$1,0)),VLOOKUP(A1347,Veje!A:B,2,FALSE))","v":"HMG"},{"$f":"IFERROR(VLOOKUP(C1347,Medlemmer!A:C,3,FALSE),\"\")","v":""},{"$f":"IFERROR(VLOOKUP(C1347,Medlemmer!A:C,2,FALSE),\"\")","v":""},{"$f":"IFERROR(VLOOKUP(C1347,Tidligere_henvendelser!A:B,2,FALSE),\"\")","v":""}]
[{"$f":"ReplaceNumbers(C1348)","v":"Cottagevej"},{"$f":"_xlfn.NUMBERVALUE(FindNumbers(C1348))","v":1},"Cottagevej 1","2900 Hellerup",12825000,"2021-09-16","Alm. Salg",109615,5,"Villa",117,1890,{"$f":"IF(ISBLANK(VLOOKUP(A1348,Veje!A:B,2,FALSE)),INDEX(Veje!$D$2:$RT$652,MATCH(A1348,Veje!$A$2:$A$652,0),MATCH(B1348,Veje!$D$1:$RT$1,0)),VLOOKUP(A1348,Veje!A:B,2,FALSE))","v":"HMG"},{"$f":"IFERROR(VLOOKUP(C1348,Medlemmer!A:C,3,FALSE),\"\")","v":""},{"$f":"IFERROR(VLOOKUP(C1348,Medlemmer!A:C,2,FALSE),\"\")","v":""},{"$f":"IFERROR(VLOOKUP(C1348,Tidligere_henvendelser!A:B,2,FALSE),\"\")","v":""}]
[{"$f":"ReplaceNumbers(C1349)","v":"Mylius Erichsens Alle"},{"$f":"_xlfn.NUMBERVALUE(FindNumbers(C1349))","v":34},"Mylius Erichsens Alle 34","2900 Hellerup",11995000,"2021-09-16","Alm. Salg",86294,6,"Villa",139,1929,{"$f":"IF(ISBLANK(VLOOKUP(A1349,Veje!A:B,2,FALSE)),INDEX(Veje!$D$2:$RT$652,MATCH(A1349,Veje!$A$2:$A$652,0),MATCH(B1349,Veje!$D$1:$RT$1,0)),VLOOKUP(A1349,Veje!A:B,2,FALSE))","v":"DY"},{"$f":"IFERROR(VLOOKUP(C1349,Medlemmer!A:C,3,FALSE),\"\")","v":""},{"$f":"IFERROR(VLOOKUP(C1349,Medlemmer!A:C,2,FALSE),\"\")","v":""},{"$f":"IFERROR(VLOOKUP(C1349,Tidligere_henvendelser!A:B,2,FALSE),\"\")","v":""}]
[{"$f":"ReplaceNumbers(C1350)","v":"Mosegårdsvej"},{"$f":"_xlfn.NUMBERVALUE(FindNumbers(C1350))","v":130},"Mosegårdsvej 130","2820 Gentofte",7695000,"2021-09-16","Alm. Salg",60117,4,"Rækkehus",128,1942,{"$f":"IF(ISBLANK(VLOOKUP(A1350,Veje!A:B,2,FALSE)),INDEX(Veje!$D$2:$RT$652,MATCH(A1350,Veje!$A$2:$A$652,0),MATCH(B1350,Veje!$D$1:$RT$1,0)),VLOOKUP(A1350,Veje!A:B,2,FALSE))","v":"GSG"},{"$f":"IFERROR(VLOOKUP(C1350,Medlemmer!A:C,3,FALSE),\"\")","v":""},{"$f":"IFERROR(VLOOKUP(C1350,Medlemmer!A:C,2,FALSE),\"\")","v":""},{"$f":"IFERROR(VLOOKUP(C1350,Tidligere_henvendelser!A:B,2,FALSE),\"\")","v":""}]
[{"$f":"ReplaceNumbers(C1351)","v":"Strandvejen"},{"$f":"_xlfn.NUMBERVALUE(FindNumbers(C1351))","v":256},"Strandvejen 256K","2920 Charlottenlund",8800000,"2021-09-16","Alm. Salg",90721,4,"Villa",97,1989,{"$f":"IF(ISBLANK(VLOOKUP(A1351,Veje!A:B,2,FALSE)),INDEX(Veje!$D$2:$RT$652,MATCH(A1351,Veje!$A$2:$A$652,0),MATCH(B1351,Veje!$D$1:$RT$1,0)),VLOOKUP(A1351,Veje!A:B,2,FALSE))","v":"Skovshoved By"},{"$f":"IFERROR(VLOOKUP(C1351,Medlemmer!A:C,3,FALSE),\"\")","v":""},{"$f":"IFERROR(VLOOKUP(C1351,Medlemmer!A:C,2,FALSE),\"\")","v":""},{"$f":"IFERROR(VLOOKUP(C1351,Tidligere_henvendelser!A:B,2,FALSE),\"\")","v":""}]
[{"$f":"ReplaceNumbers(C1352)","v":"På Højden"},{"$f":"_xlfn.NUMBERVALUE(FindNumbers(C1352))","v":21},"På Højden 21","2900 Hellerup",7500000,"2021-09-16","Andet",38461,5,"Villa",195,1933,{"$f":"IF(ISBLANK(VLOOKUP(A1352,Veje!A:B,2,FALSE)),INDEX(Veje!$D$2:$RT$652,MATCH(A1352,Veje!$A$2:$A$652,0),MATCH(B1352,Veje!$D$1:$RT$1,0)),VLOOKUP(A1352,Veje!A:B,2,FALSE))","v":"GSG"},{"$f":"IFERROR(VLOOKUP(C1352,Medlemmer!A:C,3,FALSE),\"\")","v":""},{"$f":"IFERROR(VLOOKUP(C1352,Medlemmer!A:C,2,FALSE),\"\")","v":""},{"$f":"IFERROR(VLOOKUP(C1352,Tidligere_henvendelser!A:B,2,FALSE),\"\")","v":""}]
[{"$f":"ReplaceNumbers(C1353)","v":"Skovagervej"},{"$f":"_xlfn.NUMBERVALUE(FindNumbers(C1353))","v":3},"Skovagervej 3","2920 Charlottenlund",15500000,"2021-09-16","Alm. Salg",78680,7,"Villa",197,1928,{"$f":"IF(ISBLANK(VLOOKUP(A1353,Veje!A:B,2,FALSE)),INDEX(Veje!$D$2:$RT$652,MATCH(A1353,Veje!$A$2:$A$652,0),MATCH(B1353,Veje!$D$1:$RT$1,0)),VLOOKUP(A1353,Veje!A:B,2,FALSE))","v":"SKGF"},{"$f":"IFERROR(VLOOKUP(C1353,Medlemmer!A:C,3,FALSE),\"\")","v":""},{"$f":"IFERROR(VLOOKUP(C1353,Medlemmer!A:C,2,FALSE),\"\")","v":""},{"$f":"IFERROR(VLOOKUP(C1353,Tidligere_henvendelser!A:B,2,FALSE),\"\")","v":""}]
[{"$f":"ReplaceNumbers(C1354)","v":"Springbanen"},{"$f":"_xlfn.NUMBERVALUE(FindNumbers(C1354))","v":87},"Springbanen 87","2820 Gentofte",3750000,"2021-09-16","Fam. Salg",32608,7,"Villa",115,1951,{"$f":"IF(ISBLANK(VLOOKUP(A1354,Veje!A:B,2,FALSE)),INDEX(Veje!$D$2:$RT$652,MATCH(A1354,Veje!$A$2:$A$652,0),MATCH(B1354,Veje!$D$1:$RT$1,0)),VLOOKUP(A1354,Veje!A:B,2,FALSE))","v":"GSG"},{"$f":"IFERROR(VLOOKUP(C1354,Medlemmer!A:C,3,FALSE),\"\")","v":""},{"$f":"IFERROR(VLOOKUP(C1354,Medlemmer!A:C,2,FALSE),\"\")","v":""},{"$f":"IFERROR(VLOOKUP(C1354,Tidligere_henvendelser!A:B,2,FALSE),\"\")","v":""}]
[{"$f":"ReplaceNumbers(C1355)","v":"Ordrupvej"},{"$f":"_xlfn.NUMBERVALUE(FindNumbers(C1355))","v":4},"Ordrupvej 4, 1. th","2920 Charlottenlund",2150000,"2021-09-17","Fam. Salg",26219,2,"Ejerlejlighed",82,1936,{"$f":"IF(ISBLANK(VLOOKUP(A1355,Veje!A:B,2,FALSE)),INDEX(Veje!$D$2:$RT$652,MATCH(A1355,Veje!$A$2:$A$652,0),MATCH(B1355,Veje!$D$1:$RT$1,0)),VLOOKUP(A1355,Veje!A:B,2,FALSE))","v":"OCG"},{"$f":"IFERROR(VLOOKUP(C1355,Medlemmer!A:C,3,FALSE),\"\")","v":""},{"$f":"IFERROR(VLOOKUP(C1355,Medlemmer!A:C,2,FALSE),\"\")","v":""},{"$f":"IFERROR(VLOOKUP(C1355,Tidligere_henvendelser!A:B,2,FALSE),\"\")","v":""}]
[{"$f":"ReplaceNumbers(C1356)","v":"Parkovsvej"},{"$f":"_xlfn.NUMBERVALUE(FindNumbers(C1356))","v":2},"Parkovsvej 2","2820 Gentofte",15900000,"2021-09-17","Alm. Salg",51960,15,"Villa",306,1937,{"$f":"IF(ISBLANK(VLOOKUP(A1356,Veje!A:B,2,FALSE)),INDEX(Veje!$D$2:$RT$652,MATCH(A1356,Veje!$A$2:$A$652,0),MATCH(B1356,Veje!$D$1:$RT$1,0)),VLOOKUP(A1356,Veje!A:B,2,FALSE))","v":"GSG"},{"$f":"IFERROR(VLOOKUP(C1356,Medlemmer!A:C,3,FALSE),\"\")","v":""},{"$f":"IFERROR(VLOOKUP(C1356,Medlemmer!A:C,2,FALSE),\"\")","v":""},{"$f":"IFERROR(VLOOKUP(C1356,Tidligere_henvendelser!A:B,2,FALSE),\"\")","v":""}]
[{"$f":"ReplaceNumbers(C1357)","v":"Skovkrogen"},{"$f":"_xlfn.NUMBERVALUE(FindNumbers(C1357))","v":1},"Skovkrogen 1, 2. th","2920 Charlottenlund",2585000,"2021-09-17","Alm. Salg",44568,2,"Ejerlejlighed",58,1934,{"$f":"IF(ISBLANK(VLOOKUP(A1357,Veje!A:B,2,FALSE)),INDEX(Veje!$D$2:$RT$652,MATCH(A1357,Veje!$A$2:$A$652,0),MATCH(B1357,Veje!$D$1:$RT$1,0)),VLOOKUP(A1357,Veje!A:B,2,FALSE))","v":"OCG"},{"$f":"IFERROR(VLOOKUP(C1357,Medlemmer!A:C,3,FALSE),\"\")","v":""},{"$f":"IFERROR(VLOOKUP(C1357,Medlemmer!A:C,2,FALSE),\"\")","v":""},{"$f":"IFERROR(VLOOKUP(C1357,Tidligere_henvendelser!A:B,2,FALSE),\"\")","v":""}]
[{"$f":"ReplaceNumbers(C1358)","v":"Jægersborg Alle"},{"$f":"_xlfn.NUMBERVALUE(FindNumbers(C1358))","v":233},"Jægersborg Alle 233, st. th","2820 Gentofte",4125000,"2021-09-18","Alm. Salg",37162,4,"Ejerlejlighed",111,1958,{"$f":"IF(ISBLANK(VLOOKUP(A1358,Veje!A:B,2,FALSE)),INDEX(Veje!$D$2:$RT$652,MATCH(A1358,Veje!$A$2:$A$652,0),MATCH(B1358,Veje!$D$1:$RT$1,0)),VLOOKUP(A1358,Veje!A:B,2,FALSE))","v":"BJGF"},{"$f":"IFERROR(VLOOKUP(C1358,Medlemmer!A:C,3,FALSE),\"\")","v":""},{"$f":"IFERROR(VLOOKUP(C1358,Medlemmer!A:C,2,FALSE),\"\")","v":""},{"$f":"IFERROR(VLOOKUP(C1358,Tidligere_henvendelser!A:B,2,FALSE),\"\")","v":""}]
[{"$f":"ReplaceNumbers(C1359)","v":"Sønderbakken"},{"$f":"_xlfn.NUMBERVALUE(FindNumbers(C1359))","v":39},"Sønderbakken 39","2820 Gentofte",3590000,"2021-09-18","Fam. Salg",21626,6,"Villa",166,1940,{"$f":"IF(ISBLANK(VLOOKUP(A1359,Veje!A:B,2,FALSE)),INDEX(Veje!$D$2:$RT$652,MATCH(A1359,Veje!$A$2:$A$652,0),MATCH(B1359,Veje!$D$1:$RT$1,0)),VLOOKUP(A1359,Veje!A:B,2,FALSE))","v":"GSG"},{"$f":"IFERROR(VLOOKUP(C1359,Medlemmer!A:C,3,FALSE),\"\")","v":""},{"$f":"IFERROR(VLOOKUP(C1359,Medlemmer!A:C,2,FALSE),\"\")","v":""},{"$f":"IFERROR(VLOOKUP(C1359,Tidligere_henvendelser!A:B,2,FALSE),\"\")","v":""}]
[{"$f":"ReplaceNumbers(C1360)","v":"Jægersborg Alle"},{"$f":"_xlfn.NUMBERVALUE(FindNumbers(C1360))","v":243},"Jægersborg Alle 243, 3. tv","2820 Gentofte",3595000,"2021-09-19","Alm. Salg",32681,3,"Ejerlejlighed",110,1957,{"$f":"IF(ISBLANK(VLOOKUP(A1360,Veje!A:B,2,FALSE)),INDEX(Veje!$D$2:$RT$652,MATCH(A1360,Veje!$A$2:$A$652,0),MATCH(B1360,Veje!$D$1:$RT$1,0)),VLOOKUP(A1360,Veje!A:B,2,FALSE))","v":"BJGF"},{"$f":"IFERROR(VLOOKUP(C1360,Medlemmer!A:C,3,FALSE),\"\")","v":""},{"$f":"IFERROR(VLOOKUP(C1360,Medlemmer!A:C,2,FALSE),\"\")","v":""},{"$f":"IFERROR(VLOOKUP(C1360,Tidligere_henvendelser!A:B,2,FALSE),\"\")","v":""}]
[{"$f":"ReplaceNumbers(C1361)","v":"Ordrupdalvej"},{"$f":"_xlfn.NUMBERVALUE(FindNumbers(C1361))","v":42},"Ordrupdalvej 42C","2920 Charlottenlund",10600000,"2021-09-19","Alm. Salg",81538,5,"Rækkehus",130,1959,{"$f":"IF(ISBLANK(VLOOKUP(A1361,Veje!A:B,2,FALSE)),INDEX(Veje!$D$2:$RT$652,MATCH(A1361,Veje!$A$2:$A$652,0),MATCH(B1361,Veje!$D$1:$RT$1,0)),VLOOKUP(A1361,Veje!A:B,2,FALSE))","v":"OCG"},{"$f":"IFERROR(VLOOKUP(C1361,Medlemmer!A:C,3,FALSE),\"\")","v":""},{"$f":"IFERROR(VLOOKUP(C1361,Medlemmer!A:C,2,FALSE),\"\")","v":""},{"$f":"IFERROR(VLOOKUP(C1361,Tidligere_henvendelser!A:B,2,FALSE),\"\")","v":""}]
[{"$f":"ReplaceNumbers(C1362)","v":"Jensløvsvej"},{"$f":"_xlfn.NUMBERVALUE(FindNumbers(C1362))","v":15},"Jensløvsvej 15, 3. tv","2920 Charlottenlund",3175000,"2021-09-19","Alm. Salg",48846,2,"Ejerlejlighed",65,1934,{"$f":"IF(ISBLANK(VLOOKUP(A1362,Veje!A:B,2,FALSE)),INDEX(Veje!$D$2:$RT$652,MATCH(A1362,Veje!$A$2:$A$652,0),MATCH(B1362,Veje!$D$1:$RT$1,0)),VLOOKUP(A1362,Veje!A:B,2,FALSE))","v":"OCG"},{"$f":"IFERROR(VLOOKUP(C1362,Medlemmer!A:C,3,FALSE),\"\")","v":""},{"$f":"IFERROR(VLOOKUP(C1362,Medlemmer!A:C,2,FALSE),\"\")","v":""},{"$f":"IFERROR(VLOOKUP(C1362,Tidligere_henvendelser!A:B,2,FALSE),\"\")","v":""}]
[{"$f":"ReplaceNumbers(C1363)","v":"Sophus Bauditz Vej"},{"$f":"_xlfn.NUMBERVALUE(FindNumbers(C1363))","v":8},"Sophus Bauditz Vej 8, st. th","2920 Charlottenlund",12500000,"2021-09-19","Alm. Salg",208333,2,"Ejerlejlighed",60,1904,{"$f":"IF(ISBLANK(VLOOKUP(A1363,Veje!A:B,2,FALSE)),INDEX(Veje!$D$2:$RT$652,MATCH(A1363,Veje!$A$2:$A$652,0),MATCH(B1363,Veje!$D$1:$RT$1,0)),VLOOKUP(A1363,Veje!A:B,2,FALSE))","v":"SKGF"},{"$f":"IFERROR(VLOOKUP(C1363,Medlemmer!A:C,3,FALSE),\"\")","v":""},{"$f":"IFERROR(VLOOKUP(C1363,Medlemmer!A:C,2,FALSE),\"\")","v":""},{"$f":"IFERROR(VLOOKUP(C1363,Tidligere_henvendelser!A:B,2,FALSE),\"\")","v":""}]
[{"$f":"ReplaceNumbers(C1364)","v":"Sophus Bauditz Vej"},{"$f":"_xlfn.NUMBERVALUE(FindNumbers(C1364))","v":8},"Sophus Bauditz Vej 8, 1","2920 Charlottenlund",12500000,"2021-09-19","Alm. Salg",56053,5,"Ejerlejlighed",223,1904,{"$f":"IF(ISBLANK(VLOOKUP(A1364,Veje!A:B,2,FALSE)),INDEX(Veje!$D$2:$RT$652,MATCH(A1364,Veje!$A$2:$A$652,0),MATCH(B1364,Veje!$D$1:$RT$1,0)),VLOOKUP(A1364,Veje!A:B,2,FALSE))","v":"SKGF"},{"$f":"IFERROR(VLOOKUP(C1364,Medlemmer!A:C,3,FALSE),\"\")","v":""},{"$f":"IFERROR(VLOOKUP(C1364,Medlemmer!A:C,2,FALSE),\"\")","v":""},{"$f":"IFERROR(VLOOKUP(C1364,Tidligere_henvendelser!A:B,2,FALSE),\"\")","v":""}]
[{"$f":"ReplaceNumbers(C1365)","v":"Sophus Bauditz Vej"},{"$f":"_xlfn.NUMBERVALUE(FindNumbers(C1365))","v":8},"Sophus Bauditz Vej 8, 1","2920 Charlottenlund",12500000,"2021-09-19","Alm. Salg",101626,4,"Ejerlejlighed",123,1904,{"$f":"IF(ISBLANK(VLOOKUP(A1365,Veje!A:B,2,FALSE)),INDEX(Veje!$D$2:$RT$652,MATCH(A1365,Veje!$A$2:$A$652,0),MATCH(B1365,Veje!$D$1:$RT$1,0)),VLOOKUP(A1365,Veje!A:B,2,FALSE))","v":"SKGF"},{"$f":"IFERROR(VLOOKUP(C1365,Medlemmer!A:C,3,FALSE),\"\")","v":""},{"$f":"IFERROR(VLOOKUP(C1365,Medlemmer!A:C,2,FALSE),\"\")","v":""},{"$f":"IFERROR(VLOOKUP(C1365,Tidligere_henvendelser!A:B,2,FALSE),\"\")","v":""}]
[{"$f":"ReplaceNumbers(C1366)","v":"Sophus Bauditz Vej"},{"$f":"_xlfn.NUMBERVALUE(FindNumbers(C1366))","v":8},"Sophus Bauditz Vej 8, st. tv","2920 Charlottenlund",12500000,"2021-09-19","Alm. Salg",156250,4,"Ejerlejlighed",80,1904,{"$f":"IF(ISBLANK(VLOOKUP(A1366,Veje!A:B,2,FALSE)),INDEX(Veje!$D$2:$RT$652,MATCH(A1366,Veje!$A$2:$A$652,0),MATCH(B1366,Veje!$D$1:$RT$1,0)),VLOOKUP(A1366,Veje!A:B,2,FALSE))","v":"SKGF"},{"$f":"IFERROR(VLOOKUP(C1366,Medlemmer!A:C,3,FALSE),\"\")","v":""},{"$f":"IFERROR(VLOOKUP(C1366,Medlemmer!A:C,2,FALSE),\"\")","v":""},{"$f":"IFERROR(VLOOKUP(C1366,Tidligere_henvendelser!A:B,2,FALSE),\"\")","v":""}]
[{"$f":"ReplaceNumbers(C1367)","v":"Sophus Bauditz Vej"},{"$f":"_xlfn.NUMBERVALUE(FindNumbers(C1367))","v":8},"Sophus Bauditz Vej 8, 2","2920 Charlottenlund",12500000,"2021-09-19","Alm. Salg",110619,4,"Ejerlejlighed",113,1904,{"$f":"IF(ISBLANK(VLOOKUP(A1367,Veje!A:B,2,FALSE)),INDEX(Veje!$D$2:$RT$652,MATCH(A1367,Veje!$A$2:$A$652,0),MATCH(B1367,Veje!$D$1:$RT$1,0)),VLOOKUP(A1367,Veje!A:B,2,FALSE))","v":"SKGF"},{"$f":"IFERROR(VLOOKUP(C1367,Medlemmer!A:C,3,FALSE),\"\")","v":""},{"$f":"IFERROR(VLOOKUP(C1367,Medlemmer!A:C,2,FALSE),\"\")","v":""},{"$f":"IFERROR(VLOOKUP(C1367,Tidligere_henvendelser!A:B,2,FALSE),\"\")","v":""}]
[{"$f":"ReplaceNumbers(C1368)","v":"Ordrupvej"},{"$f":"_xlfn.NUMBERVALUE(FindNumbers(C1368))","v":49},"Ordrupvej 49, st. 10","2920 Charlottenlund",3195000,"2021-09-19","Alm. Salg",47686,2,"Ejerlejlighed",67,1971,{"$f":"IF(ISBLANK(VLOOKUP(A1368,Veje!A:B,2,FALSE)),INDEX(Veje!$D$2:$RT$652,MATCH(A1368,Veje!$A$2:$A$652,0),MATCH(B1368,Veje!$D$1:$RT$1,0)),VLOOKUP(A1368,Veje!A:B,2,FALSE))","v":"OCG"},{"$f":"IFERROR(VLOOKUP(C1368,Medlemmer!A:C,3,FALSE),\"\")","v":""},{"$f":"IFERROR(VLOOKUP(C1368,Medlemmer!A:C,2,FALSE),\"\")","v":""},{"$f":"IFERROR(VLOOKUP(C1368,Tidligere_henvendelser!A:B,2,FALSE),\"\")","v":""}]
[{"$f":"ReplaceNumbers(C1369)","v":"Ellinorsvej"},{"$f":"_xlfn.NUMBERVALUE(FindNumbers(C1369))","v":25},"Ellinorsvej 25","2920 Charlottenlund",13555000,"2021-09-19","Alm. Salg",67103,6,"Villa",202,1913,{"$f":"IF(ISBLANK(VLOOKUP(A1369,Veje!A:B,2,FALSE)),INDEX(Veje!$D$2:$RT$652,MATCH(A1369,Veje!$A$2:$A$652,0),MATCH(B1369,Veje!$D$1:$RT$1,0)),VLOOKUP(A1369,Veje!A:B,2,FALSE))","v":"OCG"},{"$f":"IFERROR(VLOOKUP(C1369,Medlemmer!A:C,3,FALSE),\"\")","v":""},{"$f":"IFERROR(VLOOKUP(C1369,Medlemmer!A:C,2,FALSE),\"\")","v":""},{"$f":"IFERROR(VLOOKUP(C1369,Tidligere_henvendelser!A:B,2,FALSE),\"\")","v":""}]
[{"$f":"ReplaceNumbers(C1370)","v":"Skovshoved Vænge"},{"$f":"_xlfn.NUMBERVALUE(FindNumbers(C1370))","v":7},"Skovshoved Vænge 7","2920 Charlottenlund",4802500,"2021-09-20","Fam. Salg",34303,6,"Villa",140,1966,{"$f":"IF(ISBLANK(VLOOKUP(A1370,Veje!A:B,2,FALSE)),INDEX(Veje!$D$2:$RT$652,MATCH(A1370,Veje!$A$2:$A$652,0),MATCH(B1370,Veje!$D$1:$RT$1,0)),VLOOKUP(A1370,Veje!A:B,2,FALSE))","v":"SKGF"},{"$f":"IFERROR(VLOOKUP(C1370,Medlemmer!A:C,3,FALSE),\"\")","v":""},{"$f":"IFERROR(VLOOKUP(C1370,Medlemmer!A:C,2,FALSE),\"\")","v":""},{"$f":"IFERROR(VLOOKUP(C1370,Tidligere_henvendelser!A:B,2,FALSE),\"\")","v":""}]
[{"$f":"ReplaceNumbers(C1371)","v":"Rørsøvej"},{"$f":"_xlfn.NUMBERVALUE(FindNumbers(C1371))","v":6},"Rørsøvej 6","2920 Charlottenlund",10750000,"2021-09-20","Alm. Salg",105392,3,"Villa",102,1935,{"$f":"IF(ISBLANK(VLOOKUP(A1371,Veje!A:B,2,FALSE)),INDEX(Veje!$D$2:$RT$652,MATCH(A1371,Veje!$A$2:$A$652,0),MATCH(B1371,Veje!$D$1:$RT$1,0)),VLOOKUP(A1371,Veje!A:B,2,FALSE))","v":"OCG"},{"$f":"IFERROR(VLOOKUP(C1371,Medlemmer!A:C,3,FALSE),\"\")","v":""},{"$f":"IFERROR(VLOOKUP(C1371,Medlemmer!A:C,2,FALSE),\"\")","v":""},{"$f":"IFERROR(VLOOKUP(C1371,Tidligere_henvendelser!A:B,2,FALSE),\"\")","v":""}]
[{"$f":"ReplaceNumbers(C1372)","v":"Ermelundsvej"},{"$f":"_xlfn.NUMBERVALUE(FindNumbers(C1372))","v":94},"Ermelundsvej 94A","2820 Gentofte",7995000,"2021-09-20","Alm. Salg",75424,5,"Villa",106,1919,{"$f":"IF(ISBLANK(VLOOKUP(A1372,Veje!A:B,2,FALSE)),INDEX(Veje!$D$2:$RT$652,MATCH(A1372,Veje!$A$2:$A$652,0),MATCH(B1372,Veje!$D$1:$RT$1,0)),VLOOKUP(A1372,Veje!A:B,2,FALSE))","v":"BJGF"},{"$f":"IFERROR(VLOOKUP(C1372,Medlemmer!A:C,3,FALSE),\"\")","v":""},{"$f":"IFERROR(VLOOKUP(C1372,Medlemmer!A:C,2,FALSE),\"\")","v":""},{"$f":"IFERROR(VLOOKUP(C1372,Tidligere_henvendelser!A:B,2,FALSE),\"\")","v":""}]
[{"$f":"ReplaceNumbers(C1373)","v":"Ellebækvej"},{"$f":"_xlfn.NUMBERVALUE(FindNumbers(C1373))","v":68},"Ellebækvej 68, st. th","2820 Gentofte",1925000,"2021-09-20","Alm. Salg",35648,2,"Ejerlejlighed",54,1956,{"$f":"IF(ISBLANK(VLOOKUP(A1373,Veje!A:B,2,FALSE)),INDEX(Veje!$D$2:$RT$652,MATCH(A1373,Veje!$A$2:$A$652,0),MATCH(B1373,Veje!$D$1:$RT$1,0)),VLOOKUP(A1373,Veje!A:B,2,FALSE))","v":"GSG"},{"$f":"IFERROR(VLOOKUP(C1373,Medlemmer!A:C,3,FALSE),\"\")","v":""},{"$f":"IFERROR(VLOOKUP(C1373,Medlemmer!A:C,2,FALSE),\"\")","v":""},{"$f":"IFERROR(VLOOKUP(C1373,Tidligere_henvendelser!A:B,2,FALSE),\"\")","v":""}]
[{"$f":"ReplaceNumbers(C1374)","v":"Jægersborg Alle"},{"$f":"_xlfn.NUMBERVALUE(FindNumbers(C1374))","v":135},"Jægersborg Alle 135B","2820 Gentofte",3899375,"2021-09-21","Fam. Salg",27078,6,"Villa",144,1957,{"$f":"IF(ISBLANK(VLOOKUP(A1374,Veje!A:B,2,FALSE)),INDEX(Veje!$D$2:$RT$652,MATCH(A1374,Veje!$A$2:$A$652,0),MATCH(B1374,Veje!$D$1:$RT$1,0)),VLOOKUP(A1374,Veje!A:B,2,FALSE))","v":"BJGF"},{"$f":"IFERROR(VLOOKUP(C1374,Medlemmer!A:C,3,FALSE),\"\")","v":""},{"$f":"IFERROR(VLOOKUP(C1374,Medlemmer!A:C,2,FALSE),\"\")","v":""},{"$f":"IFERROR(VLOOKUP(C1374,Tidligere_henvendelser!A:B,2,FALSE),\"\")","v":""}]
[{"$f":"ReplaceNumbers(C1375)","v":"Vangedevej"},{"$f":"_xlfn.NUMBERVALUE(FindNumbers(C1375))","v":152},"Vangedevej 152A, 2. th","2870 Dyssegård ",2400000,"2021-09-21","Alm. Salg",36923,2,"Ejerlejlighed",65,1956,{"$f":"IF(ISBLANK(VLOOKUP(A1375,Veje!A:B,2,FALSE)),INDEX(Veje!$D$2:$RT$652,MATCH(A1375,Veje!$A$2:$A$652,0),MATCH(B1375,Veje!$D$1:$RT$1,0)),VLOOKUP(A1375,Veje!A:B,2,FALSE))","v":"DY"},{"$f":"IFERROR(VLOOKUP(C1375,Medlemmer!A:C,3,FALSE),\"\")","v":""},{"$f":"IFERROR(VLOOKUP(C1375,Medlemmer!A:C,2,FALSE),\"\")","v":""},{"$f":"IFERROR(VLOOKUP(C1375,Tidligere_henvendelser!A:B,2,FALSE),\"\")","v":""}]
[{"$f":"ReplaceNumbers(C1376)","v":"Middelvej"},{"$f":"_xlfn.NUMBERVALUE(FindNumbers(C1376))","v":32},"Middelvej 32","2820 Gentofte",8550000,"2021-09-21","Alm. Salg",55519,5,"Villa",154,1928,{"$f":"IF(ISBLANK(VLOOKUP(A1376,Veje!A:B,2,FALSE)),INDEX(Veje!$D$2:$RT$652,MATCH(A1376,Veje!$A$2:$A$652,0),MATCH(B1376,Veje!$D$1:$RT$1,0)),VLOOKUP(A1376,Veje!A:B,2,FALSE))","v":"GSG"},{"$f":"IFERROR(VLOOKUP(C1376,Medlemmer!A:C,3,FALSE),\"\")","v":""},{"$f":"IFERROR(VLOOKUP(C1376,Medlemmer!A:C,2,FALSE),\"\")","v":""},{"$f":"IFERROR(VLOOKUP(C1376,Tidligere_henvendelser!A:B,2,FALSE),\"\")","v":""}]
[{"$f":"ReplaceNumbers(C1377)","v":"Ordrup Jagtvej"},{"$f":"_xlfn.NUMBERVALUE(FindNumbers(C1377))","v":153},"Ordrup Jagtvej 153, 1. tv","2920 Charlottenlund",3553000,"2021-09-22","Alm. Salg",48671,3,"Ejerlejlighed",73,1935,{"$f":"IF(ISBLANK(VLOOKUP(A1377,Veje!A:B,2,FALSE)),INDEX(Veje!$D$2:$RT$652,MATCH(A1377,Veje!$A$2:$A$652,0),MATCH(B1377,Veje!$D$1:$RT$1,0)),VLOOKUP(A1377,Veje!A:B,2,FALSE))","v":"SKGF"},{"$f":"IFERROR(VLOOKUP(C1377,Medlemmer!A:C,3,FALSE),\"\")","v":""},{"$f":"IFERROR(VLOOKUP(C1377,Medlemmer!A:C,2,FALSE),\"\")","v":""},{"$f":"IFERROR(VLOOKUP(C1377,Tidligere_henvendelser!A:B,2,FALSE),\"\")","v":""}]
[{"$f":"ReplaceNumbers(C1378)","v":"Tjørnestien"},{"$f":"_xlfn.NUMBERVALUE(FindNumbers(C1378))","v":5},"Tjørnestien 5B","2820 Gentofte",6300000,"2021-09-22","Alm. Salg",72413,3,"Ejerlejlighed",87,1924,{"$f":"IF(ISBLANK(VLOOKUP(A1378,Veje!A:B,2,FALSE)),INDEX(Veje!$D$2:$RT$652,MATCH(A1378,Veje!$A$2:$A$652,0),MATCH(B1378,Veje!$D$1:$RT$1,0)),VLOOKUP(A1378,Veje!A:B,2,FALSE))","v":"GSG"},{"$f":"IFERROR(VLOOKUP(C1378,Medlemmer!A:C,3,FALSE),\"\")","v":""},{"$f":"IFERROR(VLOOKUP(C1378,Medlemmer!A:C,2,FALSE),\"\")","v":""},{"$f":"IFERROR(VLOOKUP(C1378,Tidligere_henvendelser!A:B,2,FALSE),\"\")","v":""}]
[{"$f":"ReplaceNumbers(C1379)","v":"Søndergårdsvej"},{"$f":"_xlfn.NUMBERVALUE(FindNumbers(C1379))","v":45},"Søndergårdsvej 45, st","2870 Dyssegård ",4900000,"2021-09-22","Alm. Salg",55056,3,"Ejerlejlighed",89,1933,{"$f":"IF(ISBLANK(VLOOKUP(A1379,Veje!A:B,2,FALSE)),INDEX(Veje!$D$2:$RT$652,MATCH(A1379,Veje!$A$2:$A$652,0),MATCH(B1379,Veje!$D$1:$RT$1,0)),VLOOKUP(A1379,Veje!A:B,2,FALSE))","v":"DY"},{"$f":"IFERROR(VLOOKUP(C1379,Medlemmer!A:C,3,FALSE),\"\")","v":""},{"$f":"IFERROR(VLOOKUP(C1379,Medlemmer!A:C,2,FALSE),\"\")","v":""},{"$f":"IFERROR(VLOOKUP(C1379,Tidligere_henvendelser!A:B,2,FALSE),\"\")","v":""}]
[{"$f":"ReplaceNumbers(C1380)","v":"Søndergårdsvej"},{"$f":"_xlfn.NUMBERVALUE(FindNumbers(C1380))","v":45},"Søndergårdsvej 45, 1","2870 Dyssegård ",4900000,"2021-09-22","Alm. Salg",39200,3,"Ejerlejlighed",125,1933,{"$f":"IF(ISBLANK(VLOOKUP(A1380,Veje!A:B,2,FALSE)),INDEX(Veje!$D$2:$RT$652,MATCH(A1380,Veje!$A$2:$A$652,0),MATCH(B1380,Veje!$D$1:$RT$1,0)),VLOOKUP(A1380,Veje!A:B,2,FALSE))","v":"DY"},{"$f":"IFERROR(VLOOKUP(C1380,Medlemmer!A:C,3,FALSE),\"\")","v":""},{"$f":"IFERROR(VLOOKUP(C1380,Medlemmer!A:C,2,FALSE),\"\")","v":""},{"$f":"IFERROR(VLOOKUP(C1380,Tidligere_henvendelser!A:B,2,FALSE),\"\")","v":""}]
[{"$f":"ReplaceNumbers(C1381)","v":"Clarasvej"},{"$f":"_xlfn.NUMBERVALUE(FindNumbers(C1381))","v":1},"Clarasvej 1B, 1. 4","2920 Charlottenlund",2200000,"2021-09-22","Alm. Salg",42307,2,"Ejerlejlighed",52,1939,{"$f":"IF(ISBLANK(VLOOKUP(A1381,Veje!A:B,2,FALSE)),INDEX(Veje!$D$2:$RT$652,MATCH(A1381,Veje!$A$2:$A$652,0),MATCH(B1381,Veje!$D$1:$RT$1,0)),VLOOKUP(A1381,Veje!A:B,2,FALSE))","v":"OCG"},{"$f":"IFERROR(VLOOKUP(C1381,Medlemmer!A:C,3,FALSE),\"\")","v":""},{"$f":"IFERROR(VLOOKUP(C1381,Medlemmer!A:C,2,FALSE),\"\")","v":""},{"$f":"IFERROR(VLOOKUP(C1381,Tidligere_henvendelser!A:B,2,FALSE),\"\")","v":""}]
[{"$f":"ReplaceNumbers(C1382)","v":"Ordrup Jagtvej"},{"$f":"_xlfn.NUMBERVALUE(FindNumbers(C1382))","v":171},"Ordrup Jagtvej 171, 1. th","2920 Charlottenlund",4195000,"2021-09-22","Alm. Salg",50542,4,"Ejerlejlighed",83,1935,{"$f":"IF(ISBLANK(VLOOKUP(A1382,Veje!A:B,2,FALSE)),INDEX(Veje!$D$2:$RT$652,MATCH(A1382,Veje!$A$2:$A$652,0),MATCH(B1382,Veje!$D$1:$RT$1,0)),VLOOKUP(A1382,Veje!A:B,2,FALSE))","v":"SKGF"},{"$f":"IFERROR(VLOOKUP(C1382,Medlemmer!A:C,3,FALSE),\"\")","v":""},{"$f":"IFERROR(VLOOKUP(C1382,Medlemmer!A:C,2,FALSE),\"\")","v":""},{"$f":"IFERROR(VLOOKUP(C1382,Tidligere_henvendelser!A:B,2,FALSE),\"\")","v":""}]
[{"$f":"ReplaceNumbers(C1383)","v":"A N Hansens Alle"},{"$f":"_xlfn.NUMBERVALUE(FindNumbers(C1383))","v":18},"A N Hansens Alle 18, 1","2900 Hellerup",13000000,"2021-09-22","Alm. Salg",84967,5,"Ejerlejlighed",153,1906,{"$f":"IF(ISBLANK(VLOOKUP(A1383,Veje!A:B,2,FALSE)),INDEX(Veje!$D$2:$RT$652,MATCH(A1383,Veje!$A$2:$A$652,0),MATCH(B1383,Veje!$D$1:$RT$1,0)),VLOOKUP(A1383,Veje!A:B,2,FALSE))","v":"HMG"},{"$f":"IFERROR(VLOOKUP(C1383,Medlemmer!A:C,3,FALSE),\"\")","v":""},{"$f":"IFERROR(VLOOKUP(C1383,Medlemmer!A:C,2,FALSE),\"\")","v":""},{"$f":"IFERROR(VLOOKUP(C1383,Tidligere_henvendelser!A:B,2,FALSE),\"\")","v":""}]
[{"$f":"ReplaceNumbers(C1384)","v":"Teglgårdsvej"},{"$f":"_xlfn.NUMBERVALUE(FindNumbers(C1384))","v":52},"Teglgårdsvej 52, st","2920 Charlottenlund",10530000,"2021-09-22","Alm. Salg",74680,6,"Ejerlejlighed",141,1923,{"$f":"IF(ISBLANK(VLOOKUP(A1384,Veje!A:B,2,FALSE)),INDEX(Veje!$D$2:$RT$652,MATCH(A1384,Veje!$A$2:$A$652,0),MATCH(B1384,Veje!$D$1:$RT$1,0)),VLOOKUP(A1384,Veje!A:B,2,FALSE))","v":"SKGF"},{"$f":"IFERROR(VLOOKUP(C1384,Medlemmer!A:C,3,FALSE),\"\")","v":""},{"$f":"IFERROR(VLOOKUP(C1384,Medlemmer!A:C,2,FALSE),\"\")","v":""},{"$f":"IFERROR(VLOOKUP(C1384,Tidligere_henvendelser!A:B,2,FALSE),\"\")","v":""}]
[{"$f":"ReplaceNumbers(C1385)","v":"Teglgårdsvej"},{"$f":"_xlfn.NUMBERVALUE(FindNumbers(C1385))","v":52},"Teglgårdsvej 52, 1","2920 Charlottenlund",10530000,"2021-09-22","Alm. Salg",128414,3,"Ejerlejlighed",82,1923,{"$f":"IF(ISBLANK(VLOOKUP(A1385,Veje!A:B,2,FALSE)),INDEX(Veje!$D$2:$RT$652,MATCH(A1385,Veje!$A$2:$A$652,0),MATCH(B1385,Veje!$D$1:$RT$1,0)),VLOOKUP(A1385,Veje!A:B,2,FALSE))","v":"SKGF"},{"$f":"IFERROR(VLOOKUP(C1385,Medlemmer!A:C,3,FALSE),\"\")","v":""},{"$f":"IFERROR(VLOOKUP(C1385,Medlemmer!A:C,2,FALSE),\"\")","v":""},{"$f":"IFERROR(VLOOKUP(C1385,Tidligere_henvendelser!A:B,2,FALSE),\"\")","v":""}]
[{"$f":"ReplaceNumbers(C1386)","v":"Snogegårdsvænget"},{"$f":"_xlfn.NUMBERVALUE(FindNumbers(C1386))","v":2},"Snogegårdsvænget 2, 1. th","2820 Gentofte",1200000,"2021-09-22","Alm. Salg",19047,2,"Ejerlejlighed",63,1958,{"$f":"IF(ISBLANK(VLOOKUP(A1386,Veje!A:B,2,FALSE)),INDEX(Veje!$D$2:$RT$652,MATCH(A1386,Veje!$A$2:$A$652,0),MATCH(B1386,Veje!$D$1:$RT$1,0)),VLOOKUP(A1386,Veje!A:B,2,FALSE))","v":"GSG"},{"$f":"IFERROR(VLOOKUP(C1386,Medlemmer!A:C,3,FALSE),\"\")","v":""},{"$f":"IFERROR(VLOOKUP(C1386,Medlemmer!A:C,2,FALSE),\"\")","v":""},{"$f":"IFERROR(VLOOKUP(C1386,Tidligere_henvendelser!A:B,2,FALSE),\"\")","v":""}]
[{"$f":"ReplaceNumbers(C1387)","v":"Ewaldsbakken"},{"$f":"_xlfn.NUMBERVALUE(FindNumbers(C1387))","v":7},"Ewaldsbakken 7A","2900 Hellerup",10800000,"2021-09-22","Alm. Salg",68354,6,"Villa",158,2010,{"$f":"IF(ISBLANK(VLOOKUP(A1387,Veje!A:B,2,FALSE)),INDEX(Veje!$D$2:$RT$652,MATCH(A1387,Veje!$A$2:$A$652,0),MATCH(B1387,Veje!$D$1:$RT$1,0)),VLOOKUP(A1387,Veje!A:B,2,FALSE))","v":"DY"},{"$f":"IFERROR(VLOOKUP(C1387,Medlemmer!A:C,3,FALSE),\"\")","v":""},{"$f":"IFERROR(VLOOKUP(C1387,Medlemmer!A:C,2,FALSE),\"\")","v":""},{"$f":"IFERROR(VLOOKUP(C1387,Tidligere_henvendelser!A:B,2,FALSE),\"\")","v":""}]
[{"$f":"ReplaceNumbers(C1388)","v":"Skovkrogen"},{"$f":"_xlfn.NUMBERVALUE(FindNumbers(C1388))","v":1},"Skovkrogen 1, 2. tv","2920 Charlottenlund",2495000,"2021-09-22","Alm. Salg",42288,2,"Ejerlejlighed",59,1934,{"$f":"IF(ISBLANK(VLOOKUP(A1388,Veje!A:B,2,FALSE)),INDEX(Veje!$D$2:$RT$652,MATCH(A1388,Veje!$A$2:$A$652,0),MATCH(B1388,Veje!$D$1:$RT$1,0)),VLOOKUP(A1388,Veje!A:B,2,FALSE))","v":"OCG"},{"$f":"IFERROR(VLOOKUP(C1388,Medlemmer!A:C,3,FALSE),\"\")","v":""},{"$f":"IFERROR(VLOOKUP(C1388,Medlemmer!A:C,2,FALSE),\"\")","v":""},{"$f":"IFERROR(VLOOKUP(C1388,Tidligere_henvendelser!A:B,2,FALSE),\"\")","v":""}]
[{"$f":"ReplaceNumbers(C1389)","v":"Noras Sidevej"},{"$f":"_xlfn.NUMBERVALUE(FindNumbers(C1389))","v":4},"Noras Sidevej 4, 2","2920 Charlottenlund",8000000,"2021-09-23","Alm. Salg",49382,4,"Ejerlejlighed",162,1898,{"$f":"IF(ISBLANK(VLOOKUP(A1389,Veje!A:B,2,FALSE)),INDEX(Veje!$D$2:$RT$652,MATCH(A1389,Veje!$A$2:$A$652,0),MATCH(B1389,Veje!$D$1:$RT$1,0)),VLOOKUP(A1389,Veje!A:B,2,FALSE))","v":"SKGF"},{"$f":"IFERROR(VLOOKUP(C1389,Medlemmer!A:C,3,FALSE),\"\")","v":""},{"$f":"IFERROR(VLOOKUP(C1389,Medlemmer!A:C,2,FALSE),\"\")","v":""},{"$f":"IFERROR(VLOOKUP(C1389,Tidligere_henvendelser!A:B,2,FALSE),\"\")","v":""}]
[{"$f":"ReplaceNumbers(C1390)","v":"Skolebakken"},{"$f":"_xlfn.NUMBERVALUE(FindNumbers(C1390))","v":9},"Skolebakken 9","2820 Gentofte",3315000,"2021-09-23","Fam. Salg",22100,5,"Villa",150,1936,{"$f":"IF(ISBLANK(VLOOKUP(A1390,Veje!A:B,2,FALSE)),INDEX(Veje!$D$2:$RT$652,MATCH(A1390,Veje!$A$2:$A$652,0),MATCH(B1390,Veje!$D$1:$RT$1,0)),VLOOKUP(A1390,Veje!A:B,2,FALSE))","v":"GSG"},{"$f":"IFERROR(VLOOKUP(C1390,Medlemmer!A:C,3,FALSE),\"\")","v":""},{"$f":"IFERROR(VLOOKUP(C1390,Medlemmer!A:C,2,FALSE),\"\")","v":""},{"$f":"IFERROR(VLOOKUP(C1390,Tidligere_henvendelser!A:B,2,FALSE),\"\")","v":""}]
[{"$f":"ReplaceNumbers(C1391)","v":"Ordrup Jagtvej"},{"$f":"_xlfn.NUMBERVALUE(FindNumbers(C1391))","v":42},"Ordrup Jagtvej 42D, 3. tv","2920 Charlottenlund",2515000,"2021-09-23","Alm. Salg",41916,2,"Ejerlejlighed",60,1934,{"$f":"IF(ISBLANK(VLOOKUP(A1391,Veje!A:B,2,FALSE)),INDEX(Veje!$D$2:$RT$652,MATCH(A1391,Veje!$A$2:$A$652,0),MATCH(B1391,Veje!$D$1:$RT$1,0)),VLOOKUP(A1391,Veje!A:B,2,FALSE))","v":"SKGF"},{"$f":"IFERROR(VLOOKUP(C1391,Medlemmer!A:C,3,FALSE),\"\")","v":""},{"$f":"IFERROR(VLOOKUP(C1391,Medlemmer!A:C,2,FALSE),\"\")","v":""},{"$f":"IFERROR(VLOOKUP(C1391,Tidligere_henvendelser!A:B,2,FALSE),\"\")","v":""}]
[{"$f":"ReplaceNumbers(C1392)","v":"Gudrunsvej"},{"$f":"_xlfn.NUMBERVALUE(FindNumbers(C1392))","v":2},"Gudrunsvej 2","2920 Charlottenlund",10035000,"2021-09-23","Alm. Salg",73248,6,"Villa",137,1959,{"$f":"IF(ISBLANK(VLOOKUP(A1392,Veje!A:B,2,FALSE)),INDEX(Veje!$D$2:$RT$652,MATCH(A1392,Veje!$A$2:$A$652,0),MATCH(B1392,Veje!$D$1:$RT$1,0)),VLOOKUP(A1392,Veje!A:B,2,FALSE))","v":"OCG"},{"$f":"IFERROR(VLOOKUP(C1392,Medlemmer!A:C,3,FALSE),\"\")","v":""},{"$f":"IFERROR(VLOOKUP(C1392,Medlemmer!A:C,2,FALSE),\"\")","v":""},{"$f":"IFERROR(VLOOKUP(C1392,Tidligere_henvendelser!A:B,2,FALSE),\"\")","v":""}]
[{"$f":"ReplaceNumbers(C1393)","v":"Vespervej"},{"$f":"_xlfn.NUMBERVALUE(FindNumbers(C1393))","v":30},"Vespervej 30","2900 Hellerup",7800000,"2021-09-25","Alm. Salg",65000,5,"Rækkehus",120,1934,{"$f":"IF(ISBLANK(VLOOKUP(A1393,Veje!A:B,2,FALSE)),INDEX(Veje!$D$2:$RT$652,MATCH(A1393,Veje!$A$2:$A$652,0),MATCH(B1393,Veje!$D$1:$RT$1,0)),VLOOKUP(A1393,Veje!A:B,2,FALSE))","v":"GSG"},{"$f":"IFERROR(VLOOKUP(C1393,Medlemmer!A:C,3,FALSE),\"\")","v":""},{"$f":"IFERROR(VLOOKUP(C1393,Medlemmer!A:C,2,FALSE),\"\")","v":""},{"$f":"IFERROR(VLOOKUP(C1393,Tidligere_henvendelser!A:B,2,FALSE),\"\")","v":""}]
[{"$f":"ReplaceNumbers(C1394)","v":"Garderhøjvej"},{"$f":"_xlfn.NUMBERVALUE(FindNumbers(C1394))","v":10},"Garderhøjvej 10","2820 Gentofte",15250000,"2021-09-25","Alm. Salg",60276,6,"Villa",253,1936,{"$f":"IF(ISBLANK(VLOOKUP(A1394,Veje!A:B,2,FALSE)),INDEX(Veje!$D$2:$RT$652,MATCH(A1394,Veje!$A$2:$A$652,0),MATCH(B1394,Veje!$D$1:$RT$1,0)),VLOOKUP(A1394,Veje!A:B,2,FALSE))","v":"BJGF"},{"$f":"IFERROR(VLOOKUP(C1394,Medlemmer!A:C,3,FALSE),\"\")","v":""},{"$f":"IFERROR(VLOOKUP(C1394,Medlemmer!A:C,2,FALSE),\"\")","v":""},{"$f":"IFERROR(VLOOKUP(C1394,Tidligere_henvendelser!A:B,2,FALSE),\"\")","v":""}]
[{"$f":"ReplaceNumbers(C1395)","v":"Jagtvænget"},{"$f":"_xlfn.NUMBERVALUE(FindNumbers(C1395))","v":1},"Jagtvænget 1","2920 Charlottenlund",16000000,"2021-09-25","Alm. Salg",76555,6,"Villa",209,2013,{"$f":"IF(ISBLANK(VLOOKUP(A1395,Veje!A:B,2,FALSE)),INDEX(Veje!$D$2:$RT$652,MATCH(A1395,Veje!$A$2:$A$652,0),MATCH(B1395,Veje!$D$1:$RT$1,0)),VLOOKUP(A1395,Veje!A:B,2,FALSE))","v":"SKGF"},{"$f":"IFERROR(VLOOKUP(C1395,Medlemmer!A:C,3,FALSE),\"\")","v":""},{"$f":"IFERROR(VLOOKUP(C1395,Medlemmer!A:C,2,FALSE),\"\")","v":""},{"$f":"IFERROR(VLOOKUP(C1395,Tidligere_henvendelser!A:B,2,FALSE),\"\")","v":""}]
[{"$f":"ReplaceNumbers(C1396)","v":"Sønderengen"},{"$f":"_xlfn.NUMBERVALUE(FindNumbers(C1396))","v":36},"Sønderengen 36","2870 Dyssegård ",7495000,"2021-09-25","Alm. Salg",55932,4,"Villa",134,1931,{"$f":"IF(ISBLANK(VLOOKUP(A1396,Veje!A:B,2,FALSE)),INDEX(Veje!$D$2:$RT$652,MATCH(A1396,Veje!$A$2:$A$652,0),MATCH(B1396,Veje!$D$1:$RT$1,0)),VLOOKUP(A1396,Veje!A:B,2,FALSE))","v":"DY"},{"$f":"IFERROR(VLOOKUP(C1396,Medlemmer!A:C,3,FALSE),\"\")","v":""},{"$f":"IFERROR(VLOOKUP(C1396,Medlemmer!A:C,2,FALSE),\"\")","v":""},{"$f":"IFERROR(VLOOKUP(C1396,Tidligere_henvendelser!A:B,2,FALSE),\"\")","v":""}]
[{"$f":"ReplaceNumbers(C1397)","v":"Eskeager"},{"$f":"_xlfn.NUMBERVALUE(FindNumbers(C1397))","v":6},"Eskeager 6","2870 Dyssegård ",6850000,"2021-09-26","Alm. Salg",59565,6,"Rækkehus",115,1955,{"$f":"IF(ISBLANK(VLOOKUP(A1397,Veje!A:B,2,FALSE)),INDEX(Veje!$D$2:$RT$652,MATCH(A1397,Veje!$A$2:$A$652,0),MATCH(B1397,Veje!$D$1:$RT$1,0)),VLOOKUP(A1397,Veje!A:B,2,FALSE))","v":"DY"},{"$f":"IFERROR(VLOOKUP(C1397,Medlemmer!A:C,3,FALSE),\"\")","v":""},{"$f":"IFERROR(VLOOKUP(C1397,Medlemmer!A:C,2,FALSE),\"\")","v":""},{"$f":"IFERROR(VLOOKUP(C1397,Tidligere_henvendelser!A:B,2,FALSE),\"\")","v":""}]
[{"$f":"ReplaceNumbers(C1398)","v":"Baunegårdsvej"},{"$f":"_xlfn.NUMBERVALUE(FindNumbers(C1398))","v":57},"Baunegårdsvej 57","2900 Hellerup",19500000,"2021-09-26","Alm. Salg",60747,8,"Villa",321,1934,{"$f":"IF(ISBLANK(VLOOKUP(A1398,Veje!A:B,2,FALSE)),INDEX(Veje!$D$2:$RT$652,MATCH(A1398,Veje!$A$2:$A$652,0),MATCH(B1398,Veje!$D$1:$RT$1,0)),VLOOKUP(A1398,Veje!A:B,2,FALSE))","v":"GSG"},{"$f":"IFERROR(VLOOKUP(C1398,Medlemmer!A:C,3,FALSE),\"\")","v":""},{"$f":"IFERROR(VLOOKUP(C1398,Medlemmer!A:C,2,FALSE),\"\")","v":""},{"$f":"IFERROR(VLOOKUP(C1398,Tidligere_henvendelser!A:B,2,FALSE),\"\")","v":""}]
[{"$f":"ReplaceNumbers(C1399)","v":"Forårsvej"},{"$f":"_xlfn.NUMBERVALUE(FindNumbers(C1399))","v":15},"Forårsvej 15","2920 Charlottenlund",19950000,"2021-09-26","Alm. Salg",108423,6,"Villa",184,1923,{"$f":"IF(ISBLANK(VLOOKUP(A1399,Veje!A:B,2,FALSE)),INDEX(Veje!$D$2:$RT$652,MATCH(A1399,Veje!$A$2:$A$652,0),MATCH(B1399,Veje!$D$1:$RT$1,0)),VLOOKUP(A1399,Veje!A:B,2,FALSE))","v":"OCG"},{"$f":"IFERROR(VLOOKUP(C1399,Medlemmer!A:C,3,FALSE),\"\")","v":""},{"$f":"IFERROR(VLOOKUP(C1399,Medlemmer!A:C,2,FALSE),\"\")","v":""},{"$f":"IFERROR(VLOOKUP(C1399,Tidligere_henvendelser!A:B,2,FALSE),\"\")","v":""}]
[{"$f":"ReplaceNumbers(C1400)","v":"Teglgårdsvej"},{"$f":"_xlfn.NUMBERVALUE(FindNumbers(C1400))","v":17},"Teglgårdsvej 17, st","2920 Charlottenlund",600000,"2021-09-26","Alm. Salg",3658,4,"Ejerlejlighed",164,1917,{"$f":"IF(ISBLANK(VLOOKUP(A1400,Veje!A:B,2,FALSE)),INDEX(Veje!$D$2:$RT$652,MATCH(A1400,Veje!$A$2:$A$652,0),MATCH(B1400,Veje!$D$1:$RT$1,0)),VLOOKUP(A1400,Veje!A:B,2,FALSE))","v":"SKGF"},{"$f":"IFERROR(VLOOKUP(C1400,Medlemmer!A:C,3,FALSE),\"\")","v":""},{"$f":"IFERROR(VLOOKUP(C1400,Medlemmer!A:C,2,FALSE),\"\")","v":""},{"$f":"IFERROR(VLOOKUP(C1400,Tidligere_henvendelser!A:B,2,FALSE),\"\")","v":""}]
[{"$f":"ReplaceNumbers(C1401)","v":"Teglgårdsvej"},{"$f":"_xlfn.NUMBERVALUE(FindNumbers(C1401))","v":17},"Teglgårdsvej 17, 1","2920 Charlottenlund",600000,"2021-09-26","Alm. Salg",5555,3,"Ejerlejlighed",108,1917,{"$f":"IF(ISBLANK(VLOOKUP(A1401,Veje!A:B,2,FALSE)),INDEX(Veje!$D$2:$RT$652,MATCH(A1401,Veje!$A$2:$A$652,0),MATCH(B1401,Veje!$D$1:$RT$1,0)),VLOOKUP(A1401,Veje!A:B,2,FALSE))","v":"SKGF"},{"$f":"IFERROR(VLOOKUP(C1401,Medlemmer!A:C,3,FALSE),\"\")","v":""},{"$f":"IFERROR(VLOOKUP(C1401,Medlemmer!A:C,2,FALSE),\"\")","v":""},{"$f":"IFERROR(VLOOKUP(C1401,Tidligere_henvendelser!A:B,2,FALSE),\"\")","v":""}]
[{"$f":"ReplaceNumbers(C1402)","v":"Kærmindevej"},{"$f":"_xlfn.NUMBERVALUE(FindNumbers(C1402))","v":11},"Kærmindevej 11","2820 Gentofte",8800000,"2021-09-27","Alm. Salg",56774,6,"Villa",155,1924,{"$f":"IF(ISBLANK(VLOOKUP(A1402,Veje!A:B,2,FALSE)),INDEX(Veje!$D$2:$RT$652,MATCH(A1402,Veje!$A$2:$A$652,0),MATCH(B1402,Veje!$D$1:$RT$1,0)),VLOOKUP(A1402,Veje!A:B,2,FALSE))","v":"GSG"},{"$f":"IFERROR(VLOOKUP(C1402,Medlemmer!A:C,3,FALSE),\"\")","v":""},{"$f":"IFERROR(VLOOKUP(C1402,Medlemmer!A:C,2,FALSE),\"\")","v":""},{"$f":"IFERROR(VLOOKUP(C1402,Tidligere_henvendelser!A:B,2,FALSE),\"\")","v":""}]
[{"$f":"ReplaceNumbers(C1403)","v":"Skjoldagervej"},{"$f":"_xlfn.NUMBERVALUE(FindNumbers(C1403))","v":44},"Skjoldagervej 44, st. th","2820 Gentofte",2900000,"2021-09-27","Alm. Salg",34117,3,"Ejerlejlighed",85,1955,{"$f":"IF(ISBLANK(VLOOKUP(A1403,Veje!A:B,2,FALSE)),INDEX(Veje!$D$2:$RT$652,MATCH(A1403,Veje!$A$2:$A$652,0),MATCH(B1403,Veje!$D$1:$RT$1,0)),VLOOKUP(A1403,Veje!A:B,2,FALSE))","v":"BJGF"},{"$f":"IFERROR(VLOOKUP(C1403,Medlemmer!A:C,3,FALSE),\"\")","v":""},{"$f":"IFERROR(VLOOKUP(C1403,Medlemmer!A:C,2,FALSE),\"\")","v":""},{"$f":"IFERROR(VLOOKUP(C1403,Tidligere_henvendelser!A:B,2,FALSE),\"\")","v":""}]
[{"$f":"ReplaceNumbers(C1404)","v":"Rådhusvej"},{"$f":"_xlfn.NUMBERVALUE(FindNumbers(C1404))","v":16},"Rådhusvej 16, 1","2920 Charlottenlund",6500000,"2021-09-27","Alm. Salg",67010,4,"Ejerlejlighed",97,1895,{"$f":"IF(ISBLANK(VLOOKUP(A1404,Veje!A:B,2,FALSE)),INDEX(Veje!$D$2:$RT$652,MATCH(A1404,Veje!$A$2:$A$652,0),MATCH(B1404,Veje!$D$1:$RT$1,0)),VLOOKUP(A1404,Veje!A:B,2,FALSE))","v":"OCG"},{"$f":"IFERROR(VLOOKUP(C1404,Medlemmer!A:C,3,FALSE),\"\")","v":""},{"$f":"IFERROR(VLOOKUP(C1404,Medlemmer!A:C,2,FALSE),\"\")","v":""},{"$f":"IFERROR(VLOOKUP(C1404,Tidligere_henvendelser!A:B,2,FALSE),\"\")","v":""}]
[{"$f":"ReplaceNumbers(C1405)","v":"Bernstorffsvej"},{"$f":"_xlfn.NUMBERVALUE(FindNumbers(C1405))","v":180},"Bernstorffsvej 180","2920 Charlottenlund",10750000,"2021-09-27","Alm. Salg",72635,6,"Rækkehus",148,1927,{"$f":"IF(ISBLANK(VLOOKUP(A1405,Veje!A:B,2,FALSE)),INDEX(Veje!$D$2:$RT$652,MATCH(A1405,Veje!$A$2:$A$652,0),MATCH(B1405,Veje!$D$1:$RT$1,0)),VLOOKUP(A1405,Veje!A:B,2,FALSE))","v":"HMG"},{"$f":"IFERROR(VLOOKUP(C1405,Medlemmer!A:C,3,FALSE),\"\")","v":""},{"$f":"IFERROR(VLOOKUP(C1405,Medlemmer!A:C,2,FALSE),\"\")","v":""},{"$f":"IFERROR(VLOOKUP(C1405,Tidligere_henvendelser!A:B,2,FALSE),\"\")","v":""}]
[{"$f":"ReplaceNumbers(C1406)","v":"Henriettevej"},{"$f":"_xlfn.NUMBERVALUE(FindNumbers(C1406))","v":9},"Henriettevej 9, st. 4","2920 Charlottenlund",7725000,"2021-09-28","Alm. Salg",60351,4,"Ejerlejlighed",128,1985,{"$f":"IF(ISBLANK(VLOOKUP(A1406,Veje!A:B,2,FALSE)),INDEX(Veje!$D$2:$RT$652,MATCH(A1406,Veje!$A$2:$A$652,0),MATCH(B1406,Veje!$D$1:$RT$1,0)),VLOOKUP(A1406,Veje!A:B,2,FALSE))","v":"OCG"},{"$f":"IFERROR(VLOOKUP(C1406,Medlemmer!A:C,3,FALSE),\"\")","v":""},{"$f":"IFERROR(VLOOKUP(C1406,Medlemmer!A:C,2,FALSE),\"\")","v":""},{"$f":"IFERROR(VLOOKUP(C1406,Tidligere_henvendelser!A:B,2,FALSE),\"\")","v":""}]
[{"$f":"ReplaceNumbers(C1407)","v":"Byledet"},{"$f":"_xlfn.NUMBERVALUE(FindNumbers(C1407))","v":19},"Byledet 19","2820 Gentofte",8000000,"2021-09-28","Alm. Salg",57553,5,"Villa",139,1933,{"$f":"IF(ISBLANK(VLOOKUP(A1407,Veje!A:B,2,FALSE)),INDEX(Veje!$D$2:$RT$652,MATCH(A1407,Veje!$A$2:$A$652,0),MATCH(B1407,Veje!$D$1:$RT$1,0)),VLOOKUP(A1407,Veje!A:B,2,FALSE))","v":"GSG"},{"$f":"IFERROR(VLOOKUP(C1407,Medlemmer!A:C,3,FALSE),\"\")","v":""},{"$f":"IFERROR(VLOOKUP(C1407,Medlemmer!A:C,2,FALSE),\"\")","v":""},{"$f":"IFERROR(VLOOKUP(C1407,Tidligere_henvendelser!A:B,2,FALSE),\"\")","v":""}]
[{"$f":"ReplaceNumbers(C1408)","v":"Gentoftegade"},{"$f":"_xlfn.NUMBERVALUE(FindNumbers(C1408))","v":62},"Gentoftegade 62, 3. tv","2820 Gentofte",4950000,"2021-09-28","Alm. Salg",52659,4,"Ejerlejlighed",94,1931,{"$f":"IF(ISBLANK(VLOOKUP(A1408,Veje!A:B,2,FALSE)),INDEX(Veje!$D$2:$RT$652,MATCH(A1408,Veje!$A$2:$A$652,0),MATCH(B1408,Veje!$D$1:$RT$1,0)),VLOOKUP(A1408,Veje!A:B,2,FALSE))","v":"GSG"},{"$f":"IFERROR(VLOOKUP(C1408,Medlemmer!A:C,3,FALSE),\"\")","v":""},{"$f":"IFERROR(VLOOKUP(C1408,Medlemmer!A:C,2,FALSE),\"\")","v":""},{"$f":"IFERROR(VLOOKUP(C1408,Tidligere_henvendelser!A:B,2,FALSE),\"\")","v":""}]
[{"$f":"ReplaceNumbers(C1409)","v":"Strandvejen"},{"$f":"_xlfn.NUMBERVALUE(FindNumbers(C1409))","v":261},"Strandvejen 261A","2920 Charlottenlund",3055050,"2021-09-28","Fam. Salg",16079,6,"Rækkehus",157,1959,{"$f":"IF(ISBLANK(VLOOKUP(A1409,Veje!A:B,2,FALSE)),INDEX(Veje!$D$2:$RT$652,MATCH(A1409,Veje!$A$2:$A$652,0),MATCH(B1409,Veje!$D$1:$RT$1,0)),VLOOKUP(A1409,Veje!A:B,2,FALSE))","v":"SKGF"},{"$f":"IFERROR(VLOOKUP(C1409,Medlemmer!A:C,3,FALSE),\"\")","v":""},{"$f":"IFERROR(VLOOKUP(C1409,Medlemmer!A:C,2,FALSE),\"\")","v":""},{"$f":"IFERROR(VLOOKUP(C1409,Tidligere_henvendelser!A:B,2,FALSE),\"\")","v":""}]
[{"$f":"ReplaceNumbers(C1410)","v":"Bellevuekrogen"},{"$f":"_xlfn.NUMBERVALUE(FindNumbers(C1410))","v":14},"Bellevuekrogen 14","2930 Klampenborg",5000000,"2021-09-28","Fam. Salg",39062,3,"Rækkehus",128,1950,{"$f":"IF(ISBLANK(VLOOKUP(A1410,Veje!A:B,2,FALSE)),INDEX(Veje!$D$2:$RT$652,MATCH(A1410,Veje!$A$2:$A$652,0),MATCH(B1410,Veje!$D$1:$RT$1,0)),VLOOKUP(A1410,Veje!A:B,2,FALSE))","v":"SKGF"},{"$f":"IFERROR(VLOOKUP(C1410,Medlemmer!A:C,3,FALSE),\"\")","v":""},{"$f":"IFERROR(VLOOKUP(C1410,Medlemmer!A:C,2,FALSE),\"\")","v":""},{"$f":"IFERROR(VLOOKUP(C1410,Tidligere_henvendelser!A:B,2,FALSE),\"\")","v":""}]
[{"$f":"ReplaceNumbers(C1411)","v":"Blidahpark"},{"$f":"_xlfn.NUMBERVALUE(FindNumbers(C1411))","v":23},"Blidahpark 23, 2. 3","2900 Hellerup",3275000,"2021-09-29","Alm. Salg",57456,2,"Ejerlejlighed",57,1933,{"$f":"IF(ISBLANK(VLOOKUP(A1411,Veje!A:B,2,FALSE)),INDEX(Veje!$D$2:$RT$652,MATCH(A1411,Veje!$A$2:$A$652,0),MATCH(B1411,Veje!$D$1:$RT$1,0)),VLOOKUP(A1411,Veje!A:B,2,FALSE))","v":"HMG"},{"$f":"IFERROR(VLOOKUP(C1411,Medlemmer!A:C,3,FALSE),\"\")","v":""},{"$f":"IFERROR(VLOOKUP(C1411,Medlemmer!A:C,2,FALSE),\"\")","v":""},{"$f":"IFERROR(VLOOKUP(C1411,Tidligere_henvendelser!A:B,2,FALSE),\"\")","v":""}]
[{"$f":"ReplaceNumbers(C1412)","v":"Jægersborg Alle"},{"$f":"_xlfn.NUMBERVALUE(FindNumbers(C1412))","v":241},"Jægersborg Alle 241, 2. th","2820 Gentofte",3725000,"2021-09-29","Alm. Salg",33863,3,"Ejerlejlighed",110,1957,{"$f":"IF(ISBLANK(VLOOKUP(A1412,Veje!A:B,2,FALSE)),INDEX(Veje!$D$2:$RT$652,MATCH(A1412,Veje!$A$2:$A$652,0),MATCH(B1412,Veje!$D$1:$RT$1,0)),VLOOKUP(A1412,Veje!A:B,2,FALSE))","v":"BJGF"},{"$f":"IFERROR(VLOOKUP(C1412,Medlemmer!A:C,3,FALSE),\"\")","v":""},{"$f":"IFERROR(VLOOKUP(C1412,Medlemmer!A:C,2,FALSE),\"\")","v":""},{"$f":"IFERROR(VLOOKUP(C1412,Tidligere_henvendelser!A:B,2,FALSE),\"\")","v":""}]
[{"$f":"ReplaceNumbers(C1413)","v":"Skovgårdsvej"},{"$f":"_xlfn.NUMBERVALUE(FindNumbers(C1413))","v":30},"Skovgårdsvej 30","2920 Charlottenlund",13000000,"2021-09-29","Alm. Salg",83333,6,"Villa",156,1936,{"$f":"IF(ISBLANK(VLOOKUP(A1413,Veje!A:B,2,FALSE)),INDEX(Veje!$D$2:$RT$652,MATCH(A1413,Veje!$A$2:$A$652,0),MATCH(B1413,Veje!$D$1:$RT$1,0)),VLOOKUP(A1413,Veje!A:B,2,FALSE))","v":"OCG"},{"$f":"IFERROR(VLOOKUP(C1413,Medlemmer!A:C,3,FALSE),\"\")","v":""},{"$f":"IFERROR(VLOOKUP(C1413,Medlemmer!A:C,2,FALSE),\"\")","v":""},{"$f":"IFERROR(VLOOKUP(C1413,Tidligere_henvendelser!A:B,2,FALSE),\"\")","v":""}]
[{"$f":"ReplaceNumbers(C1414)","v":"Gentoftegade"},{"$f":"_xlfn.NUMBERVALUE(FindNumbers(C1414))","v":62},"Gentoftegade 62, 4. tv","2820 Gentofte",4750000,"2021-09-29","Alm. Salg",63333,4,"Ejerlejlighed",75,1931,{"$f":"IF(ISBLANK(VLOOKUP(A1414,Veje!A:B,2,FALSE)),INDEX(Veje!$D$2:$RT$652,MATCH(A1414,Veje!$A$2:$A$652,0),MATCH(B1414,Veje!$D$1:$RT$1,0)),VLOOKUP(A1414,Veje!A:B,2,FALSE))","v":"GSG"},{"$f":"IFERROR(VLOOKUP(C1414,Medlemmer!A:C,3,FALSE),\"\")","v":""},{"$f":"IFERROR(VLOOKUP(C1414,Medlemmer!A:C,2,FALSE),\"\")","v":""},{"$f":"IFERROR(VLOOKUP(C1414,Tidligere_henvendelser!A:B,2,FALSE),\"\")","v":""}]
[{"$f":"ReplaceNumbers(C1415)","v":"Vedbendvej"},{"$f":"_xlfn.NUMBERVALUE(FindNumbers(C1415))","v":4},"Vedbendvej 4, 1. tv","2900 Hellerup",3195000,"2021-09-29","Alm. Salg",45642,3,"Ejerlejlighed",70,1938,{"$f":"IF(ISBLANK(VLOOKUP(A1415,Veje!A:B,2,FALSE)),INDEX(Veje!$D$2:$RT$652,MATCH(A1415,Veje!$A$2:$A$652,0),MATCH(B1415,Veje!$D$1:$RT$1,0)),VLOOKUP(A1415,Veje!A:B,2,FALSE))","v":"DY"},{"$f":"IFERROR(VLOOKUP(C1415,Medlemmer!A:C,3,FALSE),\"\")","v":""},{"$f":"IFERROR(VLOOKUP(C1415,Medlemmer!A:C,2,FALSE),\"\")","v":""},{"$f":"IFERROR(VLOOKUP(C1415,Tidligere_henvendelser!A:B,2,FALSE),\"\")","v":""}]
[{"$f":"ReplaceNumbers(C1416)","v":"Tryggehvile Alle"},{"$f":"_xlfn.NUMBERVALUE(FindNumbers(C1416))","v":2},"Tryggehvile Alle 2","2920 Charlottenlund",10200000,"2021-09-29","Alm. Salg",68000,4,"Villa",150,1878,{"$f":"IF(ISBLANK(VLOOKUP(A1416,Veje!A:B,2,FALSE)),INDEX(Veje!$D$2:$RT$652,MATCH(A1416,Veje!$A$2:$A$652,0),MATCH(B1416,Veje!$D$1:$RT$1,0)),VLOOKUP(A1416,Veje!A:B,2,FALSE))","v":"BJGF"},{"$f":"IFERROR(VLOOKUP(C1416,Medlemmer!A:C,3,FALSE),\"\")","v":""},{"$f":"IFERROR(VLOOKUP(C1416,Medlemmer!A:C,2,FALSE),\"\")","v":""},{"$f":"IFERROR(VLOOKUP(C1416,Tidligere_henvendelser!A:B,2,FALSE),\"\")","v":""}]
[{"$f":"ReplaceNumbers(C1417)","v":"Clarasvej"},{"$f":"_xlfn.NUMBERVALUE(FindNumbers(C1417))","v":2},"Clarasvej 2, 1. th","2920 Charlottenlund",6000000,"2021-09-29","Alm. Salg",44117,5,"Ejerlejlighed",136,1936,{"$f":"IF(ISBLANK(VLOOKUP(A1417,Veje!A:B,2,FALSE)),INDEX(Veje!$D$2:$RT$652,MATCH(A1417,Veje!$A$2:$A$652,0),MATCH(B1417,Veje!$D$1:$RT$1,0)),VLOOKUP(A1417,Veje!A:B,2,FALSE))","v":"OCG"},{"$f":"IFERROR(VLOOKUP(C1417,Medlemmer!A:C,3,FALSE),\"\")","v":""},{"$f":"IFERROR(VLOOKUP(C1417,Medlemmer!A:C,2,FALSE),\"\")","v":""},{"$f":"IFERROR(VLOOKUP(C1417,Tidligere_henvendelser!A:B,2,FALSE),\"\")","v":""}]
[{"$f":"ReplaceNumbers(C1418)","v":"Eskeager"},{"$f":"_xlfn.NUMBERVALUE(FindNumbers(C1418))","v":3},"Eskeager 3, 1. th","2870 Dyssegård ",3495000,"2021-09-30","Alm. Salg",41607,4,"Ejerlejlighed",84,1946,{"$f":"IF(ISBLANK(VLOOKUP(A1418,Veje!A:B,2,FALSE)),INDEX(Veje!$D$2:$RT$652,MATCH(A1418,Veje!$A$2:$A$652,0),MATCH(B1418,Veje!$D$1:$RT$1,0)),VLOOKUP(A1418,Veje!A:B,2,FALSE))","v":"DY"},{"$f":"IFERROR(VLOOKUP(C1418,Medlemmer!A:C,3,FALSE),\"\")","v":""},{"$f":"IFERROR(VLOOKUP(C1418,Medlemmer!A:C,2,FALSE),\"\")","v":""},{"$f":"IFERROR(VLOOKUP(C1418,Tidligere_henvendelser!A:B,2,FALSE),\"\")","v":""}]
[{"$f":"ReplaceNumbers(C1419)","v":"Lille Strandvej"},{"$f":"_xlfn.NUMBERVALUE(FindNumbers(C1419))","v":30},"Lille Strandvej 30, st. tv","2900 Hellerup",5750000,"2021-09-30","Alm. Salg",71875,3,"Ejerlejlighed",80,1937,{"$f":"IF(ISBLANK(VLOOKUP(A1419,Veje!A:B,2,FALSE)),INDEX(Veje!$D$2:$RT$652,MATCH(A1419,Veje!$A$2:$A$652,0),MATCH(B1419,Veje!$D$1:$RT$1,0)),VLOOKUP(A1419,Veje!A:B,2,FALSE))","v":"HMG"},{"$f":"IFERROR(VLOOKUP(C1419,Medlemmer!A:C,3,FALSE),\"\")","v":""},{"$f":"IFERROR(VLOOKUP(C1419,Medlemmer!A:C,2,FALSE),\"\")","v":""},{"$f":"IFERROR(VLOOKUP(C1419,Tidligere_henvendelser!A:B,2,FALSE),\"\")","v":""}]
[{"$f":"ReplaceNumbers(C1420)","v":"Callisensvej"},{"$f":"_xlfn.NUMBERVALUE(FindNumbers(C1420))","v":10},"Callisensvej 10, 4. th","2900 Hellerup",1800000,"2021-09-30","Andet",24657,3,"Ejerlejlighed",73,1899,{"$f":"IF(ISBLANK(VLOOKUP(A1420,Veje!A:B,2,FALSE)),INDEX(Veje!$D$2:$RT$652,MATCH(A1420,Veje!$A$2:$A$652,0),MATCH(B1420,Veje!$D$1:$RT$1,0)),VLOOKUP(A1420,Veje!A:B,2,FALSE))","v":"HMG"},{"$f":"IFERROR(VLOOKUP(C1420,Medlemmer!A:C,3,FALSE),\"\")","v":""},{"$f":"IFERROR(VLOOKUP(C1420,Medlemmer!A:C,2,FALSE),\"\")","v":""},{"$f":"IFERROR(VLOOKUP(C1420,Tidligere_henvendelser!A:B,2,FALSE),\"\")","v":""}]
[{"$f":"ReplaceNumbers(C1421)","v":"Ordrupvej"},{"$f":"_xlfn.NUMBERVALUE(FindNumbers(C1421))","v":112},"Ordrupvej 112A, 1","2920 Charlottenlund",4995000,"2021-09-30","Alm. Salg",51494,3,"Ejerlejlighed",97,1933,{"$f":"IF(ISBLANK(VLOOKUP(A1421,Veje!A:B,2,FALSE)),INDEX(Veje!$D$2:$RT$652,MATCH(A1421,Veje!$A$2:$A$652,0),MATCH(B1421,Veje!$D$1:$RT$1,0)),VLOOKUP(A1421,Veje!A:B,2,FALSE))","v":"OCG"},{"$f":"IFERROR(VLOOKUP(C1421,Medlemmer!A:C,3,FALSE),\"\")","v":""},{"$f":"IFERROR(VLOOKUP(C1421,Medlemmer!A:C,2,FALSE),\"\")","v":""},{"$f":"IFERROR(VLOOKUP(C1421,Tidligere_henvendelser!A:B,2,FALSE),\"\")","v":""}]
[{"$f":"ReplaceNumbers(C1422)","v":"Ordrupvej"},{"$f":"_xlfn.NUMBERVALUE(FindNumbers(C1422))","v":89},"Ordrupvej 89, 2. tv","2920 Charlottenlund",1895000,"2021-09-30","Alm. Salg",44069,2,"Ejerlejlighed",43,1958,{"$f":"IF(ISBLANK(VLOOKUP(A1422,Veje!A:B,2,FALSE)),INDEX(Veje!$D$2:$RT$652,MATCH(A1422,Veje!$A$2:$A$652,0),MATCH(B1422,Veje!$D$1:$RT$1,0)),VLOOKUP(A1422,Veje!A:B,2,FALSE))","v":"OCG"},{"$f":"IFERROR(VLOOKUP(C1422,Medlemmer!A:C,3,FALSE),\"\")","v":""},{"$f":"IFERROR(VLOOKUP(C1422,Medlemmer!A:C,2,FALSE),\"\")","v":""},{"$f":"IFERROR(VLOOKUP(C1422,Tidligere_henvendelser!A:B,2,FALSE),\"\")","v":""}]
[{"$f":"ReplaceNumbers(C1423)","v":"Clarasvej"},{"$f":"_xlfn.NUMBERVALUE(FindNumbers(C1423))","v":1},"Clarasvej 1C, 1. 4","2920 Charlottenlund",2150000,"2021-09-30","Alm. Salg",41346,2,"Ejerlejlighed",52,1939,{"$f":"IF(ISBLANK(VLOOKUP(A1423,Veje!A:B,2,FALSE)),INDEX(Veje!$D$2:$RT$652,MATCH(A1423,Veje!$A$2:$A$652,0),MATCH(B1423,Veje!$D$1:$RT$1,0)),VLOOKUP(A1423,Veje!A:B,2,FALSE))","v":"OCG"},{"$f":"IFERROR(VLOOKUP(C1423,Medlemmer!A:C,3,FALSE),\"\")","v":""},{"$f":"IFERROR(VLOOKUP(C1423,Medlemmer!A:C,2,FALSE),\"\")","v":""},{"$f":"IFERROR(VLOOKUP(C1423,Tidligere_henvendelser!A:B,2,FALSE),\"\")","v":""}]
[{"$f":"ReplaceNumbers(C1424)","v":"Ordrupvej"},{"$f":"_xlfn.NUMBERVALUE(FindNumbers(C1424))","v":18},"Ordrupvej 18, 2. tv","2920 Charlottenlund",3795000,"2021-09-30","Alm. Salg",51986,3,"Ejerlejlighed",73,1936,{"$f":"IF(ISBLANK(VLOOKUP(A1424,Veje!A:B,2,FALSE)),INDEX(Veje!$D$2:$RT$652,MATCH(A1424,Veje!$A$2:$A$652,0),MATCH(B1424,Veje!$D$1:$RT$1,0)),VLOOKUP(A1424,Veje!A:B,2,FALSE))","v":"OCG"},{"$f":"IFERROR(VLOOKUP(C1424,Medlemmer!A:C,3,FALSE),\"\")","v":""},{"$f":"IFERROR(VLOOKUP(C1424,Medlemmer!A:C,2,FALSE),\"\")","v":""},{"$f":"IFERROR(VLOOKUP(C1424,Tidligere_henvendelser!A:B,2,FALSE),\"\")","v":""}]
[{"$f":"ReplaceNumbers(C1425)","v":"Strandvejen"},{"$f":"_xlfn.NUMBERVALUE(FindNumbers(C1425))","v":300},"Strandvejen 300A","2930 Klampenborg",21000000,"2021-09-30","Alm. Salg",92511,7,"Villa",227,1877,{"$f":"IF(ISBLANK(VLOOKUP(A1425,Veje!A:B,2,FALSE)),INDEX(Veje!$D$2:$RT$652,MATCH(A1425,Veje!$A$2:$A$652,0),MATCH(B1425,Veje!$D$1:$RT$1,0)),VLOOKUP(A1425,Veje!A:B,2,FALSE))","v":"SKGF"},{"$f":"IFERROR(VLOOKUP(C1425,Medlemmer!A:C,3,FALSE),\"\")","v":""},{"$f":"IFERROR(VLOOKUP(C1425,Medlemmer!A:C,2,FALSE),\"\")","v":""},{"$f":"IFERROR(VLOOKUP(C1425,Tidligere_henvendelser!A:B,2,FALSE),\"\")","v":""}]
[{"$f":"ReplaceNumbers(C1426)","v":"Blidahpark"},{"$f":"_xlfn.NUMBERVALUE(FindNumbers(C1426))","v":2},"Blidahpark 2, 2. tv","2900 Hellerup",7750000,"2021-09-30","Alm. Salg",74519,4,"Ejerlejlighed",104,1934,{"$f":"IF(ISBLANK(VLOOKUP(A1426,Veje!A:B,2,FALSE)),INDEX(Veje!$D$2:$RT$652,MATCH(A1426,Veje!$A$2:$A$652,0),MATCH(B1426,Veje!$D$1:$RT$1,0)),VLOOKUP(A1426,Veje!A:B,2,FALSE))","v":"HMG"},{"$f":"IFERROR(VLOOKUP(C1426,Medlemmer!A:C,3,FALSE),\"\")","v":""},{"$f":"IFERROR(VLOOKUP(C1426,Medlemmer!A:C,2,FALSE),\"\")","v":""},{"$f":"IFERROR(VLOOKUP(C1426,Tidligere_henvendelser!A:B,2,FALSE),\"\")","v":""}]
[{"$f":"ReplaceNumbers(C1427)","v":"Skovvej"},{"$f":"_xlfn.NUMBERVALUE(FindNumbers(C1427))","v":79},"Skovvej 79","2920 Charlottenlund",13400000,"2021-10-01","Alm. Salg",81707,4,"Villa",164,1957,{"$f":"IF(ISBLANK(VLOOKUP(A1427,Veje!A:B,2,FALSE)),INDEX(Veje!$D$2:$RT$652,MATCH(A1427,Veje!$A$2:$A$652,0),MATCH(B1427,Veje!$D$1:$RT$1,0)),VLOOKUP(A1427,Veje!A:B,2,FALSE))","v":"BJGF"},{"$f":"IFERROR(VLOOKUP(C1427,Medlemmer!A:C,3,FALSE),\"\")","v":""},{"$f":"IFERROR(VLOOKUP(C1427,Medlemmer!A:C,2,FALSE),\"\")","v":""},{"$f":"IFERROR(VLOOKUP(C1427,Tidligere_henvendelser!A:B,2,FALSE),\"\")","v":""}]
[{"$f":"ReplaceNumbers(C1428)","v":"Søborg Hovedgade"},{"$f":"_xlfn.NUMBERVALUE(FindNumbers(C1428))","v":21},"Søborg Hovedgade 21, 2. th","2870 Dyssegård ",2995000,"2021-10-02","Alm. Salg",29950,4,"Ejerlejlighed",100,1937,{"$f":"IF(ISBLANK(VLOOKUP(A1428,Veje!A:B,2,FALSE)),INDEX(Veje!$D$2:$RT$652,MATCH(A1428,Veje!$A$2:$A$652,0),MATCH(B1428,Veje!$D$1:$RT$1,0)),VLOOKUP(A1428,Veje!A:B,2,FALSE))","v":"DY"},{"$f":"IFERROR(VLOOKUP(C1428,Medlemmer!A:C,3,FALSE),\"\")","v":""},{"$f":"IFERROR(VLOOKUP(C1428,Medlemmer!A:C,2,FALSE),\"\")","v":""},{"$f":"IFERROR(VLOOKUP(C1428,Tidligere_henvendelser!A:B,2,FALSE),\"\")","v":""}]
[{"$f":"ReplaceNumbers(C1429)","v":"Grants Alle"},{"$f":"_xlfn.NUMBERVALUE(FindNumbers(C1429))","v":49},"Grants Alle 49","2900 Hellerup",10995000,"2021-10-02","Alm. Salg",73791,4,"Villa",149,1930,{"$f":"IF(ISBLANK(VLOOKUP(A1429,Veje!A:B,2,FALSE)),INDEX(Veje!$D$2:$RT$652,MATCH(A1429,Veje!$A$2:$A$652,0),MATCH(B1429,Veje!$D$1:$RT$1,0)),VLOOKUP(A1429,Veje!A:B,2,FALSE))","v":"DY"},{"$f":"IFERROR(VLOOKUP(C1429,Medlemmer!A:C,3,FALSE),\"\")","v":""},{"$f":"IFERROR(VLOOKUP(C1429,Medlemmer!A:C,2,FALSE),\"\")","v":""},{"$f":"IFERROR(VLOOKUP(C1429,Tidligere_henvendelser!A:B,2,FALSE),\"\")","v":""}]
[{"$f":"ReplaceNumbers(C1430)","v":"Lille Strandvej"},{"$f":"_xlfn.NUMBERVALUE(FindNumbers(C1430))","v":2},"Lille Strandvej 2C, st. th","2900 Hellerup",3815000,"2021-10-02","Alm. Salg",60555,2,"Ejerlejlighed",63,1902,{"$f":"IF(ISBLANK(VLOOKUP(A1430,Veje!A:B,2,FALSE)),INDEX(Veje!$D$2:$RT$652,MATCH(A1430,Veje!$A$2:$A$652,0),MATCH(B1430,Veje!$D$1:$RT$1,0)),VLOOKUP(A1430,Veje!A:B,2,FALSE))","v":"HMG"},{"$f":"IFERROR(VLOOKUP(C1430,Medlemmer!A:C,3,FALSE),\"\")","v":""},{"$f":"IFERROR(VLOOKUP(C1430,Medlemmer!A:C,2,FALSE),\"\")","v":""},{"$f":"IFERROR(VLOOKUP(C1430,Tidligere_henvendelser!A:B,2,FALSE),\"\")","v":""}]
[{"$f":"ReplaceNumbers(C1431)","v":"Vangedevej"},{"$f":"_xlfn.NUMBERVALUE(FindNumbers(C1431))","v":162},"Vangedevej 162B, 1. th","2870 Dyssegård ",2550000,"2021-10-02","Alm. Salg",38059,2,"Ejerlejlighed",67,1987,{"$f":"IF(ISBLANK(VLOOKUP(A1431,Veje!A:B,2,FALSE)),INDEX(Veje!$D$2:$RT$652,MATCH(A1431,Veje!$A$2:$A$652,0),MATCH(B1431,Veje!$D$1:$RT$1,0)),VLOOKUP(A1431,Veje!A:B,2,FALSE))","v":"DY"},{"$f":"IFERROR(VLOOKUP(C1431,Medlemmer!A:C,3,FALSE),\"\")","v":""},{"$f":"IFERROR(VLOOKUP(C1431,Medlemmer!A:C,2,FALSE),\"\")","v":""},{"$f":"IFERROR(VLOOKUP(C1431,Tidligere_henvendelser!A:B,2,FALSE),\"\")","v":""}]
[{"$f":"ReplaceNumbers(C1432)","v":"Ericavej"},{"$f":"_xlfn.NUMBERVALUE(FindNumbers(C1432))","v":163},"Ericavej 163, st. 101","2820 Gentofte",3650000,"2021-10-03","Alm. Salg",33181,4,"Ejerlejlighed",110,1956,{"$f":"IF(ISBLANK(VLOOKUP(A1432,Veje!A:B,2,FALSE)),INDEX(Veje!$D$2:$RT$652,MATCH(A1432,Veje!$A$2:$A$652,0),MATCH(B1432,Veje!$D$1:$RT$1,0)),VLOOKUP(A1432,Veje!A:B,2,FALSE))","v":"GSG"},{"$f":"IFERROR(VLOOKUP(C1432,Medlemmer!A:C,3,FALSE),\"\")","v":""},{"$f":"IFERROR(VLOOKUP(C1432,Medlemmer!A:C,2,FALSE),\"\")","v":""},{"$f":"IFERROR(VLOOKUP(C1432,Tidligere_henvendelser!A:B,2,FALSE),\"\")","v":""}]
[{"$f":"ReplaceNumbers(C1433)","v":"Strandparksvej"},{"$f":"_xlfn.NUMBERVALUE(FindNumbers(C1433))","v":22},"Strandparksvej 22, 2. th","2900 Hellerup",4900000,"2021-10-03","Alm. Salg",77777,3,"Ejerlejlighed",63,1905,{"$f":"IF(ISBLANK(VLOOKUP(A1433,Veje!A:B,2,FALSE)),INDEX(Veje!$D$2:$RT$652,MATCH(A1433,Veje!$A$2:$A$652,0),MATCH(B1433,Veje!$D$1:$RT$1,0)),VLOOKUP(A1433,Veje!A:B,2,FALSE))","v":"HMG"},{"$f":"IFERROR(VLOOKUP(C1433,Medlemmer!A:C,3,FALSE),\"\")","v":""},{"$f":"IFERROR(VLOOKUP(C1433,Medlemmer!A:C,2,FALSE),\"\")","v":""},{"$f":"IFERROR(VLOOKUP(C1433,Tidligere_henvendelser!A:B,2,FALSE),\"\")","v":""}]
[{"$f":"ReplaceNumbers(C1434)","v":"Blidahpark"},{"$f":"_xlfn.NUMBERVALUE(FindNumbers(C1434))","v":23},"Blidahpark 23, 1. 4","2900 Hellerup",2600000,"2021-10-03","Alm. Salg",50980,2,"Ejerlejlighed",51,1933,{"$f":"IF(ISBLANK(VLOOKUP(A1434,Veje!A:B,2,FALSE)),INDEX(Veje!$D$2:$RT$652,MATCH(A1434,Veje!$A$2:$A$652,0),MATCH(B1434,Veje!$D$1:$RT$1,0)),VLOOKUP(A1434,Veje!A:B,2,FALSE))","v":"HMG"},{"$f":"IFERROR(VLOOKUP(C1434,Medlemmer!A:C,3,FALSE),\"\")","v":""},{"$f":"IFERROR(VLOOKUP(C1434,Medlemmer!A:C,2,FALSE),\"\")","v":""},{"$f":"IFERROR(VLOOKUP(C1434,Tidligere_henvendelser!A:B,2,FALSE),\"\")","v":""}]
[{"$f":"ReplaceNumbers(C1435)","v":"Kirsten Piils Vej"},{"$f":"_xlfn.NUMBERVALUE(FindNumbers(C1435))","v":9},"Kirsten Piils Vej 9A, 1","2920 Charlottenlund",6556000,"2021-10-03","Alm. Salg",72844,3,"Ejerlejlighed",90,1932,{"$f":"IF(ISBLANK(VLOOKUP(A1435,Veje!A:B,2,FALSE)),INDEX(Veje!$D$2:$RT$652,MATCH(A1435,Veje!$A$2:$A$652,0),MATCH(B1435,Veje!$D$1:$RT$1,0)),VLOOKUP(A1435,Veje!A:B,2,FALSE))","v":"OCG"},{"$f":"IFERROR(VLOOKUP(C1435,Medlemmer!A:C,3,FALSE),\"\")","v":""},{"$f":"IFERROR(VLOOKUP(C1435,Medlemmer!A:C,2,FALSE),\"\")","v":""},{"$f":"IFERROR(VLOOKUP(C1435,Tidligere_henvendelser!A:B,2,FALSE),\"\")","v":""}]
[{"$f":"ReplaceNumbers(C1436)","v":"Lille Strandvej"},{"$f":"_xlfn.NUMBERVALUE(FindNumbers(C1436))","v":2},"Lille Strandvej 2A, 1. th","2900 Hellerup",7295000,"2021-10-03","Alm. Salg",62350,4,"Ejerlejlighed",117,1902,{"$f":"IF(ISBLANK(VLOOKUP(A1436,Veje!A:B,2,FALSE)),INDEX(Veje!$D$2:$RT$652,MATCH(A1436,Veje!$A$2:$A$652,0),MATCH(B1436,Veje!$D$1:$RT$1,0)),VLOOKUP(A1436,Veje!A:B,2,FALSE))","v":"HMG"},{"$f":"IFERROR(VLOOKUP(C1436,Medlemmer!A:C,3,FALSE),\"\")","v":""},{"$f":"IFERROR(VLOOKUP(C1436,Medlemmer!A:C,2,FALSE),\"\")","v":""},{"$f":"IFERROR(VLOOKUP(C1436,Tidligere_henvendelser!A:B,2,FALSE),\"\")","v":""}]
[{"$f":"ReplaceNumbers(C1437)","v":"Solbakkevej"},{"$f":"_xlfn.NUMBERVALUE(FindNumbers(C1437))","v":7},"Solbakkevej 7B","2820 Gentofte",11500000,"2021-10-03","Alm. Salg",76158,5,"Rækkehus",151,1927,{"$f":"IF(ISBLANK(VLOOKUP(A1437,Veje!A:B,2,FALSE)),INDEX(Veje!$D$2:$RT$652,MATCH(A1437,Veje!$A$2:$A$652,0),MATCH(B1437,Veje!$D$1:$RT$1,0)),VLOOKUP(A1437,Veje!A:B,2,FALSE))","v":"BJGF"},{"$f":"IFERROR(VLOOKUP(C1437,Medlemmer!A:C,3,FALSE),\"\")","v":""},{"$f":"IFERROR(VLOOKUP(C1437,Medlemmer!A:C,2,FALSE),\"\")","v":""},{"$f":"IFERROR(VLOOKUP(C1437,Tidligere_henvendelser!A:B,2,FALSE),\"\")","v":""}]
[{"$f":"ReplaceNumbers(C1438)","v":"Klampenborgvej"},{"$f":"_xlfn.NUMBERVALUE(FindNumbers(C1438))","v":13},"Klampenborgvej 13","2930 Klampenborg",8300000,"2021-10-03","Alm. Salg",51875,5,"Rækkehus",160,1934,{"$f":"IF(ISBLANK(VLOOKUP(A1438,Veje!A:B,2,FALSE)),INDEX(Veje!$D$2:$RT$652,MATCH(A1438,Veje!$A$2:$A$652,0),MATCH(B1438,Veje!$D$1:$RT$1,0)),VLOOKUP(A1438,Veje!A:B,2,FALSE))","v":"SKGF"},{"$f":"IFERROR(VLOOKUP(C1438,Medlemmer!A:C,3,FALSE),\"\")","v":""},{"$f":"IFERROR(VLOOKUP(C1438,Medlemmer!A:C,2,FALSE),\"\")","v":""},{"$f":"IFERROR(VLOOKUP(C1438,Tidligere_henvendelser!A:B,2,FALSE),\"\")","v":""}]
[{"$f":"ReplaceNumbers(C1439)","v":"Vingårds Alle"},{"$f":"_xlfn.NUMBERVALUE(FindNumbers(C1439))","v":66},"Vingårds Alle 66","2900 Hellerup",14650000,"2021-10-04","Alm. Salg",106159,5,"Rækkehus",138,1947,{"$f":"IF(ISBLANK(VLOOKUP(A1439,Veje!A:B,2,FALSE)),INDEX(Veje!$D$2:$RT$652,MATCH(A1439,Veje!$A$2:$A$652,0),MATCH(B1439,Veje!$D$1:$RT$1,0)),VLOOKUP(A1439,Veje!A:B,2,FALSE))","v":"HMG"},{"$f":"IFERROR(VLOOKUP(C1439,Medlemmer!A:C,3,FALSE),\"\")","v":""},{"$f":"IFERROR(VLOOKUP(C1439,Medlemmer!A:C,2,FALSE),\"\")","v":""},{"$f":"IFERROR(VLOOKUP(C1439,Tidligere_henvendelser!A:B,2,FALSE),\"\")","v":""}]
[{"$f":"ReplaceNumbers(C1440)","v":"Dalstrøget"},{"$f":"_xlfn.NUMBERVALUE(FindNumbers(C1440))","v":100},"Dalstrøget 100, 6","2870 Dyssegård ",2500000,"2021-10-04","Alm. Salg",32894,2,"Ejerlejlighed",76,1959,{"$f":"IF(ISBLANK(VLOOKUP(A1440,Veje!A:B,2,FALSE)),INDEX(Veje!$D$2:$RT$652,MATCH(A1440,Veje!$A$2:$A$652,0),MATCH(B1440,Veje!$D$1:$RT$1,0)),VLOOKUP(A1440,Veje!A:B,2,FALSE))","v":"DY"},{"$f":"IFERROR(VLOOKUP(C1440,Medlemmer!A:C,3,FALSE),\"\")","v":""},{"$f":"IFERROR(VLOOKUP(C1440,Medlemmer!A:C,2,FALSE),\"\")","v":""},{"$f":"IFERROR(VLOOKUP(C1440,Tidligere_henvendelser!A:B,2,FALSE),\"\")","v":""}]
[{"$f":"ReplaceNumbers(C1441)","v":"Ejgårdsvej"},{"$f":"_xlfn.NUMBERVALUE(FindNumbers(C1441))","v":2},"Ejgårdsvej 2, st. mf","2920 Charlottenlund",5900000,"2021-10-04","Alm. Salg",62105,2,"Ejerlejlighed",95,1999,{"$f":"IF(ISBLANK(VLOOKUP(A1441,Veje!A:B,2,FALSE)),INDEX(Veje!$D$2:$RT$652,MATCH(A1441,Veje!$A$2:$A$652,0),MATCH(B1441,Veje!$D$1:$RT$1,0)),VLOOKUP(A1441,Veje!A:B,2,FALSE))","v":"OCG"},{"$f":"IFERROR(VLOOKUP(C1441,Medlemmer!A:C,3,FALSE),\"\")","v":""},{"$f":"IFERROR(VLOOKUP(C1441,Medlemmer!A:C,2,FALSE),\"\")","v":""},{"$f":"IFERROR(VLOOKUP(C1441,Tidligere_henvendelser!A:B,2,FALSE),\"\")","v":""}]
[{"$f":"ReplaceNumbers(C1442)","v":"Niels Andersens Vej"},{"$f":"_xlfn.NUMBERVALUE(FindNumbers(C1442))","v":36},"Niels Andersens Vej 36","2900 Hellerup",10695000,"2021-10-04","Alm. Salg",79813,3,"Villa",134,1980,{"$f":"IF(ISBLANK(VLOOKUP(A1442,Veje!A:B,2,FALSE)),INDEX(Veje!$D$2:$RT$652,MATCH(A1442,Veje!$A$2:$A$652,0),MATCH(B1442,Veje!$D$1:$RT$1,0)),VLOOKUP(A1442,Veje!A:B,2,FALSE))","v":"GSG"},{"$f":"IFERROR(VLOOKUP(C1442,Medlemmer!A:C,3,FALSE),\"\")","v":""},{"$f":"IFERROR(VLOOKUP(C1442,Medlemmer!A:C,2,FALSE),\"\")","v":""},{"$f":"IFERROR(VLOOKUP(C1442,Tidligere_henvendelser!A:B,2,FALSE),\"\")","v":""}]
[{"$f":"ReplaceNumbers(C1443)","v":"Poppelhøj"},{"$f":"_xlfn.NUMBERVALUE(FindNumbers(C1443))","v":2},"Poppelhøj 2","2900 Hellerup",12700000,"2021-10-04","Alm. Salg",65128,7,"Villa",195,1935,{"$f":"IF(ISBLANK(VLOOKUP(A1443,Veje!A:B,2,FALSE)),INDEX(Veje!$D$2:$RT$652,MATCH(A1443,Veje!$A$2:$A$652,0),MATCH(B1443,Veje!$D$1:$RT$1,0)),VLOOKUP(A1443,Veje!A:B,2,FALSE))","v":"DY"},{"$f":"IFERROR(VLOOKUP(C1443,Medlemmer!A:C,3,FALSE),\"\")","v":""},{"$f":"IFERROR(VLOOKUP(C1443,Medlemmer!A:C,2,FALSE),\"\")","v":""},{"$f":"IFERROR(VLOOKUP(C1443,Tidligere_henvendelser!A:B,2,FALSE),\"\")","v":""}]
[{"$f":"ReplaceNumbers(C1444)","v":"Strandvejen"},{"$f":"_xlfn.NUMBERVALUE(FindNumbers(C1444))","v":130},"Strandvejen 130D, 5. tv","2900 Hellerup",8020000,"2021-10-04","Alm. Salg",69739,4,"Ejerlejlighed",115,1929,{"$f":"IF(ISBLANK(VLOOKUP(A1444,Veje!A:B,2,FALSE)),INDEX(Veje!$D$2:$RT$652,MATCH(A1444,Veje!$A$2:$A$652,0),MATCH(B1444,Veje!$D$1:$RT$1,0)),VLOOKUP(A1444,Veje!A:B,2,FALSE))","v":"HMG"},{"$f":"IFERROR(VLOOKUP(C1444,Medlemmer!A:C,3,FALSE),\"\")","v":""},{"$f":"IFERROR(VLOOKUP(C1444,Medlemmer!A:C,2,FALSE),\"\")","v":""},{"$f":"IFERROR(VLOOKUP(C1444,Tidligere_henvendelser!A:B,2,FALSE),\"\")","v":""}]
[{"$f":"ReplaceNumbers(C1445)","v":"Wernersvej"},{"$f":"_xlfn.NUMBERVALUE(FindNumbers(C1445))","v":7},"Wernersvej 7, 1","2920 Charlottenlund",13600000,"2021-10-05","Alm. Salg",54618,4,"Ejerlejlighed",249,1897,{"$f":"IF(ISBLANK(VLOOKUP(A1445,Veje!A:B,2,FALSE)),INDEX(Veje!$D$2:$RT$652,MATCH(A1445,Veje!$A$2:$A$652,0),MATCH(B1445,Veje!$D$1:$RT$1,0)),VLOOKUP(A1445,Veje!A:B,2,FALSE))","v":"OCG"},{"$f":"IFERROR(VLOOKUP(C1445,Medlemmer!A:C,3,FALSE),\"\")","v":""},{"$f":"IFERROR(VLOOKUP(C1445,Medlemmer!A:C,2,FALSE),\"\")","v":""},{"$f":"IFERROR(VLOOKUP(C1445,Tidligere_henvendelser!A:B,2,FALSE),\"\")","v":""}]
[{"$f":"ReplaceNumbers(C1446)","v":"Wernersvej"},{"$f":"_xlfn.NUMBERVALUE(FindNumbers(C1446))","v":7},"Wernersvej 7, st","2920 Charlottenlund",13600000,"2021-10-05","Alm. Salg",82926,4,"Ejerlejlighed",164,1897,{"$f":"IF(ISBLANK(VLOOKUP(A1446,Veje!A:B,2,FALSE)),INDEX(Veje!$D$2:$RT$652,MATCH(A1446,Veje!$A$2:$A$652,0),MATCH(B1446,Veje!$D$1:$RT$1,0)),VLOOKUP(A1446,Veje!A:B,2,FALSE))","v":"OCG"},{"$f":"IFERROR(VLOOKUP(C1446,Medlemmer!A:C,3,FALSE),\"\")","v":""},{"$f":"IFERROR(VLOOKUP(C1446,Medlemmer!A:C,2,FALSE),\"\")","v":""},{"$f":"IFERROR(VLOOKUP(C1446,Tidligere_henvendelser!A:B,2,FALSE),\"\")","v":""}]
[{"$f":"ReplaceNumbers(C1447)","v":"Niels Andersens Vej"},{"$f":"_xlfn.NUMBERVALUE(FindNumbers(C1447))","v":13},"Niels Andersens Vej 13B","2900 Hellerup",12000000,"2021-10-05","Alm. Salg",52173,6,"Villa",230,1918,{"$f":"IF(ISBLANK(VLOOKUP(A1447,Veje!A:B,2,FALSE)),INDEX(Veje!$D$2:$RT$652,MATCH(A1447,Veje!$A$2:$A$652,0),MATCH(B1447,Veje!$D$1:$RT$1,0)),VLOOKUP(A1447,Veje!A:B,2,FALSE))","v":"HMG"},{"$f":"IFERROR(VLOOKUP(C1447,Medlemmer!A:C,3,FALSE),\"\")","v":""},{"$f":"IFERROR(VLOOKUP(C1447,Medlemmer!A:C,2,FALSE),\"\")","v":""},{"$f":"IFERROR(VLOOKUP(C1447,Tidligere_henvendelser!A:B,2,FALSE),\"\")","v":""}]
[{"$f":"ReplaceNumbers(C1448)","v":"Hyldegårdsvej"},{"$f":"_xlfn.NUMBERVALUE(FindNumbers(C1448))","v":34},"Hyldegårdsvej 34B, 2. tv","2920 Charlottenlund",3895000,"2021-10-06","Alm. Salg",50584,3,"Ejerlejlighed",77,1936,{"$f":"IF(ISBLANK(VLOOKUP(A1448,Veje!A:B,2,FALSE)),INDEX(Veje!$D$2:$RT$652,MATCH(A1448,Veje!$A$2:$A$652,0),MATCH(B1448,Veje!$D$1:$RT$1,0)),VLOOKUP(A1448,Veje!A:B,2,FALSE))","v":"OCG"},{"$f":"IFERROR(VLOOKUP(C1448,Medlemmer!A:C,3,FALSE),\"\")","v":""},{"$f":"IFERROR(VLOOKUP(C1448,Medlemmer!A:C,2,FALSE),\"\")","v":""},{"$f":"IFERROR(VLOOKUP(C1448,Tidligere_henvendelser!A:B,2,FALSE),\"\")","v":""}]
[{"$f":"ReplaceNumbers(C1449)","v":"Viadukt Alle"},{"$f":"_xlfn.NUMBERVALUE(FindNumbers(C1449))","v":13},"Viadukt Alle 13","2900 Hellerup",13500000,"2021-10-06","Alm. Salg",64593,7,"Villa",209,1938,{"$f":"IF(ISBLANK(VLOOKUP(A1449,Veje!A:B,2,FALSE)),INDEX(Veje!$D$2:$RT$652,MATCH(A1449,Veje!$A$2:$A$652,0),MATCH(B1449,Veje!$D$1:$RT$1,0)),VLOOKUP(A1449,Veje!A:B,2,FALSE))","v":"HMG"},{"$f":"IFERROR(VLOOKUP(C1449,Medlemmer!A:C,3,FALSE),\"\")","v":""},{"$f":"IFERROR(VLOOKUP(C1449,Medlemmer!A:C,2,FALSE),\"\")","v":""},{"$f":"IFERROR(VLOOKUP(C1449,Tidligere_henvendelser!A:B,2,FALSE),\"\")","v":""}]
[{"$f":"ReplaceNumbers(C1450)","v":"Hyldegårdsvej"},{"$f":"_xlfn.NUMBERVALUE(FindNumbers(C1450))","v":34},"Hyldegårdsvej 34A, 2. mf","2920 Charlottenlund",1750000,"2021-10-07","Alm. Salg",36458,1,"Ejerlejlighed",48,1936,{"$f":"IF(ISBLANK(VLOOKUP(A1450,Veje!A:B,2,FALSE)),INDEX(Veje!$D$2:$RT$652,MATCH(A1450,Veje!$A$2:$A$652,0),MATCH(B1450,Veje!$D$1:$RT$1,0)),VLOOKUP(A1450,Veje!A:B,2,FALSE))","v":"OCG"},{"$f":"IFERROR(VLOOKUP(C1450,Medlemmer!A:C,3,FALSE),\"\")","v":""},{"$f":"IFERROR(VLOOKUP(C1450,Medlemmer!A:C,2,FALSE),\"\")","v":""},{"$f":"IFERROR(VLOOKUP(C1450,Tidligere_henvendelser!A:B,2,FALSE),\"\")","v":""}]
[{"$f":"ReplaceNumbers(C1451)","v":"Søgårdsvej"},{"$f":"_xlfn.NUMBERVALUE(FindNumbers(C1451))","v":5},"Søgårdsvej 5A, st. th","2820 Gentofte",3350000,"2021-10-07","Alm. Salg",39411,3,"Ejerlejlighed",85,1957,{"$f":"IF(ISBLANK(VLOOKUP(A1451,Veje!A:B,2,FALSE)),INDEX(Veje!$D$2:$RT$652,MATCH(A1451,Veje!$A$2:$A$652,0),MATCH(B1451,Veje!$D$1:$RT$1,0)),VLOOKUP(A1451,Veje!A:B,2,FALSE))","v":"GSG"},{"$f":"IFERROR(VLOOKUP(C1451,Medlemmer!A:C,3,FALSE),\"\")","v":""},{"$f":"IFERROR(VLOOKUP(C1451,Medlemmer!A:C,2,FALSE),\"\")","v":""},{"$f":"IFERROR(VLOOKUP(C1451,Tidligere_henvendelser!A:B,2,FALSE),\"\")","v":""}]
[{"$f":"ReplaceNumbers(C1452)","v":"Ejgårdsparken"},{"$f":"_xlfn.NUMBERVALUE(FindNumbers(C1452))","v":1},"Ejgårdsparken 1, st. tv","2920 Charlottenlund",5200000,"2021-10-07","Alm. Salg",60465,2,"Ejerlejlighed",86,2003,{"$f":"IF(ISBLANK(VLOOKUP(A1452,Veje!A:B,2,FALSE)),INDEX(Veje!$D$2:$RT$652,MATCH(A1452,Veje!$A$2:$A$652,0),MATCH(B1452,Veje!$D$1:$RT$1,0)),VLOOKUP(A1452,Veje!A:B,2,FALSE))","v":"OCG"},{"$f":"IFERROR(VLOOKUP(C1452,Medlemmer!A:C,3,FALSE),\"\")","v":""},{"$f":"IFERROR(VLOOKUP(C1452,Medlemmer!A:C,2,FALSE),\"\")","v":""},{"$f":"IFERROR(VLOOKUP(C1452,Tidligere_henvendelser!A:B,2,FALSE),\"\")","v":""}]
[{"$f":"ReplaceNumbers(C1453)","v":"Krathusvej"},{"$f":"_xlfn.NUMBERVALUE(FindNumbers(C1453))","v":14},"Krathusvej 14B","2920 Charlottenlund",13875000,"2021-10-09","Alm. Salg",81140,5,"Rækkehus",171,1991,{"$f":"IF(ISBLANK(VLOOKUP(A1453,Veje!A:B,2,FALSE)),INDEX(Veje!$D$2:$RT$652,MATCH(A1453,Veje!$A$2:$A$652,0),MATCH(B1453,Veje!$D$1:$RT$1,0)),VLOOKUP(A1453,Veje!A:B,2,FALSE))","v":"OCG"},{"$f":"IFERROR(VLOOKUP(C1453,Medlemmer!A:C,3,FALSE),\"\")","v":""},{"$f":"IFERROR(VLOOKUP(C1453,Medlemmer!A:C,2,FALSE),\"\")","v":""},{"$f":"IFERROR(VLOOKUP(C1453,Tidligere_henvendelser!A:B,2,FALSE),\"\")","v":""}]
[{"$f":"ReplaceNumbers(C1454)","v":"Lyngbyvej"},{"$f":"_xlfn.NUMBERVALUE(FindNumbers(C1454))","v":345},"Lyngbyvej 345B, st. mf","2820 Gentofte",1750000,"2021-10-09","Alm. Salg",36458,2,"Ejerlejlighed",48,1938,{"$f":"IF(ISBLANK(VLOOKUP(A1454,Veje!A:B,2,FALSE)),INDEX(Veje!$D$2:$RT$652,MATCH(A1454,Veje!$A$2:$A$652,0),MATCH(B1454,Veje!$D$1:$RT$1,0)),VLOOKUP(A1454,Veje!A:B,2,FALSE))","v":"GSG"},{"$f":"IFERROR(VLOOKUP(C1454,Medlemmer!A:C,3,FALSE),\"\")","v":""},{"$f":"IFERROR(VLOOKUP(C1454,Medlemmer!A:C,2,FALSE),\"\")","v":""},{"$f":"IFERROR(VLOOKUP(C1454,Tidligere_henvendelser!A:B,2,FALSE),\"\")","v":""}]
[{"$f":"ReplaceNumbers(C1455)","v":"Vintervej"},{"$f":"_xlfn.NUMBERVALUE(FindNumbers(C1455))","v":2},"Vintervej 2","2920 Charlottenlund",16500000,"2021-10-10","Alm. Salg",59782,11,"Villa",276,1936,{"$f":"IF(ISBLANK(VLOOKUP(A1455,Veje!A:B,2,FALSE)),INDEX(Veje!$D$2:$RT$652,MATCH(A1455,Veje!$A$2:$A$652,0),MATCH(B1455,Veje!$D$1:$RT$1,0)),VLOOKUP(A1455,Veje!A:B,2,FALSE))","v":"OCG"},{"$f":"IFERROR(VLOOKUP(C1455,Medlemmer!A:C,3,FALSE),\"\")","v":""},{"$f":"IFERROR(VLOOKUP(C1455,Medlemmer!A:C,2,FALSE),\"\")","v":""},{"$f":"IFERROR(VLOOKUP(C1455,Tidligere_henvendelser!A:B,2,FALSE),\"\")","v":""}]
[{"$f":"ReplaceNumbers(C1456)","v":"Charlottenlundvej"},{"$f":"_xlfn.NUMBERVALUE(FindNumbers(C1456))","v":9},"Charlottenlundvej 9, 1. tv","2900 Hellerup",4350000,"2021-10-10","Alm. Salg",56493,3,"Ejerlejlighed",77,1904,{"$f":"IF(ISBLANK(VLOOKUP(A1456,Veje!A:B,2,FALSE)),INDEX(Veje!$D$2:$RT$652,MATCH(A1456,Veje!$A$2:$A$652,0),MATCH(B1456,Veje!$D$1:$RT$1,0)),VLOOKUP(A1456,Veje!A:B,2,FALSE))","v":"HMG"},{"$f":"IFERROR(VLOOKUP(C1456,Medlemmer!A:C,3,FALSE),\"\")","v":""},{"$f":"IFERROR(VLOOKUP(C1456,Medlemmer!A:C,2,FALSE),\"\")","v":""},{"$f":"IFERROR(VLOOKUP(C1456,Tidligere_henvendelser!A:B,2,FALSE),\"\")","v":""}]
[{"$f":"ReplaceNumbers(C1457)","v":"Smakkegårdsvej"},{"$f":"_xlfn.NUMBERVALUE(FindNumbers(C1457))","v":125},"Smakkegårdsvej 125","2820 Gentofte",1956877,"2021-10-10","Andet",18119,4,"Villa",108,1924,{"$f":"IF(ISBLANK(VLOOKUP(A1457,Veje!A:B,2,FALSE)),INDEX(Veje!$D$2:$RT$652,MATCH(A1457,Veje!$A$2:$A$652,0),MATCH(B1457,Veje!$D$1:$RT$1,0)),VLOOKUP(A1457,Veje!A:B,2,FALSE))","v":"GSG"},{"$f":"IFERROR(VLOOKUP(C1457,Medlemmer!A:C,3,FALSE),\"\")","v":""},{"$f":"IFERROR(VLOOKUP(C1457,Medlemmer!A:C,2,FALSE),\"\")","v":""},{"$f":"IFERROR(VLOOKUP(C1457,Tidligere_henvendelser!A:B,2,FALSE),\"\")","v":""}]
[{"$f":"ReplaceNumbers(C1458)","v":"Søgårdsvej"},{"$f":"_xlfn.NUMBERVALUE(FindNumbers(C1458))","v":50},"Søgårdsvej 50, st","2820 Gentofte",5605000,"2021-10-10","Alm. Salg",48318,4,"Ejerlejlighed",116,1911,{"$f":"IF(ISBLANK(VLOOKUP(A1458,Veje!A:B,2,FALSE)),INDEX(Veje!$D$2:$RT$652,MATCH(A1458,Veje!$A$2:$A$652,0),MATCH(B1458,Veje!$D$1:$RT$1,0)),VLOOKUP(A1458,Veje!A:B,2,FALSE))","v":"GSG"},{"$f":"IFERROR(VLOOKUP(C1458,Medlemmer!A:C,3,FALSE),\"\")","v":""},{"$f":"IFERROR(VLOOKUP(C1458,Medlemmer!A:C,2,FALSE),\"\")","v":""},{"$f":"IFERROR(VLOOKUP(C1458,Tidligere_henvendelser!A:B,2,FALSE),\"\")","v":""}]
[{"$f":"ReplaceNumbers(C1459)","v":"Tranevænget"},{"$f":"_xlfn.NUMBERVALUE(FindNumbers(C1459))","v":12},"Tranevænget 12, 1","2900 Hellerup",4750000,"2021-10-10","Alm. Salg",59375,2,"Ejerlejlighed",80,1930,{"$f":"IF(ISBLANK(VLOOKUP(A1459,Veje!A:B,2,FALSE)),INDEX(Veje!$D$2:$RT$652,MATCH(A1459,Veje!$A$2:$A$652,0),MATCH(B1459,Veje!$D$1:$RT$1,0)),VLOOKUP(A1459,Veje!A:B,2,FALSE))","v":"HMG"},{"$f":"IFERROR(VLOOKUP(C1459,Medlemmer!A:C,3,FALSE),\"\")","v":""},{"$f":"IFERROR(VLOOKUP(C1459,Medlemmer!A:C,2,FALSE),\"\")","v":""},{"$f":"IFERROR(VLOOKUP(C1459,Tidligere_henvendelser!A:B,2,FALSE),\"\")","v":""}]
[{"$f":"ReplaceNumbers(C1460)","v":"Søgårdsvej"},{"$f":"_xlfn.NUMBERVALUE(FindNumbers(C1460))","v":50},"Søgårdsvej 50, 1","2820 Gentofte",5605000,"2021-10-10","Alm. Salg",51422,3,"Ejerlejlighed",109,1911,{"$f":"IF(ISBLANK(VLOOKUP(A1460,Veje!A:B,2,FALSE)),INDEX(Veje!$D$2:$RT$652,MATCH(A1460,Veje!$A$2:$A$652,0),MATCH(B1460,Veje!$D$1:$RT$1,0)),VLOOKUP(A1460,Veje!A:B,2,FALSE))","v":"GSG"},{"$f":"IFERROR(VLOOKUP(C1460,Medlemmer!A:C,3,FALSE),\"\")","v":""},{"$f":"IFERROR(VLOOKUP(C1460,Medlemmer!A:C,2,FALSE),\"\")","v":""},{"$f":"IFERROR(VLOOKUP(C1460,Tidligere_henvendelser!A:B,2,FALSE),\"\")","v":""}]
[{"$f":"ReplaceNumbers(C1461)","v":"Ridebanevang"},{"$f":"_xlfn.NUMBERVALUE(FindNumbers(C1461))","v":35},"Ridebanevang 35","2820 Gentofte",6250000,"2021-10-10","Alm. Salg",66489,5,"Rækkehus",94,1946,{"$f":"IF(ISBLANK(VLOOKUP(A1461,Veje!A:B,2,FALSE)),INDEX(Veje!$D$2:$RT$652,MATCH(A1461,Veje!$A$2:$A$652,0),MATCH(B1461,Veje!$D$1:$RT$1,0)),VLOOKUP(A1461,Veje!A:B,2,FALSE))","v":"BJGF"},{"$f":"IFERROR(VLOOKUP(C1461,Medlemmer!A:C,3,FALSE),\"\")","v":""},{"$f":"IFERROR(VLOOKUP(C1461,Medlemmer!A:C,2,FALSE),\"\")","v":""},{"$f":"IFERROR(VLOOKUP(C1461,Tidligere_henvendelser!A:B,2,FALSE),\"\")","v":""}]
[{"$f":"ReplaceNumbers(C1462)","v":"Høyrups Alle"},{"$f":"_xlfn.NUMBERVALUE(FindNumbers(C1462))","v":2},"Høyrups Alle 2, st. th","2900 Hellerup",2850000,"2021-10-10","Alm. Salg",50000,2,"Ejerlejlighed",57,1929,{"$f":"IF(ISBLANK(VLOOKUP(A1462,Veje!A:B,2,FALSE)),INDEX(Veje!$D$2:$RT$652,MATCH(A1462,Veje!$A$2:$A$652,0),MATCH(B1462,Veje!$D$1:$RT$1,0)),VLOOKUP(A1462,Veje!A:B,2,FALSE))","v":"HMG"},{"$f":"IFERROR(VLOOKUP(C1462,Medlemmer!A:C,3,FALSE),\"\")","v":""},{"$f":"IFERROR(VLOOKUP(C1462,Medlemmer!A:C,2,FALSE),\"\")","v":""},{"$f":"IFERROR(VLOOKUP(C1462,Tidligere_henvendelser!A:B,2,FALSE),\"\")","v":""}]
[{"$f":"ReplaceNumbers(C1463)","v":"Bramsvej"},{"$f":"_xlfn.NUMBERVALUE(FindNumbers(C1463))","v":3},"Bramsvej 3B, st. th","2920 Charlottenlund",11300000,"2021-10-11","Alm. Salg",66470,4,"Ejerlejlighed",170,1891,{"$f":"IF(ISBLANK(VLOOKUP(A1463,Veje!A:B,2,FALSE)),INDEX(Veje!$D$2:$RT$652,MATCH(A1463,Veje!$A$2:$A$652,0),MATCH(B1463,Veje!$D$1:$RT$1,0)),VLOOKUP(A1463,Veje!A:B,2,FALSE))","v":"OCG"},{"$f":"IFERROR(VLOOKUP(C1463,Medlemmer!A:C,3,FALSE),\"\")","v":""},{"$f":"IFERROR(VLOOKUP(C1463,Medlemmer!A:C,2,FALSE),\"\")","v":""},{"$f":"IFERROR(VLOOKUP(C1463,Tidligere_henvendelser!A:B,2,FALSE),\"\")","v":""}]
[{"$f":"ReplaceNumbers(C1464)","v":"Bramsvej"},{"$f":"_xlfn.NUMBERVALUE(FindNumbers(C1464))","v":3},"Bramsvej 3B, st. tv","2920 Charlottenlund",11300000,"2021-10-11","Alm. Salg",75838,5,"Ejerlejlighed",149,1891,{"$f":"IF(ISBLANK(VLOOKUP(A1464,Veje!A:B,2,FALSE)),INDEX(Veje!$D$2:$RT$652,MATCH(A1464,Veje!$A$2:$A$652,0),MATCH(B1464,Veje!$D$1:$RT$1,0)),VLOOKUP(A1464,Veje!A:B,2,FALSE))","v":"OCG"},{"$f":"IFERROR(VLOOKUP(C1464,Medlemmer!A:C,3,FALSE),\"\")","v":""},{"$f":"IFERROR(VLOOKUP(C1464,Medlemmer!A:C,2,FALSE),\"\")","v":""},{"$f":"IFERROR(VLOOKUP(C1464,Tidligere_henvendelser!A:B,2,FALSE),\"\")","v":""}]
[{"$f":"ReplaceNumbers(C1465)","v":"Hans Jensens Vej"},{"$f":"_xlfn.NUMBERVALUE(FindNumbers(C1465))","v":27},"Hans Jensens Vej 27","2900 Hellerup",8300000,"2021-10-11","Alm. Salg",62878,5,"Villa",132,1932,{"$f":"IF(ISBLANK(VLOOKUP(A1465,Veje!A:B,2,FALSE)),INDEX(Veje!$D$2:$RT$652,MATCH(A1465,Veje!$A$2:$A$652,0),MATCH(B1465,Veje!$D$1:$RT$1,0)),VLOOKUP(A1465,Veje!A:B,2,FALSE))","v":"GSG"},{"$f":"IFERROR(VLOOKUP(C1465,Medlemmer!A:C,3,FALSE),\"\")","v":""},{"$f":"IFERROR(VLOOKUP(C1465,Medlemmer!A:C,2,FALSE),\"\")","v":""},{"$f":"IFERROR(VLOOKUP(C1465,Tidligere_henvendelser!A:B,2,FALSE),\"\")","v":""}]
[{"$f":"ReplaceNumbers(C1466)","v":"Skjoldgårdsvej"},{"$f":"_xlfn.NUMBERVALUE(FindNumbers(C1466))","v":7},"Skjoldgårdsvej 7","2920 Charlottenlund",20400000,"2021-10-11","Alm. Salg",76981,8,"Villa",265,1922,{"$f":"IF(ISBLANK(VLOOKUP(A1466,Veje!A:B,2,FALSE)),INDEX(Veje!$D$2:$RT$652,MATCH(A1466,Veje!$A$2:$A$652,0),MATCH(B1466,Veje!$D$1:$RT$1,0)),VLOOKUP(A1466,Veje!A:B,2,FALSE))","v":"SKGF"},{"$f":"IFERROR(VLOOKUP(C1466,Medlemmer!A:C,3,FALSE),\"\")","v":""},{"$f":"IFERROR(VLOOKUP(C1466,Medlemmer!A:C,2,FALSE),\"\")","v":""},{"$f":"IFERROR(VLOOKUP(C1466,Tidligere_henvendelser!A:B,2,FALSE),\"\")","v":""}]
[{"$f":"ReplaceNumbers(C1467)","v":"Jensløvs Tværvej"},{"$f":"_xlfn.NUMBERVALUE(FindNumbers(C1467))","v":1},"Jensløvs Tværvej 1B, 4. tv","2920 Charlottenlund",3100000,"2021-10-11","Fam. Salg",46268,2,"Ejerlejlighed",67,1945,{"$f":"IF(ISBLANK(VLOOKUP(A1467,Veje!A:B,2,FALSE)),INDEX(Veje!$D$2:$RT$652,MATCH(A1467,Veje!$A$2:$A$652,0),MATCH(B1467,Veje!$D$1:$RT$1,0)),VLOOKUP(A1467,Veje!A:B,2,FALSE))","v":"OCG"},{"$f":"IFERROR(VLOOKUP(C1467,Medlemmer!A:C,3,FALSE),\"\")","v":""},{"$f":"IFERROR(VLOOKUP(C1467,Medlemmer!A:C,2,FALSE),\"\")","v":""},{"$f":"IFERROR(VLOOKUP(C1467,Tidligere_henvendelser!A:B,2,FALSE),\"\")","v":""}]
[{"$f":"ReplaceNumbers(C1468)","v":"Dyssegårdsvej"},{"$f":"_xlfn.NUMBERVALUE(FindNumbers(C1468))","v":36},"Dyssegårdsvej 36, st","2900 Hellerup",3900000,"2021-10-11","Alm. Salg",34821,4,"Ejerlejlighed",112,1933,{"$f":"IF(ISBLANK(VLOOKUP(A1468,Veje!A:B,2,FALSE)),INDEX(Veje!$D$2:$RT$652,MATCH(A1468,Veje!$A$2:$A$652,0),MATCH(B1468,Veje!$D$1:$RT$1,0)),VLOOKUP(A1468,Veje!A:B,2,FALSE))","v":"DY"},{"$f":"IFERROR(VLOOKUP(C1468,Medlemmer!A:C,3,FALSE),\"\")","v":""},{"$f":"IFERROR(VLOOKUP(C1468,Medlemmer!A:C,2,FALSE),\"\")","v":""},{"$f":"IFERROR(VLOOKUP(C1468,Tidligere_henvendelser!A:B,2,FALSE),\"\")","v":""}]
[{"$f":"ReplaceNumbers(C1469)","v":"Dyssegårdsvej"},{"$f":"_xlfn.NUMBERVALUE(FindNumbers(C1469))","v":36},"Dyssegårdsvej 36, 1","2900 Hellerup",3900000,"2021-10-11","Alm. Salg",35454,4,"Ejerlejlighed",110,1933,{"$f":"IF(ISBLANK(VLOOKUP(A1469,Veje!A:B,2,FALSE)),INDEX(Veje!$D$2:$RT$652,MATCH(A1469,Veje!$A$2:$A$652,0),MATCH(B1469,Veje!$D$1:$RT$1,0)),VLOOKUP(A1469,Veje!A:B,2,FALSE))","v":"DY"},{"$f":"IFERROR(VLOOKUP(C1469,Medlemmer!A:C,3,FALSE),\"\")","v":""},{"$f":"IFERROR(VLOOKUP(C1469,Medlemmer!A:C,2,FALSE),\"\")","v":""},{"$f":"IFERROR(VLOOKUP(C1469,Tidligere_henvendelser!A:B,2,FALSE),\"\")","v":""}]
[{"$f":"ReplaceNumbers(C1470)","v":"Hans Bruuns Vej"},{"$f":"_xlfn.NUMBERVALUE(FindNumbers(C1470))","v":3},"Hans Bruuns Vej 3","2920 Charlottenlund",16100000,"2021-10-11","Alm. Salg",85638,6,"Villa",188,1927,{"$f":"IF(ISBLANK(VLOOKUP(A1470,Veje!A:B,2,FALSE)),INDEX(Veje!$D$2:$RT$652,MATCH(A1470,Veje!$A$2:$A$652,0),MATCH(B1470,Veje!$D$1:$RT$1,0)),VLOOKUP(A1470,Veje!A:B,2,FALSE))","v":"OCG"},{"$f":"IFERROR(VLOOKUP(C1470,Medlemmer!A:C,3,FALSE),\"\")","v":""},{"$f":"IFERROR(VLOOKUP(C1470,Medlemmer!A:C,2,FALSE),\"\")","v":""},{"$f":"IFERROR(VLOOKUP(C1470,Tidligere_henvendelser!A:B,2,FALSE),\"\")","v":""}]
[{"$f":"ReplaceNumbers(C1471)","v":"Jægersborgvej"},{"$f":"_xlfn.NUMBERVALUE(FindNumbers(C1471))","v":112},"Jægersborgvej 112, 1. tv","2820 Gentofte",2700000,"2021-10-11","Alm. Salg",28723,4,"Ejerlejlighed",94,1949,{"$f":"IF(ISBLANK(VLOOKUP(A1471,Veje!A:B,2,FALSE)),INDEX(Veje!$D$2:$RT$652,MATCH(A1471,Veje!$A$2:$A$652,0),MATCH(B1471,Veje!$D$1:$RT$1,0)),VLOOKUP(A1471,Veje!A:B,2,FALSE))","v":"GSG"},{"$f":"IFERROR(VLOOKUP(C1471,Medlemmer!A:C,3,FALSE),\"\")","v":""},{"$f":"IFERROR(VLOOKUP(C1471,Medlemmer!A:C,2,FALSE),\"\")","v":""},{"$f":"IFERROR(VLOOKUP(C1471,Tidligere_henvendelser!A:B,2,FALSE),\"\")","v":""}]
[{"$f":"ReplaceNumbers(C1472)","v":"Søborg Hovedgade"},{"$f":"_xlfn.NUMBERVALUE(FindNumbers(C1472))","v":8},"Søborg Hovedgade 8D, 1. tv","2870 Dyssegård ",1970000,"2021-10-11","Alm. Salg",32295,3,"Ejerlejlighed",61,1953,{"$f":"IF(ISBLANK(VLOOKUP(A1472,Veje!A:B,2,FALSE)),INDEX(Veje!$D$2:$RT$652,MATCH(A1472,Veje!$A$2:$A$652,0),MATCH(B1472,Veje!$D$1:$RT$1,0)),VLOOKUP(A1472,Veje!A:B,2,FALSE))","v":"DY"},{"$f":"IFERROR(VLOOKUP(C1472,Medlemmer!A:C,3,FALSE),\"\")","v":""},{"$f":"IFERROR(VLOOKUP(C1472,Medlemmer!A:C,2,FALSE),\"\")","v":""},{"$f":"IFERROR(VLOOKUP(C1472,Tidligere_henvendelser!A:B,2,FALSE),\"\")","v":""}]
[{"$f":"ReplaceNumbers(C1473)","v":"Søborg Hovedgade"},{"$f":"_xlfn.NUMBERVALUE(FindNumbers(C1473))","v":10},"Søborg Hovedgade 10B, 2. th","2870 Dyssegård ",2720000,"2021-10-11","Alm. Salg",35324,3,"Ejerlejlighed",77,1987,{"$f":"IF(ISBLANK(VLOOKUP(A1473,Veje!A:B,2,FALSE)),INDEX(Veje!$D$2:$RT$652,MATCH(A1473,Veje!$A$2:$A$652,0),MATCH(B1473,Veje!$D$1:$RT$1,0)),VLOOKUP(A1473,Veje!A:B,2,FALSE))","v":"DY"},{"$f":"IFERROR(VLOOKUP(C1473,Medlemmer!A:C,3,FALSE),\"\")","v":""},{"$f":"IFERROR(VLOOKUP(C1473,Medlemmer!A:C,2,FALSE),\"\")","v":""},{"$f":"IFERROR(VLOOKUP(C1473,Tidligere_henvendelser!A:B,2,FALSE),\"\")","v":""}]
[{"$f":"ReplaceNumbers(C1474)","v":"Fuglegårdsvænget"},{"$f":"_xlfn.NUMBERVALUE(FindNumbers(C1474))","v":85},"Fuglegårdsvænget 85, 1. tv","2820 Gentofte",1855000,"2021-10-11","Alm. Salg",36372,2,"Ejerlejlighed",51,1936,{"$f":"IF(ISBLANK(VLOOKUP(A1474,Veje!A:B,2,FALSE)),INDEX(Veje!$D$2:$RT$652,MATCH(A1474,Veje!$A$2:$A$652,0),MATCH(B1474,Veje!$D$1:$RT$1,0)),VLOOKUP(A1474,Veje!A:B,2,FALSE))","v":"GSG"},{"$f":"IFERROR(VLOOKUP(C1474,Medlemmer!A:C,3,FALSE),\"\")","v":""},{"$f":"IFERROR(VLOOKUP(C1474,Medlemmer!A:C,2,FALSE),\"\")","v":""},{"$f":"IFERROR(VLOOKUP(C1474,Tidligere_henvendelser!A:B,2,FALSE),\"\")","v":""}]
[{"$f":"ReplaceNumbers(C1475)","v":"Frederikkevej"},{"$f":"_xlfn.NUMBERVALUE(FindNumbers(C1475))","v":5},"Frederikkevej 5, 1","2900 Hellerup",13000000,"2021-10-12","Alm. Salg",118181,5,"Ejerlejlighed",110,1897,{"$f":"IF(ISBLANK(VLOOKUP(A1475,Veje!A:B,2,FALSE)),INDEX(Veje!$D$2:$RT$652,MATCH(A1475,Veje!$A$2:$A$652,0),MATCH(B1475,Veje!$D$1:$RT$1,0)),VLOOKUP(A1475,Veje!A:B,2,FALSE))","v":"HMG"},{"$f":"IFERROR(VLOOKUP(C1475,Medlemmer!A:C,3,FALSE),\"\")","v":""},{"$f":"IFERROR(VLOOKUP(C1475,Medlemmer!A:C,2,FALSE),\"\")","v":""},{"$f":"IFERROR(VLOOKUP(C1475,Tidligere_henvendelser!A:B,2,FALSE),\"\")","v":""}]
[{"$f":"ReplaceNumbers(C1476)","v":"Frederikkevej"},{"$f":"_xlfn.NUMBERVALUE(FindNumbers(C1476))","v":5},"Frederikkevej 5, st","2900 Hellerup",13000000,"2021-10-12","Alm. Salg",81761,5,"Ejerlejlighed",159,1897,{"$f":"IF(ISBLANK(VLOOKUP(A1476,Veje!A:B,2,FALSE)),INDEX(Veje!$D$2:$RT$652,MATCH(A1476,Veje!$A$2:$A$652,0),MATCH(B1476,Veje!$D$1:$RT$1,0)),VLOOKUP(A1476,Veje!A:B,2,FALSE))","v":"HMG"},{"$f":"IFERROR(VLOOKUP(C1476,Medlemmer!A:C,3,FALSE),\"\")","v":""},{"$f":"IFERROR(VLOOKUP(C1476,Medlemmer!A:C,2,FALSE),\"\")","v":""},{"$f":"IFERROR(VLOOKUP(C1476,Tidligere_henvendelser!A:B,2,FALSE),\"\")","v":""}]
[{"$f":"ReplaceNumbers(C1477)","v":"Bryggertorvet"},{"$f":"_xlfn.NUMBERVALUE(FindNumbers(C1477))","v":2},"Bryggertorvet 2, 4. 1","2900 Hellerup",9500000,"2021-10-12","Fam. Salg",66433,5,"Ejerlejlighed",143,1995,{"$f":"IF(ISBLANK(VLOOKUP(A1477,Veje!A:B,2,FALSE)),INDEX(Veje!$D$2:$RT$652,MATCH(A1477,Veje!$A$2:$A$652,0),MATCH(B1477,Veje!$D$1:$RT$1,0)),VLOOKUP(A1477,Veje!A:B,2,FALSE))","v":"HMG"},{"$f":"IFERROR(VLOOKUP(C1477,Medlemmer!A:C,3,FALSE),\"\")","v":""},{"$f":"IFERROR(VLOOKUP(C1477,Medlemmer!A:C,2,FALSE),\"\")","v":""},{"$f":"IFERROR(VLOOKUP(C1477,Tidligere_henvendelser!A:B,2,FALSE),\"\")","v":""}]
[{"$f":"ReplaceNumbers(C1478)","v":"Udsigten"},{"$f":"_xlfn.NUMBERVALUE(FindNumbers(C1478))","v":1},"Udsigten 1","2820 Gentofte",5175000,"2021-10-12","Alm. Salg",25367,7,"Villa",204,1795,{"$f":"IF(ISBLANK(VLOOKUP(A1478,Veje!A:B,2,FALSE)),INDEX(Veje!$D$2:$RT$652,MATCH(A1478,Veje!$A$2:$A$652,0),MATCH(B1478,Veje!$D$1:$RT$1,0)),VLOOKUP(A1478,Veje!A:B,2,FALSE))","v":"GSG"},{"$f":"IFERROR(VLOOKUP(C1478,Medlemmer!A:C,3,FALSE),\"\")","v":""},{"$f":"IFERROR(VLOOKUP(C1478,Medlemmer!A:C,2,FALSE),\"\")","v":""},{"$f":"IFERROR(VLOOKUP(C1478,Tidligere_henvendelser!A:B,2,FALSE),\"\")","v":""}]
[{"$f":"ReplaceNumbers(C1479)","v":"Mitchellsstræde"},{"$f":"_xlfn.NUMBERVALUE(FindNumbers(C1479))","v":30},"Mitchellsstræde 30","2820 Gentofte",5175000,"2021-10-12","Alm. Salg",94090,2,"Villa",55,1795,{"$f":"IF(ISBLANK(VLOOKUP(A1479,Veje!A:B,2,FALSE)),INDEX(Veje!$D$2:$RT$652,MATCH(A1479,Veje!$A$2:$A$652,0),MATCH(B1479,Veje!$D$1:$RT$1,0)),VLOOKUP(A1479,Veje!A:B,2,FALSE))","v":"GSG"},{"$f":"IFERROR(VLOOKUP(C1479,Medlemmer!A:C,3,FALSE),\"\")","v":""},{"$f":"IFERROR(VLOOKUP(C1479,Medlemmer!A:C,2,FALSE),\"\")","v":""},{"$f":"IFERROR(VLOOKUP(C1479,Tidligere_henvendelser!A:B,2,FALSE),\"\")","v":""}]
[{"$f":"ReplaceNumbers(C1480)","v":"Søndersøvej"},{"$f":"_xlfn.NUMBERVALUE(FindNumbers(C1480))","v":33},"Søndersøvej 33B, st. tv","2820 Gentofte",1000500,"2021-10-12","Fam. Salg",17866,2,"Ejerlejlighed",56,1934,{"$f":"IF(ISBLANK(VLOOKUP(A1480,Veje!A:B,2,FALSE)),INDEX(Veje!$D$2:$RT$652,MATCH(A1480,Veje!$A$2:$A$652,0),MATCH(B1480,Veje!$D$1:$RT$1,0)),VLOOKUP(A1480,Veje!A:B,2,FALSE))","v":"BJGF"},{"$f":"IFERROR(VLOOKUP(C1480,Medlemmer!A:C,3,FALSE),\"\")","v":""},{"$f":"IFERROR(VLOOKUP(C1480,Medlemmer!A:C,2,FALSE),\"\")","v":""},{"$f":"IFERROR(VLOOKUP(C1480,Tidligere_henvendelser!A:B,2,FALSE),\"\")","v":""}]
[{"$f":"ReplaceNumbers(C1481)","v":"Høyrups Alle"},{"$f":"_xlfn.NUMBERVALUE(FindNumbers(C1481))","v":35},"Høyrups Alle 35","2900 Hellerup",14000000,"2021-10-13","Alm. Salg",51094,7,"Villa",274,1916,{"$f":"IF(ISBLANK(VLOOKUP(A1481,Veje!A:B,2,FALSE)),INDEX(Veje!$D$2:$RT$652,MATCH(A1481,Veje!$A$2:$A$652,0),MATCH(B1481,Veje!$D$1:$RT$1,0)),VLOOKUP(A1481,Veje!A:B,2,FALSE))","v":"HMG"},{"$f":"IFERROR(VLOOKUP(C1481,Medlemmer!A:C,3,FALSE),\"\")","v":""},{"$f":"IFERROR(VLOOKUP(C1481,Medlemmer!A:C,2,FALSE),\"\")","v":""},{"$f":"IFERROR(VLOOKUP(C1481,Tidligere_henvendelser!A:B,2,FALSE),\"\")","v":""}]
[{"$f":"ReplaceNumbers(C1482)","v":"Christiansvej"},{"$f":"_xlfn.NUMBERVALUE(FindNumbers(C1482))","v":23},"Christiansvej 23, 1","2920 Charlottenlund",24300000,"2021-10-13","Alm. Salg",192857,4,"Ejerlejlighed",126,1915,{"$f":"IF(ISBLANK(VLOOKUP(A1482,Veje!A:B,2,FALSE)),INDEX(Veje!$D$2:$RT$652,MATCH(A1482,Veje!$A$2:$A$652,0),MATCH(B1482,Veje!$D$1:$RT$1,0)),VLOOKUP(A1482,Veje!A:B,2,FALSE))","v":"OCG"},{"$f":"IFERROR(VLOOKUP(C1482,Medlemmer!A:C,3,FALSE),\"\")","v":""},{"$f":"IFERROR(VLOOKUP(C1482,Medlemmer!A:C,2,FALSE),\"\")","v":""},{"$f":"IFERROR(VLOOKUP(C1482,Tidligere_henvendelser!A:B,2,FALSE),\"\")","v":""}]
[{"$f":"ReplaceNumbers(C1483)","v":"Christiansvej"},{"$f":"_xlfn.NUMBERVALUE(FindNumbers(C1483))","v":23},"Christiansvej 23, st","2920 Charlottenlund",24300000,"2021-10-13","Alm. Salg",143786,5,"Ejerlejlighed",169,1915,{"$f":"IF(ISBLANK(VLOOKUP(A1483,Veje!A:B,2,FALSE)),INDEX(Veje!$D$2:$RT$652,MATCH(A1483,Veje!$A$2:$A$652,0),MATCH(B1483,Veje!$D$1:$RT$1,0)),VLOOKUP(A1483,Veje!A:B,2,FALSE))","v":"OCG"},{"$f":"IFERROR(VLOOKUP(C1483,Medlemmer!A:C,3,FALSE),\"\")","v":""},{"$f":"IFERROR(VLOOKUP(C1483,Medlemmer!A:C,2,FALSE),\"\")","v":""},{"$f":"IFERROR(VLOOKUP(C1483,Tidligere_henvendelser!A:B,2,FALSE),\"\")","v":""}]
[{"$f":"ReplaceNumbers(C1484)","v":"Christiansvej"},{"$f":"_xlfn.NUMBERVALUE(FindNumbers(C1484))","v":23},"Christiansvej 23, 2","2920 Charlottenlund",24300000,"2021-10-13","Alm. Salg",2700000,1,"Ejerlejlighed",9,1915,{"$f":"IF(ISBLANK(VLOOKUP(A1484,Veje!A:B,2,FALSE)),INDEX(Veje!$D$2:$RT$652,MATCH(A1484,Veje!$A$2:$A$652,0),MATCH(B1484,Veje!$D$1:$RT$1,0)),VLOOKUP(A1484,Veje!A:B,2,FALSE))","v":"OCG"},{"$f":"IFERROR(VLOOKUP(C1484,Medlemmer!A:C,3,FALSE),\"\")","v":""},{"$f":"IFERROR(VLOOKUP(C1484,Medlemmer!A:C,2,FALSE),\"\")","v":""},{"$f":"IFERROR(VLOOKUP(C1484,Tidligere_henvendelser!A:B,2,FALSE),\"\")","v":""}]
[{"$f":"ReplaceNumbers(C1485)","v":"Evanstonevej"},{"$f":"_xlfn.NUMBERVALUE(FindNumbers(C1485))","v":8},"Evanstonevej 8B, 1. th","2900 Hellerup",3285000,"2021-10-14","Alm. Salg",52142,2,"Ejerlejlighed",63,1933,{"$f":"IF(ISBLANK(VLOOKUP(A1485,Veje!A:B,2,FALSE)),INDEX(Veje!$D$2:$RT$652,MATCH(A1485,Veje!$A$2:$A$652,0),MATCH(B1485,Veje!$D$1:$RT$1,0)),VLOOKUP(A1485,Veje!A:B,2,FALSE))","v":"HMG"},{"$f":"IFERROR(VLOOKUP(C1485,Medlemmer!A:C,3,FALSE),\"\")","v":""},{"$f":"IFERROR(VLOOKUP(C1485,Medlemmer!A:C,2,FALSE),\"\")","v":""},{"$f":"IFERROR(VLOOKUP(C1485,Tidligere_henvendelser!A:B,2,FALSE),\"\")","v":""}]
[{"$f":"ReplaceNumbers(C1486)","v":"Ejgårdsparken"},{"$f":"_xlfn.NUMBERVALUE(FindNumbers(C1486))","v":6},"Ejgårdsparken 6, 1. th","2920 Charlottenlund",7400000,"2021-10-14","Alm. Salg",64347,3,"Ejerlejlighed",115,2003,{"$f":"IF(ISBLANK(VLOOKUP(A1486,Veje!A:B,2,FALSE)),INDEX(Veje!$D$2:$RT$652,MATCH(A1486,Veje!$A$2:$A$652,0),MATCH(B1486,Veje!$D$1:$RT$1,0)),VLOOKUP(A1486,Veje!A:B,2,FALSE))","v":"OCG"},{"$f":"IFERROR(VLOOKUP(C1486,Medlemmer!A:C,3,FALSE),\"\")","v":""},{"$f":"IFERROR(VLOOKUP(C1486,Medlemmer!A:C,2,FALSE),\"\")","v":""},{"$f":"IFERROR(VLOOKUP(C1486,Tidligere_henvendelser!A:B,2,FALSE),\"\")","v":""}]
[{"$f":"ReplaceNumbers(C1487)","v":"Lindegårdsvej"},{"$f":"_xlfn.NUMBERVALUE(FindNumbers(C1487))","v":46},"Lindegårdsvej 46, 2. tv","2920 Charlottenlund",4950000,"2021-10-14","Alm. Salg",52659,3,"Ejerlejlighed",94,1990,{"$f":"IF(ISBLANK(VLOOKUP(A1487,Veje!A:B,2,FALSE)),INDEX(Veje!$D$2:$RT$652,MATCH(A1487,Veje!$A$2:$A$652,0),MATCH(B1487,Veje!$D$1:$RT$1,0)),VLOOKUP(A1487,Veje!A:B,2,FALSE))","v":"OCG"},{"$f":"IFERROR(VLOOKUP(C1487,Medlemmer!A:C,3,FALSE),\"\")","v":""},{"$f":"IFERROR(VLOOKUP(C1487,Medlemmer!A:C,2,FALSE),\"\")","v":""},{"$f":"IFERROR(VLOOKUP(C1487,Tidligere_henvendelser!A:B,2,FALSE),\"\")","v":""}]
[{"$f":"ReplaceNumbers(C1488)","v":"Maglemosevej"},{"$f":"_xlfn.NUMBERVALUE(FindNumbers(C1488))","v":48},"Maglemosevej 48, 1","2920 Charlottenlund",6750000,"2021-10-14","Alm. Salg",60267,4,"Ejerlejlighed",112,1932,{"$f":"IF(ISBLANK(VLOOKUP(A1488,Veje!A:B,2,FALSE)),INDEX(Veje!$D$2:$RT$652,MATCH(A1488,Veje!$A$2:$A$652,0),MATCH(B1488,Veje!$D$1:$RT$1,0)),VLOOKUP(A1488,Veje!A:B,2,FALSE))","v":"HMG"},{"$f":"IFERROR(VLOOKUP(C1488,Medlemmer!A:C,3,FALSE),\"\")","v":""},{"$f":"IFERROR(VLOOKUP(C1488,Medlemmer!A:C,2,FALSE),\"\")","v":""},{"$f":"IFERROR(VLOOKUP(C1488,Tidligere_henvendelser!A:B,2,FALSE),\"\")","v":""}]
[{"$f":"ReplaceNumbers(C1489)","v":"Ordrupvej"},{"$f":"_xlfn.NUMBERVALUE(FindNumbers(C1489))","v":75},"Ordrupvej 75, 1. tv","2920 Charlottenlund",2550000,"2021-10-14","Alm. Salg",34931,2,"Ejerlejlighed",73,1933,{"$f":"IF(ISBLANK(VLOOKUP(A1489,Veje!A:B,2,FALSE)),INDEX(Veje!$D$2:$RT$652,MATCH(A1489,Veje!$A$2:$A$652,0),MATCH(B1489,Veje!$D$1:$RT$1,0)),VLOOKUP(A1489,Veje!A:B,2,FALSE))","v":"OCG"},{"$f":"IFERROR(VLOOKUP(C1489,Medlemmer!A:C,3,FALSE),\"\")","v":""},{"$f":"IFERROR(VLOOKUP(C1489,Medlemmer!A:C,2,FALSE),\"\")","v":""},{"$f":"IFERROR(VLOOKUP(C1489,Tidligere_henvendelser!A:B,2,FALSE),\"\")","v":""}]
[{"$f":"ReplaceNumbers(C1490)","v":"Callisensvej"},{"$f":"_xlfn.NUMBERVALUE(FindNumbers(C1490))","v":20},"Callisensvej 20, 3. th","2900 Hellerup",2950000,"2021-10-14","Alm. Salg",57843,2,"Ejerlejlighed",51,1899,{"$f":"IF(ISBLANK(VLOOKUP(A1490,Veje!A:B,2,FALSE)),INDEX(Veje!$D$2:$RT$652,MATCH(A1490,Veje!$A$2:$A$652,0),MATCH(B1490,Veje!$D$1:$RT$1,0)),VLOOKUP(A1490,Veje!A:B,2,FALSE))","v":"HMG"},{"$f":"IFERROR(VLOOKUP(C1490,Medlemmer!A:C,3,FALSE),\"\")","v":""},{"$f":"IFERROR(VLOOKUP(C1490,Medlemmer!A:C,2,FALSE),\"\")","v":""},{"$f":"IFERROR(VLOOKUP(C1490,Tidligere_henvendelser!A:B,2,FALSE),\"\")","v":""}]
[{"$f":"ReplaceNumbers(C1491)","v":"Ordrupvej"},{"$f":"_xlfn.NUMBERVALUE(FindNumbers(C1491))","v":78},"Ordrupvej 78A, 3. tv","2920 Charlottenlund",3800000,"2021-10-14","Alm. Salg",48101,3,"Ejerlejlighed",79,1947,{"$f":"IF(ISBLANK(VLOOKUP(A1491,Veje!A:B,2,FALSE)),INDEX(Veje!$D$2:$RT$652,MATCH(A1491,Veje!$A$2:$A$652,0),MATCH(B1491,Veje!$D$1:$RT$1,0)),VLOOKUP(A1491,Veje!A:B,2,FALSE))","v":"OCG"},{"$f":"IFERROR(VLOOKUP(C1491,Medlemmer!A:C,3,FALSE),\"\")","v":""},{"$f":"IFERROR(VLOOKUP(C1491,Medlemmer!A:C,2,FALSE),\"\")","v":""},{"$f":"IFERROR(VLOOKUP(C1491,Tidligere_henvendelser!A:B,2,FALSE),\"\")","v":""}]
[{"$f":"ReplaceNumbers(C1492)","v":"Skovgårdsvej"},{"$f":"_xlfn.NUMBERVALUE(FindNumbers(C1492))","v":16},"Skovgårdsvej 16D","2920 Charlottenlund",10845000,"2021-10-16","Alm. Salg",89628,4,"Rækkehus",121,1955,{"$f":"IF(ISBLANK(VLOOKUP(A1492,Veje!A:B,2,FALSE)),INDEX(Veje!$D$2:$RT$652,MATCH(A1492,Veje!$A$2:$A$652,0),MATCH(B1492,Veje!$D$1:$RT$1,0)),VLOOKUP(A1492,Veje!A:B,2,FALSE))","v":"OCG"},{"$f":"IFERROR(VLOOKUP(C1492,Medlemmer!A:C,3,FALSE),\"\")","v":""},{"$f":"IFERROR(VLOOKUP(C1492,Medlemmer!A:C,2,FALSE),\"\")","v":""},{"$f":"IFERROR(VLOOKUP(C1492,Tidligere_henvendelser!A:B,2,FALSE),\"\")","v":""}]
[{"$f":"ReplaceNumbers(C1493)","v":"Brogårdsvej"},{"$f":"_xlfn.NUMBERVALUE(FindNumbers(C1493))","v":104},"Brogårdsvej 104, 1. tv","2820 Gentofte",1800000,"2021-10-16","Alm. Salg",30508,2,"Ejerlejlighed",59,1936,{"$f":"IF(ISBLANK(VLOOKUP(A1493,Veje!A:B,2,FALSE)),INDEX(Veje!$D$2:$RT$652,MATCH(A1493,Veje!$A$2:$A$652,0),MATCH(B1493,Veje!$D$1:$RT$1,0)),VLOOKUP(A1493,Veje!A:B,2,FALSE))","v":"GSG"},{"$f":"IFERROR(VLOOKUP(C1493,Medlemmer!A:C,3,FALSE),\"\")","v":""},{"$f":"IFERROR(VLOOKUP(C1493,Medlemmer!A:C,2,FALSE),\"\")","v":""},{"$f":"IFERROR(VLOOKUP(C1493,Tidligere_henvendelser!A:B,2,FALSE),\"\")","v":""}]
[{"$f":"ReplaceNumbers(C1494)","v":"Callisensvej"},{"$f":"_xlfn.NUMBERVALUE(FindNumbers(C1494))","v":10},"Callisensvej 10, 1. tv","2900 Hellerup",3650000,"2021-10-17","Alm. Salg",54477,3,"Ejerlejlighed",67,1899,{"$f":"IF(ISBLANK(VLOOKUP(A1494,Veje!A:B,2,FALSE)),INDEX(Veje!$D$2:$RT$652,MATCH(A1494,Veje!$A$2:$A$652,0),MATCH(B1494,Veje!$D$1:$RT$1,0)),VLOOKUP(A1494,Veje!A:B,2,FALSE))","v":"HMG"},{"$f":"IFERROR(VLOOKUP(C1494,Medlemmer!A:C,3,FALSE),\"\")","v":""},{"$f":"IFERROR(VLOOKUP(C1494,Medlemmer!A:C,2,FALSE),\"\")","v":""},{"$f":"IFERROR(VLOOKUP(C1494,Tidligere_henvendelser!A:B,2,FALSE),\"\")","v":""}]
[{"$f":"ReplaceNumbers(C1495)","v":"Tuborg Parkvej"},{"$f":"_xlfn.NUMBERVALUE(FindNumbers(C1495))","v":2},"Tuborg Parkvej 2, 1. 2","2900 Hellerup",4300000,"2021-10-17","Alm. Salg",53750,2,"Ejerlejlighed",80,1995,{"$f":"IF(ISBLANK(VLOOKUP(A1495,Veje!A:B,2,FALSE)),INDEX(Veje!$D$2:$RT$652,MATCH(A1495,Veje!$A$2:$A$652,0),MATCH(B1495,Veje!$D$1:$RT$1,0)),VLOOKUP(A1495,Veje!A:B,2,FALSE))","v":"HMG"},{"$f":"IFERROR(VLOOKUP(C1495,Medlemmer!A:C,3,FALSE),\"\")","v":""},{"$f":"IFERROR(VLOOKUP(C1495,Medlemmer!A:C,2,FALSE),\"\")","v":""},{"$f":"IFERROR(VLOOKUP(C1495,Tidligere_henvendelser!A:B,2,FALSE),\"\")","v":""}]
[{"$f":"ReplaceNumbers(C1496)","v":"Byledet"},{"$f":"_xlfn.NUMBERVALUE(FindNumbers(C1496))","v":10},"Byledet 10","2820 Gentofte",7500000,"2021-10-17","Alm. Salg",60975,4,"Villa",123,1933,{"$f":"IF(ISBLANK(VLOOKUP(A1496,Veje!A:B,2,FALSE)),INDEX(Veje!$D$2:$RT$652,MATCH(A1496,Veje!$A$2:$A$652,0),MATCH(B1496,Veje!$D$1:$RT$1,0)),VLOOKUP(A1496,Veje!A:B,2,FALSE))","v":"GSG"},{"$f":"IFERROR(VLOOKUP(C1496,Medlemmer!A:C,3,FALSE),\"\")","v":""},{"$f":"IFERROR(VLOOKUP(C1496,Medlemmer!A:C,2,FALSE),\"\")","v":""},{"$f":"IFERROR(VLOOKUP(C1496,Tidligere_henvendelser!A:B,2,FALSE),\"\")","v":""}]
[{"$f":"ReplaceNumbers(C1497)","v":"Ordrup Jagtvej"},{"$f":"_xlfn.NUMBERVALUE(FindNumbers(C1497))","v":66},"Ordrup Jagtvej 66, 1","2920 Charlottenlund",10250000,"2021-10-17","Alm. Salg",81349,3,"Ejerlejlighed",126,1929,{"$f":"IF(ISBLANK(VLOOKUP(A1497,Veje!A:B,2,FALSE)),INDEX(Veje!$D$2:$RT$652,MATCH(A1497,Veje!$A$2:$A$652,0),MATCH(B1497,Veje!$D$1:$RT$1,0)),VLOOKUP(A1497,Veje!A:B,2,FALSE))","v":"SKGF"},{"$f":"IFERROR(VLOOKUP(C1497,Medlemmer!A:C,3,FALSE),\"\")","v":""},{"$f":"IFERROR(VLOOKUP(C1497,Medlemmer!A:C,2,FALSE),\"\")","v":""},{"$f":"IFERROR(VLOOKUP(C1497,Tidligere_henvendelser!A:B,2,FALSE),\"\")","v":""}]
[{"$f":"ReplaceNumbers(C1498)","v":"Ordrup Jagtvej"},{"$f":"_xlfn.NUMBERVALUE(FindNumbers(C1498))","v":66},"Ordrup Jagtvej 66, st","2920 Charlottenlund",10250000,"2021-10-17","Alm. Salg",71180,4,"Ejerlejlighed",144,1929,{"$f":"IF(ISBLANK(VLOOKUP(A1498,Veje!A:B,2,FALSE)),INDEX(Veje!$D$2:$RT$652,MATCH(A1498,Veje!$A$2:$A$652,0),MATCH(B1498,Veje!$D$1:$RT$1,0)),VLOOKUP(A1498,Veje!A:B,2,FALSE))","v":"SKGF"},{"$f":"IFERROR(VLOOKUP(C1498,Medlemmer!A:C,3,FALSE),\"\")","v":""},{"$f":"IFERROR(VLOOKUP(C1498,Medlemmer!A:C,2,FALSE),\"\")","v":""},{"$f":"IFERROR(VLOOKUP(C1498,Tidligere_henvendelser!A:B,2,FALSE),\"\")","v":""}]
[{"$f":"ReplaceNumbers(C1499)","v":"Højsgårds Alle"},{"$f":"_xlfn.NUMBERVALUE(FindNumbers(C1499))","v":55},"Højsgårds Alle 55, st","2900 Hellerup",4495000,"2021-10-17","Alm. Salg",33296,5,"Ejerlejlighed",135,1928,{"$f":"IF(ISBLANK(VLOOKUP(A1499,Veje!A:B,2,FALSE)),INDEX(Veje!$D$2:$RT$652,MATCH(A1499,Veje!$A$2:$A$652,0),MATCH(B1499,Veje!$D$1:$RT$1,0)),VLOOKUP(A1499,Veje!A:B,2,FALSE))","v":"DY"},{"$f":"IFERROR(VLOOKUP(C1499,Medlemmer!A:C,3,FALSE),\"\")","v":""},{"$f":"IFERROR(VLOOKUP(C1499,Medlemmer!A:C,2,FALSE),\"\")","v":""},{"$f":"IFERROR(VLOOKUP(C1499,Tidligere_henvendelser!A:B,2,FALSE),\"\")","v":""}]
[{"$f":"ReplaceNumbers(C1500)","v":"Højsgårds Alle"},{"$f":"_xlfn.NUMBERVALUE(FindNumbers(C1500))","v":55},"Højsgårds Alle 55, 1","2900 Hellerup",4495000,"2021-10-17","Alm. Salg",59144,2,"Ejerlejlighed",76,1928,{"$f":"IF(ISBLANK(VLOOKUP(A1500,Veje!A:B,2,FALSE)),INDEX(Veje!$D$2:$RT$652,MATCH(A1500,Veje!$A$2:$A$652,0),MATCH(B1500,Veje!$D$1:$RT$1,0)),VLOOKUP(A1500,Veje!A:B,2,FALSE))","v":"DY"},{"$f":"IFERROR(VLOOKUP(C1500,Medlemmer!A:C,3,FALSE),\"\")","v":""},{"$f":"IFERROR(VLOOKUP(C1500,Medlemmer!A:C,2,FALSE),\"\")","v":""},{"$f":"IFERROR(VLOOKUP(C1500,Tidligere_henvendelser!A:B,2,FALSE),\"\")","v":""}]
[{"$f":"ReplaceNumbers(C1501)","v":"Callisensvej"},{"$f":"_xlfn.NUMBERVALUE(FindNumbers(C1501))","v":16},"Callisensvej 16, 2. th","2900 Hellerup",3280000,"2021-10-17","Alm. Salg",51250,3,"Ejerlejlighed",64,1899,{"$f":"IF(ISBLANK(VLOOKUP(A1501,Veje!A:B,2,FALSE)),INDEX(Veje!$D$2:$RT$652,MATCH(A1501,Veje!$A$2:$A$652,0),MATCH(B1501,Veje!$D$1:$RT$1,0)),VLOOKUP(A1501,Veje!A:B,2,FALSE))","v":"HMG"},{"$f":"IFERROR(VLOOKUP(C1501,Medlemmer!A:C,3,FALSE),\"\")","v":""},{"$f":"IFERROR(VLOOKUP(C1501,Medlemmer!A:C,2,FALSE),\"\")","v":""},{"$f":"IFERROR(VLOOKUP(C1501,Tidligere_henvendelser!A:B,2,FALSE),\"\")","v":""}]
[{"$f":"ReplaceNumbers(C1502)","v":"Broholms Alle"},{"$f":"_xlfn.NUMBERVALUE(FindNumbers(C1502))","v":32},"Broholms Alle 32, 1. th","2920 Charlottenlund",1750000,"2021-10-17","Fam. Salg",27777,2,"Ejerlejlighed",63,1935,{"$f":"IF(ISBLANK(VLOOKUP(A1502,Veje!A:B,2,FALSE)),INDEX(Veje!$D$2:$RT$652,MATCH(A1502,Veje!$A$2:$A$652,0),MATCH(B1502,Veje!$D$1:$RT$1,0)),VLOOKUP(A1502,Veje!A:B,2,FALSE))","v":"SKGF"},{"$f":"IFERROR(VLOOKUP(C1502,Medlemmer!A:C,3,FALSE),\"\")","v":""},{"$f":"IFERROR(VLOOKUP(C1502,Medlemmer!A:C,2,FALSE),\"\")","v":""},{"$f":"IFERROR(VLOOKUP(C1502,Tidligere_henvendelser!A:B,2,FALSE),\"\")","v":""}]
[{"$f":"ReplaceNumbers(C1503)","v":"Enighedsvej"},{"$f":"_xlfn.NUMBERVALUE(FindNumbers(C1503))","v":53},"Enighedsvej 53","2920 Charlottenlund",17500000,"2021-10-17","Alm. Salg",80645,6,"Villa",217,1924,{"$f":"IF(ISBLANK(VLOOKUP(A1503,Veje!A:B,2,FALSE)),INDEX(Veje!$D$2:$RT$652,MATCH(A1503,Veje!$A$2:$A$652,0),MATCH(B1503,Veje!$D$1:$RT$1,0)),VLOOKUP(A1503,Veje!A:B,2,FALSE))","v":"OCG"},{"$f":"IFERROR(VLOOKUP(C1503,Medlemmer!A:C,3,FALSE),\"\")","v":""},{"$f":"IFERROR(VLOOKUP(C1503,Medlemmer!A:C,2,FALSE),\"\")","v":""},{"$f":"IFERROR(VLOOKUP(C1503,Tidligere_henvendelser!A:B,2,FALSE),\"\")","v":""}]
[{"$f":"ReplaceNumbers(C1504)","v":"Ole Olsens Alle"},{"$f":"_xlfn.NUMBERVALUE(FindNumbers(C1504))","v":7},"Ole Olsens Alle 7B","2900 Hellerup",10200000,"2021-10-17","Alm. Salg",61077,6,"Villa",167,1969,{"$f":"IF(ISBLANK(VLOOKUP(A1504,Veje!A:B,2,FALSE)),INDEX(Veje!$D$2:$RT$652,MATCH(A1504,Veje!$A$2:$A$652,0),MATCH(B1504,Veje!$D$1:$RT$1,0)),VLOOKUP(A1504,Veje!A:B,2,FALSE))","v":"GSG"},{"$f":"IFERROR(VLOOKUP(C1504,Medlemmer!A:C,3,FALSE),\"\")","v":""},{"$f":"IFERROR(VLOOKUP(C1504,Medlemmer!A:C,2,FALSE),\"\")","v":""},{"$f":"IFERROR(VLOOKUP(C1504,Tidligere_henvendelser!A:B,2,FALSE),\"\")","v":"20Q1"}]
[{"$f":"ReplaceNumbers(C1505)","v":"Fuglegårdsvænget"},{"$f":"_xlfn.NUMBERVALUE(FindNumbers(C1505))","v":10},"Fuglegårdsvænget 10","2820 Gentofte",4290000,"2021-10-18","Alm. Salg",54303,3,"Rækkehus",79,1941,{"$f":"IF(ISBLANK(VLOOKUP(A1505,Veje!A:B,2,FALSE)),INDEX(Veje!$D$2:$RT$652,MATCH(A1505,Veje!$A$2:$A$652,0),MATCH(B1505,Veje!$D$1:$RT$1,0)),VLOOKUP(A1505,Veje!A:B,2,FALSE))","v":"GSG"},{"$f":"IFERROR(VLOOKUP(C1505,Medlemmer!A:C,3,FALSE),\"\")","v":""},{"$f":"IFERROR(VLOOKUP(C1505,Medlemmer!A:C,2,FALSE),\"\")","v":""},{"$f":"IFERROR(VLOOKUP(C1505,Tidligere_henvendelser!A:B,2,FALSE),\"\")","v":""}]
[{"$f":"ReplaceNumbers(C1506)","v":"Baunegårdsvej"},{"$f":"_xlfn.NUMBERVALUE(FindNumbers(C1506))","v":64},"Baunegårdsvej 64, st","2900 Hellerup",8300000,"2021-10-18","Alm. Salg",55704,5,"Ejerlejlighed",149,1933,{"$f":"IF(ISBLANK(VLOOKUP(A1506,Veje!A:B,2,FALSE)),INDEX(Veje!$D$2:$RT$652,MATCH(A1506,Veje!$A$2:$A$652,0),MATCH(B1506,Veje!$D$1:$RT$1,0)),VLOOKUP(A1506,Veje!A:B,2,FALSE))","v":"GSG"},{"$f":"IFERROR(VLOOKUP(C1506,Medlemmer!A:C,3,FALSE),\"\")","v":""},{"$f":"IFERROR(VLOOKUP(C1506,Medlemmer!A:C,2,FALSE),\"\")","v":""},{"$f":"IFERROR(VLOOKUP(C1506,Tidligere_henvendelser!A:B,2,FALSE),\"\")","v":""}]
[{"$f":"ReplaceNumbers(C1507)","v":"Baunegårdsvej"},{"$f":"_xlfn.NUMBERVALUE(FindNumbers(C1507))","v":64},"Baunegårdsvej 64, 1","2900 Hellerup",8300000,"2021-10-18","Alm. Salg",55704,5,"Ejerlejlighed",149,1933,{"$f":"IF(ISBLANK(VLOOKUP(A1507,Veje!A:B,2,FALSE)),INDEX(Veje!$D$2:$RT$652,MATCH(A1507,Veje!$A$2:$A$652,0),MATCH(B1507,Veje!$D$1:$RT$1,0)),VLOOKUP(A1507,Veje!A:B,2,FALSE))","v":"GSG"},{"$f":"IFERROR(VLOOKUP(C1507,Medlemmer!A:C,3,FALSE),\"\")","v":""},{"$f":"IFERROR(VLOOKUP(C1507,Medlemmer!A:C,2,FALSE),\"\")","v":""},{"$f":"IFERROR(VLOOKUP(C1507,Tidligere_henvendelser!A:B,2,FALSE),\"\")","v":""}]
[{"$f":"ReplaceNumbers(C1508)","v":"Exnersvej"},{"$f":"_xlfn.NUMBERVALUE(FindNumbers(C1508))","v":32},"Exnersvej 32","2930 Klampenborg",14600000,"2021-10-18","Alm. Salg",118699,5,"Villa",123,1923,{"$f":"IF(ISBLANK(VLOOKUP(A1508,Veje!A:B,2,FALSE)),INDEX(Veje!$D$2:$RT$652,MATCH(A1508,Veje!$A$2:$A$652,0),MATCH(B1508,Veje!$D$1:$RT$1,0)),VLOOKUP(A1508,Veje!A:B,2,FALSE))","v":"SKGF"},{"$f":"IFERROR(VLOOKUP(C1508,Medlemmer!A:C,3,FALSE),\"\")","v":""},{"$f":"IFERROR(VLOOKUP(C1508,Medlemmer!A:C,2,FALSE),\"\")","v":""},{"$f":"IFERROR(VLOOKUP(C1508,Tidligere_henvendelser!A:B,2,FALSE),\"\")","v":""}]
[{"$f":"ReplaceNumbers(C1509)","v":"Hyldegårdsvej"},{"$f":"_xlfn.NUMBERVALUE(FindNumbers(C1509))","v":34},"Hyldegårdsvej 34B, 1. th","2920 Charlottenlund",3295000,"2021-10-18","Alm. Salg",41708,3,"Ejerlejlighed",79,1936,{"$f":"IF(ISBLANK(VLOOKUP(A1509,Veje!A:B,2,FALSE)),INDEX(Veje!$D$2:$RT$652,MATCH(A1509,Veje!$A$2:$A$652,0),MATCH(B1509,Veje!$D$1:$RT$1,0)),VLOOKUP(A1509,Veje!A:B,2,FALSE))","v":"OCG"},{"$f":"IFERROR(VLOOKUP(C1509,Medlemmer!A:C,3,FALSE),\"\")","v":""},{"$f":"IFERROR(VLOOKUP(C1509,Medlemmer!A:C,2,FALSE),\"\")","v":""},{"$f":"IFERROR(VLOOKUP(C1509,Tidligere_henvendelser!A:B,2,FALSE),\"\")","v":""}]
[{"$f":"ReplaceNumbers(C1510)","v":"Esperance Alle"},{"$f":"_xlfn.NUMBERVALUE(FindNumbers(C1510))","v":8},"Esperance Alle 8B, st. th","2920 Charlottenlund",11850000,"2021-10-18","Alm. Salg",85869,5,"Ejerlejlighed",138,1959,{"$f":"IF(ISBLANK(VLOOKUP(A1510,Veje!A:B,2,FALSE)),INDEX(Veje!$D$2:$RT$652,MATCH(A1510,Veje!$A$2:$A$652,0),MATCH(B1510,Veje!$D$1:$RT$1,0)),VLOOKUP(A1510,Veje!A:B,2,FALSE))","v":"HMG"},{"$f":"IFERROR(VLOOKUP(C1510,Medlemmer!A:C,3,FALSE),\"\")","v":""},{"$f":"IFERROR(VLOOKUP(C1510,Medlemmer!A:C,2,FALSE),\"\")","v":""},{"$f":"IFERROR(VLOOKUP(C1510,Tidligere_henvendelser!A:B,2,FALSE),\"\")","v":""}]
[{"$f":"ReplaceNumbers(C1511)","v":"Ordrupvej"},{"$f":"_xlfn.NUMBERVALUE(FindNumbers(C1511))","v":132},"Ordrupvej 132E, st. th","2920 Charlottenlund",1022606,"2021-10-18","Alm. Salg",17332,2,"Ejerlejlighed",59,1953,{"$f":"IF(ISBLANK(VLOOKUP(A1511,Veje!A:B,2,FALSE)),INDEX(Veje!$D$2:$RT$652,MATCH(A1511,Veje!$A$2:$A$652,0),MATCH(B1511,Veje!$D$1:$RT$1,0)),VLOOKUP(A1511,Veje!A:B,2,FALSE))","v":"OCG"},{"$f":"IFERROR(VLOOKUP(C1511,Medlemmer!A:C,3,FALSE),\"\")","v":""},{"$f":"IFERROR(VLOOKUP(C1511,Medlemmer!A:C,2,FALSE),\"\")","v":""},{"$f":"IFERROR(VLOOKUP(C1511,Tidligere_henvendelser!A:B,2,FALSE),\"\")","v":""}]
[{"$f":"ReplaceNumbers(C1512)","v":"Tranegårdsvej"},{"$f":"_xlfn.NUMBERVALUE(FindNumbers(C1512))","v":21},"Tranegårdsvej 21B","2900 Hellerup",16000000,"2021-10-18","Alm. Salg",72072,8,"Rækkehus",222,1926,{"$f":"IF(ISBLANK(VLOOKUP(A1512,Veje!A:B,2,FALSE)),INDEX(Veje!$D$2:$RT$652,MATCH(A1512,Veje!$A$2:$A$652,0),MATCH(B1512,Veje!$D$1:$RT$1,0)),VLOOKUP(A1512,Veje!A:B,2,FALSE))","v":"HMG"},{"$f":"IFERROR(VLOOKUP(C1512,Medlemmer!A:C,3,FALSE),\"\")","v":""},{"$f":"IFERROR(VLOOKUP(C1512,Medlemmer!A:C,2,FALSE),\"\")","v":""},{"$f":"IFERROR(VLOOKUP(C1512,Tidligere_henvendelser!A:B,2,FALSE),\"\")","v":""}]
[{"$f":"ReplaceNumbers(C1513)","v":"Morescosvej"},{"$f":"_xlfn.NUMBERVALUE(FindNumbers(C1513))","v":14},"Morescosvej 14, 2. tv","2920 Charlottenlund",7350000,"2021-10-18","Alm. Salg",54444,4,"Ejerlejlighed",135,1943,{"$f":"IF(ISBLANK(VLOOKUP(A1513,Veje!A:B,2,FALSE)),INDEX(Veje!$D$2:$RT$652,MATCH(A1513,Veje!$A$2:$A$652,0),MATCH(B1513,Veje!$D$1:$RT$1,0)),VLOOKUP(A1513,Veje!A:B,2,FALSE))","v":"OCG"},{"$f":"IFERROR(VLOOKUP(C1513,Medlemmer!A:C,3,FALSE),\"\")","v":""},{"$f":"IFERROR(VLOOKUP(C1513,Medlemmer!A:C,2,FALSE),\"\")","v":""},{"$f":"IFERROR(VLOOKUP(C1513,Tidligere_henvendelser!A:B,2,FALSE),\"\")","v":""}]
[{"$f":"ReplaceNumbers(C1514)","v":"Hans Jensens Vej"},{"$f":"_xlfn.NUMBERVALUE(FindNumbers(C1514))","v":28},"Hans Jensens Vej 28, st","2900 Hellerup",4995000,"2021-10-19","Alm. Salg",41974,5,"Ejerlejlighed",119,1931,{"$f":"IF(ISBLANK(VLOOKUP(A1514,Veje!A:B,2,FALSE)),INDEX(Veje!$D$2:$RT$652,MATCH(A1514,Veje!$A$2:$A$652,0),MATCH(B1514,Veje!$D$1:$RT$1,0)),VLOOKUP(A1514,Veje!A:B,2,FALSE))","v":"GSG"},{"$f":"IFERROR(VLOOKUP(C1514,Medlemmer!A:C,3,FALSE),\"\")","v":""},{"$f":"IFERROR(VLOOKUP(C1514,Medlemmer!A:C,2,FALSE),\"\")","v":""},{"$f":"IFERROR(VLOOKUP(C1514,Tidligere_henvendelser!A:B,2,FALSE),\"\")","v":""}]
[{"$f":"ReplaceNumbers(C1515)","v":"Hans Jensens Vej"},{"$f":"_xlfn.NUMBERVALUE(FindNumbers(C1515))","v":28},"Hans Jensens Vej 28, 1","2900 Hellerup",4995000,"2021-10-19","Alm. Salg",58764,4,"Ejerlejlighed",85,1931,{"$f":"IF(ISBLANK(VLOOKUP(A1515,Veje!A:B,2,FALSE)),INDEX(Veje!$D$2:$RT$652,MATCH(A1515,Veje!$A$2:$A$652,0),MATCH(B1515,Veje!$D$1:$RT$1,0)),VLOOKUP(A1515,Veje!A:B,2,FALSE))","v":"GSG"},{"$f":"IFERROR(VLOOKUP(C1515,Medlemmer!A:C,3,FALSE),\"\")","v":""},{"$f":"IFERROR(VLOOKUP(C1515,Medlemmer!A:C,2,FALSE),\"\")","v":""},{"$f":"IFERROR(VLOOKUP(C1515,Tidligere_henvendelser!A:B,2,FALSE),\"\")","v":""}]
[{"$f":"ReplaceNumbers(C1516)","v":"Blidahpark"},{"$f":"_xlfn.NUMBERVALUE(FindNumbers(C1516))","v":19},"Blidahpark 19, st. th","2900 Hellerup",7755000,"2021-10-19","Alm. Salg",64625,5,"Ejerlejlighed",120,1934,{"$f":"IF(ISBLANK(VLOOKUP(A1516,Veje!A:B,2,FALSE)),INDEX(Veje!$D$2:$RT$652,MATCH(A1516,Veje!$A$2:$A$652,0),MATCH(B1516,Veje!$D$1:$RT$1,0)),VLOOKUP(A1516,Veje!A:B,2,FALSE))","v":"HMG"},{"$f":"IFERROR(VLOOKUP(C1516,Medlemmer!A:C,3,FALSE),\"\")","v":""},{"$f":"IFERROR(VLOOKUP(C1516,Medlemmer!A:C,2,FALSE),\"\")","v":""},{"$f":"IFERROR(VLOOKUP(C1516,Tidligere_henvendelser!A:B,2,FALSE),\"\")","v":""}]
[{"$f":"ReplaceNumbers(C1517)","v":"Tuborg Sundpark"},{"$f":"_xlfn.NUMBERVALUE(FindNumbers(C1517))","v":1},"Tuborg Sundpark 1, 1. tv","2900 Hellerup",15000000,"2021-10-19","Alm. Salg",107142,3,"Ejerlejlighed",140,2004,{"$f":"IF(ISBLANK(VLOOKUP(A1517,Veje!A:B,2,FALSE)),INDEX(Veje!$D$2:$RT$652,MATCH(A1517,Veje!$A$2:$A$652,0),MATCH(B1517,Veje!$D$1:$RT$1,0)),VLOOKUP(A1517,Veje!A:B,2,FALSE))","v":"HMG"},{"$f":"IFERROR(VLOOKUP(C1517,Medlemmer!A:C,3,FALSE),\"\")","v":""},{"$f":"IFERROR(VLOOKUP(C1517,Medlemmer!A:C,2,FALSE),\"\")","v":""},{"$f":"IFERROR(VLOOKUP(C1517,Tidligere_henvendelser!A:B,2,FALSE),\"\")","v":""}]
[{"$f":"ReplaceNumbers(C1518)","v":"Ordrupvej"},{"$f":"_xlfn.NUMBERVALUE(FindNumbers(C1518))","v":89},"Ordrupvej 89, 3. mf","2920 Charlottenlund",1895000,"2021-10-19","Alm. Salg",46219,2,"Ejerlejlighed",41,1958,{"$f":"IF(ISBLANK(VLOOKUP(A1518,Veje!A:B,2,FALSE)),INDEX(Veje!$D$2:$RT$652,MATCH(A1518,Veje!$A$2:$A$652,0),MATCH(B1518,Veje!$D$1:$RT$1,0)),VLOOKUP(A1518,Veje!A:B,2,FALSE))","v":"OCG"},{"$f":"IFERROR(VLOOKUP(C1518,Medlemmer!A:C,3,FALSE),\"\")","v":""},{"$f":"IFERROR(VLOOKUP(C1518,Medlemmer!A:C,2,FALSE),\"\")","v":""},{"$f":"IFERROR(VLOOKUP(C1518,Tidligere_henvendelser!A:B,2,FALSE),\"\")","v":""}]
[{"$f":"ReplaceNumbers(C1519)","v":"Kathrinevej"},{"$f":"_xlfn.NUMBERVALUE(FindNumbers(C1519))","v":7},"Kathrinevej 7","2900 Hellerup",19300000,"2021-10-19","Alm. Salg",79423,7,"Villa",243,1902,{"$f":"IF(ISBLANK(VLOOKUP(A1519,Veje!A:B,2,FALSE)),INDEX(Veje!$D$2:$RT$652,MATCH(A1519,Veje!$A$2:$A$652,0),MATCH(B1519,Veje!$D$1:$RT$1,0)),VLOOKUP(A1519,Veje!A:B,2,FALSE))","v":"HMG"},{"$f":"IFERROR(VLOOKUP(C1519,Medlemmer!A:C,3,FALSE),\"\")","v":""},{"$f":"IFERROR(VLOOKUP(C1519,Medlemmer!A:C,2,FALSE),\"\")","v":""},{"$f":"IFERROR(VLOOKUP(C1519,Tidligere_henvendelser!A:B,2,FALSE),\"\")","v":""}]
[{"$f":"ReplaceNumbers(C1520)","v":"Vangedevej"},{"$f":"_xlfn.NUMBERVALUE(FindNumbers(C1520))","v":232},"Vangedevej 232B, 2. tv","2870 Dyssegård ",2695000,"2021-10-19","Alm. Salg",35460,3,"Ejerlejlighed",76,1943,{"$f":"IF(ISBLANK(VLOOKUP(A1520,Veje!A:B,2,FALSE)),INDEX(Veje!$D$2:$RT$652,MATCH(A1520,Veje!$A$2:$A$652,0),MATCH(B1520,Veje!$D$1:$RT$1,0)),VLOOKUP(A1520,Veje!A:B,2,FALSE))","v":"DY"},{"$f":"IFERROR(VLOOKUP(C1520,Medlemmer!A:C,3,FALSE),\"\")","v":""},{"$f":"IFERROR(VLOOKUP(C1520,Medlemmer!A:C,2,FALSE),\"\")","v":""},{"$f":"IFERROR(VLOOKUP(C1520,Tidligere_henvendelser!A:B,2,FALSE),\"\")","v":""}]
[{"$f":"ReplaceNumbers(C1521)","v":"Fortunvej"},{"$f":"_xlfn.NUMBERVALUE(FindNumbers(C1521))","v":64},"Fortunvej 64","2920 Charlottenlund",18950000,"2021-10-20","Alm. Salg",71240,6,"Villa",266,2018,{"$f":"IF(ISBLANK(VLOOKUP(A1521,Veje!A:B,2,FALSE)),INDEX(Veje!$D$2:$RT$652,MATCH(A1521,Veje!$A$2:$A$652,0),MATCH(B1521,Veje!$D$1:$RT$1,0)),VLOOKUP(A1521,Veje!A:B,2,FALSE))","v":"BJGF"},{"$f":"IFERROR(VLOOKUP(C1521,Medlemmer!A:C,3,FALSE),\"\")","v":""},{"$f":"IFERROR(VLOOKUP(C1521,Medlemmer!A:C,2,FALSE),\"\")","v":""},{"$f":"IFERROR(VLOOKUP(C1521,Tidligere_henvendelser!A:B,2,FALSE),\"\")","v":""}]
[{"$f":"ReplaceNumbers(C1522)","v":"Vangedevej"},{"$f":"_xlfn.NUMBERVALUE(FindNumbers(C1522))","v":222},"Vangedevej 222A, 3. th","2870 Dyssegård ",2310000,"2021-10-20","Alm. Salg",37868,2,"Ejerlejlighed",61,1948,{"$f":"IF(ISBLANK(VLOOKUP(A1522,Veje!A:B,2,FALSE)),INDEX(Veje!$D$2:$RT$652,MATCH(A1522,Veje!$A$2:$A$652,0),MATCH(B1522,Veje!$D$1:$RT$1,0)),VLOOKUP(A1522,Veje!A:B,2,FALSE))","v":"DY"},{"$f":"IFERROR(VLOOKUP(C1522,Medlemmer!A:C,3,FALSE),\"\")","v":""},{"$f":"IFERROR(VLOOKUP(C1522,Medlemmer!A:C,2,FALSE),\"\")","v":""},{"$f":"IFERROR(VLOOKUP(C1522,Tidligere_henvendelser!A:B,2,FALSE),\"\")","v":""}]
[{"$f":"ReplaceNumbers(C1523)","v":"Dalstrøget"},{"$f":"_xlfn.NUMBERVALUE(FindNumbers(C1523))","v":92},"Dalstrøget 92, st. tv","2870 Dyssegård ",3825000,"2021-10-20","Alm. Salg",39843,4,"Ejerlejlighed",96,1959,{"$f":"IF(ISBLANK(VLOOKUP(A1523,Veje!A:B,2,FALSE)),INDEX(Veje!$D$2:$RT$652,MATCH(A1523,Veje!$A$2:$A$652,0),MATCH(B1523,Veje!$D$1:$RT$1,0)),VLOOKUP(A1523,Veje!A:B,2,FALSE))","v":"DY"},{"$f":"IFERROR(VLOOKUP(C1523,Medlemmer!A:C,3,FALSE),\"\")","v":""},{"$f":"IFERROR(VLOOKUP(C1523,Medlemmer!A:C,2,FALSE),\"\")","v":""},{"$f":"IFERROR(VLOOKUP(C1523,Tidligere_henvendelser!A:B,2,FALSE),\"\")","v":""}]
[{"$f":"ReplaceNumbers(C1524)","v":"Vedbendvej"},{"$f":"_xlfn.NUMBERVALUE(FindNumbers(C1524))","v":4},"Vedbendvej 4, st. th","2900 Hellerup",3000000,"2021-10-20","Alm. Salg",42857,3,"Ejerlejlighed",70,1938,{"$f":"IF(ISBLANK(VLOOKUP(A1524,Veje!A:B,2,FALSE)),INDEX(Veje!$D$2:$RT$652,MATCH(A1524,Veje!$A$2:$A$652,0),MATCH(B1524,Veje!$D$1:$RT$1,0)),VLOOKUP(A1524,Veje!A:B,2,FALSE))","v":"DY"},{"$f":"IFERROR(VLOOKUP(C1524,Medlemmer!A:C,3,FALSE),\"\")","v":""},{"$f":"IFERROR(VLOOKUP(C1524,Medlemmer!A:C,2,FALSE),\"\")","v":""},{"$f":"IFERROR(VLOOKUP(C1524,Tidligere_henvendelser!A:B,2,FALSE),\"\")","v":""}]
[{"$f":"ReplaceNumbers(C1525)","v":"Strandlund"},{"$f":"_xlfn.NUMBERVALUE(FindNumbers(C1525))","v":101},"Strandlund 101","2920 Charlottenlund",7500000,"2021-10-20","Alm. Salg",78125,4,"Ejerlejlighed",96,1978,{"$f":"IF(ISBLANK(VLOOKUP(A1525,Veje!A:B,2,FALSE)),INDEX(Veje!$D$2:$RT$652,MATCH(A1525,Veje!$A$2:$A$652,0),MATCH(B1525,Veje!$D$1:$RT$1,0)),VLOOKUP(A1525,Veje!A:B,2,FALSE))","v":"HMG"},{"$f":"IFERROR(VLOOKUP(C1525,Medlemmer!A:C,3,FALSE),\"\")","v":""},{"$f":"IFERROR(VLOOKUP(C1525,Medlemmer!A:C,2,FALSE),\"\")","v":""},{"$f":"IFERROR(VLOOKUP(C1525,Tidligere_henvendelser!A:B,2,FALSE),\"\")","v":""}]
[{"$f":"ReplaceNumbers(C1526)","v":"Sølystparken"},{"$f":"_xlfn.NUMBERVALUE(FindNumbers(C1526))","v":6},"Sølystparken 6","2930 Klampenborg",22550000,"2021-10-20","Alm. Salg",66323,10,"Villa",340,1950,{"$f":"IF(ISBLANK(VLOOKUP(A1526,Veje!A:B,2,FALSE)),INDEX(Veje!$D$2:$RT$652,MATCH(A1526,Veje!$A$2:$A$652,0),MATCH(B1526,Veje!$D$1:$RT$1,0)),VLOOKUP(A1526,Veje!A:B,2,FALSE))","v":"SKGF"},{"$f":"IFERROR(VLOOKUP(C1526,Medlemmer!A:C,3,FALSE),\"\")","v":""},{"$f":"IFERROR(VLOOKUP(C1526,Medlemmer!A:C,2,FALSE),\"\")","v":""},{"$f":"IFERROR(VLOOKUP(C1526,Tidligere_henvendelser!A:B,2,FALSE),\"\")","v":""}]
[{"$f":"ReplaceNumbers(C1527)","v":"Fuglegårdsvænget"},{"$f":"_xlfn.NUMBERVALUE(FindNumbers(C1527))","v":88},"Fuglegårdsvænget 88, 1. th","2820 Gentofte",1895000,"2021-10-20","Alm. Salg",36442,2,"Ejerlejlighed",52,1936,{"$f":"IF(ISBLANK(VLOOKUP(A1527,Veje!A:B,2,FALSE)),INDEX(Veje!$D$2:$RT$652,MATCH(A1527,Veje!$A$2:$A$652,0),MATCH(B1527,Veje!$D$1:$RT$1,0)),VLOOKUP(A1527,Veje!A:B,2,FALSE))","v":"GSG"},{"$f":"IFERROR(VLOOKUP(C1527,Medlemmer!A:C,3,FALSE),\"\")","v":""},{"$f":"IFERROR(VLOOKUP(C1527,Medlemmer!A:C,2,FALSE),\"\")","v":""},{"$f":"IFERROR(VLOOKUP(C1527,Tidligere_henvendelser!A:B,2,FALSE),\"\")","v":""}]
[{"$f":"ReplaceNumbers(C1528)","v":"Anemonevej"},{"$f":"_xlfn.NUMBERVALUE(FindNumbers(C1528))","v":8},"Anemonevej 8","2820 Gentofte",10995000,"2021-10-20","Alm. Salg",71862,5,"Villa",153,1909,{"$f":"IF(ISBLANK(VLOOKUP(A1528,Veje!A:B,2,FALSE)),INDEX(Veje!$D$2:$RT$652,MATCH(A1528,Veje!$A$2:$A$652,0),MATCH(B1528,Veje!$D$1:$RT$1,0)),VLOOKUP(A1528,Veje!A:B,2,FALSE))","v":"GSG"},{"$f":"IFERROR(VLOOKUP(C1528,Medlemmer!A:C,3,FALSE),\"\")","v":""},{"$f":"IFERROR(VLOOKUP(C1528,Medlemmer!A:C,2,FALSE),\"\")","v":""},{"$f":"IFERROR(VLOOKUP(C1528,Tidligere_henvendelser!A:B,2,FALSE),\"\")","v":""}]
[{"$f":"ReplaceNumbers(C1529)","v":"Vangedevej"},{"$f":"_xlfn.NUMBERVALUE(FindNumbers(C1529))","v":224},"Vangedevej 224A, 3. tv","2870 Dyssegård ",2165000,"2021-10-21","Alm. Salg",36083,2,"Ejerlejlighed",60,1948,{"$f":"IF(ISBLANK(VLOOKUP(A1529,Veje!A:B,2,FALSE)),INDEX(Veje!$D$2:$RT$652,MATCH(A1529,Veje!$A$2:$A$652,0),MATCH(B1529,Veje!$D$1:$RT$1,0)),VLOOKUP(A1529,Veje!A:B,2,FALSE))","v":"DY"},{"$f":"IFERROR(VLOOKUP(C1529,Medlemmer!A:C,3,FALSE),\"\")","v":""},{"$f":"IFERROR(VLOOKUP(C1529,Medlemmer!A:C,2,FALSE),\"\")","v":""},{"$f":"IFERROR(VLOOKUP(C1529,Tidligere_henvendelser!A:B,2,FALSE),\"\")","v":""}]
[{"$f":"ReplaceNumbers(C1530)","v":"Svalevej"},{"$f":"_xlfn.NUMBERVALUE(FindNumbers(C1530))","v":15},"Svalevej 15","2900 Hellerup",12026000,"2021-10-21","Alm. Salg",83513,5,"Villa",144,1959,{"$f":"IF(ISBLANK(VLOOKUP(A1530,Veje!A:B,2,FALSE)),INDEX(Veje!$D$2:$RT$652,MATCH(A1530,Veje!$A$2:$A$652,0),MATCH(B1530,Veje!$D$1:$RT$1,0)),VLOOKUP(A1530,Veje!A:B,2,FALSE))","v":"HMG"},{"$f":"IFERROR(VLOOKUP(C1530,Medlemmer!A:C,3,FALSE),\"\")","v":""},{"$f":"IFERROR(VLOOKUP(C1530,Medlemmer!A:C,2,FALSE),\"\")","v":""},{"$f":"IFERROR(VLOOKUP(C1530,Tidligere_henvendelser!A:B,2,FALSE),\"\")","v":""}]
[{"$f":"ReplaceNumbers(C1531)","v":"Jægersborgvej"},{"$f":"_xlfn.NUMBERVALUE(FindNumbers(C1531))","v":120},"Jægersborgvej 120, 2. th","2820 Gentofte",2800000,"2021-10-21","Alm. Salg",29787,4,"Ejerlejlighed",94,1949,{"$f":"IF(ISBLANK(VLOOKUP(A1531,Veje!A:B,2,FALSE)),INDEX(Veje!$D$2:$RT$652,MATCH(A1531,Veje!$A$2:$A$652,0),MATCH(B1531,Veje!$D$1:$RT$1,0)),VLOOKUP(A1531,Veje!A:B,2,FALSE))","v":"GSG"},{"$f":"IFERROR(VLOOKUP(C1531,Medlemmer!A:C,3,FALSE),\"\")","v":""},{"$f":"IFERROR(VLOOKUP(C1531,Medlemmer!A:C,2,FALSE),\"\")","v":""},{"$f":"IFERROR(VLOOKUP(C1531,Tidligere_henvendelser!A:B,2,FALSE),\"\")","v":""}]
[{"$f":"ReplaceNumbers(C1532)","v":"Ordrupvej"},{"$f":"_xlfn.NUMBERVALUE(FindNumbers(C1532))","v":145},"Ordrupvej 145, 1","2920 Charlottenlund",4875000,"2021-10-21","Alm. Salg",59451,4,"Ejerlejlighed",82,1890,{"$f":"IF(ISBLANK(VLOOKUP(A1532,Veje!A:B,2,FALSE)),INDEX(Veje!$D$2:$RT$652,MATCH(A1532,Veje!$A$2:$A$652,0),MATCH(B1532,Veje!$D$1:$RT$1,0)),VLOOKUP(A1532,Veje!A:B,2,FALSE))","v":"OCG"},{"$f":"IFERROR(VLOOKUP(C1532,Medlemmer!A:C,3,FALSE),\"\")","v":""},{"$f":"IFERROR(VLOOKUP(C1532,Medlemmer!A:C,2,FALSE),\"\")","v":""},{"$f":"IFERROR(VLOOKUP(C1532,Tidligere_henvendelser!A:B,2,FALSE),\"\")","v":""}]
[{"$f":"ReplaceNumbers(C1533)","v":"Tranegårdsvej"},{"$f":"_xlfn.NUMBERVALUE(FindNumbers(C1533))","v":58},"Tranegårdsvej 58, st. th","2900 Hellerup",2600000,"2021-10-22","Alm. Salg",40000,2,"Ejerlejlighed",65,1919,{"$f":"IF(ISBLANK(VLOOKUP(A1533,Veje!A:B,2,FALSE)),INDEX(Veje!$D$2:$RT$652,MATCH(A1533,Veje!$A$2:$A$652,0),MATCH(B1533,Veje!$D$1:$RT$1,0)),VLOOKUP(A1533,Veje!A:B,2,FALSE))","v":"HMG"},{"$f":"IFERROR(VLOOKUP(C1533,Medlemmer!A:C,3,FALSE),\"\")","v":""},{"$f":"IFERROR(VLOOKUP(C1533,Medlemmer!A:C,2,FALSE),\"\")","v":""},{"$f":"IFERROR(VLOOKUP(C1533,Tidligere_henvendelser!A:B,2,FALSE),\"\")","v":""}]
[{"$f":"ReplaceNumbers(C1534)","v":"Jægersborg Alle"},{"$f":"_xlfn.NUMBERVALUE(FindNumbers(C1534))","v":159},"Jægersborg Alle 159B","2820 Gentofte",229132,"2021-10-22","Fam. Salg",1625,4,"Villa",141,2007,{"$f":"IF(ISBLANK(VLOOKUP(A1534,Veje!A:B,2,FALSE)),INDEX(Veje!$D$2:$RT$652,MATCH(A1534,Veje!$A$2:$A$652,0),MATCH(B1534,Veje!$D$1:$RT$1,0)),VLOOKUP(A1534,Veje!A:B,2,FALSE))","v":"BJGF"},{"$f":"IFERROR(VLOOKUP(C1534,Medlemmer!A:C,3,FALSE),\"\")","v":""},{"$f":"IFERROR(VLOOKUP(C1534,Medlemmer!A:C,2,FALSE),\"\")","v":""},{"$f":"IFERROR(VLOOKUP(C1534,Tidligere_henvendelser!A:B,2,FALSE),\"\")","v":""}]
[{"$f":"ReplaceNumbers(C1535)","v":"Callisensvej"},{"$f":"_xlfn.NUMBERVALUE(FindNumbers(C1535))","v":16},"Callisensvej 16, 4. tv","2900 Hellerup",1500000,"2021-10-23","Fam. Salg",22058,3,"Ejerlejlighed",68,1899,{"$f":"IF(ISBLANK(VLOOKUP(A1535,Veje!A:B,2,FALSE)),INDEX(Veje!$D$2:$RT$652,MATCH(A1535,Veje!$A$2:$A$652,0),MATCH(B1535,Veje!$D$1:$RT$1,0)),VLOOKUP(A1535,Veje!A:B,2,FALSE))","v":"HMG"},{"$f":"IFERROR(VLOOKUP(C1535,Medlemmer!A:C,3,FALSE),\"\")","v":""},{"$f":"IFERROR(VLOOKUP(C1535,Medlemmer!A:C,2,FALSE),\"\")","v":""},{"$f":"IFERROR(VLOOKUP(C1535,Tidligere_henvendelser!A:B,2,FALSE),\"\")","v":""}]
[{"$f":"ReplaceNumbers(C1536)","v":"Ellehøj"},{"$f":"_xlfn.NUMBERVALUE(FindNumbers(C1536))","v":21},"Ellehøj 21","2900 Hellerup",9325000,"2021-10-23","Alm. Salg",44617,6,"Villa",209,1938,{"$f":"IF(ISBLANK(VLOOKUP(A1536,Veje!A:B,2,FALSE)),INDEX(Veje!$D$2:$RT$652,MATCH(A1536,Veje!$A$2:$A$652,0),MATCH(B1536,Veje!$D$1:$RT$1,0)),VLOOKUP(A1536,Veje!A:B,2,FALSE))","v":"DY"},{"$f":"IFERROR(VLOOKUP(C1536,Medlemmer!A:C,3,FALSE),\"\")","v":""},{"$f":"IFERROR(VLOOKUP(C1536,Medlemmer!A:C,2,FALSE),\"\")","v":""},{"$f":"IFERROR(VLOOKUP(C1536,Tidligere_henvendelser!A:B,2,FALSE),\"\")","v":""}]
[{"$f":"ReplaceNumbers(C1537)","v":"Jægersborgvej"},{"$f":"_xlfn.NUMBERVALUE(FindNumbers(C1537))","v":122},"Jægersborgvej 122, 1. tv","2820 Gentofte",3250000,"2021-10-23","Alm. Salg",31250,5,"Ejerlejlighed",104,1949,{"$f":"IF(ISBLANK(VLOOKUP(A1537,Veje!A:B,2,FALSE)),INDEX(Veje!$D$2:$RT$652,MATCH(A1537,Veje!$A$2:$A$652,0),MATCH(B1537,Veje!$D$1:$RT$1,0)),VLOOKUP(A1537,Veje!A:B,2,FALSE))","v":"GSG"},{"$f":"IFERROR(VLOOKUP(C1537,Medlemmer!A:C,3,FALSE),\"\")","v":""},{"$f":"IFERROR(VLOOKUP(C1537,Medlemmer!A:C,2,FALSE),\"\")","v":""},{"$f":"IFERROR(VLOOKUP(C1537,Tidligere_henvendelser!A:B,2,FALSE),\"\")","v":""}]
[{"$f":"ReplaceNumbers(C1538)","v":"Parkovsvej"},{"$f":"_xlfn.NUMBERVALUE(FindNumbers(C1538))","v":3},"Parkovsvej 3","2820 Gentofte",14995000,"2021-10-23","Alm. Salg",55128,7,"Villa",272,1935,{"$f":"IF(ISBLANK(VLOOKUP(A1538,Veje!A:B,2,FALSE)),INDEX(Veje!$D$2:$RT$652,MATCH(A1538,Veje!$A$2:$A$652,0),MATCH(B1538,Veje!$D$1:$RT$1,0)),VLOOKUP(A1538,Veje!A:B,2,FALSE))","v":"GSG"},{"$f":"IFERROR(VLOOKUP(C1538,Medlemmer!A:C,3,FALSE),\"\")","v":""},{"$f":"IFERROR(VLOOKUP(C1538,Medlemmer!A:C,2,FALSE),\"\")","v":""},{"$f":"IFERROR(VLOOKUP(C1538,Tidligere_henvendelser!A:B,2,FALSE),\"\")","v":"20Q1"}]
[{"$f":"ReplaceNumbers(C1539)","v":"Carolinevej"},{"$f":"_xlfn.NUMBERVALUE(FindNumbers(C1539))","v":10},"Carolinevej 10, 1","2900 Hellerup",7875000,"2021-10-24","Alm. Salg",75721,3,"Ejerlejlighed",104,1891,{"$f":"IF(ISBLANK(VLOOKUP(A1539,Veje!A:B,2,FALSE)),INDEX(Veje!$D$2:$RT$652,MATCH(A1539,Veje!$A$2:$A$652,0),MATCH(B1539,Veje!$D$1:$RT$1,0)),VLOOKUP(A1539,Veje!A:B,2,FALSE))","v":"HMG"},{"$f":"IFERROR(VLOOKUP(C1539,Medlemmer!A:C,3,FALSE),\"\")","v":""},{"$f":"IFERROR(VLOOKUP(C1539,Medlemmer!A:C,2,FALSE),\"\")","v":""},{"$f":"IFERROR(VLOOKUP(C1539,Tidligere_henvendelser!A:B,2,FALSE),\"\")","v":""}]
[{"$f":"ReplaceNumbers(C1540)","v":"Frølichsvej"},{"$f":"_xlfn.NUMBERVALUE(FindNumbers(C1540))","v":1},"Frølichsvej 1, st","2930 Klampenborg",16500000,"2021-10-24","Alm. Salg",117021,3,"Ejerlejlighed",141,1914,{"$f":"IF(ISBLANK(VLOOKUP(A1540,Veje!A:B,2,FALSE)),INDEX(Veje!$D$2:$RT$652,MATCH(A1540,Veje!$A$2:$A$652,0),MATCH(B1540,Veje!$D$1:$RT$1,0)),VLOOKUP(A1540,Veje!A:B,2,FALSE))","v":"SKGF"},{"$f":"IFERROR(VLOOKUP(C1540,Medlemmer!A:C,3,FALSE),\"\")","v":""},{"$f":"IFERROR(VLOOKUP(C1540,Medlemmer!A:C,2,FALSE),\"\")","v":""},{"$f":"IFERROR(VLOOKUP(C1540,Tidligere_henvendelser!A:B,2,FALSE),\"\")","v":""}]
[{"$f":"ReplaceNumbers(C1541)","v":"Frølichsvej"},{"$f":"_xlfn.NUMBERVALUE(FindNumbers(C1541))","v":1},"Frølichsvej 1, 1","2930 Klampenborg",16500000,"2021-10-24","Alm. Salg",69327,6,"Ejerlejlighed",238,1914,{"$f":"IF(ISBLANK(VLOOKUP(A1541,Veje!A:B,2,FALSE)),INDEX(Veje!$D$2:$RT$652,MATCH(A1541,Veje!$A$2:$A$652,0),MATCH(B1541,Veje!$D$1:$RT$1,0)),VLOOKUP(A1541,Veje!A:B,2,FALSE))","v":"SKGF"},{"$f":"IFERROR(VLOOKUP(C1541,Medlemmer!A:C,3,FALSE),\"\")","v":""},{"$f":"IFERROR(VLOOKUP(C1541,Medlemmer!A:C,2,FALSE),\"\")","v":""},{"$f":"IFERROR(VLOOKUP(C1541,Tidligere_henvendelser!A:B,2,FALSE),\"\")","v":""}]
[{"$f":"ReplaceNumbers(C1542)","v":"Carolinevej"},{"$f":"_xlfn.NUMBERVALUE(FindNumbers(C1542))","v":10},"Carolinevej 10, st","2900 Hellerup",7875000,"2021-10-24","Alm. Salg",60576,4,"Ejerlejlighed",130,1891,{"$f":"IF(ISBLANK(VLOOKUP(A1542,Veje!A:B,2,FALSE)),INDEX(Veje!$D$2:$RT$652,MATCH(A1542,Veje!$A$2:$A$652,0),MATCH(B1542,Veje!$D$1:$RT$1,0)),VLOOKUP(A1542,Veje!A:B,2,FALSE))","v":"HMG"},{"$f":"IFERROR(VLOOKUP(C1542,Medlemmer!A:C,3,FALSE),\"\")","v":""},{"$f":"IFERROR(VLOOKUP(C1542,Medlemmer!A:C,2,FALSE),\"\")","v":""},{"$f":"IFERROR(VLOOKUP(C1542,Tidligere_henvendelser!A:B,2,FALSE),\"\")","v":""}]
[{"$f":"ReplaceNumbers(C1543)","v":"Carolinevej"},{"$f":"_xlfn.NUMBERVALUE(FindNumbers(C1543))","v":10},"Carolinevej 10","2900 Hellerup",7875000,"2021-10-24","Alm. Salg",34691,7,"Villa",227,1891,{"$f":"IF(ISBLANK(VLOOKUP(A1543,Veje!A:B,2,FALSE)),INDEX(Veje!$D$2:$RT$652,MATCH(A1543,Veje!$A$2:$A$652,0),MATCH(B1543,Veje!$D$1:$RT$1,0)),VLOOKUP(A1543,Veje!A:B,2,FALSE))","v":"HMG"},{"$f":"IFERROR(VLOOKUP(C1543,Medlemmer!A:C,3,FALSE),\"\")","v":""},{"$f":"IFERROR(VLOOKUP(C1543,Medlemmer!A:C,2,FALSE),\"\")","v":""},{"$f":"IFERROR(VLOOKUP(C1543,Tidligere_henvendelser!A:B,2,FALSE),\"\")","v":""}]
[{"$f":"ReplaceNumbers(C1544)","v":"Fuglegårdsvej"},{"$f":"_xlfn.NUMBERVALUE(FindNumbers(C1544))","v":22},"Fuglegårdsvej 22A","2820 Gentofte",7595000,"2021-10-24","Alm. Salg",53485,5,"Villa",142,1960,{"$f":"IF(ISBLANK(VLOOKUP(A1544,Veje!A:B,2,FALSE)),INDEX(Veje!$D$2:$RT$652,MATCH(A1544,Veje!$A$2:$A$652,0),MATCH(B1544,Veje!$D$1:$RT$1,0)),VLOOKUP(A1544,Veje!A:B,2,FALSE))","v":"GSG"},{"$f":"IFERROR(VLOOKUP(C1544,Medlemmer!A:C,3,FALSE),\"\")","v":""},{"$f":"IFERROR(VLOOKUP(C1544,Medlemmer!A:C,2,FALSE),\"\")","v":""},{"$f":"IFERROR(VLOOKUP(C1544,Tidligere_henvendelser!A:B,2,FALSE),\"\")","v":""}]
[{"$f":"ReplaceNumbers(C1545)","v":"Tuborg Havnepark"},{"$f":"_xlfn.NUMBERVALUE(FindNumbers(C1545))","v":4},"Tuborg Havnepark 4, 4. tv","2900 Hellerup",16300000,"2021-10-24","Alm. Salg",101875,4,"Ejerlejlighed",160,2007,{"$f":"IF(ISBLANK(VLOOKUP(A1545,Veje!A:B,2,FALSE)),INDEX(Veje!$D$2:$RT$652,MATCH(A1545,Veje!$A$2:$A$652,0),MATCH(B1545,Veje!$D$1:$RT$1,0)),VLOOKUP(A1545,Veje!A:B,2,FALSE))","v":"HMG"},{"$f":"IFERROR(VLOOKUP(C1545,Medlemmer!A:C,3,FALSE),\"\")","v":""},{"$f":"IFERROR(VLOOKUP(C1545,Medlemmer!A:C,2,FALSE),\"\")","v":""},{"$f":"IFERROR(VLOOKUP(C1545,Tidligere_henvendelser!A:B,2,FALSE),\"\")","v":""}]
[{"$f":"ReplaceNumbers(C1546)","v":"Jægersborg Alle"},{"$f":"_xlfn.NUMBERVALUE(FindNumbers(C1546))","v":29},"Jægersborg Alle 29A, 4. tv","2920 Charlottenlund",6295000,"2021-10-25","Alm. Salg",71534,3,"Ejerlejlighed",88,1978,{"$f":"IF(ISBLANK(VLOOKUP(A1546,Veje!A:B,2,FALSE)),INDEX(Veje!$D$2:$RT$652,MATCH(A1546,Veje!$A$2:$A$652,0),MATCH(B1546,Veje!$D$1:$RT$1,0)),VLOOKUP(A1546,Veje!A:B,2,FALSE))","v":"OCG"},{"$f":"IFERROR(VLOOKUP(C1546,Medlemmer!A:C,3,FALSE),\"\")","v":""},{"$f":"IFERROR(VLOOKUP(C1546,Medlemmer!A:C,2,FALSE),\"\")","v":""},{"$f":"IFERROR(VLOOKUP(C1546,Tidligere_henvendelser!A:B,2,FALSE),\"\")","v":""}]
[{"$f":"ReplaceNumbers(C1547)","v":"Gentoftegade"},{"$f":"_xlfn.NUMBERVALUE(FindNumbers(C1547))","v":38},"Gentoftegade 38, 2. tv","2820 Gentofte",4250000,"2021-10-25","Alm. Salg",51829,3,"Ejerlejlighed",82,1958,{"$f":"IF(ISBLANK(VLOOKUP(A1547,Veje!A:B,2,FALSE)),INDEX(Veje!$D$2:$RT$652,MATCH(A1547,Veje!$A$2:$A$652,0),MATCH(B1547,Veje!$D$1:$RT$1,0)),VLOOKUP(A1547,Veje!A:B,2,FALSE))","v":"GSG"},{"$f":"IFERROR(VLOOKUP(C1547,Medlemmer!A:C,3,FALSE),\"\")","v":""},{"$f":"IFERROR(VLOOKUP(C1547,Medlemmer!A:C,2,FALSE),\"\")","v":""},{"$f":"IFERROR(VLOOKUP(C1547,Tidligere_henvendelser!A:B,2,FALSE),\"\")","v":""}]
[{"$f":"ReplaceNumbers(C1548)","v":"Ved Bommen"},{"$f":"_xlfn.NUMBERVALUE(FindNumbers(C1548))","v":28},"Ved Bommen 28, 1. 18","2820 Gentofte",2995000,"2021-10-25","Alm. Salg",41027,2,"Ejerlejlighed",73,1977,{"$f":"IF(ISBLANK(VLOOKUP(A1548,Veje!A:B,2,FALSE)),INDEX(Veje!$D$2:$RT$652,MATCH(A1548,Veje!$A$2:$A$652,0),MATCH(B1548,Veje!$D$1:$RT$1,0)),VLOOKUP(A1548,Veje!A:B,2,FALSE))","v":"GSG"},{"$f":"IFERROR(VLOOKUP(C1548,Medlemmer!A:C,3,FALSE),\"\")","v":""},{"$f":"IFERROR(VLOOKUP(C1548,Medlemmer!A:C,2,FALSE),\"\")","v":""},{"$f":"IFERROR(VLOOKUP(C1548,Tidligere_henvendelser!A:B,2,FALSE),\"\")","v":""}]
[{"$f":"ReplaceNumbers(C1549)","v":"Skovvangen"},{"$f":"_xlfn.NUMBERVALUE(FindNumbers(C1549))","v":18},"Skovvangen 18","2920 Charlottenlund",24800000,"2021-10-25","Alm. Salg",87017,8,"Villa",285,1931,{"$f":"IF(ISBLANK(VLOOKUP(A1549,Veje!A:B,2,FALSE)),INDEX(Veje!$D$2:$RT$652,MATCH(A1549,Veje!$A$2:$A$652,0),MATCH(B1549,Veje!$D$1:$RT$1,0)),VLOOKUP(A1549,Veje!A:B,2,FALSE))","v":"OCG"},{"$f":"IFERROR(VLOOKUP(C1549,Medlemmer!A:C,3,FALSE),\"\")","v":""},{"$f":"IFERROR(VLOOKUP(C1549,Medlemmer!A:C,2,FALSE),\"\")","v":""},{"$f":"IFERROR(VLOOKUP(C1549,Tidligere_henvendelser!A:B,2,FALSE),\"\")","v":""}]
[{"$f":"ReplaceNumbers(C1550)","v":"Holmegårdsvej"},{"$f":"_xlfn.NUMBERVALUE(FindNumbers(C1550))","v":1},"Holmegårdsvej 1E, st. th","2920 Charlottenlund",2310757,"2021-10-25","Alm. Salg",39165,2,"Ejerlejlighed",59,1939,{"$f":"IF(ISBLANK(VLOOKUP(A1550,Veje!A:B,2,FALSE)),INDEX(Veje!$D$2:$RT$652,MATCH(A1550,Veje!$A$2:$A$652,0),MATCH(B1550,Veje!$D$1:$RT$1,0)),VLOOKUP(A1550,Veje!A:B,2,FALSE))","v":"OCG"},{"$f":"IFERROR(VLOOKUP(C1550,Medlemmer!A:C,3,FALSE),\"\")","v":""},{"$f":"IFERROR(VLOOKUP(C1550,Medlemmer!A:C,2,FALSE),\"\")","v":""},{"$f":"IFERROR(VLOOKUP(C1550,Tidligere_henvendelser!A:B,2,FALSE),\"\")","v":""}]
[{"$f":"ReplaceNumbers(C1551)","v":"Baunegårdsvej"},{"$f":"_xlfn.NUMBERVALUE(FindNumbers(C1551))","v":65},"Baunegårdsvej 65A","2900 Hellerup",11900000,"2021-10-25","Alm. Salg",67613,4,"Rækkehus",176,1931,{"$f":"IF(ISBLANK(VLOOKUP(A1551,Veje!A:B,2,FALSE)),INDEX(Veje!$D$2:$RT$652,MATCH(A1551,Veje!$A$2:$A$652,0),MATCH(B1551,Veje!$D$1:$RT$1,0)),VLOOKUP(A1551,Veje!A:B,2,FALSE))","v":"GSG"},{"$f":"IFERROR(VLOOKUP(C1551,Medlemmer!A:C,3,FALSE),\"\")","v":""},{"$f":"IFERROR(VLOOKUP(C1551,Medlemmer!A:C,2,FALSE),\"\")","v":""},{"$f":"IFERROR(VLOOKUP(C1551,Tidligere_henvendelser!A:B,2,FALSE),\"\")","v":"21Q1"}]
[{"$f":"ReplaceNumbers(C1552)","v":"Sønderengen"},{"$f":"_xlfn.NUMBERVALUE(FindNumbers(C1552))","v":28},"Sønderengen 28","2870 Dyssegård ",7350000,"2021-10-25","Alm. Salg",84482,3,"Villa",87,1935,{"$f":"IF(ISBLANK(VLOOKUP(A1552,Veje!A:B,2,FALSE)),INDEX(Veje!$D$2:$RT$652,MATCH(A1552,Veje!$A$2:$A$652,0),MATCH(B1552,Veje!$D$1:$RT$1,0)),VLOOKUP(A1552,Veje!A:B,2,FALSE))","v":"DY"},{"$f":"IFERROR(VLOOKUP(C1552,Medlemmer!A:C,3,FALSE),\"\")","v":""},{"$f":"IFERROR(VLOOKUP(C1552,Medlemmer!A:C,2,FALSE),\"\")","v":""},{"$f":"IFERROR(VLOOKUP(C1552,Tidligere_henvendelser!A:B,2,FALSE),\"\")","v":""}]
[{"$f":"ReplaceNumbers(C1553)","v":"Ordrupvej"},{"$f":"_xlfn.NUMBERVALUE(FindNumbers(C1553))","v":112},"Ordrupvej 112A, 2","2920 Charlottenlund",4700000,"2021-10-26","Alm. Salg",48958,3,"Ejerlejlighed",96,1933,{"$f":"IF(ISBLANK(VLOOKUP(A1553,Veje!A:B,2,FALSE)),INDEX(Veje!$D$2:$RT$652,MATCH(A1553,Veje!$A$2:$A$652,0),MATCH(B1553,Veje!$D$1:$RT$1,0)),VLOOKUP(A1553,Veje!A:B,2,FALSE))","v":"OCG"},{"$f":"IFERROR(VLOOKUP(C1553,Medlemmer!A:C,3,FALSE),\"\")","v":""},{"$f":"IFERROR(VLOOKUP(C1553,Medlemmer!A:C,2,FALSE),\"\")","v":""},{"$f":"IFERROR(VLOOKUP(C1553,Tidligere_henvendelser!A:B,2,FALSE),\"\")","v":""}]
[{"$f":"ReplaceNumbers(C1554)","v":"Ordrupvej"},{"$f":"_xlfn.NUMBERVALUE(FindNumbers(C1554))","v":89},"Ordrupvej 89, 1. 2","2920 Charlottenlund",1595000,"2021-10-26","Alm. Salg",39875,1,"Ejerlejlighed",40,1958,{"$f":"IF(ISBLANK(VLOOKUP(A1554,Veje!A:B,2,FALSE)),INDEX(Veje!$D$2:$RT$652,MATCH(A1554,Veje!$A$2:$A$652,0),MATCH(B1554,Veje!$D$1:$RT$1,0)),VLOOKUP(A1554,Veje!A:B,2,FALSE))","v":"OCG"},{"$f":"IFERROR(VLOOKUP(C1554,Medlemmer!A:C,3,FALSE),\"\")","v":""},{"$f":"IFERROR(VLOOKUP(C1554,Medlemmer!A:C,2,FALSE),\"\")","v":""},{"$f":"IFERROR(VLOOKUP(C1554,Tidligere_henvendelser!A:B,2,FALSE),\"\")","v":""}]
[{"$f":"ReplaceNumbers(C1555)","v":"Lille Fredensvej"},{"$f":"_xlfn.NUMBERVALUE(FindNumbers(C1555))","v":1},"Lille Fredensvej 1B, 1. tv","2920 Charlottenlund",1870000,"2021-10-26","Fam. Salg",20777,3,"Ejerlejlighed",90,1977,{"$f":"IF(ISBLANK(VLOOKUP(A1555,Veje!A:B,2,FALSE)),INDEX(Veje!$D$2:$RT$652,MATCH(A1555,Veje!$A$2:$A$652,0),MATCH(B1555,Veje!$D$1:$RT$1,0)),VLOOKUP(A1555,Veje!A:B,2,FALSE))","v":"OCG"},{"$f":"IFERROR(VLOOKUP(C1555,Medlemmer!A:C,3,FALSE),\"\")","v":""},{"$f":"IFERROR(VLOOKUP(C1555,Medlemmer!A:C,2,FALSE),\"\")","v":""},{"$f":"IFERROR(VLOOKUP(C1555,Tidligere_henvendelser!A:B,2,FALSE),\"\")","v":""}]
[{"$f":"ReplaceNumbers(C1556)","v":"Fabritius Alle"},{"$f":"_xlfn.NUMBERVALUE(FindNumbers(C1556))","v":4},"Fabritius Alle 4","2930 Klampenborg",12400000,"2021-10-26","Fam. Salg",48062,7,"Villa",258,1936,{"$f":"IF(ISBLANK(VLOOKUP(A1556,Veje!A:B,2,FALSE)),INDEX(Veje!$D$2:$RT$652,MATCH(A1556,Veje!$A$2:$A$652,0),MATCH(B1556,Veje!$D$1:$RT$1,0)),VLOOKUP(A1556,Veje!A:B,2,FALSE))","v":"SKGF"},{"$f":"IFERROR(VLOOKUP(C1556,Medlemmer!A:C,3,FALSE),\"\")","v":""},{"$f":"IFERROR(VLOOKUP(C1556,Medlemmer!A:C,2,FALSE),\"\")","v":""},{"$f":"IFERROR(VLOOKUP(C1556,Tidligere_henvendelser!A:B,2,FALSE),\"\")","v":""}]
[{"$f":"ReplaceNumbers(C1557)","v":"Plantevej"},{"$f":"_xlfn.NUMBERVALUE(FindNumbers(C1557))","v":15},"Plantevej 15, 4. th","2870 Dyssegård ",2350000,"2021-10-26","Alm. Salg",40517,2,"Ejerlejlighed",58,1938,{"$f":"IF(ISBLANK(VLOOKUP(A1557,Veje!A:B,2,FALSE)),INDEX(Veje!$D$2:$RT$652,MATCH(A1557,Veje!$A$2:$A$652,0),MATCH(B1557,Veje!$D$1:$RT$1,0)),VLOOKUP(A1557,Veje!A:B,2,FALSE))","v":"DY"},{"$f":"IFERROR(VLOOKUP(C1557,Medlemmer!A:C,3,FALSE),\"\")","v":""},{"$f":"IFERROR(VLOOKUP(C1557,Medlemmer!A:C,2,FALSE),\"\")","v":""},{"$f":"IFERROR(VLOOKUP(C1557,Tidligere_henvendelser!A:B,2,FALSE),\"\")","v":""}]
[{"$f":"ReplaceNumbers(C1558)","v":"Henriettevej"},{"$f":"_xlfn.NUMBERVALUE(FindNumbers(C1558))","v":9},"Henriettevej 9, st. 3","2920 Charlottenlund",731000,"2021-10-26","Fam. Salg",17000,1,"Ejerlejlighed",43,1968,{"$f":"IF(ISBLANK(VLOOKUP(A1558,Veje!A:B,2,FALSE)),INDEX(Veje!$D$2:$RT$652,MATCH(A1558,Veje!$A$2:$A$652,0),MATCH(B1558,Veje!$D$1:$RT$1,0)),VLOOKUP(A1558,Veje!A:B,2,FALSE))","v":"OCG"},{"$f":"IFERROR(VLOOKUP(C1558,Medlemmer!A:C,3,FALSE),\"\")","v":""},{"$f":"IFERROR(VLOOKUP(C1558,Medlemmer!A:C,2,FALSE),\"\")","v":""},{"$f":"IFERROR(VLOOKUP(C1558,Tidligere_henvendelser!A:B,2,FALSE),\"\")","v":""}]
[{"$f":"ReplaceNumbers(C1559)","v":"Solbakkevej"},{"$f":"_xlfn.NUMBERVALUE(FindNumbers(C1559))","v":42},"Solbakkevej 42","2820 Gentofte",11250000,"2021-10-26","Alm. Salg",79787,6,"Villa",141,1940,{"$f":"IF(ISBLANK(VLOOKUP(A1559,Veje!A:B,2,FALSE)),INDEX(Veje!$D$2:$RT$652,MATCH(A1559,Veje!$A$2:$A$652,0),MATCH(B1559,Veje!$D$1:$RT$1,0)),VLOOKUP(A1559,Veje!A:B,2,FALSE))","v":"BJGF"},{"$f":"IFERROR(VLOOKUP(C1559,Medlemmer!A:C,3,FALSE),\"\")","v":""},{"$f":"IFERROR(VLOOKUP(C1559,Medlemmer!A:C,2,FALSE),\"\")","v":""},{"$f":"IFERROR(VLOOKUP(C1559,Tidligere_henvendelser!A:B,2,FALSE),\"\")","v":""}]
[{"$f":"ReplaceNumbers(C1560)","v":"Hovmarksvej"},{"$f":"_xlfn.NUMBERVALUE(FindNumbers(C1560))","v":71},"Hovmarksvej 71","2920 Charlottenlund",11900000,"2021-10-26","Alm. Salg",61658,8,"Villa",193,1958,{"$f":"IF(ISBLANK(VLOOKUP(A1560,Veje!A:B,2,FALSE)),INDEX(Veje!$D$2:$RT$652,MATCH(A1560,Veje!$A$2:$A$652,0),MATCH(B1560,Veje!$D$1:$RT$1,0)),VLOOKUP(A1560,Veje!A:B,2,FALSE))","v":"BJGF"},{"$f":"IFERROR(VLOOKUP(C1560,Medlemmer!A:C,3,FALSE),\"\")","v":""},{"$f":"IFERROR(VLOOKUP(C1560,Medlemmer!A:C,2,FALSE),\"\")","v":""},{"$f":"IFERROR(VLOOKUP(C1560,Tidligere_henvendelser!A:B,2,FALSE),\"\")","v":""}]
[{"$f":"ReplaceNumbers(C1561)","v":"Rygårds Alle"},{"$f":"_xlfn.NUMBERVALUE(FindNumbers(C1561))","v":1},"Rygårds Alle 1, 2. tv","2900 Hellerup",24750000,"2021-10-27","Alm. Salg",392857,2,"Ejerlejlighed",63,1938,{"$f":"IF(ISBLANK(VLOOKUP(A1561,Veje!A:B,2,FALSE)),INDEX(Veje!$D$2:$RT$652,MATCH(A1561,Veje!$A$2:$A$652,0),MATCH(B1561,Veje!$D$1:$RT$1,0)),VLOOKUP(A1561,Veje!A:B,2,FALSE))","v":"HMG"},{"$f":"IFERROR(VLOOKUP(C1561,Medlemmer!A:C,3,FALSE),\"\")","v":""},{"$f":"IFERROR(VLOOKUP(C1561,Medlemmer!A:C,2,FALSE),\"\")","v":""},{"$f":"IFERROR(VLOOKUP(C1561,Tidligere_henvendelser!A:B,2,FALSE),\"\")","v":""}]
[{"$f":"ReplaceNumbers(C1562)","v":"Rygårds Alle"},{"$f":"_xlfn.NUMBERVALUE(FindNumbers(C1562))","v":1},"Rygårds Alle 1, 1. tv","2900 Hellerup",24750000,"2021-10-27","Alm. Salg",255154,3,"Ejerlejlighed",97,1938,{"$f":"IF(ISBLANK(VLOOKUP(A1562,Veje!A:B,2,FALSE)),INDEX(Veje!$D$2:$RT$652,MATCH(A1562,Veje!$A$2:$A$652,0),MATCH(B1562,Veje!$D$1:$RT$1,0)),VLOOKUP(A1562,Veje!A:B,2,FALSE))","v":"HMG"},{"$f":"IFERROR(VLOOKUP(C1562,Medlemmer!A:C,3,FALSE),\"\")","v":""},{"$f":"IFERROR(VLOOKUP(C1562,Medlemmer!A:C,2,FALSE),\"\")","v":""},{"$f":"IFERROR(VLOOKUP(C1562,Tidligere_henvendelser!A:B,2,FALSE),\"\")","v":""}]
[{"$f":"ReplaceNumbers(C1563)","v":"Rygårds Alle"},{"$f":"_xlfn.NUMBERVALUE(FindNumbers(C1563))","v":1},"Rygårds Alle 1, 2. th","2900 Hellerup",24750000,"2021-10-27","Alm. Salg",301829,2,"Ejerlejlighed",82,1938,{"$f":"IF(ISBLANK(VLOOKUP(A1563,Veje!A:B,2,FALSE)),INDEX(Veje!$D$2:$RT$652,MATCH(A1563,Veje!$A$2:$A$652,0),MATCH(B1563,Veje!$D$1:$RT$1,0)),VLOOKUP(A1563,Veje!A:B,2,FALSE))","v":"HMG"},{"$f":"IFERROR(VLOOKUP(C1563,Medlemmer!A:C,3,FALSE),\"\")","v":""},{"$f":"IFERROR(VLOOKUP(C1563,Medlemmer!A:C,2,FALSE),\"\")","v":""},{"$f":"IFERROR(VLOOKUP(C1563,Tidligere_henvendelser!A:B,2,FALSE),\"\")","v":""}]
[{"$f":"ReplaceNumbers(C1564)","v":"Frøbakken"},{"$f":"_xlfn.NUMBERVALUE(FindNumbers(C1564))","v":14},"Frøbakken 14","2870 Dyssegård ",7700000,"2021-10-27","Alm. Salg",46951,6,"Villa",164,1959,{"$f":"IF(ISBLANK(VLOOKUP(A1564,Veje!A:B,2,FALSE)),INDEX(Veje!$D$2:$RT$652,MATCH(A1564,Veje!$A$2:$A$652,0),MATCH(B1564,Veje!$D$1:$RT$1,0)),VLOOKUP(A1564,Veje!A:B,2,FALSE))","v":"DY"},{"$f":"IFERROR(VLOOKUP(C1564,Medlemmer!A:C,3,FALSE),\"\")","v":""},{"$f":"IFERROR(VLOOKUP(C1564,Medlemmer!A:C,2,FALSE),\"\")","v":""},{"$f":"IFERROR(VLOOKUP(C1564,Tidligere_henvendelser!A:B,2,FALSE),\"\")","v":""}]
[{"$f":"ReplaceNumbers(C1565)","v":"Holmegårdsvej"},{"$f":"_xlfn.NUMBERVALUE(FindNumbers(C1565))","v":1},"Holmegårdsvej 1E, st. tv","2920 Charlottenlund",550000,"2021-10-27","Alm. Salg",9649,2,"Ejerlejlighed",57,1939,{"$f":"IF(ISBLANK(VLOOKUP(A1565,Veje!A:B,2,FALSE)),INDEX(Veje!$D$2:$RT$652,MATCH(A1565,Veje!$A$2:$A$652,0),MATCH(B1565,Veje!$D$1:$RT$1,0)),VLOOKUP(A1565,Veje!A:B,2,FALSE))","v":"OCG"},{"$f":"IFERROR(VLOOKUP(C1565,Medlemmer!A:C,3,FALSE),\"\")","v":""},{"$f":"IFERROR(VLOOKUP(C1565,Medlemmer!A:C,2,FALSE),\"\")","v":""},{"$f":"IFERROR(VLOOKUP(C1565,Tidligere_henvendelser!A:B,2,FALSE),\"\")","v":""}]
[{"$f":"ReplaceNumbers(C1566)","v":"Tranegårdsvej"},{"$f":"_xlfn.NUMBERVALUE(FindNumbers(C1566))","v":58},"Tranegårdsvej 58, 2. th","2900 Hellerup",2801000,"2021-10-27","Alm. Salg",44460,2,"Ejerlejlighed",63,1919,{"$f":"IF(ISBLANK(VLOOKUP(A1566,Veje!A:B,2,FALSE)),INDEX(Veje!$D$2:$RT$652,MATCH(A1566,Veje!$A$2:$A$652,0),MATCH(B1566,Veje!$D$1:$RT$1,0)),VLOOKUP(A1566,Veje!A:B,2,FALSE))","v":"HMG"},{"$f":"IFERROR(VLOOKUP(C1566,Medlemmer!A:C,3,FALSE),\"\")","v":""},{"$f":"IFERROR(VLOOKUP(C1566,Medlemmer!A:C,2,FALSE),\"\")","v":""},{"$f":"IFERROR(VLOOKUP(C1566,Tidligere_henvendelser!A:B,2,FALSE),\"\")","v":""}]
[{"$f":"ReplaceNumbers(C1567)","v":"Blidahpark"},{"$f":"_xlfn.NUMBERVALUE(FindNumbers(C1567))","v":7},"Blidahpark 7, 2. th","2900 Hellerup",4995000,"2021-10-27","Alm. Salg",64038,3,"Ejerlejlighed",78,1933,{"$f":"IF(ISBLANK(VLOOKUP(A1567,Veje!A:B,2,FALSE)),INDEX(Veje!$D$2:$RT$652,MATCH(A1567,Veje!$A$2:$A$652,0),MATCH(B1567,Veje!$D$1:$RT$1,0)),VLOOKUP(A1567,Veje!A:B,2,FALSE))","v":"HMG"},{"$f":"IFERROR(VLOOKUP(C1567,Medlemmer!A:C,3,FALSE),\"\")","v":""},{"$f":"IFERROR(VLOOKUP(C1567,Medlemmer!A:C,2,FALSE),\"\")","v":""},{"$f":"IFERROR(VLOOKUP(C1567,Tidligere_henvendelser!A:B,2,FALSE),\"\")","v":""}]
[{"$f":"ReplaceNumbers(C1568)","v":"Lindegårdsvej"},{"$f":"_xlfn.NUMBERVALUE(FindNumbers(C1568))","v":28},"Lindegårdsvej 28B, st. mf","2920 Charlottenlund",2200000,"2021-10-28","Alm. Salg",44000,1,"Ejerlejlighed",50,1937,{"$f":"IF(ISBLANK(VLOOKUP(A1568,Veje!A:B,2,FALSE)),INDEX(Veje!$D$2:$RT$652,MATCH(A1568,Veje!$A$2:$A$652,0),MATCH(B1568,Veje!$D$1:$RT$1,0)),VLOOKUP(A1568,Veje!A:B,2,FALSE))","v":"OCG"},{"$f":"IFERROR(VLOOKUP(C1568,Medlemmer!A:C,3,FALSE),\"\")","v":""},{"$f":"IFERROR(VLOOKUP(C1568,Medlemmer!A:C,2,FALSE),\"\")","v":""},{"$f":"IFERROR(VLOOKUP(C1568,Tidligere_henvendelser!A:B,2,FALSE),\"\")","v":""}]
[{"$f":"ReplaceNumbers(C1569)","v":"Ordrupvej"},{"$f":"_xlfn.NUMBERVALUE(FindNumbers(C1569))","v":75},"Ordrupvej 75, st. tv","2920 Charlottenlund",2895000,"2021-10-28","Alm. Salg",39121,2,"Ejerlejlighed",74,1933,{"$f":"IF(ISBLANK(VLOOKUP(A1569,Veje!A:B,2,FALSE)),INDEX(Veje!$D$2:$RT$652,MATCH(A1569,Veje!$A$2:$A$652,0),MATCH(B1569,Veje!$D$1:$RT$1,0)),VLOOKUP(A1569,Veje!A:B,2,FALSE))","v":"OCG"},{"$f":"IFERROR(VLOOKUP(C1569,Medlemmer!A:C,3,FALSE),\"\")","v":""},{"$f":"IFERROR(VLOOKUP(C1569,Medlemmer!A:C,2,FALSE),\"\")","v":""},{"$f":"IFERROR(VLOOKUP(C1569,Tidligere_henvendelser!A:B,2,FALSE),\"\")","v":""}]
[{"$f":"ReplaceNumbers(C1570)","v":"Lemchesvej"},{"$f":"_xlfn.NUMBERVALUE(FindNumbers(C1570))","v":1},"Lemchesvej 1","2900 Hellerup",39730000,"2021-10-30","Alm. Salg",124156,9,"Villa",320,1885,{"$f":"IF(ISBLANK(VLOOKUP(A1570,Veje!A:B,2,FALSE)),INDEX(Veje!$D$2:$RT$652,MATCH(A1570,Veje!$A$2:$A$652,0),MATCH(B1570,Veje!$D$1:$RT$1,0)),VLOOKUP(A1570,Veje!A:B,2,FALSE))","v":"HMG"},{"$f":"IFERROR(VLOOKUP(C1570,Medlemmer!A:C,3,FALSE),\"\")","v":""},{"$f":"IFERROR(VLOOKUP(C1570,Medlemmer!A:C,2,FALSE),\"\")","v":""},{"$f":"IFERROR(VLOOKUP(C1570,Tidligere_henvendelser!A:B,2,FALSE),\"\")","v":""}]
[{"$f":"ReplaceNumbers(C1571)","v":"Schimmelmannsvej"},{"$f":"_xlfn.NUMBERVALUE(FindNumbers(C1571))","v":23},"Schimmelmannsvej 23","2920 Charlottenlund",4505000,"2021-10-30","Fam. Salg",43317,5,"Villa",104,1933,{"$f":"IF(ISBLANK(VLOOKUP(A1571,Veje!A:B,2,FALSE)),INDEX(Veje!$D$2:$RT$652,MATCH(A1571,Veje!$A$2:$A$652,0),MATCH(B1571,Veje!$D$1:$RT$1,0)),VLOOKUP(A1571,Veje!A:B,2,FALSE))","v":"OCG"},{"$f":"IFERROR(VLOOKUP(C1571,Medlemmer!A:C,3,FALSE),\"\")","v":""},{"$f":"IFERROR(VLOOKUP(C1571,Medlemmer!A:C,2,FALSE),\"\")","v":""},{"$f":"IFERROR(VLOOKUP(C1571,Tidligere_henvendelser!A:B,2,FALSE),\"\")","v":""}]
[{"$f":"ReplaceNumbers(C1572)","v":"Dyssegårdsvej"},{"$f":"_xlfn.NUMBERVALUE(FindNumbers(C1572))","v":71},"Dyssegårdsvej 71","2870 Dyssegård ",6880000,"2021-10-30","Alm. Salg",57333,5,"Villa",120,1931,{"$f":"IF(ISBLANK(VLOOKUP(A1572,Veje!A:B,2,FALSE)),INDEX(Veje!$D$2:$RT$652,MATCH(A1572,Veje!$A$2:$A$652,0),MATCH(B1572,Veje!$D$1:$RT$1,0)),VLOOKUP(A1572,Veje!A:B,2,FALSE))","v":"DY"},{"$f":"IFERROR(VLOOKUP(C1572,Medlemmer!A:C,3,FALSE),\"\")","v":""},{"$f":"IFERROR(VLOOKUP(C1572,Medlemmer!A:C,2,FALSE),\"\")","v":""},{"$f":"IFERROR(VLOOKUP(C1572,Tidligere_henvendelser!A:B,2,FALSE),\"\")","v":""}]
[{"$f":"ReplaceNumbers(C1573)","v":"Ny Ordrup Sidealle"},{"$f":"_xlfn.NUMBERVALUE(FindNumbers(C1573))","v":3},"Ny Ordrup Sidealle 3, 2. tv","2920 Charlottenlund",6085000,"2021-10-31","Alm. Salg",54819,5,"Ejerlejlighed",111,1946,{"$f":"IF(ISBLANK(VLOOKUP(A1573,Veje!A:B,2,FALSE)),INDEX(Veje!$D$2:$RT$652,MATCH(A1573,Veje!$A$2:$A$652,0),MATCH(B1573,Veje!$D$1:$RT$1,0)),VLOOKUP(A1573,Veje!A:B,2,FALSE))","v":"SKGF"},{"$f":"IFERROR(VLOOKUP(C1573,Medlemmer!A:C,3,FALSE),\"\")","v":""},{"$f":"IFERROR(VLOOKUP(C1573,Medlemmer!A:C,2,FALSE),\"\")","v":""},{"$f":"IFERROR(VLOOKUP(C1573,Tidligere_henvendelser!A:B,2,FALSE),\"\")","v":""}]
[{"$f":"ReplaceNumbers(C1574)","v":"Lemchesvej"},{"$f":"_xlfn.NUMBERVALUE(FindNumbers(C1574))","v":24},"Lemchesvej 24","2900 Hellerup",19100000,"2021-10-31","Alm. Salg",108522,5,"Villa",176,1971,{"$f":"IF(ISBLANK(VLOOKUP(A1574,Veje!A:B,2,FALSE)),INDEX(Veje!$D$2:$RT$652,MATCH(A1574,Veje!$A$2:$A$652,0),MATCH(B1574,Veje!$D$1:$RT$1,0)),VLOOKUP(A1574,Veje!A:B,2,FALSE))","v":"HMG"},{"$f":"IFERROR(VLOOKUP(C1574,Medlemmer!A:C,3,FALSE),\"\")","v":""},{"$f":"IFERROR(VLOOKUP(C1574,Medlemmer!A:C,2,FALSE),\"\")","v":""},{"$f":"IFERROR(VLOOKUP(C1574,Tidligere_henvendelser!A:B,2,FALSE),\"\")","v":""}]
[{"$f":"ReplaceNumbers(C1575)","v":"Henriettevej"},{"$f":"_xlfn.NUMBERVALUE(FindNumbers(C1575))","v":6},"Henriettevej 6, 2. tv","2920 Charlottenlund",4995000,"2021-10-31","Alm. Salg",48028,3,"Ejerlejlighed",104,1992,{"$f":"IF(ISBLANK(VLOOKUP(A1575,Veje!A:B,2,FALSE)),INDEX(Veje!$D$2:$RT$652,MATCH(A1575,Veje!$A$2:$A$652,0),MATCH(B1575,Veje!$D$1:$RT$1,0)),VLOOKUP(A1575,Veje!A:B,2,FALSE))","v":"OCG"},{"$f":"IFERROR(VLOOKUP(C1575,Medlemmer!A:C,3,FALSE),\"\")","v":""},{"$f":"IFERROR(VLOOKUP(C1575,Medlemmer!A:C,2,FALSE),\"\")","v":""},{"$f":"IFERROR(VLOOKUP(C1575,Tidligere_henvendelser!A:B,2,FALSE),\"\")","v":""}]
[{"$f":"ReplaceNumbers(C1576)","v":"Fuglegårdsvænget"},{"$f":"_xlfn.NUMBERVALUE(FindNumbers(C1576))","v":2},"Fuglegårdsvænget 2E","2820 Gentofte",4125000,"2021-10-31","Alm. Salg",45833,4,"Rækkehus",90,1942,{"$f":"IF(ISBLANK(VLOOKUP(A1576,Veje!A:B,2,FALSE)),INDEX(Veje!$D$2:$RT$652,MATCH(A1576,Veje!$A$2:$A$652,0),MATCH(B1576,Veje!$D$1:$RT$1,0)),VLOOKUP(A1576,Veje!A:B,2,FALSE))","v":"GSG"},{"$f":"IFERROR(VLOOKUP(C1576,Medlemmer!A:C,3,FALSE),\"\")","v":""},{"$f":"IFERROR(VLOOKUP(C1576,Medlemmer!A:C,2,FALSE),\"\")","v":""},{"$f":"IFERROR(VLOOKUP(C1576,Tidligere_henvendelser!A:B,2,FALSE),\"\")","v":""}]
[{"$f":"ReplaceNumbers(C1577)","v":"Ellebækvej"},{"$f":"_xlfn.NUMBERVALUE(FindNumbers(C1577))","v":72},"Ellebækvej 72, st. th","2820 Gentofte",950000,"2021-10-31","Fam. Salg",17272,2,"Ejerlejlighed",55,1956,{"$f":"IF(ISBLANK(VLOOKUP(A1577,Veje!A:B,2,FALSE)),INDEX(Veje!$D$2:$RT$652,MATCH(A1577,Veje!$A$2:$A$652,0),MATCH(B1577,Veje!$D$1:$RT$1,0)),VLOOKUP(A1577,Veje!A:B,2,FALSE))","v":"GSG"},{"$f":"IFERROR(VLOOKUP(C1577,Medlemmer!A:C,3,FALSE),\"\")","v":""},{"$f":"IFERROR(VLOOKUP(C1577,Medlemmer!A:C,2,FALSE),\"\")","v":""},{"$f":"IFERROR(VLOOKUP(C1577,Tidligere_henvendelser!A:B,2,FALSE),\"\")","v":""}]
[{"$f":"ReplaceNumbers(C1578)","v":"Dalstrøget"},{"$f":"_xlfn.NUMBERVALUE(FindNumbers(C1578))","v":108},"Dalstrøget 108, 2. tv","2870 Dyssegård ",3560000,"2021-10-31","Alm. Salg",36701,3,"Ejerlejlighed",97,1959,{"$f":"IF(ISBLANK(VLOOKUP(A1578,Veje!A:B,2,FALSE)),INDEX(Veje!$D$2:$RT$652,MATCH(A1578,Veje!$A$2:$A$652,0),MATCH(B1578,Veje!$D$1:$RT$1,0)),VLOOKUP(A1578,Veje!A:B,2,FALSE))","v":"DY"},{"$f":"IFERROR(VLOOKUP(C1578,Medlemmer!A:C,3,FALSE),\"\")","v":""},{"$f":"IFERROR(VLOOKUP(C1578,Medlemmer!A:C,2,FALSE),\"\")","v":""},{"$f":"IFERROR(VLOOKUP(C1578,Tidligere_henvendelser!A:B,2,FALSE),\"\")","v":""}]
[{"$f":"ReplaceNumbers(C1579)","v":"Klampenborgvej"},{"$f":"_xlfn.NUMBERVALUE(FindNumbers(C1579))","v":10},"Klampenborgvej 10D","2930 Klampenborg",8500000,"2021-11-01","Alm. Salg",70247,4,"Rækkehus",121,1978,{"$f":"IF(ISBLANK(VLOOKUP(A1579,Veje!A:B,2,FALSE)),INDEX(Veje!$D$2:$RT$652,MATCH(A1579,Veje!$A$2:$A$652,0),MATCH(B1579,Veje!$D$1:$RT$1,0)),VLOOKUP(A1579,Veje!A:B,2,FALSE))","v":"SKGF"},{"$f":"IFERROR(VLOOKUP(C1579,Medlemmer!A:C,3,FALSE),\"\")","v":""},{"$f":"IFERROR(VLOOKUP(C1579,Medlemmer!A:C,2,FALSE),\"\")","v":""},{"$f":"IFERROR(VLOOKUP(C1579,Tidligere_henvendelser!A:B,2,FALSE),\"\")","v":""}]
[{"$f":"ReplaceNumbers(C1580)","v":"Ordrupvej"},{"$f":"_xlfn.NUMBERVALUE(FindNumbers(C1580))","v":71},"Ordrupvej 71, 3. tv","2920 Charlottenlund",2425000,"2021-11-01","Alm. Salg",39754,2,"Ejerlejlighed",61,1937,{"$f":"IF(ISBLANK(VLOOKUP(A1580,Veje!A:B,2,FALSE)),INDEX(Veje!$D$2:$RT$652,MATCH(A1580,Veje!$A$2:$A$652,0),MATCH(B1580,Veje!$D$1:$RT$1,0)),VLOOKUP(A1580,Veje!A:B,2,FALSE))","v":"OCG"},{"$f":"IFERROR(VLOOKUP(C1580,Medlemmer!A:C,3,FALSE),\"\")","v":""},{"$f":"IFERROR(VLOOKUP(C1580,Medlemmer!A:C,2,FALSE),\"\")","v":""},{"$f":"IFERROR(VLOOKUP(C1580,Tidligere_henvendelser!A:B,2,FALSE),\"\")","v":""}]
[{"$f":"ReplaceNumbers(C1581)","v":"Heslegårdsvej"},{"$f":"_xlfn.NUMBERVALUE(FindNumbers(C1581))","v":6},"Heslegårdsvej 6, 3. 1","2900 Hellerup",3345000,"2021-11-01","Alm. Salg",44600,2,"Ejerlejlighed",75,1992,{"$f":"IF(ISBLANK(VLOOKUP(A1581,Veje!A:B,2,FALSE)),INDEX(Veje!$D$2:$RT$652,MATCH(A1581,Veje!$A$2:$A$652,0),MATCH(B1581,Veje!$D$1:$RT$1,0)),VLOOKUP(A1581,Veje!A:B,2,FALSE))","v":"GSG"},{"$f":"IFERROR(VLOOKUP(C1581,Medlemmer!A:C,3,FALSE),\"\")","v":""},{"$f":"IFERROR(VLOOKUP(C1581,Medlemmer!A:C,2,FALSE),\"\")","v":""},{"$f":"IFERROR(VLOOKUP(C1581,Tidligere_henvendelser!A:B,2,FALSE),\"\")","v":""}]
[{"$f":"ReplaceNumbers(C1582)","v":"Tranegårdsvej"},{"$f":"_xlfn.NUMBERVALUE(FindNumbers(C1582))","v":72},"Tranegårdsvej 72A, st. tv","2900 Hellerup",31000000,"2021-11-01","Alm. Salg",508196,2,"Ejerlejlighed",61,1934,{"$f":"IF(ISBLANK(VLOOKUP(A1582,Veje!A:B,2,FALSE)),INDEX(Veje!$D$2:$RT$652,MATCH(A1582,Veje!$A$2:$A$652,0),MATCH(B1582,Veje!$D$1:$RT$1,0)),VLOOKUP(A1582,Veje!A:B,2,FALSE))","v":"HMG"},{"$f":"IFERROR(VLOOKUP(C1582,Medlemmer!A:C,3,FALSE),\"\")","v":""},{"$f":"IFERROR(VLOOKUP(C1582,Medlemmer!A:C,2,FALSE),\"\")","v":""},{"$f":"IFERROR(VLOOKUP(C1582,Tidligere_henvendelser!A:B,2,FALSE),\"\")","v":""}]
[{"$f":"ReplaceNumbers(C1583)","v":"Tranegårdsvej"},{"$f":"_xlfn.NUMBERVALUE(FindNumbers(C1583))","v":72},"Tranegårdsvej 72A, st. th","2900 Hellerup",31000000,"2021-11-01","Alm. Salg",534482,2,"Ejerlejlighed",58,1934,{"$f":"IF(ISBLANK(VLOOKUP(A1583,Veje!A:B,2,FALSE)),INDEX(Veje!$D$2:$RT$652,MATCH(A1583,Veje!$A$2:$A$652,0),MATCH(B1583,Veje!$D$1:$RT$1,0)),VLOOKUP(A1583,Veje!A:B,2,FALSE))","v":"HMG"},{"$f":"IFERROR(VLOOKUP(C1583,Medlemmer!A:C,3,FALSE),\"\")","v":""},{"$f":"IFERROR(VLOOKUP(C1583,Medlemmer!A:C,2,FALSE),\"\")","v":""},{"$f":"IFERROR(VLOOKUP(C1583,Tidligere_henvendelser!A:B,2,FALSE),\"\")","v":""}]
[{"$f":"ReplaceNumbers(C1584)","v":"Tranegårdsvej"},{"$f":"_xlfn.NUMBERVALUE(FindNumbers(C1584))","v":72},"Tranegårdsvej 72A, 1. th","2900 Hellerup",31000000,"2021-11-01","Alm. Salg",534482,2,"Ejerlejlighed",58,1934,{"$f":"IF(ISBLANK(VLOOKUP(A1584,Veje!A:B,2,FALSE)),INDEX(Veje!$D$2:$RT$652,MATCH(A1584,Veje!$A$2:$A$652,0),MATCH(B1584,Veje!$D$1:$RT$1,0)),VLOOKUP(A1584,Veje!A:B,2,FALSE))","v":"HMG"},{"$f":"IFERROR(VLOOKUP(C1584,Medlemmer!A:C,3,FALSE),\"\")","v":""},{"$f":"IFERROR(VLOOKUP(C1584,Medlemmer!A:C,2,FALSE),\"\")","v":""},{"$f":"IFERROR(VLOOKUP(C1584,Tidligere_henvendelser!A:B,2,FALSE),\"\")","v":""}]
[{"$f":"ReplaceNumbers(C1585)","v":"Tranegårdsvej"},{"$f":"_xlfn.NUMBERVALUE(FindNumbers(C1585))","v":72},"Tranegårdsvej 72A, 1. tv","2900 Hellerup",31000000,"2021-11-01","Alm. Salg",508196,2,"Ejerlejlighed",61,1934,{"$f":"IF(ISBLANK(VLOOKUP(A1585,Veje!A:B,2,FALSE)),INDEX(Veje!$D$2:$RT$652,MATCH(A1585,Veje!$A$2:$A$652,0),MATCH(B1585,Veje!$D$1:$RT$1,0)),VLOOKUP(A1585,Veje!A:B,2,FALSE))","v":"HMG"},{"$f":"IFERROR(VLOOKUP(C1585,Medlemmer!A:C,3,FALSE),\"\")","v":""},{"$f":"IFERROR(VLOOKUP(C1585,Medlemmer!A:C,2,FALSE),\"\")","v":""},{"$f":"IFERROR(VLOOKUP(C1585,Tidligere_henvendelser!A:B,2,FALSE),\"\")","v":""}]
[{"$f":"ReplaceNumbers(C1586)","v":"Tranegårdsvej"},{"$f":"_xlfn.NUMBERVALUE(FindNumbers(C1586))","v":72},"Tranegårdsvej 72, st. 1","2900 Hellerup",31000000,"2021-11-01","Alm. Salg",659574,2,"Ejerlejlighed",47,1934,{"$f":"IF(ISBLANK(VLOOKUP(A1586,Veje!A:B,2,FALSE)),INDEX(Veje!$D$2:$RT$652,MATCH(A1586,Veje!$A$2:$A$652,0),MATCH(B1586,Veje!$D$1:$RT$1,0)),VLOOKUP(A1586,Veje!A:B,2,FALSE))","v":"HMG"},{"$f":"IFERROR(VLOOKUP(C1586,Medlemmer!A:C,3,FALSE),\"\")","v":""},{"$f":"IFERROR(VLOOKUP(C1586,Medlemmer!A:C,2,FALSE),\"\")","v":""},{"$f":"IFERROR(VLOOKUP(C1586,Tidligere_henvendelser!A:B,2,FALSE),\"\")","v":""}]
[{"$f":"ReplaceNumbers(C1587)","v":"Tranegårdsvej"},{"$f":"_xlfn.NUMBERVALUE(FindNumbers(C1587))","v":72},"Tranegårdsvej 72, st. 2","2900 Hellerup",31000000,"2021-11-01","Alm. Salg",252032,3,"Ejerlejlighed",123,1934,{"$f":"IF(ISBLANK(VLOOKUP(A1587,Veje!A:B,2,FALSE)),INDEX(Veje!$D$2:$RT$652,MATCH(A1587,Veje!$A$2:$A$652,0),MATCH(B1587,Veje!$D$1:$RT$1,0)),VLOOKUP(A1587,Veje!A:B,2,FALSE))","v":"HMG"},{"$f":"IFERROR(VLOOKUP(C1587,Medlemmer!A:C,3,FALSE),\"\")","v":""},{"$f":"IFERROR(VLOOKUP(C1587,Medlemmer!A:C,2,FALSE),\"\")","v":""},{"$f":"IFERROR(VLOOKUP(C1587,Tidligere_henvendelser!A:B,2,FALSE),\"\")","v":""}]
[{"$f":"ReplaceNumbers(C1588)","v":"Tranegårdsvej"},{"$f":"_xlfn.NUMBERVALUE(FindNumbers(C1588))","v":72},"Tranegårdsvej 72A, 2. th","2900 Hellerup",31000000,"2021-11-01","Alm. Salg",298076,4,"Ejerlejlighed",104,1934,{"$f":"IF(ISBLANK(VLOOKUP(A1588,Veje!A:B,2,FALSE)),INDEX(Veje!$D$2:$RT$652,MATCH(A1588,Veje!$A$2:$A$652,0),MATCH(B1588,Veje!$D$1:$RT$1,0)),VLOOKUP(A1588,Veje!A:B,2,FALSE))","v":"HMG"},{"$f":"IFERROR(VLOOKUP(C1588,Medlemmer!A:C,3,FALSE),\"\")","v":""},{"$f":"IFERROR(VLOOKUP(C1588,Medlemmer!A:C,2,FALSE),\"\")","v":""},{"$f":"IFERROR(VLOOKUP(C1588,Tidligere_henvendelser!A:B,2,FALSE),\"\")","v":""}]
[{"$f":"ReplaceNumbers(C1589)","v":"Tranegårdsvej"},{"$f":"_xlfn.NUMBERVALUE(FindNumbers(C1589))","v":72},"Tranegårdsvej 72A, 2. tv","2900 Hellerup",31000000,"2021-11-01","Alm. Salg",500000,2,"Ejerlejlighed",62,1934,{"$f":"IF(ISBLANK(VLOOKUP(A1589,Veje!A:B,2,FALSE)),INDEX(Veje!$D$2:$RT$652,MATCH(A1589,Veje!$A$2:$A$652,0),MATCH(B1589,Veje!$D$1:$RT$1,0)),VLOOKUP(A1589,Veje!A:B,2,FALSE))","v":"HMG"},{"$f":"IFERROR(VLOOKUP(C1589,Medlemmer!A:C,3,FALSE),\"\")","v":""},{"$f":"IFERROR(VLOOKUP(C1589,Medlemmer!A:C,2,FALSE),\"\")","v":""},{"$f":"IFERROR(VLOOKUP(C1589,Tidligere_henvendelser!A:B,2,FALSE),\"\")","v":""}]
[{"$f":"ReplaceNumbers(C1590)","v":"Tranegårdsvej"},{"$f":"_xlfn.NUMBERVALUE(FindNumbers(C1590))","v":72},"Tranegårdsvej 72, 1. 1","2900 Hellerup",31000000,"2021-11-01","Alm. Salg",352272,3,"Ejerlejlighed",88,1934,{"$f":"IF(ISBLANK(VLOOKUP(A1590,Veje!A:B,2,FALSE)),INDEX(Veje!$D$2:$RT$652,MATCH(A1590,Veje!$A$2:$A$652,0),MATCH(B1590,Veje!$D$1:$RT$1,0)),VLOOKUP(A1590,Veje!A:B,2,FALSE))","v":"HMG"},{"$f":"IFERROR(VLOOKUP(C1590,Medlemmer!A:C,3,FALSE),\"\")","v":""},{"$f":"IFERROR(VLOOKUP(C1590,Medlemmer!A:C,2,FALSE),\"\")","v":""},{"$f":"IFERROR(VLOOKUP(C1590,Tidligere_henvendelser!A:B,2,FALSE),\"\")","v":""}]
[{"$f":"ReplaceNumbers(C1591)","v":"Tranegårdsvej"},{"$f":"_xlfn.NUMBERVALUE(FindNumbers(C1591))","v":72},"Tranegårdsvej 72, 1. 4","2900 Hellerup",31000000,"2021-11-01","Alm. Salg",340659,4,"Ejerlejlighed",91,1934,{"$f":"IF(ISBLANK(VLOOKUP(A1591,Veje!A:B,2,FALSE)),INDEX(Veje!$D$2:$RT$652,MATCH(A1591,Veje!$A$2:$A$652,0),MATCH(B1591,Veje!$D$1:$RT$1,0)),VLOOKUP(A1591,Veje!A:B,2,FALSE))","v":"HMG"},{"$f":"IFERROR(VLOOKUP(C1591,Medlemmer!A:C,3,FALSE),\"\")","v":""},{"$f":"IFERROR(VLOOKUP(C1591,Medlemmer!A:C,2,FALSE),\"\")","v":""},{"$f":"IFERROR(VLOOKUP(C1591,Tidligere_henvendelser!A:B,2,FALSE),\"\")","v":""}]
[{"$f":"ReplaceNumbers(C1592)","v":"Tranegårdsvej"},{"$f":"_xlfn.NUMBERVALUE(FindNumbers(C1592))","v":72},"Tranegårdsvej 72, 2. 1","2900 Hellerup",31000000,"2021-11-01","Alm. Salg",436619,2,"Ejerlejlighed",71,1934,{"$f":"IF(ISBLANK(VLOOKUP(A1592,Veje!A:B,2,FALSE)),INDEX(Veje!$D$2:$RT$652,MATCH(A1592,Veje!$A$2:$A$652,0),MATCH(B1592,Veje!$D$1:$RT$1,0)),VLOOKUP(A1592,Veje!A:B,2,FALSE))","v":"HMG"},{"$f":"IFERROR(VLOOKUP(C1592,Medlemmer!A:C,3,FALSE),\"\")","v":""},{"$f":"IFERROR(VLOOKUP(C1592,Medlemmer!A:C,2,FALSE),\"\")","v":""},{"$f":"IFERROR(VLOOKUP(C1592,Tidligere_henvendelser!A:B,2,FALSE),\"\")","v":""}]
[{"$f":"ReplaceNumbers(C1593)","v":"Tranegårdsvej"},{"$f":"_xlfn.NUMBERVALUE(FindNumbers(C1593))","v":72},"Tranegårdsvej 72, 2. 2","2900 Hellerup",31000000,"2021-11-01","Alm. Salg",756097,1,"Ejerlejlighed",41,1934,{"$f":"IF(ISBLANK(VLOOKUP(A1593,Veje!A:B,2,FALSE)),INDEX(Veje!$D$2:$RT$652,MATCH(A1593,Veje!$A$2:$A$652,0),MATCH(B1593,Veje!$D$1:$RT$1,0)),VLOOKUP(A1593,Veje!A:B,2,FALSE))","v":"HMG"},{"$f":"IFERROR(VLOOKUP(C1593,Medlemmer!A:C,3,FALSE),\"\")","v":""},{"$f":"IFERROR(VLOOKUP(C1593,Medlemmer!A:C,2,FALSE),\"\")","v":""},{"$f":"IFERROR(VLOOKUP(C1593,Tidligere_henvendelser!A:B,2,FALSE),\"\")","v":""}]
[{"$f":"ReplaceNumbers(C1594)","v":"Tranegårdsvej"},{"$f":"_xlfn.NUMBERVALUE(FindNumbers(C1594))","v":72},"Tranegårdsvej 72, 2. 4","2900 Hellerup",31000000,"2021-11-01","Alm. Salg",756097,1,"Ejerlejlighed",41,1934,{"$f":"IF(ISBLANK(VLOOKUP(A1594,Veje!A:B,2,FALSE)),INDEX(Veje!$D$2:$RT$652,MATCH(A1594,Veje!$A$2:$A$652,0),MATCH(B1594,Veje!$D$1:$RT$1,0)),VLOOKUP(A1594,Veje!A:B,2,FALSE))","v":"HMG"},{"$f":"IFERROR(VLOOKUP(C1594,Medlemmer!A:C,3,FALSE),\"\")","v":""},{"$f":"IFERROR(VLOOKUP(C1594,Medlemmer!A:C,2,FALSE),\"\")","v":""},{"$f":"IFERROR(VLOOKUP(C1594,Tidligere_henvendelser!A:B,2,FALSE),\"\")","v":""}]
[{"$f":"ReplaceNumbers(C1595)","v":"Tranegårdsvej"},{"$f":"_xlfn.NUMBERVALUE(FindNumbers(C1595))","v":72},"Tranegårdsvej 72, 2. 3","2900 Hellerup",31000000,"2021-11-01","Alm. Salg",607843,2,"Ejerlejlighed",51,1934,{"$f":"IF(ISBLANK(VLOOKUP(A1595,Veje!A:B,2,FALSE)),INDEX(Veje!$D$2:$RT$652,MATCH(A1595,Veje!$A$2:$A$652,0),MATCH(B1595,Veje!$D$1:$RT$1,0)),VLOOKUP(A1595,Veje!A:B,2,FALSE))","v":"HMG"},{"$f":"IFERROR(VLOOKUP(C1595,Medlemmer!A:C,3,FALSE),\"\")","v":""},{"$f":"IFERROR(VLOOKUP(C1595,Medlemmer!A:C,2,FALSE),\"\")","v":""},{"$f":"IFERROR(VLOOKUP(C1595,Tidligere_henvendelser!A:B,2,FALSE),\"\")","v":""}]
[{"$f":"ReplaceNumbers(C1596)","v":"Granhøjen"},{"$f":"_xlfn.NUMBERVALUE(FindNumbers(C1596))","v":9},"Granhøjen 9B","2900 Hellerup",7600000,"2021-11-01","Alm. Salg",48717,5,"Rækkehus",156,1978,{"$f":"IF(ISBLANK(VLOOKUP(A1596,Veje!A:B,2,FALSE)),INDEX(Veje!$D$2:$RT$652,MATCH(A1596,Veje!$A$2:$A$652,0),MATCH(B1596,Veje!$D$1:$RT$1,0)),VLOOKUP(A1596,Veje!A:B,2,FALSE))","v":"GSG"},{"$f":"IFERROR(VLOOKUP(C1596,Medlemmer!A:C,3,FALSE),\"\")","v":""},{"$f":"IFERROR(VLOOKUP(C1596,Medlemmer!A:C,2,FALSE),\"\")","v":""},{"$f":"IFERROR(VLOOKUP(C1596,Tidligere_henvendelser!A:B,2,FALSE),\"\")","v":""}]
[{"$f":"ReplaceNumbers(C1597)","v":"Tranegårdsvej"},{"$f":"_xlfn.NUMBERVALUE(FindNumbers(C1597))","v":72},"Tranegårdsvej 72, st. 4","2900 Hellerup",31000000,"2021-11-01","Alm. Salg",340659,2,"Ejerlejlighed",91,1934,{"$f":"IF(ISBLANK(VLOOKUP(A1597,Veje!A:B,2,FALSE)),INDEX(Veje!$D$2:$RT$652,MATCH(A1597,Veje!$A$2:$A$652,0),MATCH(B1597,Veje!$D$1:$RT$1,0)),VLOOKUP(A1597,Veje!A:B,2,FALSE))","v":"HMG"},{"$f":"IFERROR(VLOOKUP(C1597,Medlemmer!A:C,3,FALSE),\"\")","v":""},{"$f":"IFERROR(VLOOKUP(C1597,Medlemmer!A:C,2,FALSE),\"\")","v":""},{"$f":"IFERROR(VLOOKUP(C1597,Tidligere_henvendelser!A:B,2,FALSE),\"\")","v":""}]
[{"$f":"ReplaceNumbers(C1598)","v":"Eivindsvej"},{"$f":"_xlfn.NUMBERVALUE(FindNumbers(C1598))","v":18},"Eivindsvej 18","2920 Charlottenlund",12800000,"2021-11-02","Alm. Salg",79503,6,"Villa",161,1913,{"$f":"IF(ISBLANK(VLOOKUP(A1598,Veje!A:B,2,FALSE)),INDEX(Veje!$D$2:$RT$652,MATCH(A1598,Veje!$A$2:$A$652,0),MATCH(B1598,Veje!$D$1:$RT$1,0)),VLOOKUP(A1598,Veje!A:B,2,FALSE))","v":"HMG"},{"$f":"IFERROR(VLOOKUP(C1598,Medlemmer!A:C,3,FALSE),\"\")","v":""},{"$f":"IFERROR(VLOOKUP(C1598,Medlemmer!A:C,2,FALSE),\"\")","v":""},{"$f":"IFERROR(VLOOKUP(C1598,Tidligere_henvendelser!A:B,2,FALSE),\"\")","v":""}]
[{"$f":"ReplaceNumbers(C1599)","v":"Engbakkevej"},{"$f":"_xlfn.NUMBERVALUE(FindNumbers(C1599))","v":3},"Engbakkevej 3C","2920 Charlottenlund",11950000,"2021-11-02","Alm. Salg",77096,6,"Villa",155,1963,{"$f":"IF(ISBLANK(VLOOKUP(A1599,Veje!A:B,2,FALSE)),INDEX(Veje!$D$2:$RT$652,MATCH(A1599,Veje!$A$2:$A$652,0),MATCH(B1599,Veje!$D$1:$RT$1,0)),VLOOKUP(A1599,Veje!A:B,2,FALSE))","v":"BJGF"},{"$f":"IFERROR(VLOOKUP(C1599,Medlemmer!A:C,3,FALSE),\"\")","v":""},{"$f":"IFERROR(VLOOKUP(C1599,Medlemmer!A:C,2,FALSE),\"\")","v":""},{"$f":"IFERROR(VLOOKUP(C1599,Tidligere_henvendelser!A:B,2,FALSE),\"\")","v":""}]
[{"$f":"ReplaceNumbers(C1600)","v":"Mindevej"},{"$f":"_xlfn.NUMBERVALUE(FindNumbers(C1600))","v":54},"Mindevej 54","2870 Dyssegård ",13250000,"2021-11-02","Alm. Salg",64950,6,"Villa",204,2019,{"$f":"IF(ISBLANK(VLOOKUP(A1600,Veje!A:B,2,FALSE)),INDEX(Veje!$D$2:$RT$652,MATCH(A1600,Veje!$A$2:$A$652,0),MATCH(B1600,Veje!$D$1:$RT$1,0)),VLOOKUP(A1600,Veje!A:B,2,FALSE))","v":"DY"},{"$f":"IFERROR(VLOOKUP(C1600,Medlemmer!A:C,3,FALSE),\"\")","v":""},{"$f":"IFERROR(VLOOKUP(C1600,Medlemmer!A:C,2,FALSE),\"\")","v":""},{"$f":"IFERROR(VLOOKUP(C1600,Tidligere_henvendelser!A:B,2,FALSE),\"\")","v":""}]
[{"$f":"ReplaceNumbers(C1601)","v":"Søndersøvej"},{"$f":"_xlfn.NUMBERVALUE(FindNumbers(C1601))","v":31},"Søndersøvej 31, st. tv","2820 Gentofte",2800000,"2021-11-02","Alm. Salg",35897,3,"Ejerlejlighed",78,1933,{"$f":"IF(ISBLANK(VLOOKUP(A1601,Veje!A:B,2,FALSE)),INDEX(Veje!$D$2:$RT$652,MATCH(A1601,Veje!$A$2:$A$652,0),MATCH(B1601,Veje!$D$1:$RT$1,0)),VLOOKUP(A1601,Veje!A:B,2,FALSE))","v":"BJGF"},{"$f":"IFERROR(VLOOKUP(C1601,Medlemmer!A:C,3,FALSE),\"\")","v":""},{"$f":"IFERROR(VLOOKUP(C1601,Medlemmer!A:C,2,FALSE),\"\")","v":""},{"$f":"IFERROR(VLOOKUP(C1601,Tidligere_henvendelser!A:B,2,FALSE),\"\")","v":""}]
[{"$f":"ReplaceNumbers(C1602)","v":"Prinsesse Alexandrines Alle"},{"$f":"_xlfn.NUMBERVALUE(FindNumbers(C1602))","v":2},"Prinsesse Alexandrines Alle 2","2920 Charlottenlund",15425000,"2021-11-02","Alm. Salg",63217,7,"Villa",244,1895,{"$f":"IF(ISBLANK(VLOOKUP(A1602,Veje!A:B,2,FALSE)),INDEX(Veje!$D$2:$RT$652,MATCH(A1602,Veje!$A$2:$A$652,0),MATCH(B1602,Veje!$D$1:$RT$1,0)),VLOOKUP(A1602,Veje!A:B,2,FALSE))","v":"OCG"},{"$f":"IFERROR(VLOOKUP(C1602,Medlemmer!A:C,3,FALSE),\"\")","v":""},{"$f":"IFERROR(VLOOKUP(C1602,Medlemmer!A:C,2,FALSE),\"\")","v":""},{"$f":"IFERROR(VLOOKUP(C1602,Tidligere_henvendelser!A:B,2,FALSE),\"\")","v":""}]
[{"$f":"ReplaceNumbers(C1603)","v":"Jægersborg Alle"},{"$f":"_xlfn.NUMBERVALUE(FindNumbers(C1603))","v":247},"Jægersborg Alle 247, 1. mf","2820 Gentofte",782000,"2021-11-03","Fam. Salg",14481,1,"Ejerlejlighed",54,1957,{"$f":"IF(ISBLANK(VLOOKUP(A1603,Veje!A:B,2,FALSE)),INDEX(Veje!$D$2:$RT$652,MATCH(A1603,Veje!$A$2:$A$652,0),MATCH(B1603,Veje!$D$1:$RT$1,0)),VLOOKUP(A1603,Veje!A:B,2,FALSE))","v":"BJGF"},{"$f":"IFERROR(VLOOKUP(C1603,Medlemmer!A:C,3,FALSE),\"\")","v":""},{"$f":"IFERROR(VLOOKUP(C1603,Medlemmer!A:C,2,FALSE),\"\")","v":""},{"$f":"IFERROR(VLOOKUP(C1603,Tidligere_henvendelser!A:B,2,FALSE),\"\")","v":""}]
[{"$f":"ReplaceNumbers(C1604)","v":"Søgårdsvej"},{"$f":"_xlfn.NUMBERVALUE(FindNumbers(C1604))","v":5},"Søgårdsvej 5B, st. th","2820 Gentofte",3675000,"2021-11-03","Alm. Salg",45937,3,"Ejerlejlighed",80,1957,{"$f":"IF(ISBLANK(VLOOKUP(A1604,Veje!A:B,2,FALSE)),INDEX(Veje!$D$2:$RT$652,MATCH(A1604,Veje!$A$2:$A$652,0),MATCH(B1604,Veje!$D$1:$RT$1,0)),VLOOKUP(A1604,Veje!A:B,2,FALSE))","v":"GSG"},{"$f":"IFERROR(VLOOKUP(C1604,Medlemmer!A:C,3,FALSE),\"\")","v":""},{"$f":"IFERROR(VLOOKUP(C1604,Medlemmer!A:C,2,FALSE),\"\")","v":""},{"$f":"IFERROR(VLOOKUP(C1604,Tidligere_henvendelser!A:B,2,FALSE),\"\")","v":""}]
[{"$f":"ReplaceNumbers(C1605)","v":"Ordrupvej"},{"$f":"_xlfn.NUMBERVALUE(FindNumbers(C1605))","v":98},"Ordrupvej 98, 2. tv","2920 Charlottenlund",2000000,"2021-11-03","Fam. Salg",34482,2,"Ejerlejlighed",58,1934,{"$f":"IF(ISBLANK(VLOOKUP(A1605,Veje!A:B,2,FALSE)),INDEX(Veje!$D$2:$RT$652,MATCH(A1605,Veje!$A$2:$A$652,0),MATCH(B1605,Veje!$D$1:$RT$1,0)),VLOOKUP(A1605,Veje!A:B,2,FALSE))","v":"OCG"},{"$f":"IFERROR(VLOOKUP(C1605,Medlemmer!A:C,3,FALSE),\"\")","v":""},{"$f":"IFERROR(VLOOKUP(C1605,Medlemmer!A:C,2,FALSE),\"\")","v":""},{"$f":"IFERROR(VLOOKUP(C1605,Tidligere_henvendelser!A:B,2,FALSE),\"\")","v":""}]
[{"$f":"ReplaceNumbers(C1606)","v":"Ordrupvej"},{"$f":"_xlfn.NUMBERVALUE(FindNumbers(C1606))","v":83},"Ordrupvej 83, 2. tv","2920 Charlottenlund",2300000,"2021-11-04","Alm. Salg",34848,2,"Ejerlejlighed",66,1934,{"$f":"IF(ISBLANK(VLOOKUP(A1606,Veje!A:B,2,FALSE)),INDEX(Veje!$D$2:$RT$652,MATCH(A1606,Veje!$A$2:$A$652,0),MATCH(B1606,Veje!$D$1:$RT$1,0)),VLOOKUP(A1606,Veje!A:B,2,FALSE))","v":"OCG"},{"$f":"IFERROR(VLOOKUP(C1606,Medlemmer!A:C,3,FALSE),\"\")","v":""},{"$f":"IFERROR(VLOOKUP(C1606,Medlemmer!A:C,2,FALSE),\"\")","v":""},{"$f":"IFERROR(VLOOKUP(C1606,Tidligere_henvendelser!A:B,2,FALSE),\"\")","v":""}]
[{"$f":"ReplaceNumbers(C1607)","v":"Kathrinevej"},{"$f":"_xlfn.NUMBERVALUE(FindNumbers(C1607))","v":14},"Kathrinevej 14","2900 Hellerup",19500000,"2021-11-04","Alm. Salg",103174,9,"Villa",189,1905,{"$f":"IF(ISBLANK(VLOOKUP(A1607,Veje!A:B,2,FALSE)),INDEX(Veje!$D$2:$RT$652,MATCH(A1607,Veje!$A$2:$A$652,0),MATCH(B1607,Veje!$D$1:$RT$1,0)),VLOOKUP(A1607,Veje!A:B,2,FALSE))","v":"HMG"},{"$f":"IFERROR(VLOOKUP(C1607,Medlemmer!A:C,3,FALSE),\"\")","v":""},{"$f":"IFERROR(VLOOKUP(C1607,Medlemmer!A:C,2,FALSE),\"\")","v":""},{"$f":"IFERROR(VLOOKUP(C1607,Tidligere_henvendelser!A:B,2,FALSE),\"\")","v":""}]
[{"$f":"ReplaceNumbers(C1608)","v":"Strandvejen"},{"$f":"_xlfn.NUMBERVALUE(FindNumbers(C1608))","v":256},"Strandvejen 256D","2920 Charlottenlund",4300000,"2021-11-04","Alm. Salg",113157,2,"Villa",38,1880,{"$f":"IF(ISBLANK(VLOOKUP(A1608,Veje!A:B,2,FALSE)),INDEX(Veje!$D$2:$RT$652,MATCH(A1608,Veje!$A$2:$A$652,0),MATCH(B1608,Veje!$D$1:$RT$1,0)),VLOOKUP(A1608,Veje!A:B,2,FALSE))","v":"Skovshoved By"},{"$f":"IFERROR(VLOOKUP(C1608,Medlemmer!A:C,3,FALSE),\"\")","v":""},{"$f":"IFERROR(VLOOKUP(C1608,Medlemmer!A:C,2,FALSE),\"\")","v":""},{"$f":"IFERROR(VLOOKUP(C1608,Tidligere_henvendelser!A:B,2,FALSE),\"\")","v":""}]
[{"$f":"ReplaceNumbers(C1609)","v":"Fuglegårdsvænget"},{"$f":"_xlfn.NUMBERVALUE(FindNumbers(C1609))","v":38},"Fuglegårdsvænget 38, st","2820 Gentofte",1400000,"2021-11-06","Alm. Salg",10370,4,"Ejerlejlighed",135,1936,{"$f":"IF(ISBLANK(VLOOKUP(A1609,Veje!A:B,2,FALSE)),INDEX(Veje!$D$2:$RT$652,MATCH(A1609,Veje!$A$2:$A$652,0),MATCH(B1609,Veje!$D$1:$RT$1,0)),VLOOKUP(A1609,Veje!A:B,2,FALSE))","v":"GSG"},{"$f":"IFERROR(VLOOKUP(C1609,Medlemmer!A:C,3,FALSE),\"\")","v":""},{"$f":"IFERROR(VLOOKUP(C1609,Medlemmer!A:C,2,FALSE),\"\")","v":""},{"$f":"IFERROR(VLOOKUP(C1609,Tidligere_henvendelser!A:B,2,FALSE),\"\")","v":""}]
[{"$f":"ReplaceNumbers(C1610)","v":"Strandvejen"},{"$f":"_xlfn.NUMBERVALUE(FindNumbers(C1610))","v":215},"Strandvejen 215, 1. th","2900 Hellerup",6995000,"2021-11-06","Alm. Salg",68578,4,"Ejerlejlighed",102,1934,{"$f":"IF(ISBLANK(VLOOKUP(A1610,Veje!A:B,2,FALSE)),INDEX(Veje!$D$2:$RT$652,MATCH(A1610,Veje!$A$2:$A$652,0),MATCH(B1610,Veje!$D$1:$RT$1,0)),VLOOKUP(A1610,Veje!A:B,2,FALSE))","v":"HMG"},{"$f":"IFERROR(VLOOKUP(C1610,Medlemmer!A:C,3,FALSE),\"\")","v":""},{"$f":"IFERROR(VLOOKUP(C1610,Medlemmer!A:C,2,FALSE),\"\")","v":""},{"$f":"IFERROR(VLOOKUP(C1610,Tidligere_henvendelser!A:B,2,FALSE),\"\")","v":""}]
[{"$f":"ReplaceNumbers(C1611)","v":"Slotsvej"},{"$f":"_xlfn.NUMBERVALUE(FindNumbers(C1611))","v":23},"Slotsvej 23","2920 Charlottenlund",18650000,"2021-11-06","Alm. Salg",111676,5,"Villa",167,1935,{"$f":"IF(ISBLANK(VLOOKUP(A1611,Veje!A:B,2,FALSE)),INDEX(Veje!$D$2:$RT$652,MATCH(A1611,Veje!$A$2:$A$652,0),MATCH(B1611,Veje!$D$1:$RT$1,0)),VLOOKUP(A1611,Veje!A:B,2,FALSE))","v":"BJGF"},{"$f":"IFERROR(VLOOKUP(C1611,Medlemmer!A:C,3,FALSE),\"\")","v":""},{"$f":"IFERROR(VLOOKUP(C1611,Medlemmer!A:C,2,FALSE),\"\")","v":""},{"$f":"IFERROR(VLOOKUP(C1611,Tidligere_henvendelser!A:B,2,FALSE),\"\")","v":""}]
[{"$f":"ReplaceNumbers(C1612)","v":"Brannersvej"},{"$f":"_xlfn.NUMBERVALUE(FindNumbers(C1612))","v":3},"Brannersvej 3, 2. tv","2920 Charlottenlund",2533333,"2021-11-07","Alm. Salg",32900,3,"Ejerlejlighed",77,1939,{"$f":"IF(ISBLANK(VLOOKUP(A1612,Veje!A:B,2,FALSE)),INDEX(Veje!$D$2:$RT$652,MATCH(A1612,Veje!$A$2:$A$652,0),MATCH(B1612,Veje!$D$1:$RT$1,0)),VLOOKUP(A1612,Veje!A:B,2,FALSE))","v":"OCG"},{"$f":"IFERROR(VLOOKUP(C1612,Medlemmer!A:C,3,FALSE),\"\")","v":""},{"$f":"IFERROR(VLOOKUP(C1612,Medlemmer!A:C,2,FALSE),\"\")","v":""},{"$f":"IFERROR(VLOOKUP(C1612,Tidligere_henvendelser!A:B,2,FALSE),\"\")","v":""}]
[{"$f":"ReplaceNumbers(C1613)","v":"Brannersvej"},{"$f":"_xlfn.NUMBERVALUE(FindNumbers(C1613))","v":3},"Brannersvej 3, 3. 3","2920 Charlottenlund",2533333,"2021-11-07","Alm. Salg",93827,1,"Ejerlejlighed",27,1939,{"$f":"IF(ISBLANK(VLOOKUP(A1613,Veje!A:B,2,FALSE)),INDEX(Veje!$D$2:$RT$652,MATCH(A1613,Veje!$A$2:$A$652,0),MATCH(B1613,Veje!$D$1:$RT$1,0)),VLOOKUP(A1613,Veje!A:B,2,FALSE))","v":"OCG"},{"$f":"IFERROR(VLOOKUP(C1613,Medlemmer!A:C,3,FALSE),\"\")","v":""},{"$f":"IFERROR(VLOOKUP(C1613,Medlemmer!A:C,2,FALSE),\"\")","v":""},{"$f":"IFERROR(VLOOKUP(C1613,Tidligere_henvendelser!A:B,2,FALSE),\"\")","v":""}]
[{"$f":"ReplaceNumbers(C1614)","v":"Strandvejen"},{"$f":"_xlfn.NUMBERVALUE(FindNumbers(C1614))","v":417},"Strandvejen 417A, 4","2930 Klampenborg",15500000,"2021-11-07","Alm. Salg",104729,5,"Ejerlejlighed",148,1959,{"$f":"IF(ISBLANK(VLOOKUP(A1614,Veje!A:B,2,FALSE)),INDEX(Veje!$D$2:$RT$652,MATCH(A1614,Veje!$A$2:$A$652,0),MATCH(B1614,Veje!$D$1:$RT$1,0)),VLOOKUP(A1614,Veje!A:B,2,FALSE))","v":"SKGF"},{"$f":"IFERROR(VLOOKUP(C1614,Medlemmer!A:C,3,FALSE),\"\")","v":""},{"$f":"IFERROR(VLOOKUP(C1614,Medlemmer!A:C,2,FALSE),\"\")","v":""},{"$f":"IFERROR(VLOOKUP(C1614,Tidligere_henvendelser!A:B,2,FALSE),\"\")","v":""}]
[{"$f":"ReplaceNumbers(C1615)","v":"Svanemøllevej"},{"$f":"_xlfn.NUMBERVALUE(FindNumbers(C1615))","v":100},"Svanemøllevej 100, 1","2900 Hellerup",10995000,"2021-11-07","Alm. Salg",91625,5,"Ejerlejlighed",120,1933,{"$f":"IF(ISBLANK(VLOOKUP(A1615,Veje!A:B,2,FALSE)),INDEX(Veje!$D$2:$RT$652,MATCH(A1615,Veje!$A$2:$A$652,0),MATCH(B1615,Veje!$D$1:$RT$1,0)),VLOOKUP(A1615,Veje!A:B,2,FALSE))","v":"HMG"},{"$f":"IFERROR(VLOOKUP(C1615,Medlemmer!A:C,3,FALSE),\"\")","v":""},{"$f":"IFERROR(VLOOKUP(C1615,Medlemmer!A:C,2,FALSE),\"\")","v":""},{"$f":"IFERROR(VLOOKUP(C1615,Tidligere_henvendelser!A:B,2,FALSE),\"\")","v":""}]
[{"$f":"ReplaceNumbers(C1616)","v":"Jensløvs Tværvej"},{"$f":"_xlfn.NUMBERVALUE(FindNumbers(C1616))","v":12},"Jensløvs Tværvej 12, 3. th","2920 Charlottenlund",2900000,"2021-11-07","Alm. Salg",44615,2,"Ejerlejlighed",65,1933,{"$f":"IF(ISBLANK(VLOOKUP(A1616,Veje!A:B,2,FALSE)),INDEX(Veje!$D$2:$RT$652,MATCH(A1616,Veje!$A$2:$A$652,0),MATCH(B1616,Veje!$D$1:$RT$1,0)),VLOOKUP(A1616,Veje!A:B,2,FALSE))","v":"OCG"},{"$f":"IFERROR(VLOOKUP(C1616,Medlemmer!A:C,3,FALSE),\"\")","v":""},{"$f":"IFERROR(VLOOKUP(C1616,Medlemmer!A:C,2,FALSE),\"\")","v":""},{"$f":"IFERROR(VLOOKUP(C1616,Tidligere_henvendelser!A:B,2,FALSE),\"\")","v":""}]
[{"$f":"ReplaceNumbers(C1617)","v":"Ordrupvej"},{"$f":"_xlfn.NUMBERVALUE(FindNumbers(C1617))","v":67},"Ordrupvej 67B, 2. th","2920 Charlottenlund",2100000,"2021-11-08","Alm. Salg",38888,2,"Ejerlejlighed",54,1938,{"$f":"IF(ISBLANK(VLOOKUP(A1617,Veje!A:B,2,FALSE)),INDEX(Veje!$D$2:$RT$652,MATCH(A1617,Veje!$A$2:$A$652,0),MATCH(B1617,Veje!$D$1:$RT$1,0)),VLOOKUP(A1617,Veje!A:B,2,FALSE))","v":"OCG"},{"$f":"IFERROR(VLOOKUP(C1617,Medlemmer!A:C,3,FALSE),\"\")","v":""},{"$f":"IFERROR(VLOOKUP(C1617,Medlemmer!A:C,2,FALSE),\"\")","v":""},{"$f":"IFERROR(VLOOKUP(C1617,Tidligere_henvendelser!A:B,2,FALSE),\"\")","v":""}]
[{"$f":"ReplaceNumbers(C1618)","v":"Adolphsvej"},{"$f":"_xlfn.NUMBERVALUE(FindNumbers(C1618))","v":17},"Adolphsvej 17","2820 Gentofte",11500000,"2021-11-08","Alm. Salg",73717,6,"Villa",156,1912,{"$f":"IF(ISBLANK(VLOOKUP(A1618,Veje!A:B,2,FALSE)),INDEX(Veje!$D$2:$RT$652,MATCH(A1618,Veje!$A$2:$A$652,0),MATCH(B1618,Veje!$D$1:$RT$1,0)),VLOOKUP(A1618,Veje!A:B,2,FALSE))","v":"GSG"},{"$f":"IFERROR(VLOOKUP(C1618,Medlemmer!A:C,3,FALSE),\"\")","v":""},{"$f":"IFERROR(VLOOKUP(C1618,Medlemmer!A:C,2,FALSE),\"\")","v":""},{"$f":"IFERROR(VLOOKUP(C1618,Tidligere_henvendelser!A:B,2,FALSE),\"\")","v":""}]
[{"$f":"ReplaceNumbers(C1619)","v":"Vangede Bygade"},{"$f":"_xlfn.NUMBERVALUE(FindNumbers(C1619))","v":103},"Vangede Bygade 103, 1. tv","2820 Gentofte",2250000,"2021-11-08","Alm. Salg",36290,2,"Ejerlejlighed",62,1935,{"$f":"IF(ISBLANK(VLOOKUP(A1619,Veje!A:B,2,FALSE)),INDEX(Veje!$D$2:$RT$652,MATCH(A1619,Veje!$A$2:$A$652,0),MATCH(B1619,Veje!$D$1:$RT$1,0)),VLOOKUP(A1619,Veje!A:B,2,FALSE))","v":"GSG"},{"$f":"IFERROR(VLOOKUP(C1619,Medlemmer!A:C,3,FALSE),\"\")","v":""},{"$f":"IFERROR(VLOOKUP(C1619,Medlemmer!A:C,2,FALSE),\"\")","v":""},{"$f":"IFERROR(VLOOKUP(C1619,Tidligere_henvendelser!A:B,2,FALSE),\"\")","v":""}]
[{"$f":"ReplaceNumbers(C1620)","v":"Ordrupvej"},{"$f":"_xlfn.NUMBERVALUE(FindNumbers(C1620))","v":147},"Ordrupvej 147, 2. th","2920 Charlottenlund",6700000,"2021-11-08","Alm. Salg",57758,4,"Ejerlejlighed",116,1912,{"$f":"IF(ISBLANK(VLOOKUP(A1620,Veje!A:B,2,FALSE)),INDEX(Veje!$D$2:$RT$652,MATCH(A1620,Veje!$A$2:$A$652,0),MATCH(B1620,Veje!$D$1:$RT$1,0)),VLOOKUP(A1620,Veje!A:B,2,FALSE))","v":"OCG"},{"$f":"IFERROR(VLOOKUP(C1620,Medlemmer!A:C,3,FALSE),\"\")","v":""},{"$f":"IFERROR(VLOOKUP(C1620,Medlemmer!A:C,2,FALSE),\"\")","v":""},{"$f":"IFERROR(VLOOKUP(C1620,Tidligere_henvendelser!A:B,2,FALSE),\"\")","v":""}]
[{"$f":"ReplaceNumbers(C1621)","v":"Tranegårdsvej"},{"$f":"_xlfn.NUMBERVALUE(FindNumbers(C1621))","v":34},"Tranegårdsvej 34","2900 Hellerup",17100000,"2021-11-08","Alm. Salg",119580,6,"Villa",143,1888,{"$f":"IF(ISBLANK(VLOOKUP(A1621,Veje!A:B,2,FALSE)),INDEX(Veje!$D$2:$RT$652,MATCH(A1621,Veje!$A$2:$A$652,0),MATCH(B1621,Veje!$D$1:$RT$1,0)),VLOOKUP(A1621,Veje!A:B,2,FALSE))","v":"HMG"},{"$f":"IFERROR(VLOOKUP(C1621,Medlemmer!A:C,3,FALSE),\"\")","v":""},{"$f":"IFERROR(VLOOKUP(C1621,Medlemmer!A:C,2,FALSE),\"\")","v":""},{"$f":"IFERROR(VLOOKUP(C1621,Tidligere_henvendelser!A:B,2,FALSE),\"\")","v":""}]
[{"$f":"ReplaceNumbers(C1622)","v":"Lille Strandvej"},{"$f":"_xlfn.NUMBERVALUE(FindNumbers(C1622))","v":2},"Lille Strandvej 2B, st. th","2900 Hellerup",9255000,"2021-11-08","Alm. Salg",71192,5,"Ejerlejlighed",130,1902,{"$f":"IF(ISBLANK(VLOOKUP(A1622,Veje!A:B,2,FALSE)),INDEX(Veje!$D$2:$RT$652,MATCH(A1622,Veje!$A$2:$A$652,0),MATCH(B1622,Veje!$D$1:$RT$1,0)),VLOOKUP(A1622,Veje!A:B,2,FALSE))","v":"HMG"},{"$f":"IFERROR(VLOOKUP(C1622,Medlemmer!A:C,3,FALSE),\"\")","v":""},{"$f":"IFERROR(VLOOKUP(C1622,Medlemmer!A:C,2,FALSE),\"\")","v":""},{"$f":"IFERROR(VLOOKUP(C1622,Tidligere_henvendelser!A:B,2,FALSE),\"\")","v":""}]
[{"$f":"ReplaceNumbers(C1623)","v":"Ordrupvej"},{"$f":"_xlfn.NUMBERVALUE(FindNumbers(C1623))","v":106},"Ordrupvej 106, 3. th","2920 Charlottenlund",5000000,"2021-11-09","Alm. Salg",56818,3,"Ejerlejlighed",88,1985,{"$f":"IF(ISBLANK(VLOOKUP(A1623,Veje!A:B,2,FALSE)),INDEX(Veje!$D$2:$RT$652,MATCH(A1623,Veje!$A$2:$A$652,0),MATCH(B1623,Veje!$D$1:$RT$1,0)),VLOOKUP(A1623,Veje!A:B,2,FALSE))","v":"OCG"},{"$f":"IFERROR(VLOOKUP(C1623,Medlemmer!A:C,3,FALSE),\"\")","v":""},{"$f":"IFERROR(VLOOKUP(C1623,Medlemmer!A:C,2,FALSE),\"\")","v":""},{"$f":"IFERROR(VLOOKUP(C1623,Tidligere_henvendelser!A:B,2,FALSE),\"\")","v":""}]
[{"$f":"ReplaceNumbers(C1624)","v":"Jægersborg Alle"},{"$f":"_xlfn.NUMBERVALUE(FindNumbers(C1624))","v":117},"Jægersborg Alle 117","2820 Gentofte",14400000,"2021-11-09","Alm. Salg",63716,6,"Villa",226,1800,{"$f":"IF(ISBLANK(VLOOKUP(A1624,Veje!A:B,2,FALSE)),INDEX(Veje!$D$2:$RT$652,MATCH(A1624,Veje!$A$2:$A$652,0),MATCH(B1624,Veje!$D$1:$RT$1,0)),VLOOKUP(A1624,Veje!A:B,2,FALSE))","v":"BJGF"},{"$f":"IFERROR(VLOOKUP(C1624,Medlemmer!A:C,3,FALSE),\"\")","v":""},{"$f":"IFERROR(VLOOKUP(C1624,Medlemmer!A:C,2,FALSE),\"\")","v":""},{"$f":"IFERROR(VLOOKUP(C1624,Tidligere_henvendelser!A:B,2,FALSE),\"\")","v":""}]
[{"$f":"ReplaceNumbers(C1625)","v":"Vangede Bygade"},{"$f":"_xlfn.NUMBERVALUE(FindNumbers(C1625))","v":111},"Vangede Bygade 111, st. tv","2820 Gentofte",671500,"2021-11-09","Fam. Salg",13166,2,"Ejerlejlighed",51,1958,{"$f":"IF(ISBLANK(VLOOKUP(A1625,Veje!A:B,2,FALSE)),INDEX(Veje!$D$2:$RT$652,MATCH(A1625,Veje!$A$2:$A$652,0),MATCH(B1625,Veje!$D$1:$RT$1,0)),VLOOKUP(A1625,Veje!A:B,2,FALSE))","v":"GSG"},{"$f":"IFERROR(VLOOKUP(C1625,Medlemmer!A:C,3,FALSE),\"\")","v":""},{"$f":"IFERROR(VLOOKUP(C1625,Medlemmer!A:C,2,FALSE),\"\")","v":""},{"$f":"IFERROR(VLOOKUP(C1625,Tidligere_henvendelser!A:B,2,FALSE),\"\")","v":""}]
[{"$f":"ReplaceNumbers(C1626)","v":"Ordrupvej"},{"$f":"_xlfn.NUMBERVALUE(FindNumbers(C1626))","v":6},"Ordrupvej 6, 1. th","2920 Charlottenlund",3375000,"2021-11-09","Alm. Salg",44407,2,"Ejerlejlighed",76,1936,{"$f":"IF(ISBLANK(VLOOKUP(A1626,Veje!A:B,2,FALSE)),INDEX(Veje!$D$2:$RT$652,MATCH(A1626,Veje!$A$2:$A$652,0),MATCH(B1626,Veje!$D$1:$RT$1,0)),VLOOKUP(A1626,Veje!A:B,2,FALSE))","v":"OCG"},{"$f":"IFERROR(VLOOKUP(C1626,Medlemmer!A:C,3,FALSE),\"\")","v":""},{"$f":"IFERROR(VLOOKUP(C1626,Medlemmer!A:C,2,FALSE),\"\")","v":""},{"$f":"IFERROR(VLOOKUP(C1626,Tidligere_henvendelser!A:B,2,FALSE),\"\")","v":""}]
[{"$f":"ReplaceNumbers(C1627)","v":"Almevej"},{"$f":"_xlfn.NUMBERVALUE(FindNumbers(C1627))","v":16},"Almevej 16","2900 Hellerup",18500000,"2021-11-09","Alm. Salg",86854,6,"Villa",213,1922,{"$f":"IF(ISBLANK(VLOOKUP(A1627,Veje!A:B,2,FALSE)),INDEX(Veje!$D$2:$RT$652,MATCH(A1627,Veje!$A$2:$A$652,0),MATCH(B1627,Veje!$D$1:$RT$1,0)),VLOOKUP(A1627,Veje!A:B,2,FALSE))","v":"HMG"},{"$f":"IFERROR(VLOOKUP(C1627,Medlemmer!A:C,3,FALSE),\"\")","v":""},{"$f":"IFERROR(VLOOKUP(C1627,Medlemmer!A:C,2,FALSE),\"\")","v":""},{"$f":"IFERROR(VLOOKUP(C1627,Tidligere_henvendelser!A:B,2,FALSE),\"\")","v":""}]
[{"$f":"ReplaceNumbers(C1628)","v":"Snogegårdsvej"},{"$f":"_xlfn.NUMBERVALUE(FindNumbers(C1628))","v":8},"Snogegårdsvej 8J, st. th","2820 Gentofte",2295000,"2021-11-09","Alm. Salg",45000,2,"Ejerlejlighed",51,1940,{"$f":"IF(ISBLANK(VLOOKUP(A1628,Veje!A:B,2,FALSE)),INDEX(Veje!$D$2:$RT$652,MATCH(A1628,Veje!$A$2:$A$652,0),MATCH(B1628,Veje!$D$1:$RT$1,0)),VLOOKUP(A1628,Veje!A:B,2,FALSE))","v":"GSG"},{"$f":"IFERROR(VLOOKUP(C1628,Medlemmer!A:C,3,FALSE),\"\")","v":""},{"$f":"IFERROR(VLOOKUP(C1628,Medlemmer!A:C,2,FALSE),\"\")","v":""},{"$f":"IFERROR(VLOOKUP(C1628,Tidligere_henvendelser!A:B,2,FALSE),\"\")","v":""}]
[{"$f":"ReplaceNumbers(C1629)","v":"Skovgårdsvej"},{"$f":"_xlfn.NUMBERVALUE(FindNumbers(C1629))","v":65},"Skovgårdsvej 65","2920 Charlottenlund",29900000,"2021-11-10","Alm. Salg",55679,11,"Villa",537,1936,{"$f":"IF(ISBLANK(VLOOKUP(A1629,Veje!A:B,2,FALSE)),INDEX(Veje!$D$2:$RT$652,MATCH(A1629,Veje!$A$2:$A$652,0),MATCH(B1629,Veje!$D$1:$RT$1,0)),VLOOKUP(A1629,Veje!A:B,2,FALSE))","v":"OCG"},{"$f":"IFERROR(VLOOKUP(C1629,Medlemmer!A:C,3,FALSE),\"\")","v":""},{"$f":"IFERROR(VLOOKUP(C1629,Medlemmer!A:C,2,FALSE),\"\")","v":""},{"$f":"IFERROR(VLOOKUP(C1629,Tidligere_henvendelser!A:B,2,FALSE),\"\")","v":""}]
[{"$f":"ReplaceNumbers(C1630)","v":"Bernstorffsvej"},{"$f":"_xlfn.NUMBERVALUE(FindNumbers(C1630))","v":71},"Bernstorffsvej 71B, 1. th","2900 Hellerup",5650000,"2021-11-10","Alm. Salg",49561,5,"Ejerlejlighed",114,1936,{"$f":"IF(ISBLANK(VLOOKUP(A1630,Veje!A:B,2,FALSE)),INDEX(Veje!$D$2:$RT$652,MATCH(A1630,Veje!$A$2:$A$652,0),MATCH(B1630,Veje!$D$1:$RT$1,0)),VLOOKUP(A1630,Veje!A:B,2,FALSE))","v":"GSG"},{"$f":"IFERROR(VLOOKUP(C1630,Medlemmer!A:C,3,FALSE),\"\")","v":""},{"$f":"IFERROR(VLOOKUP(C1630,Medlemmer!A:C,2,FALSE),\"\")","v":""},{"$f":"IFERROR(VLOOKUP(C1630,Tidligere_henvendelser!A:B,2,FALSE),\"\")","v":""}]
[{"$f":"ReplaceNumbers(C1631)","v":"Evanstonevej"},{"$f":"_xlfn.NUMBERVALUE(FindNumbers(C1631))","v":8},"Evanstonevej 8A, 1. th","2900 Hellerup",3925000,"2021-11-10","Alm. Salg",51644,3,"Ejerlejlighed",76,1933,{"$f":"IF(ISBLANK(VLOOKUP(A1631,Veje!A:B,2,FALSE)),INDEX(Veje!$D$2:$RT$652,MATCH(A1631,Veje!$A$2:$A$652,0),MATCH(B1631,Veje!$D$1:$RT$1,0)),VLOOKUP(A1631,Veje!A:B,2,FALSE))","v":"HMG"},{"$f":"IFERROR(VLOOKUP(C1631,Medlemmer!A:C,3,FALSE),\"\")","v":""},{"$f":"IFERROR(VLOOKUP(C1631,Medlemmer!A:C,2,FALSE),\"\")","v":""},{"$f":"IFERROR(VLOOKUP(C1631,Tidligere_henvendelser!A:B,2,FALSE),\"\")","v":""}]
[{"$f":"ReplaceNumbers(C1632)","v":"Tranevænget"},{"$f":"_xlfn.NUMBERVALUE(FindNumbers(C1632))","v":4},"Tranevænget 4, 3. tv","2900 Hellerup",8500000,"2021-11-10","Alm. Salg",68548,4,"Ejerlejlighed",124,1929,{"$f":"IF(ISBLANK(VLOOKUP(A1632,Veje!A:B,2,FALSE)),INDEX(Veje!$D$2:$RT$652,MATCH(A1632,Veje!$A$2:$A$652,0),MATCH(B1632,Veje!$D$1:$RT$1,0)),VLOOKUP(A1632,Veje!A:B,2,FALSE))","v":"HMG"},{"$f":"IFERROR(VLOOKUP(C1632,Medlemmer!A:C,3,FALSE),\"\")","v":""},{"$f":"IFERROR(VLOOKUP(C1632,Medlemmer!A:C,2,FALSE),\"\")","v":""},{"$f":"IFERROR(VLOOKUP(C1632,Tidligere_henvendelser!A:B,2,FALSE),\"\")","v":""}]
[{"$f":"ReplaceNumbers(C1633)","v":"Enighedsvej"},{"$f":"_xlfn.NUMBERVALUE(FindNumbers(C1633))","v":2},"Enighedsvej 2, 2. th","2920 Charlottenlund",4125000,"2021-11-10","Alm. Salg",53571,3,"Ejerlejlighed",77,1934,{"$f":"IF(ISBLANK(VLOOKUP(A1633,Veje!A:B,2,FALSE)),INDEX(Veje!$D$2:$RT$652,MATCH(A1633,Veje!$A$2:$A$652,0),MATCH(B1633,Veje!$D$1:$RT$1,0)),VLOOKUP(A1633,Veje!A:B,2,FALSE))","v":"OCG"},{"$f":"IFERROR(VLOOKUP(C1633,Medlemmer!A:C,3,FALSE),\"\")","v":""},{"$f":"IFERROR(VLOOKUP(C1633,Medlemmer!A:C,2,FALSE),\"\")","v":""},{"$f":"IFERROR(VLOOKUP(C1633,Tidligere_henvendelser!A:B,2,FALSE),\"\")","v":""}]
[{"$f":"ReplaceNumbers(C1634)","v":"Schæffergårdsvej"},{"$f":"_xlfn.NUMBERVALUE(FindNumbers(C1634))","v":2},"Schæffergårdsvej 2A","2820 Gentofte",5930000,"2021-11-10","Alm. Salg",48606,4,"Rækkehus",122,1987,{"$f":"IF(ISBLANK(VLOOKUP(A1634,Veje!A:B,2,FALSE)),INDEX(Veje!$D$2:$RT$652,MATCH(A1634,Veje!$A$2:$A$652,0),MATCH(B1634,Veje!$D$1:$RT$1,0)),VLOOKUP(A1634,Veje!A:B,2,FALSE))","v":"BJGF"},{"$f":"IFERROR(VLOOKUP(C1634,Medlemmer!A:C,3,FALSE),\"\")","v":""},{"$f":"IFERROR(VLOOKUP(C1634,Medlemmer!A:C,2,FALSE),\"\")","v":""},{"$f":"IFERROR(VLOOKUP(C1634,Tidligere_henvendelser!A:B,2,FALSE),\"\")","v":""}]
[{"$f":"ReplaceNumbers(C1635)","v":"Sønderengen"},{"$f":"_xlfn.NUMBERVALUE(FindNumbers(C1635))","v":94},"Sønderengen 94","2870 Dyssegård ",7795000,"2021-11-11","Alm. Salg",75679,5,"Rækkehus",103,1943,{"$f":"IF(ISBLANK(VLOOKUP(A1635,Veje!A:B,2,FALSE)),INDEX(Veje!$D$2:$RT$652,MATCH(A1635,Veje!$A$2:$A$652,0),MATCH(B1635,Veje!$D$1:$RT$1,0)),VLOOKUP(A1635,Veje!A:B,2,FALSE))","v":"DY"},{"$f":"IFERROR(VLOOKUP(C1635,Medlemmer!A:C,3,FALSE),\"\")","v":""},{"$f":"IFERROR(VLOOKUP(C1635,Medlemmer!A:C,2,FALSE),\"\")","v":""},{"$f":"IFERROR(VLOOKUP(C1635,Tidligere_henvendelser!A:B,2,FALSE),\"\")","v":""}]
[{"$f":"ReplaceNumbers(C1636)","v":"Vilvordevej"},{"$f":"_xlfn.NUMBERVALUE(FindNumbers(C1636))","v":80},"Vilvordevej 80","2920 Charlottenlund",13750000,"2021-11-11","Alm. Salg",63953,6,"Villa",215,1963,{"$f":"IF(ISBLANK(VLOOKUP(A1636,Veje!A:B,2,FALSE)),INDEX(Veje!$D$2:$RT$652,MATCH(A1636,Veje!$A$2:$A$652,0),MATCH(B1636,Veje!$D$1:$RT$1,0)),VLOOKUP(A1636,Veje!A:B,2,FALSE))","v":"OCG"},{"$f":"IFERROR(VLOOKUP(C1636,Medlemmer!A:C,3,FALSE),\"\")","v":""},{"$f":"IFERROR(VLOOKUP(C1636,Medlemmer!A:C,2,FALSE),\"\")","v":""},{"$f":"IFERROR(VLOOKUP(C1636,Tidligere_henvendelser!A:B,2,FALSE),\"\")","v":""}]
[{"$f":"ReplaceNumbers(C1637)","v":"Ellemosevej"},{"$f":"_xlfn.NUMBERVALUE(FindNumbers(C1637))","v":97},"Ellemosevej 97","2900 Hellerup",7200000,"2021-11-11","Alm. Salg",40223,7,"Villa",179,1936,{"$f":"IF(ISBLANK(VLOOKUP(A1637,Veje!A:B,2,FALSE)),INDEX(Veje!$D$2:$RT$652,MATCH(A1637,Veje!$A$2:$A$652,0),MATCH(B1637,Veje!$D$1:$RT$1,0)),VLOOKUP(A1637,Veje!A:B,2,FALSE))","v":"DY"},{"$f":"IFERROR(VLOOKUP(C1637,Medlemmer!A:C,3,FALSE),\"\")","v":""},{"$f":"IFERROR(VLOOKUP(C1637,Medlemmer!A:C,2,FALSE),\"\")","v":""},{"$f":"IFERROR(VLOOKUP(C1637,Tidligere_henvendelser!A:B,2,FALSE),\"\")","v":""}]
[{"$f":"ReplaceNumbers(C1638)","v":"Kragevej"},{"$f":"_xlfn.NUMBERVALUE(FindNumbers(C1638))","v":4},"Kragevej 4, 1","2900 Hellerup",6800000,"2021-11-11","Alm. Salg",68000,3,"Ejerlejlighed",100,1921,{"$f":"IF(ISBLANK(VLOOKUP(A1638,Veje!A:B,2,FALSE)),INDEX(Veje!$D$2:$RT$652,MATCH(A1638,Veje!$A$2:$A$652,0),MATCH(B1638,Veje!$D$1:$RT$1,0)),VLOOKUP(A1638,Veje!A:B,2,FALSE))","v":"HMG"},{"$f":"IFERROR(VLOOKUP(C1638,Medlemmer!A:C,3,FALSE),\"\")","v":""},{"$f":"IFERROR(VLOOKUP(C1638,Medlemmer!A:C,2,FALSE),\"\")","v":""},{"$f":"IFERROR(VLOOKUP(C1638,Tidligere_henvendelser!A:B,2,FALSE),\"\")","v":""}]
[{"$f":"ReplaceNumbers(C1639)","v":"Kragevej"},{"$f":"_xlfn.NUMBERVALUE(FindNumbers(C1639))","v":4},"Kragevej 4, st","2900 Hellerup",6800000,"2021-11-11","Alm. Salg",60176,4,"Ejerlejlighed",113,1921,{"$f":"IF(ISBLANK(VLOOKUP(A1639,Veje!A:B,2,FALSE)),INDEX(Veje!$D$2:$RT$652,MATCH(A1639,Veje!$A$2:$A$652,0),MATCH(B1639,Veje!$D$1:$RT$1,0)),VLOOKUP(A1639,Veje!A:B,2,FALSE))","v":"HMG"},{"$f":"IFERROR(VLOOKUP(C1639,Medlemmer!A:C,3,FALSE),\"\")","v":""},{"$f":"IFERROR(VLOOKUP(C1639,Medlemmer!A:C,2,FALSE),\"\")","v":""},{"$f":"IFERROR(VLOOKUP(C1639,Tidligere_henvendelser!A:B,2,FALSE),\"\")","v":""}]
[{"$f":"ReplaceNumbers(C1640)","v":"Ordrupvej"},{"$f":"_xlfn.NUMBERVALUE(FindNumbers(C1640))","v":83},"Ordrupvej 83A, st. th","2920 Charlottenlund",2250000,"2021-11-14","Alm. Salg",36290,2,"Ejerlejlighed",62,1934,{"$f":"IF(ISBLANK(VLOOKUP(A1640,Veje!A:B,2,FALSE)),INDEX(Veje!$D$2:$RT$652,MATCH(A1640,Veje!$A$2:$A$652,0),MATCH(B1640,Veje!$D$1:$RT$1,0)),VLOOKUP(A1640,Veje!A:B,2,FALSE))","v":"OCG"},{"$f":"IFERROR(VLOOKUP(C1640,Medlemmer!A:C,3,FALSE),\"\")","v":""},{"$f":"IFERROR(VLOOKUP(C1640,Medlemmer!A:C,2,FALSE),\"\")","v":""},{"$f":"IFERROR(VLOOKUP(C1640,Tidligere_henvendelser!A:B,2,FALSE),\"\")","v":""}]
[{"$f":"ReplaceNumbers(C1641)","v":"Liljevej"},{"$f":"_xlfn.NUMBERVALUE(FindNumbers(C1641))","v":28},"Liljevej 28","2820 Gentofte",10075000,"2021-11-14","Alm. Salg",60329,5,"Rækkehus",167,1902,{"$f":"IF(ISBLANK(VLOOKUP(A1641,Veje!A:B,2,FALSE)),INDEX(Veje!$D$2:$RT$652,MATCH(A1641,Veje!$A$2:$A$652,0),MATCH(B1641,Veje!$D$1:$RT$1,0)),VLOOKUP(A1641,Veje!A:B,2,FALSE))","v":"GSG"},{"$f":"IFERROR(VLOOKUP(C1641,Medlemmer!A:C,3,FALSE),\"\")","v":""},{"$f":"IFERROR(VLOOKUP(C1641,Medlemmer!A:C,2,FALSE),\"\")","v":""},{"$f":"IFERROR(VLOOKUP(C1641,Tidligere_henvendelser!A:B,2,FALSE),\"\")","v":""}]
[{"$f":"ReplaceNumbers(C1642)","v":"Hvidørevej"},{"$f":"_xlfn.NUMBERVALUE(FindNumbers(C1642))","v":30},"Hvidørevej 30A","2930 Klampenborg",12310000,"2021-11-14","Alm. Salg",56728,5,"Villa",217,1948,{"$f":"IF(ISBLANK(VLOOKUP(A1642,Veje!A:B,2,FALSE)),INDEX(Veje!$D$2:$RT$652,MATCH(A1642,Veje!$A$2:$A$652,0),MATCH(B1642,Veje!$D$1:$RT$1,0)),VLOOKUP(A1642,Veje!A:B,2,FALSE))","v":"SKGF"},{"$f":"IFERROR(VLOOKUP(C1642,Medlemmer!A:C,3,FALSE),\"\")","v":""},{"$f":"IFERROR(VLOOKUP(C1642,Medlemmer!A:C,2,FALSE),\"\")","v":""},{"$f":"IFERROR(VLOOKUP(C1642,Tidligere_henvendelser!A:B,2,FALSE),\"\")","v":""}]
[{"$f":"ReplaceNumbers(C1643)","v":"Baunegårdsvej"},{"$f":"_xlfn.NUMBERVALUE(FindNumbers(C1643))","v":71},"Baunegårdsvej 71B","2900 Hellerup",8400000,"2021-11-14","Alm. Salg",75675,4,"Rækkehus",111,1931,{"$f":"IF(ISBLANK(VLOOKUP(A1643,Veje!A:B,2,FALSE)),INDEX(Veje!$D$2:$RT$652,MATCH(A1643,Veje!$A$2:$A$652,0),MATCH(B1643,Veje!$D$1:$RT$1,0)),VLOOKUP(A1643,Veje!A:B,2,FALSE))","v":"GSG"},{"$f":"IFERROR(VLOOKUP(C1643,Medlemmer!A:C,3,FALSE),\"\")","v":""},{"$f":"IFERROR(VLOOKUP(C1643,Medlemmer!A:C,2,FALSE),\"\")","v":""},{"$f":"IFERROR(VLOOKUP(C1643,Tidligere_henvendelser!A:B,2,FALSE),\"\")","v":""}]
[{"$f":"ReplaceNumbers(C1644)","v":"Ærenprisvej"},{"$f":"_xlfn.NUMBERVALUE(FindNumbers(C1644))","v":12},"Ærenprisvej 12","2820 Gentofte",9700000,"2021-11-15","Alm. Salg",49238,8,"Villa",197,1928,{"$f":"IF(ISBLANK(VLOOKUP(A1644,Veje!A:B,2,FALSE)),INDEX(Veje!$D$2:$RT$652,MATCH(A1644,Veje!$A$2:$A$652,0),MATCH(B1644,Veje!$D$1:$RT$1,0)),VLOOKUP(A1644,Veje!A:B,2,FALSE))","v":"GSG"},{"$f":"IFERROR(VLOOKUP(C1644,Medlemmer!A:C,3,FALSE),\"\")","v":""},{"$f":"IFERROR(VLOOKUP(C1644,Medlemmer!A:C,2,FALSE),\"\")","v":""},{"$f":"IFERROR(VLOOKUP(C1644,Tidligere_henvendelser!A:B,2,FALSE),\"\")","v":""}]
[{"$f":"ReplaceNumbers(C1645)","v":"Blidahpark"},{"$f":"_xlfn.NUMBERVALUE(FindNumbers(C1645))","v":11},"Blidahpark 11, st. th","2900 Hellerup",1487500,"2021-11-15","Fam. Salg",18140,3,"Ejerlejlighed",82,1933,{"$f":"IF(ISBLANK(VLOOKUP(A1645,Veje!A:B,2,FALSE)),INDEX(Veje!$D$2:$RT$652,MATCH(A1645,Veje!$A$2:$A$652,0),MATCH(B1645,Veje!$D$1:$RT$1,0)),VLOOKUP(A1645,Veje!A:B,2,FALSE))","v":"HMG"},{"$f":"IFERROR(VLOOKUP(C1645,Medlemmer!A:C,3,FALSE),\"\")","v":""},{"$f":"IFERROR(VLOOKUP(C1645,Medlemmer!A:C,2,FALSE),\"\")","v":""},{"$f":"IFERROR(VLOOKUP(C1645,Tidligere_henvendelser!A:B,2,FALSE),\"\")","v":""}]
[{"$f":"ReplaceNumbers(C1646)","v":"Jægersborg Alle"},{"$f":"_xlfn.NUMBERVALUE(FindNumbers(C1646))","v":136},"Jægersborg Alle 136","2820 Gentofte",10000000,"2021-11-15","Alm. Salg",50761,7,"Villa",197,1951,{"$f":"IF(ISBLANK(VLOOKUP(A1646,Veje!A:B,2,FALSE)),INDEX(Veje!$D$2:$RT$652,MATCH(A1646,Veje!$A$2:$A$652,0),MATCH(B1646,Veje!$D$1:$RT$1,0)),VLOOKUP(A1646,Veje!A:B,2,FALSE))","v":"BJGF"},{"$f":"IFERROR(VLOOKUP(C1646,Medlemmer!A:C,3,FALSE),\"\")","v":""},{"$f":"IFERROR(VLOOKUP(C1646,Medlemmer!A:C,2,FALSE),\"\")","v":""},{"$f":"IFERROR(VLOOKUP(C1646,Tidligere_henvendelser!A:B,2,FALSE),\"\")","v":""}]
[{"$f":"ReplaceNumbers(C1647)","v":"Krøyersvej"},{"$f":"_xlfn.NUMBERVALUE(FindNumbers(C1647))","v":29},"Krøyersvej 29","2930 Klampenborg",18000000,"2021-11-15","Alm. Salg",86124,6,"Villa",209,1934,{"$f":"IF(ISBLANK(VLOOKUP(A1647,Veje!A:B,2,FALSE)),INDEX(Veje!$D$2:$RT$652,MATCH(A1647,Veje!$A$2:$A$652,0),MATCH(B1647,Veje!$D$1:$RT$1,0)),VLOOKUP(A1647,Veje!A:B,2,FALSE))","v":"SKGF"},{"$f":"IFERROR(VLOOKUP(C1647,Medlemmer!A:C,3,FALSE),\"\")","v":""},{"$f":"IFERROR(VLOOKUP(C1647,Medlemmer!A:C,2,FALSE),\"\")","v":""},{"$f":"IFERROR(VLOOKUP(C1647,Tidligere_henvendelser!A:B,2,FALSE),\"\")","v":""}]
[{"$f":"ReplaceNumbers(C1648)","v":"Snogegårdsvej"},{"$f":"_xlfn.NUMBERVALUE(FindNumbers(C1648))","v":61},"Snogegårdsvej 61","2820 Gentofte",8100000,"2021-11-15","Alm. Salg",39130,6,"Villa",207,2016,{"$f":"IF(ISBLANK(VLOOKUP(A1648,Veje!A:B,2,FALSE)),INDEX(Veje!$D$2:$RT$652,MATCH(A1648,Veje!$A$2:$A$652,0),MATCH(B1648,Veje!$D$1:$RT$1,0)),VLOOKUP(A1648,Veje!A:B,2,FALSE))","v":"GSG"},{"$f":"IFERROR(VLOOKUP(C1648,Medlemmer!A:C,3,FALSE),\"\")","v":""},{"$f":"IFERROR(VLOOKUP(C1648,Medlemmer!A:C,2,FALSE),\"\")","v":""},{"$f":"IFERROR(VLOOKUP(C1648,Tidligere_henvendelser!A:B,2,FALSE),\"\")","v":""}]
[{"$f":"ReplaceNumbers(C1649)","v":"Ordrupvej"},{"$f":"_xlfn.NUMBERVALUE(FindNumbers(C1649))","v":148},"Ordrupvej 148, st","2920 Charlottenlund",9050000,"2021-11-15","Alm. Salg",55182,5,"Ejerlejlighed",164,1934,{"$f":"IF(ISBLANK(VLOOKUP(A1649,Veje!A:B,2,FALSE)),INDEX(Veje!$D$2:$RT$652,MATCH(A1649,Veje!$A$2:$A$652,0),MATCH(B1649,Veje!$D$1:$RT$1,0)),VLOOKUP(A1649,Veje!A:B,2,FALSE))","v":"OCG"},{"$f":"IFERROR(VLOOKUP(C1649,Medlemmer!A:C,3,FALSE),\"\")","v":""},{"$f":"IFERROR(VLOOKUP(C1649,Medlemmer!A:C,2,FALSE),\"\")","v":""},{"$f":"IFERROR(VLOOKUP(C1649,Tidligere_henvendelser!A:B,2,FALSE),\"\")","v":""}]
[{"$f":"ReplaceNumbers(C1650)","v":"Dalstrøget"},{"$f":"_xlfn.NUMBERVALUE(FindNumbers(C1650))","v":116},"Dalstrøget 116, 2","2870 Dyssegård ",1640000,"2021-11-15","Alm. Salg",33469,1,"Ejerlejlighed",49,1959,{"$f":"IF(ISBLANK(VLOOKUP(A1650,Veje!A:B,2,FALSE)),INDEX(Veje!$D$2:$RT$652,MATCH(A1650,Veje!$A$2:$A$652,0),MATCH(B1650,Veje!$D$1:$RT$1,0)),VLOOKUP(A1650,Veje!A:B,2,FALSE))","v":"DY"},{"$f":"IFERROR(VLOOKUP(C1650,Medlemmer!A:C,3,FALSE),\"\")","v":""},{"$f":"IFERROR(VLOOKUP(C1650,Medlemmer!A:C,2,FALSE),\"\")","v":""},{"$f":"IFERROR(VLOOKUP(C1650,Tidligere_henvendelser!A:B,2,FALSE),\"\")","v":""}]
[{"$f":"ReplaceNumbers(C1651)","v":"Ermelundsvej"},{"$f":"_xlfn.NUMBERVALUE(FindNumbers(C1651))","v":90},"Ermelundsvej 90A, st. th","2820 Gentofte",6300000,"2021-11-15","Alm. Salg",56756,3,"Ejerlejlighed",111,2008,{"$f":"IF(ISBLANK(VLOOKUP(A1651,Veje!A:B,2,FALSE)),INDEX(Veje!$D$2:$RT$652,MATCH(A1651,Veje!$A$2:$A$652,0),MATCH(B1651,Veje!$D$1:$RT$1,0)),VLOOKUP(A1651,Veje!A:B,2,FALSE))","v":"BJGF"},{"$f":"IFERROR(VLOOKUP(C1651,Medlemmer!A:C,3,FALSE),\"\")","v":""},{"$f":"IFERROR(VLOOKUP(C1651,Medlemmer!A:C,2,FALSE),\"\")","v":""},{"$f":"IFERROR(VLOOKUP(C1651,Tidligere_henvendelser!A:B,2,FALSE),\"\")","v":""}]
[{"$f":"ReplaceNumbers(C1652)","v":"Fuglegårdsvej"},{"$f":"_xlfn.NUMBERVALUE(FindNumbers(C1652))","v":26},"Fuglegårdsvej 26","2820 Gentofte",7800000,"2021-11-15","Alm. Salg",56521,5,"Villa",138,1942,{"$f":"IF(ISBLANK(VLOOKUP(A1652,Veje!A:B,2,FALSE)),INDEX(Veje!$D$2:$RT$652,MATCH(A1652,Veje!$A$2:$A$652,0),MATCH(B1652,Veje!$D$1:$RT$1,0)),VLOOKUP(A1652,Veje!A:B,2,FALSE))","v":"GSG"},{"$f":"IFERROR(VLOOKUP(C1652,Medlemmer!A:C,3,FALSE),\"\")","v":""},{"$f":"IFERROR(VLOOKUP(C1652,Medlemmer!A:C,2,FALSE),\"\")","v":""},{"$f":"IFERROR(VLOOKUP(C1652,Tidligere_henvendelser!A:B,2,FALSE),\"\")","v":""}]
[{"$f":"ReplaceNumbers(C1653)","v":"Snogegårdsvej"},{"$f":"_xlfn.NUMBERVALUE(FindNumbers(C1653))","v":4},"Snogegårdsvej 4, 1. tv","2820 Gentofte",1850000,"2021-11-15","Alm. Salg",35576,2,"Ejerlejlighed",52,1940,{"$f":"IF(ISBLANK(VLOOKUP(A1653,Veje!A:B,2,FALSE)),INDEX(Veje!$D$2:$RT$652,MATCH(A1653,Veje!$A$2:$A$652,0),MATCH(B1653,Veje!$D$1:$RT$1,0)),VLOOKUP(A1653,Veje!A:B,2,FALSE))","v":"GSG"},{"$f":"IFERROR(VLOOKUP(C1653,Medlemmer!A:C,3,FALSE),\"\")","v":""},{"$f":"IFERROR(VLOOKUP(C1653,Medlemmer!A:C,2,FALSE),\"\")","v":""},{"$f":"IFERROR(VLOOKUP(C1653,Tidligere_henvendelser!A:B,2,FALSE),\"\")","v":""}]
[{"$f":"ReplaceNumbers(C1654)","v":"Ordrupvej"},{"$f":"_xlfn.NUMBERVALUE(FindNumbers(C1654))","v":148},"Ordrupvej 148, 1","2920 Charlottenlund",9050000,"2021-11-15","Alm. Salg",55182,5,"Ejerlejlighed",164,1934,{"$f":"IF(ISBLANK(VLOOKUP(A1654,Veje!A:B,2,FALSE)),INDEX(Veje!$D$2:$RT$652,MATCH(A1654,Veje!$A$2:$A$652,0),MATCH(B1654,Veje!$D$1:$RT$1,0)),VLOOKUP(A1654,Veje!A:B,2,FALSE))","v":"OCG"},{"$f":"IFERROR(VLOOKUP(C1654,Medlemmer!A:C,3,FALSE),\"\")","v":""},{"$f":"IFERROR(VLOOKUP(C1654,Medlemmer!A:C,2,FALSE),\"\")","v":""},{"$f":"IFERROR(VLOOKUP(C1654,Tidligere_henvendelser!A:B,2,FALSE),\"\")","v":""}]
[{"$f":"ReplaceNumbers(C1655)","v":"Hagens Alle"},{"$f":"_xlfn.NUMBERVALUE(FindNumbers(C1655))","v":41},"Hagens Alle 41","2900 Hellerup",14500000,"2021-11-15","Alm. Salg",70048,5,"Villa",207,1947,{"$f":"IF(ISBLANK(VLOOKUP(A1655,Veje!A:B,2,FALSE)),INDEX(Veje!$D$2:$RT$652,MATCH(A1655,Veje!$A$2:$A$652,0),MATCH(B1655,Veje!$D$1:$RT$1,0)),VLOOKUP(A1655,Veje!A:B,2,FALSE))","v":"DY"},{"$f":"IFERROR(VLOOKUP(C1655,Medlemmer!A:C,3,FALSE),\"\")","v":""},{"$f":"IFERROR(VLOOKUP(C1655,Medlemmer!A:C,2,FALSE),\"\")","v":""},{"$f":"IFERROR(VLOOKUP(C1655,Tidligere_henvendelser!A:B,2,FALSE),\"\")","v":""}]
[{"$f":"ReplaceNumbers(C1656)","v":"Skovagervej"},{"$f":"_xlfn.NUMBERVALUE(FindNumbers(C1656))","v":5},"Skovagervej 5","2920 Charlottenlund",15050000,"2021-11-15","Alm. Salg",95859,5,"Villa",157,1919,{"$f":"IF(ISBLANK(VLOOKUP(A1656,Veje!A:B,2,FALSE)),INDEX(Veje!$D$2:$RT$652,MATCH(A1656,Veje!$A$2:$A$652,0),MATCH(B1656,Veje!$D$1:$RT$1,0)),VLOOKUP(A1656,Veje!A:B,2,FALSE))","v":"SKGF"},{"$f":"IFERROR(VLOOKUP(C1656,Medlemmer!A:C,3,FALSE),\"\")","v":""},{"$f":"IFERROR(VLOOKUP(C1656,Medlemmer!A:C,2,FALSE),\"\")","v":""},{"$f":"IFERROR(VLOOKUP(C1656,Tidligere_henvendelser!A:B,2,FALSE),\"\")","v":""}]
[{"$f":"ReplaceNumbers(C1657)","v":"A N Hansens Alle"},{"$f":"_xlfn.NUMBERVALUE(FindNumbers(C1657))","v":34},"A N Hansens Alle 34","2900 Hellerup",16500000,"2021-11-16","Alm. Salg",125954,3,"Ejerlejlighed",131,1911,{"$f":"IF(ISBLANK(VLOOKUP(A1657,Veje!A:B,2,FALSE)),INDEX(Veje!$D$2:$RT$652,MATCH(A1657,Veje!$A$2:$A$652,0),MATCH(B1657,Veje!$D$1:$RT$1,0)),VLOOKUP(A1657,Veje!A:B,2,FALSE))","v":"HMG"},{"$f":"IFERROR(VLOOKUP(C1657,Medlemmer!A:C,3,FALSE),\"\")","v":""},{"$f":"IFERROR(VLOOKUP(C1657,Medlemmer!A:C,2,FALSE),\"\")","v":""},{"$f":"IFERROR(VLOOKUP(C1657,Tidligere_henvendelser!A:B,2,FALSE),\"\")","v":""}]
[{"$f":"ReplaceNumbers(C1658)","v":"Broholms Alle"},{"$f":"_xlfn.NUMBERVALUE(FindNumbers(C1658))","v":14},"Broholms Alle 14, 3. tv","2920 Charlottenlund",1187500,"2021-11-16","Alm. Salg",9205,5,"Ejerlejlighed",129,1933,{"$f":"IF(ISBLANK(VLOOKUP(A1658,Veje!A:B,2,FALSE)),INDEX(Veje!$D$2:$RT$652,MATCH(A1658,Veje!$A$2:$A$652,0),MATCH(B1658,Veje!$D$1:$RT$1,0)),VLOOKUP(A1658,Veje!A:B,2,FALSE))","v":"SKGF"},{"$f":"IFERROR(VLOOKUP(C1658,Medlemmer!A:C,3,FALSE),\"\")","v":""},{"$f":"IFERROR(VLOOKUP(C1658,Medlemmer!A:C,2,FALSE),\"\")","v":""},{"$f":"IFERROR(VLOOKUP(C1658,Tidligere_henvendelser!A:B,2,FALSE),\"\")","v":""}]
[{"$f":"ReplaceNumbers(C1659)","v":"Strandvejen"},{"$f":"_xlfn.NUMBERVALUE(FindNumbers(C1659))","v":38},"Strandvejen 38, 1. tv","2900 Hellerup",7692000,"2021-11-16","Alm. Salg",62536,4,"Ejerlejlighed",123,1899,{"$f":"IF(ISBLANK(VLOOKUP(A1659,Veje!A:B,2,FALSE)),INDEX(Veje!$D$2:$RT$652,MATCH(A1659,Veje!$A$2:$A$652,0),MATCH(B1659,Veje!$D$1:$RT$1,0)),VLOOKUP(A1659,Veje!A:B,2,FALSE))","v":"HMG"},{"$f":"IFERROR(VLOOKUP(C1659,Medlemmer!A:C,3,FALSE),\"\")","v":""},{"$f":"IFERROR(VLOOKUP(C1659,Medlemmer!A:C,2,FALSE),\"\")","v":""},{"$f":"IFERROR(VLOOKUP(C1659,Tidligere_henvendelser!A:B,2,FALSE),\"\")","v":""}]
[{"$f":"ReplaceNumbers(C1660)","v":"Dyssegårdsvej"},{"$f":"_xlfn.NUMBERVALUE(FindNumbers(C1660))","v":29},"Dyssegårdsvej 29, st","2900 Hellerup",5350000,"2021-11-16","Alm. Salg",50000,4,"Ejerlejlighed",107,1932,{"$f":"IF(ISBLANK(VLOOKUP(A1660,Veje!A:B,2,FALSE)),INDEX(Veje!$D$2:$RT$652,MATCH(A1660,Veje!$A$2:$A$652,0),MATCH(B1660,Veje!$D$1:$RT$1,0)),VLOOKUP(A1660,Veje!A:B,2,FALSE))","v":"DY"},{"$f":"IFERROR(VLOOKUP(C1660,Medlemmer!A:C,3,FALSE),\"\")","v":""},{"$f":"IFERROR(VLOOKUP(C1660,Medlemmer!A:C,2,FALSE),\"\")","v":""},{"$f":"IFERROR(VLOOKUP(C1660,Tidligere_henvendelser!A:B,2,FALSE),\"\")","v":""}]
[{"$f":"ReplaceNumbers(C1661)","v":"Dyssegårdsvej"},{"$f":"_xlfn.NUMBERVALUE(FindNumbers(C1661))","v":29},"Dyssegårdsvej 29, 1","2900 Hellerup",5350000,"2021-11-16","Alm. Salg",52970,4,"Ejerlejlighed",101,1932,{"$f":"IF(ISBLANK(VLOOKUP(A1661,Veje!A:B,2,FALSE)),INDEX(Veje!$D$2:$RT$652,MATCH(A1661,Veje!$A$2:$A$652,0),MATCH(B1661,Veje!$D$1:$RT$1,0)),VLOOKUP(A1661,Veje!A:B,2,FALSE))","v":"DY"},{"$f":"IFERROR(VLOOKUP(C1661,Medlemmer!A:C,3,FALSE),\"\")","v":""},{"$f":"IFERROR(VLOOKUP(C1661,Medlemmer!A:C,2,FALSE),\"\")","v":""},{"$f":"IFERROR(VLOOKUP(C1661,Tidligere_henvendelser!A:B,2,FALSE),\"\")","v":""}]
[{"$f":"ReplaceNumbers(C1662)","v":"Bostamose Vestre Stræde"},{"$f":"_xlfn.NUMBERVALUE(FindNumbers(C1662))","v":7},"Bostamose Vestre Stræde 7A","2930 Klampenborg",10800000,"2021-11-16","Alm. Salg",92307,4,"Villa",117,1901,{"$f":"IF(ISBLANK(VLOOKUP(A1662,Veje!A:B,2,FALSE)),INDEX(Veje!$D$2:$RT$652,MATCH(A1662,Veje!$A$2:$A$652,0),MATCH(B1662,Veje!$D$1:$RT$1,0)),VLOOKUP(A1662,Veje!A:B,2,FALSE))","v":"SKGF"},{"$f":"IFERROR(VLOOKUP(C1662,Medlemmer!A:C,3,FALSE),\"\")","v":""},{"$f":"IFERROR(VLOOKUP(C1662,Medlemmer!A:C,2,FALSE),\"\")","v":""},{"$f":"IFERROR(VLOOKUP(C1662,Tidligere_henvendelser!A:B,2,FALSE),\"\")","v":""}]
[{"$f":"ReplaceNumbers(C1663)","v":"Dalstrøget"},{"$f":"_xlfn.NUMBERVALUE(FindNumbers(C1663))","v":107},"Dalstrøget 107, 1. mf","2870 Dyssegård ",1900000,"2021-11-16","Alm. Salg",33333,2,"Ejerlejlighed",57,1959,{"$f":"IF(ISBLANK(VLOOKUP(A1663,Veje!A:B,2,FALSE)),INDEX(Veje!$D$2:$RT$652,MATCH(A1663,Veje!$A$2:$A$652,0),MATCH(B1663,Veje!$D$1:$RT$1,0)),VLOOKUP(A1663,Veje!A:B,2,FALSE))","v":"DY"},{"$f":"IFERROR(VLOOKUP(C1663,Medlemmer!A:C,3,FALSE),\"\")","v":""},{"$f":"IFERROR(VLOOKUP(C1663,Medlemmer!A:C,2,FALSE),\"\")","v":""},{"$f":"IFERROR(VLOOKUP(C1663,Tidligere_henvendelser!A:B,2,FALSE),\"\")","v":""}]
[{"$f":"ReplaceNumbers(C1664)","v":"Jægersborg Alle"},{"$f":"_xlfn.NUMBERVALUE(FindNumbers(C1664))","v":98},"Jægersborg Alle 98","2920 Charlottenlund",14650000,"2021-11-17","Alm. Salg",69761,8,"Villa",210,1935,{"$f":"IF(ISBLANK(VLOOKUP(A1664,Veje!A:B,2,FALSE)),INDEX(Veje!$D$2:$RT$652,MATCH(A1664,Veje!$A$2:$A$652,0),MATCH(B1664,Veje!$D$1:$RT$1,0)),VLOOKUP(A1664,Veje!A:B,2,FALSE))","v":"BJGF"},{"$f":"IFERROR(VLOOKUP(C1664,Medlemmer!A:C,3,FALSE),\"\")","v":""},{"$f":"IFERROR(VLOOKUP(C1664,Medlemmer!A:C,2,FALSE),\"\")","v":""},{"$f":"IFERROR(VLOOKUP(C1664,Tidligere_henvendelser!A:B,2,FALSE),\"\")","v":""}]
[{"$f":"ReplaceNumbers(C1665)","v":"Røntoftevej"},{"$f":"_xlfn.NUMBERVALUE(FindNumbers(C1665))","v":3},"Røntoftevej 3","2870 Dyssegård ",7357000,"2021-11-17","Alm. Salg",68757,5,"Villa",107,1928,{"$f":"IF(ISBLANK(VLOOKUP(A1665,Veje!A:B,2,FALSE)),INDEX(Veje!$D$2:$RT$652,MATCH(A1665,Veje!$A$2:$A$652,0),MATCH(B1665,Veje!$D$1:$RT$1,0)),VLOOKUP(A1665,Veje!A:B,2,FALSE))","v":"DY"},{"$f":"IFERROR(VLOOKUP(C1665,Medlemmer!A:C,3,FALSE),\"\")","v":""},{"$f":"IFERROR(VLOOKUP(C1665,Medlemmer!A:C,2,FALSE),\"\")","v":""},{"$f":"IFERROR(VLOOKUP(C1665,Tidligere_henvendelser!A:B,2,FALSE),\"\")","v":""}]
[{"$f":"ReplaceNumbers(C1666)","v":"Tuborg Sundpark"},{"$f":"_xlfn.NUMBERVALUE(FindNumbers(C1666))","v":7},"Tuborg Sundpark 7, 1. th","2900 Hellerup",18995000,"2021-11-17","Alm. Salg",117253,4,"Ejerlejlighed",162,2005,{"$f":"IF(ISBLANK(VLOOKUP(A1666,Veje!A:B,2,FALSE)),INDEX(Veje!$D$2:$RT$652,MATCH(A1666,Veje!$A$2:$A$652,0),MATCH(B1666,Veje!$D$1:$RT$1,0)),VLOOKUP(A1666,Veje!A:B,2,FALSE))","v":"HMG"},{"$f":"IFERROR(VLOOKUP(C1666,Medlemmer!A:C,3,FALSE),\"\")","v":""},{"$f":"IFERROR(VLOOKUP(C1666,Medlemmer!A:C,2,FALSE),\"\")","v":""},{"$f":"IFERROR(VLOOKUP(C1666,Tidligere_henvendelser!A:B,2,FALSE),\"\")","v":""}]
[{"$f":"ReplaceNumbers(C1667)","v":"Ordrupvej"},{"$f":"_xlfn.NUMBERVALUE(FindNumbers(C1667))","v":81},"Ordrupvej 81A, 3. tv","2920 Charlottenlund",3600000,"2021-11-17","Alm. Salg",42352,3,"Ejerlejlighed",85,1955,{"$f":"IF(ISBLANK(VLOOKUP(A1667,Veje!A:B,2,FALSE)),INDEX(Veje!$D$2:$RT$652,MATCH(A1667,Veje!$A$2:$A$652,0),MATCH(B1667,Veje!$D$1:$RT$1,0)),VLOOKUP(A1667,Veje!A:B,2,FALSE))","v":"OCG"},{"$f":"IFERROR(VLOOKUP(C1667,Medlemmer!A:C,3,FALSE),\"\")","v":""},{"$f":"IFERROR(VLOOKUP(C1667,Medlemmer!A:C,2,FALSE),\"\")","v":""},{"$f":"IFERROR(VLOOKUP(C1667,Tidligere_henvendelser!A:B,2,FALSE),\"\")","v":""}]
[{"$f":"ReplaceNumbers(C1668)","v":"Fuglegårdsvænget"},{"$f":"_xlfn.NUMBERVALUE(FindNumbers(C1668))","v":69},"Fuglegårdsvænget 69, st. tv","2820 Gentofte",1750000,"2021-11-17","Alm. Salg",33653,2,"Ejerlejlighed",52,1937,{"$f":"IF(ISBLANK(VLOOKUP(A1668,Veje!A:B,2,FALSE)),INDEX(Veje!$D$2:$RT$652,MATCH(A1668,Veje!$A$2:$A$652,0),MATCH(B1668,Veje!$D$1:$RT$1,0)),VLOOKUP(A1668,Veje!A:B,2,FALSE))","v":"GSG"},{"$f":"IFERROR(VLOOKUP(C1668,Medlemmer!A:C,3,FALSE),\"\")","v":""},{"$f":"IFERROR(VLOOKUP(C1668,Medlemmer!A:C,2,FALSE),\"\")","v":""},{"$f":"IFERROR(VLOOKUP(C1668,Tidligere_henvendelser!A:B,2,FALSE),\"\")","v":""}]
[{"$f":"ReplaceNumbers(C1669)","v":"Callisensvej"},{"$f":"_xlfn.NUMBERVALUE(FindNumbers(C1669))","v":18},"Callisensvej 18, 4. th","2900 Hellerup",3880000,"2021-11-17","Alm. Salg",59692,3,"Ejerlejlighed",65,1899,{"$f":"IF(ISBLANK(VLOOKUP(A1669,Veje!A:B,2,FALSE)),INDEX(Veje!$D$2:$RT$652,MATCH(A1669,Veje!$A$2:$A$652,0),MATCH(B1669,Veje!$D$1:$RT$1,0)),VLOOKUP(A1669,Veje!A:B,2,FALSE))","v":"HMG"},{"$f":"IFERROR(VLOOKUP(C1669,Medlemmer!A:C,3,FALSE),\"\")","v":""},{"$f":"IFERROR(VLOOKUP(C1669,Medlemmer!A:C,2,FALSE),\"\")","v":""},{"$f":"IFERROR(VLOOKUP(C1669,Tidligere_henvendelser!A:B,2,FALSE),\"\")","v":""}]
[{"$f":"ReplaceNumbers(C1670)","v":"Vangede Bygade"},{"$f":"_xlfn.NUMBERVALUE(FindNumbers(C1670))","v":62},"Vangede Bygade 62, st. th","2820 Gentofte",950000,"2021-11-17","Fam. Salg",18269,2,"Ejerlejlighed",52,1940,{"$f":"IF(ISBLANK(VLOOKUP(A1670,Veje!A:B,2,FALSE)),INDEX(Veje!$D$2:$RT$652,MATCH(A1670,Veje!$A$2:$A$652,0),MATCH(B1670,Veje!$D$1:$RT$1,0)),VLOOKUP(A1670,Veje!A:B,2,FALSE))","v":"GSG"},{"$f":"IFERROR(VLOOKUP(C1670,Medlemmer!A:C,3,FALSE),\"\")","v":""},{"$f":"IFERROR(VLOOKUP(C1670,Medlemmer!A:C,2,FALSE),\"\")","v":""},{"$f":"IFERROR(VLOOKUP(C1670,Tidligere_henvendelser!A:B,2,FALSE),\"\")","v":""}]
[{"$f":"ReplaceNumbers(C1671)","v":"Vilhelmshåbsvej"},{"$f":"_xlfn.NUMBERVALUE(FindNumbers(C1671))","v":10},"Vilhelmshåbsvej 10","2920 Charlottenlund",10300000,"2021-11-18","Alm. Salg",57865,5,"Villa",178,1979,{"$f":"IF(ISBLANK(VLOOKUP(A1671,Veje!A:B,2,FALSE)),INDEX(Veje!$D$2:$RT$652,MATCH(A1671,Veje!$A$2:$A$652,0),MATCH(B1671,Veje!$D$1:$RT$1,0)),VLOOKUP(A1671,Veje!A:B,2,FALSE))","v":"OCG"},{"$f":"IFERROR(VLOOKUP(C1671,Medlemmer!A:C,3,FALSE),\"\")","v":""},{"$f":"IFERROR(VLOOKUP(C1671,Medlemmer!A:C,2,FALSE),\"\")","v":""},{"$f":"IFERROR(VLOOKUP(C1671,Tidligere_henvendelser!A:B,2,FALSE),\"\")","v":""}]
[{"$f":"ReplaceNumbers(C1672)","v":"Morescosvej"},{"$f":"_xlfn.NUMBERVALUE(FindNumbers(C1672))","v":12},"Morescosvej 12, st. tv","2920 Charlottenlund",1565000,"2021-11-18","Alm. Salg",34021,1,"Ejerlejlighed",46,1943,{"$f":"IF(ISBLANK(VLOOKUP(A1672,Veje!A:B,2,FALSE)),INDEX(Veje!$D$2:$RT$652,MATCH(A1672,Veje!$A$2:$A$652,0),MATCH(B1672,Veje!$D$1:$RT$1,0)),VLOOKUP(A1672,Veje!A:B,2,FALSE))","v":"OCG"},{"$f":"IFERROR(VLOOKUP(C1672,Medlemmer!A:C,3,FALSE),\"\")","v":""},{"$f":"IFERROR(VLOOKUP(C1672,Medlemmer!A:C,2,FALSE),\"\")","v":""},{"$f":"IFERROR(VLOOKUP(C1672,Tidligere_henvendelser!A:B,2,FALSE),\"\")","v":""}]
[{"$f":"ReplaceNumbers(C1673)","v":"Ordrupvej"},{"$f":"_xlfn.NUMBERVALUE(FindNumbers(C1673))","v":48},"Ordrupvej 48B, 4. mf","2920 Charlottenlund",3400000,"2021-11-18","Alm. Salg",45333,4,"Ejerlejlighed",75,1939,{"$f":"IF(ISBLANK(VLOOKUP(A1673,Veje!A:B,2,FALSE)),INDEX(Veje!$D$2:$RT$652,MATCH(A1673,Veje!$A$2:$A$652,0),MATCH(B1673,Veje!$D$1:$RT$1,0)),VLOOKUP(A1673,Veje!A:B,2,FALSE))","v":"OCG"},{"$f":"IFERROR(VLOOKUP(C1673,Medlemmer!A:C,3,FALSE),\"\")","v":""},{"$f":"IFERROR(VLOOKUP(C1673,Medlemmer!A:C,2,FALSE),\"\")","v":""},{"$f":"IFERROR(VLOOKUP(C1673,Tidligere_henvendelser!A:B,2,FALSE),\"\")","v":""}]
[{"$f":"ReplaceNumbers(C1674)","v":"Ericavej"},{"$f":"_xlfn.NUMBERVALUE(FindNumbers(C1674))","v":147},"Ericavej 147, st. 4","2820 Gentofte",2000000,"2021-11-18","Alm. Salg",32786,2,"Ejerlejlighed",61,1968,{"$f":"IF(ISBLANK(VLOOKUP(A1674,Veje!A:B,2,FALSE)),INDEX(Veje!$D$2:$RT$652,MATCH(A1674,Veje!$A$2:$A$652,0),MATCH(B1674,Veje!$D$1:$RT$1,0)),VLOOKUP(A1674,Veje!A:B,2,FALSE))","v":"GSG"},{"$f":"IFERROR(VLOOKUP(C1674,Medlemmer!A:C,3,FALSE),\"\")","v":""},{"$f":"IFERROR(VLOOKUP(C1674,Medlemmer!A:C,2,FALSE),\"\")","v":""},{"$f":"IFERROR(VLOOKUP(C1674,Tidligere_henvendelser!A:B,2,FALSE),\"\")","v":""}]
[{"$f":"ReplaceNumbers(C1675)","v":"Rosenvej"},{"$f":"_xlfn.NUMBERVALUE(FindNumbers(C1675))","v":16},"Rosenvej 16","2820 Gentofte",11600000,"2021-11-19","Alm. Salg",72500,5,"Villa",160,1902,{"$f":"IF(ISBLANK(VLOOKUP(A1675,Veje!A:B,2,FALSE)),INDEX(Veje!$D$2:$RT$652,MATCH(A1675,Veje!$A$2:$A$652,0),MATCH(B1675,Veje!$D$1:$RT$1,0)),VLOOKUP(A1675,Veje!A:B,2,FALSE))","v":"GSG"},{"$f":"IFERROR(VLOOKUP(C1675,Medlemmer!A:C,3,FALSE),\"\")","v":""},{"$f":"IFERROR(VLOOKUP(C1675,Medlemmer!A:C,2,FALSE),\"\")","v":""},{"$f":"IFERROR(VLOOKUP(C1675,Tidligere_henvendelser!A:B,2,FALSE),\"\")","v":""}]
[{"$f":"ReplaceNumbers(C1676)","v":"Ellegårdsvej"},{"$f":"_xlfn.NUMBERVALUE(FindNumbers(C1676))","v":43},"Ellegårdsvej 43, st. th","2820 Gentofte",3850000,"2021-11-20","Alm. Salg",49358,3,"Ejerlejlighed",78,1944,{"$f":"IF(ISBLANK(VLOOKUP(A1676,Veje!A:B,2,FALSE)),INDEX(Veje!$D$2:$RT$652,MATCH(A1676,Veje!$A$2:$A$652,0),MATCH(B1676,Veje!$D$1:$RT$1,0)),VLOOKUP(A1676,Veje!A:B,2,FALSE))","v":"GSG"},{"$f":"IFERROR(VLOOKUP(C1676,Medlemmer!A:C,3,FALSE),\"\")","v":""},{"$f":"IFERROR(VLOOKUP(C1676,Medlemmer!A:C,2,FALSE),\"\")","v":""},{"$f":"IFERROR(VLOOKUP(C1676,Tidligere_henvendelser!A:B,2,FALSE),\"\")","v":""}]
[{"$f":"ReplaceNumbers(C1677)","v":"Dalstrøget"},{"$f":"_xlfn.NUMBERVALUE(FindNumbers(C1677))","v":82},"Dalstrøget 82, 5","2870 Dyssegård ",2495000,"2021-11-21","Alm. Salg",32828,2,"Ejerlejlighed",76,1959,{"$f":"IF(ISBLANK(VLOOKUP(A1677,Veje!A:B,2,FALSE)),INDEX(Veje!$D$2:$RT$652,MATCH(A1677,Veje!$A$2:$A$652,0),MATCH(B1677,Veje!$D$1:$RT$1,0)),VLOOKUP(A1677,Veje!A:B,2,FALSE))","v":"DY"},{"$f":"IFERROR(VLOOKUP(C1677,Medlemmer!A:C,3,FALSE),\"\")","v":""},{"$f":"IFERROR(VLOOKUP(C1677,Medlemmer!A:C,2,FALSE),\"\")","v":""},{"$f":"IFERROR(VLOOKUP(C1677,Tidligere_henvendelser!A:B,2,FALSE),\"\")","v":""}]
[{"$f":"ReplaceNumbers(C1678)","v":"Stigaardsvej"},{"$f":"_xlfn.NUMBERVALUE(FindNumbers(C1678))","v":18},"Stigaardsvej 18","2900 Hellerup",16495000,"2021-11-21","Alm. Salg",117821,5,"Villa",140,1913,{"$f":"IF(ISBLANK(VLOOKUP(A1678,Veje!A:B,2,FALSE)),INDEX(Veje!$D$2:$RT$652,MATCH(A1678,Veje!$A$2:$A$652,0),MATCH(B1678,Veje!$D$1:$RT$1,0)),VLOOKUP(A1678,Veje!A:B,2,FALSE))","v":"HMG"},{"$f":"IFERROR(VLOOKUP(C1678,Medlemmer!A:C,3,FALSE),\"\")","v":""},{"$f":"IFERROR(VLOOKUP(C1678,Medlemmer!A:C,2,FALSE),\"\")","v":""},{"$f":"IFERROR(VLOOKUP(C1678,Tidligere_henvendelser!A:B,2,FALSE),\"\")","v":""}]
[{"$f":"ReplaceNumbers(C1679)","v":"Dyssegårdsvej"},{"$f":"_xlfn.NUMBERVALUE(FindNumbers(C1679))","v":81},"Dyssegårdsvej 81","2870 Dyssegård ",6725000,"2021-11-21","Alm. Salg",84062,2,"Villa",80,1932,{"$f":"IF(ISBLANK(VLOOKUP(A1679,Veje!A:B,2,FALSE)),INDEX(Veje!$D$2:$RT$652,MATCH(A1679,Veje!$A$2:$A$652,0),MATCH(B1679,Veje!$D$1:$RT$1,0)),VLOOKUP(A1679,Veje!A:B,2,FALSE))","v":"DY"},{"$f":"IFERROR(VLOOKUP(C1679,Medlemmer!A:C,3,FALSE),\"\")","v":""},{"$f":"IFERROR(VLOOKUP(C1679,Medlemmer!A:C,2,FALSE),\"\")","v":""},{"$f":"IFERROR(VLOOKUP(C1679,Tidligere_henvendelser!A:B,2,FALSE),\"\")","v":""}]
[{"$f":"ReplaceNumbers(C1680)","v":"Bernstorffsvej"},{"$f":"_xlfn.NUMBERVALUE(FindNumbers(C1680))","v":100},"Bernstorffsvej 100, st. th","2900 Hellerup",2735500,"2021-11-21","Alm. Salg",21205,5,"Ejerlejlighed",129,1938,{"$f":"IF(ISBLANK(VLOOKUP(A1680,Veje!A:B,2,FALSE)),INDEX(Veje!$D$2:$RT$652,MATCH(A1680,Veje!$A$2:$A$652,0),MATCH(B1680,Veje!$D$1:$RT$1,0)),VLOOKUP(A1680,Veje!A:B,2,FALSE))","v":"HMG"},{"$f":"IFERROR(VLOOKUP(C1680,Medlemmer!A:C,3,FALSE),\"\")","v":""},{"$f":"IFERROR(VLOOKUP(C1680,Medlemmer!A:C,2,FALSE),\"\")","v":""},{"$f":"IFERROR(VLOOKUP(C1680,Tidligere_henvendelser!A:B,2,FALSE),\"\")","v":""}]
[{"$f":"ReplaceNumbers(C1681)","v":"Jægersborg Alle"},{"$f":"_xlfn.NUMBERVALUE(FindNumbers(C1681))","v":37},"Jægersborg Alle 37, 3. th","2920 Charlottenlund",3950000,"2021-11-22","Alm. Salg",28014,5,"Ejerlejlighed",141,1928,{"$f":"IF(ISBLANK(VLOOKUP(A1681,Veje!A:B,2,FALSE)),INDEX(Veje!$D$2:$RT$652,MATCH(A1681,Veje!$A$2:$A$652,0),MATCH(B1681,Veje!$D$1:$RT$1,0)),VLOOKUP(A1681,Veje!A:B,2,FALSE))","v":"OCG"},{"$f":"IFERROR(VLOOKUP(C1681,Medlemmer!A:C,3,FALSE),\"\")","v":""},{"$f":"IFERROR(VLOOKUP(C1681,Medlemmer!A:C,2,FALSE),\"\")","v":""},{"$f":"IFERROR(VLOOKUP(C1681,Tidligere_henvendelser!A:B,2,FALSE),\"\")","v":""}]
[{"$f":"ReplaceNumbers(C1682)","v":"Tranevænget"},{"$f":"_xlfn.NUMBERVALUE(FindNumbers(C1682))","v":2},"Tranevænget 2, 1. tv","2900 Hellerup",7575000,"2021-11-22","Alm. Salg",64743,4,"Ejerlejlighed",117,1929,{"$f":"IF(ISBLANK(VLOOKUP(A1682,Veje!A:B,2,FALSE)),INDEX(Veje!$D$2:$RT$652,MATCH(A1682,Veje!$A$2:$A$652,0),MATCH(B1682,Veje!$D$1:$RT$1,0)),VLOOKUP(A1682,Veje!A:B,2,FALSE))","v":"HMG"},{"$f":"IFERROR(VLOOKUP(C1682,Medlemmer!A:C,3,FALSE),\"\")","v":""},{"$f":"IFERROR(VLOOKUP(C1682,Medlemmer!A:C,2,FALSE),\"\")","v":""},{"$f":"IFERROR(VLOOKUP(C1682,Tidligere_henvendelser!A:B,2,FALSE),\"\")","v":""}]
[{"$f":"ReplaceNumbers(C1683)","v":"Henningsens Alle"},{"$f":"_xlfn.NUMBERVALUE(FindNumbers(C1683))","v":26},"Henningsens Alle 26","2900 Hellerup",7200000,"2021-11-22","Alm. Salg",35643,7,"Villa",170,1897,{"$f":"IF(ISBLANK(VLOOKUP(A1683,Veje!A:B,2,FALSE)),INDEX(Veje!$D$2:$RT$652,MATCH(A1683,Veje!$A$2:$A$652,0),MATCH(B1683,Veje!$D$1:$RT$1,0)),VLOOKUP(A1683,Veje!A:B,2,FALSE))","v":"HMG"},{"$f":"IFERROR(VLOOKUP(C1683,Medlemmer!A:C,3,FALSE),\"\")","v":""},{"$f":"IFERROR(VLOOKUP(C1683,Medlemmer!A:C,2,FALSE),\"\")","v":""},{"$f":"IFERROR(VLOOKUP(C1683,Tidligere_henvendelser!A:B,2,FALSE),\"\")","v":""}]
[{"$f":"ReplaceNumbers(C1684)","v":"Vilvordevej"},{"$f":"_xlfn.NUMBERVALUE(FindNumbers(C1684))","v":9},"Vilvordevej 9","2920 Charlottenlund",27000000,"2021-11-23","Alm. Salg",77142,8,"Villa",350,1914,{"$f":"IF(ISBLANK(VLOOKUP(A1684,Veje!A:B,2,FALSE)),INDEX(Veje!$D$2:$RT$652,MATCH(A1684,Veje!$A$2:$A$652,0),MATCH(B1684,Veje!$D$1:$RT$1,0)),VLOOKUP(A1684,Veje!A:B,2,FALSE))","v":"BJGF"},{"$f":"IFERROR(VLOOKUP(C1684,Medlemmer!A:C,3,FALSE),\"\")","v":""},{"$f":"IFERROR(VLOOKUP(C1684,Medlemmer!A:C,2,FALSE),\"\")","v":""},{"$f":"IFERROR(VLOOKUP(C1684,Tidligere_henvendelser!A:B,2,FALSE),\"\")","v":""}]
[{"$f":"ReplaceNumbers(C1685)","v":"Tranegårdsvej"},{"$f":"_xlfn.NUMBERVALUE(FindNumbers(C1685))","v":82},"Tranegårdsvej 82B","2900 Hellerup",7100000,"2021-11-23","Alm. Salg",60169,5,"Rækkehus",118,1967,{"$f":"IF(ISBLANK(VLOOKUP(A1685,Veje!A:B,2,FALSE)),INDEX(Veje!$D$2:$RT$652,MATCH(A1685,Veje!$A$2:$A$652,0),MATCH(B1685,Veje!$D$1:$RT$1,0)),VLOOKUP(A1685,Veje!A:B,2,FALSE))","v":"HMG"},{"$f":"IFERROR(VLOOKUP(C1685,Medlemmer!A:C,3,FALSE),\"\")","v":""},{"$f":"IFERROR(VLOOKUP(C1685,Medlemmer!A:C,2,FALSE),\"\")","v":""},{"$f":"IFERROR(VLOOKUP(C1685,Tidligere_henvendelser!A:B,2,FALSE),\"\")","v":""}]
[{"$f":"ReplaceNumbers(C1686)","v":"Ejgårdsparken"},{"$f":"_xlfn.NUMBERVALUE(FindNumbers(C1686))","v":3},"Ejgårdsparken 3, 1. tv","2920 Charlottenlund",7750000,"2021-11-24","Alm. Salg",66239,3,"Ejerlejlighed",117,2003,{"$f":"IF(ISBLANK(VLOOKUP(A1686,Veje!A:B,2,FALSE)),INDEX(Veje!$D$2:$RT$652,MATCH(A1686,Veje!$A$2:$A$652,0),MATCH(B1686,Veje!$D$1:$RT$1,0)),VLOOKUP(A1686,Veje!A:B,2,FALSE))","v":"OCG"},{"$f":"IFERROR(VLOOKUP(C1686,Medlemmer!A:C,3,FALSE),\"\")","v":""},{"$f":"IFERROR(VLOOKUP(C1686,Medlemmer!A:C,2,FALSE),\"\")","v":""},{"$f":"IFERROR(VLOOKUP(C1686,Tidligere_henvendelser!A:B,2,FALSE),\"\")","v":""}]
[{"$f":"ReplaceNumbers(C1687)","v":"Fuglegårdsvænget"},{"$f":"_xlfn.NUMBERVALUE(FindNumbers(C1687))","v":92},"Fuglegårdsvænget 92, st. mf","2820 Gentofte",816000,"2021-11-24","Fam. Salg",14068,2,"Ejerlejlighed",58,1936,{"$f":"IF(ISBLANK(VLOOKUP(A1687,Veje!A:B,2,FALSE)),INDEX(Veje!$D$2:$RT$652,MATCH(A1687,Veje!$A$2:$A$652,0),MATCH(B1687,Veje!$D$1:$RT$1,0)),VLOOKUP(A1687,Veje!A:B,2,FALSE))","v":"GSG"},{"$f":"IFERROR(VLOOKUP(C1687,Medlemmer!A:C,3,FALSE),\"\")","v":""},{"$f":"IFERROR(VLOOKUP(C1687,Medlemmer!A:C,2,FALSE),\"\")","v":""},{"$f":"IFERROR(VLOOKUP(C1687,Tidligere_henvendelser!A:B,2,FALSE),\"\")","v":""}]
[{"$f":"ReplaceNumbers(C1688)","v":"Bjergtoften"},{"$f":"_xlfn.NUMBERVALUE(FindNumbers(C1688))","v":3},"Bjergtoften 3","2900 Hellerup",9045000,"2021-11-24","Alm. Salg",74752,5,"Villa",121,1934,{"$f":"IF(ISBLANK(VLOOKUP(A1688,Veje!A:B,2,FALSE)),INDEX(Veje!$D$2:$RT$652,MATCH(A1688,Veje!$A$2:$A$652,0),MATCH(B1688,Veje!$D$1:$RT$1,0)),VLOOKUP(A1688,Veje!A:B,2,FALSE))","v":"GSG"},{"$f":"IFERROR(VLOOKUP(C1688,Medlemmer!A:C,3,FALSE),\"\")","v":""},{"$f":"IFERROR(VLOOKUP(C1688,Medlemmer!A:C,2,FALSE),\"\")","v":""},{"$f":"IFERROR(VLOOKUP(C1688,Tidligere_henvendelser!A:B,2,FALSE),\"\")","v":""}]
[{"$f":"ReplaceNumbers(C1689)","v":"Jægersborgvej"},{"$f":"_xlfn.NUMBERVALUE(FindNumbers(C1689))","v":106},"Jægersborgvej 106, 2. th","2820 Gentofte",2750000,"2021-11-24","Alm. Salg",29255,4,"Ejerlejlighed",94,1949,{"$f":"IF(ISBLANK(VLOOKUP(A1689,Veje!A:B,2,FALSE)),INDEX(Veje!$D$2:$RT$652,MATCH(A1689,Veje!$A$2:$A$652,0),MATCH(B1689,Veje!$D$1:$RT$1,0)),VLOOKUP(A1689,Veje!A:B,2,FALSE))","v":"GSG"},{"$f":"IFERROR(VLOOKUP(C1689,Medlemmer!A:C,3,FALSE),\"\")","v":""},{"$f":"IFERROR(VLOOKUP(C1689,Medlemmer!A:C,2,FALSE),\"\")","v":""},{"$f":"IFERROR(VLOOKUP(C1689,Tidligere_henvendelser!A:B,2,FALSE),\"\")","v":""}]
[{"$f":"ReplaceNumbers(C1690)","v":"Ordrup Jagtvej"},{"$f":"_xlfn.NUMBERVALUE(FindNumbers(C1690))","v":175},"Ordrup Jagtvej 175, 1. th","2920 Charlottenlund",4803000,"2021-11-24","Alm. Salg",50031,3,"Ejerlejlighed",96,1935,{"$f":"IF(ISBLANK(VLOOKUP(A1690,Veje!A:B,2,FALSE)),INDEX(Veje!$D$2:$RT$652,MATCH(A1690,Veje!$A$2:$A$652,0),MATCH(B1690,Veje!$D$1:$RT$1,0)),VLOOKUP(A1690,Veje!A:B,2,FALSE))","v":"SKGF"},{"$f":"IFERROR(VLOOKUP(C1690,Medlemmer!A:C,3,FALSE),\"\")","v":""},{"$f":"IFERROR(VLOOKUP(C1690,Medlemmer!A:C,2,FALSE),\"\")","v":""},{"$f":"IFERROR(VLOOKUP(C1690,Tidligere_henvendelser!A:B,2,FALSE),\"\")","v":""}]
[{"$f":"ReplaceNumbers(C1691)","v":"Fredensvej"},{"$f":"_xlfn.NUMBERVALUE(FindNumbers(C1691))","v":53},"Fredensvej 53, 1","2920 Charlottenlund",6300000,"2021-11-24","Andet",56250,4,"Ejerlejlighed",112,1896,{"$f":"IF(ISBLANK(VLOOKUP(A1691,Veje!A:B,2,FALSE)),INDEX(Veje!$D$2:$RT$652,MATCH(A1691,Veje!$A$2:$A$652,0),MATCH(B1691,Veje!$D$1:$RT$1,0)),VLOOKUP(A1691,Veje!A:B,2,FALSE))","v":"OCG"},{"$f":"IFERROR(VLOOKUP(C1691,Medlemmer!A:C,3,FALSE),\"\")","v":""},{"$f":"IFERROR(VLOOKUP(C1691,Medlemmer!A:C,2,FALSE),\"\")","v":""},{"$f":"IFERROR(VLOOKUP(C1691,Tidligere_henvendelser!A:B,2,FALSE),\"\")","v":""}]
[{"$f":"ReplaceNumbers(C1692)","v":"Evanstonevej"},{"$f":"_xlfn.NUMBERVALUE(FindNumbers(C1692))","v":8},"Evanstonevej 8A, st. th","2900 Hellerup",1995000,"2021-11-24","Alm. Salg",47500,1,"Ejerlejlighed",42,1933,{"$f":"IF(ISBLANK(VLOOKUP(A1692,Veje!A:B,2,FALSE)),INDEX(Veje!$D$2:$RT$652,MATCH(A1692,Veje!$A$2:$A$652,0),MATCH(B1692,Veje!$D$1:$RT$1,0)),VLOOKUP(A1692,Veje!A:B,2,FALSE))","v":"HMG"},{"$f":"IFERROR(VLOOKUP(C1692,Medlemmer!A:C,3,FALSE),\"\")","v":""},{"$f":"IFERROR(VLOOKUP(C1692,Medlemmer!A:C,2,FALSE),\"\")","v":""},{"$f":"IFERROR(VLOOKUP(C1692,Tidligere_henvendelser!A:B,2,FALSE),\"\")","v":""}]
[{"$f":"ReplaceNumbers(C1693)","v":"Teglværksbakken"},{"$f":"_xlfn.NUMBERVALUE(FindNumbers(C1693))","v":3},"Teglværksbakken 3","2900 Hellerup",6360000,"2021-11-25","Alm. Salg",51707,4,"Villa",123,1930,{"$f":"IF(ISBLANK(VLOOKUP(A1693,Veje!A:B,2,FALSE)),INDEX(Veje!$D$2:$RT$652,MATCH(A1693,Veje!$A$2:$A$652,0),MATCH(B1693,Veje!$D$1:$RT$1,0)),VLOOKUP(A1693,Veje!A:B,2,FALSE))","v":"DY"},{"$f":"IFERROR(VLOOKUP(C1693,Medlemmer!A:C,3,FALSE),\"\")","v":""},{"$f":"IFERROR(VLOOKUP(C1693,Medlemmer!A:C,2,FALSE),\"\")","v":""},{"$f":"IFERROR(VLOOKUP(C1693,Tidligere_henvendelser!A:B,2,FALSE),\"\")","v":""}]
[{"$f":"ReplaceNumbers(C1694)","v":"Parkovsvej"},{"$f":"_xlfn.NUMBERVALUE(FindNumbers(C1694))","v":61},"Parkovsvej 61","2820 Gentofte",14750000,"2021-11-25","Alm. Salg",81944,5,"Rækkehus",180,2012,{"$f":"IF(ISBLANK(VLOOKUP(A1694,Veje!A:B,2,FALSE)),INDEX(Veje!$D$2:$RT$652,MATCH(A1694,Veje!$A$2:$A$652,0),MATCH(B1694,Veje!$D$1:$RT$1,0)),VLOOKUP(A1694,Veje!A:B,2,FALSE))","v":"GSG"},{"$f":"IFERROR(VLOOKUP(C1694,Medlemmer!A:C,3,FALSE),\"\")","v":""},{"$f":"IFERROR(VLOOKUP(C1694,Medlemmer!A:C,2,FALSE),\"\")","v":""},{"$f":"IFERROR(VLOOKUP(C1694,Tidligere_henvendelser!A:B,2,FALSE),\"\")","v":""}]
[{"$f":"ReplaceNumbers(C1695)","v":"Jægersborg Alle"},{"$f":"_xlfn.NUMBERVALUE(FindNumbers(C1695))","v":133},"Jægersborg Alle 133A","2820 Gentofte",7000000,"2021-11-25","Alm. Salg",62500,5,"Villa",112,1957,{"$f":"IF(ISBLANK(VLOOKUP(A1695,Veje!A:B,2,FALSE)),INDEX(Veje!$D$2:$RT$652,MATCH(A1695,Veje!$A$2:$A$652,0),MATCH(B1695,Veje!$D$1:$RT$1,0)),VLOOKUP(A1695,Veje!A:B,2,FALSE))","v":"BJGF"},{"$f":"IFERROR(VLOOKUP(C1695,Medlemmer!A:C,3,FALSE),\"\")","v":""},{"$f":"IFERROR(VLOOKUP(C1695,Medlemmer!A:C,2,FALSE),\"\")","v":""},{"$f":"IFERROR(VLOOKUP(C1695,Tidligere_henvendelser!A:B,2,FALSE),\"\")","v":""}]
[{"$f":"ReplaceNumbers(C1696)","v":"Lyngbyvej"},{"$f":"_xlfn.NUMBERVALUE(FindNumbers(C1696))","v":229},"Lyngbyvej 229, 2","2900 Hellerup",1840000,"2021-11-25","Fam. Salg",22439,3,"Ejerlejlighed",82,1935,{"$f":"IF(ISBLANK(VLOOKUP(A1696,Veje!A:B,2,FALSE)),INDEX(Veje!$D$2:$RT$652,MATCH(A1696,Veje!$A$2:$A$652,0),MATCH(B1696,Veje!$D$1:$RT$1,0)),VLOOKUP(A1696,Veje!A:B,2,FALSE))","v":"DY"},{"$f":"IFERROR(VLOOKUP(C1696,Medlemmer!A:C,3,FALSE),\"\")","v":""},{"$f":"IFERROR(VLOOKUP(C1696,Medlemmer!A:C,2,FALSE),\"\")","v":""},{"$f":"IFERROR(VLOOKUP(C1696,Tidligere_henvendelser!A:B,2,FALSE),\"\")","v":""}]
[{"$f":"ReplaceNumbers(C1697)","v":"Broholms Alle"},{"$f":"_xlfn.NUMBERVALUE(FindNumbers(C1697))","v":26},"Broholms Alle 26, 1. tv","2920 Charlottenlund",2825000,"2021-11-27","Alm. Salg",44841,2,"Ejerlejlighed",63,1935,{"$f":"IF(ISBLANK(VLOOKUP(A1697,Veje!A:B,2,FALSE)),INDEX(Veje!$D$2:$RT$652,MATCH(A1697,Veje!$A$2:$A$652,0),MATCH(B1697,Veje!$D$1:$RT$1,0)),VLOOKUP(A1697,Veje!A:B,2,FALSE))","v":"SKGF"},{"$f":"IFERROR(VLOOKUP(C1697,Medlemmer!A:C,3,FALSE),\"\")","v":""},{"$f":"IFERROR(VLOOKUP(C1697,Medlemmer!A:C,2,FALSE),\"\")","v":""},{"$f":"IFERROR(VLOOKUP(C1697,Tidligere_henvendelser!A:B,2,FALSE),\"\")","v":""}]
[{"$f":"ReplaceNumbers(C1698)","v":"Højsgårds Alle"},{"$f":"_xlfn.NUMBERVALUE(FindNumbers(C1698))","v":13},"Højsgårds Alle 13","2900 Hellerup",3400618,"2021-11-28","Fam. Salg",21798,4,"Villa",156,1934,{"$f":"IF(ISBLANK(VLOOKUP(A1698,Veje!A:B,2,FALSE)),INDEX(Veje!$D$2:$RT$652,MATCH(A1698,Veje!$A$2:$A$652,0),MATCH(B1698,Veje!$D$1:$RT$1,0)),VLOOKUP(A1698,Veje!A:B,2,FALSE))","v":"DY"},{"$f":"IFERROR(VLOOKUP(C1698,Medlemmer!A:C,3,FALSE),\"\")","v":""},{"$f":"IFERROR(VLOOKUP(C1698,Medlemmer!A:C,2,FALSE),\"\")","v":""},{"$f":"IFERROR(VLOOKUP(C1698,Tidligere_henvendelser!A:B,2,FALSE),\"\")","v":""}]
[{"$f":"ReplaceNumbers(C1699)","v":"Smakkegårdsvej"},{"$f":"_xlfn.NUMBERVALUE(FindNumbers(C1699))","v":98},"Smakkegårdsvej 98, st. th","2820 Gentofte",3125000,"2021-11-28","Alm. Salg",36764,3,"Ejerlejlighed",85,1952,{"$f":"IF(ISBLANK(VLOOKUP(A1699,Veje!A:B,2,FALSE)),INDEX(Veje!$D$2:$RT$652,MATCH(A1699,Veje!$A$2:$A$652,0),MATCH(B1699,Veje!$D$1:$RT$1,0)),VLOOKUP(A1699,Veje!A:B,2,FALSE))","v":"BJGF"},{"$f":"IFERROR(VLOOKUP(C1699,Medlemmer!A:C,3,FALSE),\"\")","v":""},{"$f":"IFERROR(VLOOKUP(C1699,Medlemmer!A:C,2,FALSE),\"\")","v":""},{"$f":"IFERROR(VLOOKUP(C1699,Tidligere_henvendelser!A:B,2,FALSE),\"\")","v":""}]
[{"$f":"ReplaceNumbers(C1700)","v":"Ellebækvej"},{"$f":"_xlfn.NUMBERVALUE(FindNumbers(C1700))","v":50},"Ellebækvej 50, 1. tv","2820 Gentofte",1500000,"2021-11-28","Fam. Salg",34090,2,"Ejerlejlighed",44,1942,{"$f":"IF(ISBLANK(VLOOKUP(A1700,Veje!A:B,2,FALSE)),INDEX(Veje!$D$2:$RT$652,MATCH(A1700,Veje!$A$2:$A$652,0),MATCH(B1700,Veje!$D$1:$RT$1,0)),VLOOKUP(A1700,Veje!A:B,2,FALSE))","v":"GSG"},{"$f":"IFERROR(VLOOKUP(C1700,Medlemmer!A:C,3,FALSE),\"\")","v":""},{"$f":"IFERROR(VLOOKUP(C1700,Medlemmer!A:C,2,FALSE),\"\")","v":""},{"$f":"IFERROR(VLOOKUP(C1700,Tidligere_henvendelser!A:B,2,FALSE),\"\")","v":""}]
[{"$f":"ReplaceNumbers(C1701)","v":"Blidahpark"},{"$f":"_xlfn.NUMBERVALUE(FindNumbers(C1701))","v":4},"Blidahpark 4, 2. th","2900 Hellerup",4500000,"2021-11-28","Alm. Salg",49450,4,"Ejerlejlighed",91,1933,{"$f":"IF(ISBLANK(VLOOKUP(A1701,Veje!A:B,2,FALSE)),INDEX(Veje!$D$2:$RT$652,MATCH(A1701,Veje!$A$2:$A$652,0),MATCH(B1701,Veje!$D$1:$RT$1,0)),VLOOKUP(A1701,Veje!A:B,2,FALSE))","v":"HMG"},{"$f":"IFERROR(VLOOKUP(C1701,Medlemmer!A:C,3,FALSE),\"\")","v":""},{"$f":"IFERROR(VLOOKUP(C1701,Medlemmer!A:C,2,FALSE),\"\")","v":""},{"$f":"IFERROR(VLOOKUP(C1701,Tidligere_henvendelser!A:B,2,FALSE),\"\")","v":""}]
[{"$f":"ReplaceNumbers(C1702)","v":"Skovvej"},{"$f":"_xlfn.NUMBERVALUE(FindNumbers(C1702))","v":77},"Skovvej 77B","2920 Charlottenlund",17600000,"2021-11-29","Alm. Salg",89795,6,"Villa",196,1987,{"$f":"IF(ISBLANK(VLOOKUP(A1702,Veje!A:B,2,FALSE)),INDEX(Veje!$D$2:$RT$652,MATCH(A1702,Veje!$A$2:$A$652,0),MATCH(B1702,Veje!$D$1:$RT$1,0)),VLOOKUP(A1702,Veje!A:B,2,FALSE))","v":"BJGF"},{"$f":"IFERROR(VLOOKUP(C1702,Medlemmer!A:C,3,FALSE),\"\")","v":""},{"$f":"IFERROR(VLOOKUP(C1702,Medlemmer!A:C,2,FALSE),\"\")","v":""},{"$f":"IFERROR(VLOOKUP(C1702,Tidligere_henvendelser!A:B,2,FALSE),\"\")","v":""}]
[{"$f":"ReplaceNumbers(C1703)","v":"Henriettevej"},{"$f":"_xlfn.NUMBERVALUE(FindNumbers(C1703))","v":19},"Henriettevej 19","2920 Charlottenlund",9350000,"2021-11-29","Fam. Salg",61513,6,"Rækkehus",152,1937,{"$f":"IF(ISBLANK(VLOOKUP(A1703,Veje!A:B,2,FALSE)),INDEX(Veje!$D$2:$RT$652,MATCH(A1703,Veje!$A$2:$A$652,0),MATCH(B1703,Veje!$D$1:$RT$1,0)),VLOOKUP(A1703,Veje!A:B,2,FALSE))","v":"OCG"},{"$f":"IFERROR(VLOOKUP(C1703,Medlemmer!A:C,3,FALSE),\"\")","v":""},{"$f":"IFERROR(VLOOKUP(C1703,Medlemmer!A:C,2,FALSE),\"\")","v":""},{"$f":"IFERROR(VLOOKUP(C1703,Tidligere_henvendelser!A:B,2,FALSE),\"\")","v":""}]
[{"$f":"ReplaceNumbers(C1704)","v":"Hyldegårds Tværvej"},{"$f":"_xlfn.NUMBERVALUE(FindNumbers(C1704))","v":15},"Hyldegårds Tværvej 15A, 1. th","2920 Charlottenlund",2350000,"2021-11-29","Alm. Salg",47000,2,"Ejerlejlighed",50,1906,{"$f":"IF(ISBLANK(VLOOKUP(A1704,Veje!A:B,2,FALSE)),INDEX(Veje!$D$2:$RT$652,MATCH(A1704,Veje!$A$2:$A$652,0),MATCH(B1704,Veje!$D$1:$RT$1,0)),VLOOKUP(A1704,Veje!A:B,2,FALSE))","v":"OCG"},{"$f":"IFERROR(VLOOKUP(C1704,Medlemmer!A:C,3,FALSE),\"\")","v":""},{"$f":"IFERROR(VLOOKUP(C1704,Medlemmer!A:C,2,FALSE),\"\")","v":""},{"$f":"IFERROR(VLOOKUP(C1704,Tidligere_henvendelser!A:B,2,FALSE),\"\")","v":""}]
[{"$f":"ReplaceNumbers(C1705)","v":"Strandvejen"},{"$f":"_xlfn.NUMBERVALUE(FindNumbers(C1705))","v":296},"Strandvejen 296B","2930 Klampenborg",8585000,"2021-11-29","Fam. Salg",29603,13,"Villa",166,1949,{"$f":"IF(ISBLANK(VLOOKUP(A1705,Veje!A:B,2,FALSE)),INDEX(Veje!$D$2:$RT$652,MATCH(A1705,Veje!$A$2:$A$652,0),MATCH(B1705,Veje!$D$1:$RT$1,0)),VLOOKUP(A1705,Veje!A:B,2,FALSE))","v":"SKGF"},{"$f":"IFERROR(VLOOKUP(C1705,Medlemmer!A:C,3,FALSE),\"\")","v":""},{"$f":"IFERROR(VLOOKUP(C1705,Medlemmer!A:C,2,FALSE),\"\")","v":""},{"$f":"IFERROR(VLOOKUP(C1705,Tidligere_henvendelser!A:B,2,FALSE),\"\")","v":""}]
[{"$f":"ReplaceNumbers(C1706)","v":"Søgårdsvej"},{"$f":"_xlfn.NUMBERVALUE(FindNumbers(C1706))","v":52},"Søgårdsvej 52B, 1. th","2820 Gentofte",4900000,"2021-11-29","Alm. Salg",37692,3,"Ejerlejlighed",130,1944,{"$f":"IF(ISBLANK(VLOOKUP(A1706,Veje!A:B,2,FALSE)),INDEX(Veje!$D$2:$RT$652,MATCH(A1706,Veje!$A$2:$A$652,0),MATCH(B1706,Veje!$D$1:$RT$1,0)),VLOOKUP(A1706,Veje!A:B,2,FALSE))","v":"GSG"},{"$f":"IFERROR(VLOOKUP(C1706,Medlemmer!A:C,3,FALSE),\"\")","v":""},{"$f":"IFERROR(VLOOKUP(C1706,Medlemmer!A:C,2,FALSE),\"\")","v":""},{"$f":"IFERROR(VLOOKUP(C1706,Tidligere_henvendelser!A:B,2,FALSE),\"\")","v":""}]
[{"$f":"ReplaceNumbers(C1707)","v":"Hartmannsvej"},{"$f":"_xlfn.NUMBERVALUE(FindNumbers(C1707))","v":2},"Hartmannsvej 2","2900 Hellerup",3867500,"2021-11-30","Fam. Salg",17740,8,"Villa",218,1898,{"$f":"IF(ISBLANK(VLOOKUP(A1707,Veje!A:B,2,FALSE)),INDEX(Veje!$D$2:$RT$652,MATCH(A1707,Veje!$A$2:$A$652,0),MATCH(B1707,Veje!$D$1:$RT$1,0)),VLOOKUP(A1707,Veje!A:B,2,FALSE))","v":"HMG"},{"$f":"IFERROR(VLOOKUP(C1707,Medlemmer!A:C,3,FALSE),\"\")","v":""},{"$f":"IFERROR(VLOOKUP(C1707,Medlemmer!A:C,2,FALSE),\"\")","v":""},{"$f":"IFERROR(VLOOKUP(C1707,Tidligere_henvendelser!A:B,2,FALSE),\"\")","v":""}]
[{"$f":"ReplaceNumbers(C1708)","v":"Ericavej"},{"$f":"_xlfn.NUMBERVALUE(FindNumbers(C1708))","v":147},"Ericavej 147, 1. 22","2820 Gentofte",1720000,"2021-11-30","Alm. Salg",28196,2,"Ejerlejlighed",61,1968,{"$f":"IF(ISBLANK(VLOOKUP(A1708,Veje!A:B,2,FALSE)),INDEX(Veje!$D$2:$RT$652,MATCH(A1708,Veje!$A$2:$A$652,0),MATCH(B1708,Veje!$D$1:$RT$1,0)),VLOOKUP(A1708,Veje!A:B,2,FALSE))","v":"GSG"},{"$f":"IFERROR(VLOOKUP(C1708,Medlemmer!A:C,3,FALSE),\"\")","v":""},{"$f":"IFERROR(VLOOKUP(C1708,Medlemmer!A:C,2,FALSE),\"\")","v":""},{"$f":"IFERROR(VLOOKUP(C1708,Tidligere_henvendelser!A:B,2,FALSE),\"\")","v":""}]
[{"$f":"ReplaceNumbers(C1709)","v":"Hellerupvej"},{"$f":"_xlfn.NUMBERVALUE(FindNumbers(C1709))","v":3},"Hellerupvej 3, st. tv","2900 Hellerup",3750000,"2021-12-01","Alm. Salg",34090,3,"Ejerlejlighed",110,1904,{"$f":"IF(ISBLANK(VLOOKUP(A1709,Veje!A:B,2,FALSE)),INDEX(Veje!$D$2:$RT$652,MATCH(A1709,Veje!$A$2:$A$652,0),MATCH(B1709,Veje!$D$1:$RT$1,0)),VLOOKUP(A1709,Veje!A:B,2,FALSE))","v":"HMG"},{"$f":"IFERROR(VLOOKUP(C1709,Medlemmer!A:C,3,FALSE),\"\")","v":""},{"$f":"IFERROR(VLOOKUP(C1709,Medlemmer!A:C,2,FALSE),\"\")","v":""},{"$f":"IFERROR(VLOOKUP(C1709,Tidligere_henvendelser!A:B,2,FALSE),\"\")","v":""}]
[{"$f":"ReplaceNumbers(C1710)","v":"Fuglegårdsvænget"},{"$f":"_xlfn.NUMBERVALUE(FindNumbers(C1710))","v":65},"Fuglegårdsvænget 65, st. tv","2820 Gentofte",1830000,"2021-12-01","Alm. Salg",33888,2,"Ejerlejlighed",54,1938,{"$f":"IF(ISBLANK(VLOOKUP(A1710,Veje!A:B,2,FALSE)),INDEX(Veje!$D$2:$RT$652,MATCH(A1710,Veje!$A$2:$A$652,0),MATCH(B1710,Veje!$D$1:$RT$1,0)),VLOOKUP(A1710,Veje!A:B,2,FALSE))","v":"GSG"},{"$f":"IFERROR(VLOOKUP(C1710,Medlemmer!A:C,3,FALSE),\"\")","v":""},{"$f":"IFERROR(VLOOKUP(C1710,Medlemmer!A:C,2,FALSE),\"\")","v":""},{"$f":"IFERROR(VLOOKUP(C1710,Tidligere_henvendelser!A:B,2,FALSE),\"\")","v":""}]
[{"$f":"ReplaceNumbers(C1711)","v":"Jægersborg Alle"},{"$f":"_xlfn.NUMBERVALUE(FindNumbers(C1711))","v":184},"Jægersborg Alle 184","2820 Gentofte",3037500,"2021-12-01","Andet",18298,9,"Villa",166,1945,{"$f":"IF(ISBLANK(VLOOKUP(A1711,Veje!A:B,2,FALSE)),INDEX(Veje!$D$2:$RT$652,MATCH(A1711,Veje!$A$2:$A$652,0),MATCH(B1711,Veje!$D$1:$RT$1,0)),VLOOKUP(A1711,Veje!A:B,2,FALSE))","v":"BJGF"},{"$f":"IFERROR(VLOOKUP(C1711,Medlemmer!A:C,3,FALSE),\"\")","v":""},{"$f":"IFERROR(VLOOKUP(C1711,Medlemmer!A:C,2,FALSE),\"\")","v":""},{"$f":"IFERROR(VLOOKUP(C1711,Tidligere_henvendelser!A:B,2,FALSE),\"\")","v":""}]
[{"$f":"ReplaceNumbers(C1712)","v":"Kirkevej"},{"$f":"_xlfn.NUMBERVALUE(FindNumbers(C1712))","v":9},"Kirkevej 9Q","2920 Charlottenlund",5600000,"2021-12-02","Alm. Salg",64367,3,"Ejerlejlighed",87,1991,{"$f":"IF(ISBLANK(VLOOKUP(A1712,Veje!A:B,2,FALSE)),INDEX(Veje!$D$2:$RT$652,MATCH(A1712,Veje!$A$2:$A$652,0),MATCH(B1712,Veje!$D$1:$RT$1,0)),VLOOKUP(A1712,Veje!A:B,2,FALSE))","v":"OCG"},{"$f":"IFERROR(VLOOKUP(C1712,Medlemmer!A:C,3,FALSE),\"\")","v":""},{"$f":"IFERROR(VLOOKUP(C1712,Medlemmer!A:C,2,FALSE),\"\")","v":""},{"$f":"IFERROR(VLOOKUP(C1712,Tidligere_henvendelser!A:B,2,FALSE),\"\")","v":""}]
[{"$f":"ReplaceNumbers(C1713)","v":"Sønderdalen"},{"$f":"_xlfn.NUMBERVALUE(FindNumbers(C1713))","v":17},"Sønderdalen 17","2870 Dyssegård ",10400000,"2021-12-02","Alm. Salg",69798,6,"Villa",149,1936,{"$f":"IF(ISBLANK(VLOOKUP(A1713,Veje!A:B,2,FALSE)),INDEX(Veje!$D$2:$RT$652,MATCH(A1713,Veje!$A$2:$A$652,0),MATCH(B1713,Veje!$D$1:$RT$1,0)),VLOOKUP(A1713,Veje!A:B,2,FALSE))","v":"DY"},{"$f":"IFERROR(VLOOKUP(C1713,Medlemmer!A:C,3,FALSE),\"\")","v":""},{"$f":"IFERROR(VLOOKUP(C1713,Medlemmer!A:C,2,FALSE),\"\")","v":""},{"$f":"IFERROR(VLOOKUP(C1713,Tidligere_henvendelser!A:B,2,FALSE),\"\")","v":""}]
[{"$f":"ReplaceNumbers(C1714)","v":"Strandvejen"},{"$f":"_xlfn.NUMBERVALUE(FindNumbers(C1714))","v":110},"Strandvejen 110, 4. tv","2900 Hellerup",9800000,"2021-12-02","Alm. Salg",55367,6,"Ejerlejlighed",177,1902,{"$f":"IF(ISBLANK(VLOOKUP(A1714,Veje!A:B,2,FALSE)),INDEX(Veje!$D$2:$RT$652,MATCH(A1714,Veje!$A$2:$A$652,0),MATCH(B1714,Veje!$D$1:$RT$1,0)),VLOOKUP(A1714,Veje!A:B,2,FALSE))","v":"HMG"},{"$f":"IFERROR(VLOOKUP(C1714,Medlemmer!A:C,3,FALSE),\"\")","v":""},{"$f":"IFERROR(VLOOKUP(C1714,Medlemmer!A:C,2,FALSE),\"\")","v":""},{"$f":"IFERROR(VLOOKUP(C1714,Tidligere_henvendelser!A:B,2,FALSE),\"\")","v":""}]
[{"$f":"ReplaceNumbers(C1715)","v":"Fortunvej"},{"$f":"_xlfn.NUMBERVALUE(FindNumbers(C1715))","v":56},"Fortunvej 56","2920 Charlottenlund",7150000,"2021-12-02","Alm. Salg",39285,7,"Villa",152,1930,{"$f":"IF(ISBLANK(VLOOKUP(A1715,Veje!A:B,2,FALSE)),INDEX(Veje!$D$2:$RT$652,MATCH(A1715,Veje!$A$2:$A$652,0),MATCH(B1715,Veje!$D$1:$RT$1,0)),VLOOKUP(A1715,Veje!A:B,2,FALSE))","v":"BJGF"},{"$f":"IFERROR(VLOOKUP(C1715,Medlemmer!A:C,3,FALSE),\"\")","v":""},{"$f":"IFERROR(VLOOKUP(C1715,Medlemmer!A:C,2,FALSE),\"\")","v":""},{"$f":"IFERROR(VLOOKUP(C1715,Tidligere_henvendelser!A:B,2,FALSE),\"\")","v":""}]
[{"$f":"ReplaceNumbers(C1716)","v":"Sigridsvej"},{"$f":"_xlfn.NUMBERVALUE(FindNumbers(C1716))","v":13},"Sigridsvej 13, st","2900 Hellerup",13500000,"2021-12-02","Alm. Salg",97826,4,"Ejerlejlighed",138,1896,{"$f":"IF(ISBLANK(VLOOKUP(A1716,Veje!A:B,2,FALSE)),INDEX(Veje!$D$2:$RT$652,MATCH(A1716,Veje!$A$2:$A$652,0),MATCH(B1716,Veje!$D$1:$RT$1,0)),VLOOKUP(A1716,Veje!A:B,2,FALSE))","v":"HMG"},{"$f":"IFERROR(VLOOKUP(C1716,Medlemmer!A:C,3,FALSE),\"\")","v":""},{"$f":"IFERROR(VLOOKUP(C1716,Medlemmer!A:C,2,FALSE),\"\")","v":""},{"$f":"IFERROR(VLOOKUP(C1716,Tidligere_henvendelser!A:B,2,FALSE),\"\")","v":""}]
[{"$f":"ReplaceNumbers(C1717)","v":"Sigridsvej"},{"$f":"_xlfn.NUMBERVALUE(FindNumbers(C1717))","v":13},"Sigridsvej 13, 1","2900 Hellerup",13500000,"2021-12-02","Alm. Salg",67164,5,"Ejerlejlighed",201,1896,{"$f":"IF(ISBLANK(VLOOKUP(A1717,Veje!A:B,2,FALSE)),INDEX(Veje!$D$2:$RT$652,MATCH(A1717,Veje!$A$2:$A$652,0),MATCH(B1717,Veje!$D$1:$RT$1,0)),VLOOKUP(A1717,Veje!A:B,2,FALSE))","v":"HMG"},{"$f":"IFERROR(VLOOKUP(C1717,Medlemmer!A:C,3,FALSE),\"\")","v":""},{"$f":"IFERROR(VLOOKUP(C1717,Medlemmer!A:C,2,FALSE),\"\")","v":""},{"$f":"IFERROR(VLOOKUP(C1717,Tidligere_henvendelser!A:B,2,FALSE),\"\")","v":""}]
[{"$f":"ReplaceNumbers(C1718)","v":"Herredsvej"},{"$f":"_xlfn.NUMBERVALUE(FindNumbers(C1718))","v":70},"Herredsvej 70","2820 Gentofte",4700000,"2021-12-03","Alm. Salg",29375,5,"Villa",160,1945,{"$f":"IF(ISBLANK(VLOOKUP(A1718,Veje!A:B,2,FALSE)),INDEX(Veje!$D$2:$RT$652,MATCH(A1718,Veje!$A$2:$A$652,0),MATCH(B1718,Veje!$D$1:$RT$1,0)),VLOOKUP(A1718,Veje!A:B,2,FALSE))","v":"GSG"},{"$f":"IFERROR(VLOOKUP(C1718,Medlemmer!A:C,3,FALSE),\"\")","v":""},{"$f":"IFERROR(VLOOKUP(C1718,Medlemmer!A:C,2,FALSE),\"\")","v":""},{"$f":"IFERROR(VLOOKUP(C1718,Tidligere_henvendelser!A:B,2,FALSE),\"\")","v":""}]
[{"$f":"ReplaceNumbers(C1719)","v":"Smakkegårdsvej"},{"$f":"_xlfn.NUMBERVALUE(FindNumbers(C1719))","v":61},"Smakkegårdsvej 61","2820 Gentofte",9750000,"2021-12-04","Alm. Salg",43141,9,"Villa",226,1936,{"$f":"IF(ISBLANK(VLOOKUP(A1719,Veje!A:B,2,FALSE)),INDEX(Veje!$D$2:$RT$652,MATCH(A1719,Veje!$A$2:$A$652,0),MATCH(B1719,Veje!$D$1:$RT$1,0)),VLOOKUP(A1719,Veje!A:B,2,FALSE))","v":"GSG"},{"$f":"IFERROR(VLOOKUP(C1719,Medlemmer!A:C,3,FALSE),\"\")","v":""},{"$f":"IFERROR(VLOOKUP(C1719,Medlemmer!A:C,2,FALSE),\"\")","v":""},{"$f":"IFERROR(VLOOKUP(C1719,Tidligere_henvendelser!A:B,2,FALSE),\"\")","v":""}]
[{"$f":"ReplaceNumbers(C1720)","v":"Hyldegårds Tværvej"},{"$f":"_xlfn.NUMBERVALUE(FindNumbers(C1720))","v":15},"Hyldegårds Tværvej 15A, st. tv","2920 Charlottenlund",2850000,"2021-12-04","Alm. Salg",57000,3,"Ejerlejlighed",50,1906,{"$f":"IF(ISBLANK(VLOOKUP(A1720,Veje!A:B,2,FALSE)),INDEX(Veje!$D$2:$RT$652,MATCH(A1720,Veje!$A$2:$A$652,0),MATCH(B1720,Veje!$D$1:$RT$1,0)),VLOOKUP(A1720,Veje!A:B,2,FALSE))","v":"OCG"},{"$f":"IFERROR(VLOOKUP(C1720,Medlemmer!A:C,3,FALSE),\"\")","v":""},{"$f":"IFERROR(VLOOKUP(C1720,Medlemmer!A:C,2,FALSE),\"\")","v":""},{"$f":"IFERROR(VLOOKUP(C1720,Tidligere_henvendelser!A:B,2,FALSE),\"\")","v":""}]
[{"$f":"ReplaceNumbers(C1721)","v":"Smakkegårdsvej"},{"$f":"_xlfn.NUMBERVALUE(FindNumbers(C1721))","v":38},"Smakkegårdsvej 38","2820 Gentofte",9905000,"2021-12-05","Alm. Salg",44022,8,"Villa",225,1957,{"$f":"IF(ISBLANK(VLOOKUP(A1721,Veje!A:B,2,FALSE)),INDEX(Veje!$D$2:$RT$652,MATCH(A1721,Veje!$A$2:$A$652,0),MATCH(B1721,Veje!$D$1:$RT$1,0)),VLOOKUP(A1721,Veje!A:B,2,FALSE))","v":"BJGF"},{"$f":"IFERROR(VLOOKUP(C1721,Medlemmer!A:C,3,FALSE),\"\")","v":""},{"$f":"IFERROR(VLOOKUP(C1721,Medlemmer!A:C,2,FALSE),\"\")","v":""},{"$f":"IFERROR(VLOOKUP(C1721,Tidligere_henvendelser!A:B,2,FALSE),\"\")","v":""}]
[{"$f":"ReplaceNumbers(C1722)","v":"Jægersborg Alle"},{"$f":"_xlfn.NUMBERVALUE(FindNumbers(C1722))","v":245},"Jægersborg Alle 245, st. tv","2820 Gentofte",3400000,"2021-12-05","Alm. Salg",29310,3,"Ejerlejlighed",116,1957,{"$f":"IF(ISBLANK(VLOOKUP(A1722,Veje!A:B,2,FALSE)),INDEX(Veje!$D$2:$RT$652,MATCH(A1722,Veje!$A$2:$A$652,0),MATCH(B1722,Veje!$D$1:$RT$1,0)),VLOOKUP(A1722,Veje!A:B,2,FALSE))","v":"BJGF"},{"$f":"IFERROR(VLOOKUP(C1722,Medlemmer!A:C,3,FALSE),\"\")","v":""},{"$f":"IFERROR(VLOOKUP(C1722,Medlemmer!A:C,2,FALSE),\"\")","v":""},{"$f":"IFERROR(VLOOKUP(C1722,Tidligere_henvendelser!A:B,2,FALSE),\"\")","v":""}]
[{"$f":"ReplaceNumbers(C1723)","v":"Jensløvs Tværvej"},{"$f":"_xlfn.NUMBERVALUE(FindNumbers(C1723))","v":3},"Jensløvs Tværvej 3B, 1. th","2920 Charlottenlund",3250000,"2021-12-05","Alm. Salg",48507,2,"Ejerlejlighed",67,1945,{"$f":"IF(ISBLANK(VLOOKUP(A1723,Veje!A:B,2,FALSE)),INDEX(Veje!$D$2:$RT$652,MATCH(A1723,Veje!$A$2:$A$652,0),MATCH(B1723,Veje!$D$1:$RT$1,0)),VLOOKUP(A1723,Veje!A:B,2,FALSE))","v":"OCG"},{"$f":"IFERROR(VLOOKUP(C1723,Medlemmer!A:C,3,FALSE),\"\")","v":""},{"$f":"IFERROR(VLOOKUP(C1723,Medlemmer!A:C,2,FALSE),\"\")","v":""},{"$f":"IFERROR(VLOOKUP(C1723,Tidligere_henvendelser!A:B,2,FALSE),\"\")","v":""}]
[{"$f":"ReplaceNumbers(C1724)","v":"Strandvejen"},{"$f":"_xlfn.NUMBERVALUE(FindNumbers(C1724))","v":180},"Strandvejen 180","2920 Charlottenlund",19585560,"2021-12-05","Alm. Salg",46411,5,"Villa",422,0,{"$f":"IF(ISBLANK(VLOOKUP(A1724,Veje!A:B,2,FALSE)),INDEX(Veje!$D$2:$RT$652,MATCH(A1724,Veje!$A$2:$A$652,0),MATCH(B1724,Veje!$D$1:$RT$1,0)),VLOOKUP(A1724,Veje!A:B,2,FALSE))","v":"SKGF"},{"$f":"IFERROR(VLOOKUP(C1724,Medlemmer!A:C,3,FALSE),\"\")","v":""},{"$f":"IFERROR(VLOOKUP(C1724,Medlemmer!A:C,2,FALSE),\"\")","v":""},{"$f":"IFERROR(VLOOKUP(C1724,Tidligere_henvendelser!A:B,2,FALSE),\"\")","v":""}]
[{"$f":"ReplaceNumbers(C1725)","v":"Ordrupvej"},{"$f":"_xlfn.NUMBERVALUE(FindNumbers(C1725))","v":41},"Ordrupvej 41B, 2. 2","2920 Charlottenlund",2100000,"2021-12-05","Alm. Salg",37500,2,"Ejerlejlighed",56,1961,{"$f":"IF(ISBLANK(VLOOKUP(A1725,Veje!A:B,2,FALSE)),INDEX(Veje!$D$2:$RT$652,MATCH(A1725,Veje!$A$2:$A$652,0),MATCH(B1725,Veje!$D$1:$RT$1,0)),VLOOKUP(A1725,Veje!A:B,2,FALSE))","v":"OCG"},{"$f":"IFERROR(VLOOKUP(C1725,Medlemmer!A:C,3,FALSE),\"\")","v":""},{"$f":"IFERROR(VLOOKUP(C1725,Medlemmer!A:C,2,FALSE),\"\")","v":""},{"$f":"IFERROR(VLOOKUP(C1725,Tidligere_henvendelser!A:B,2,FALSE),\"\")","v":""}]
[{"$f":"ReplaceNumbers(C1726)","v":"H A Clausens Vej"},{"$f":"_xlfn.NUMBERVALUE(FindNumbers(C1726))","v":20},"H A Clausens Vej 20A","2820 Gentofte",10800000,"2021-12-06","Alm. Salg",78260,4,"Villa",138,1967,{"$f":"IF(ISBLANK(VLOOKUP(A1726,Veje!A:B,2,FALSE)),INDEX(Veje!$D$2:$RT$652,MATCH(A1726,Veje!$A$2:$A$652,0),MATCH(B1726,Veje!$D$1:$RT$1,0)),VLOOKUP(A1726,Veje!A:B,2,FALSE))","v":"GSG"},{"$f":"IFERROR(VLOOKUP(C1726,Medlemmer!A:C,3,FALSE),\"\")","v":""},{"$f":"IFERROR(VLOOKUP(C1726,Medlemmer!A:C,2,FALSE),\"\")","v":""},{"$f":"IFERROR(VLOOKUP(C1726,Tidligere_henvendelser!A:B,2,FALSE),\"\")","v":""}]
[{"$f":"ReplaceNumbers(C1727)","v":"Mindevej"},{"$f":"_xlfn.NUMBERVALUE(FindNumbers(C1727))","v":49},"Mindevej 49","2870 Dyssegård ",11995000,"2021-12-06","Alm. Salg",68542,6,"Villa",175,2007,{"$f":"IF(ISBLANK(VLOOKUP(A1727,Veje!A:B,2,FALSE)),INDEX(Veje!$D$2:$RT$652,MATCH(A1727,Veje!$A$2:$A$652,0),MATCH(B1727,Veje!$D$1:$RT$1,0)),VLOOKUP(A1727,Veje!A:B,2,FALSE))","v":"DY"},{"$f":"IFERROR(VLOOKUP(C1727,Medlemmer!A:C,3,FALSE),\"\")","v":""},{"$f":"IFERROR(VLOOKUP(C1727,Medlemmer!A:C,2,FALSE),\"\")","v":""},{"$f":"IFERROR(VLOOKUP(C1727,Tidligere_henvendelser!A:B,2,FALSE),\"\")","v":""}]
[{"$f":"ReplaceNumbers(C1728)","v":"Morescosvej"},{"$f":"_xlfn.NUMBERVALUE(FindNumbers(C1728))","v":12},"Morescosvej 12, st. th","2920 Charlottenlund",1460000,"2021-12-07","Alm. Salg",31739,1,"Ejerlejlighed",46,1943,{"$f":"IF(ISBLANK(VLOOKUP(A1728,Veje!A:B,2,FALSE)),INDEX(Veje!$D$2:$RT$652,MATCH(A1728,Veje!$A$2:$A$652,0),MATCH(B1728,Veje!$D$1:$RT$1,0)),VLOOKUP(A1728,Veje!A:B,2,FALSE))","v":"OCG"},{"$f":"IFERROR(VLOOKUP(C1728,Medlemmer!A:C,3,FALSE),\"\")","v":""},{"$f":"IFERROR(VLOOKUP(C1728,Medlemmer!A:C,2,FALSE),\"\")","v":""},{"$f":"IFERROR(VLOOKUP(C1728,Tidligere_henvendelser!A:B,2,FALSE),\"\")","v":""}]
[{"$f":"ReplaceNumbers(C1729)","v":"Dalstrøget"},{"$f":"_xlfn.NUMBERVALUE(FindNumbers(C1729))","v":67},"Dalstrøget 67, 1. tv","2870 Dyssegård ",2080000,"2021-12-07","Alm. Salg",35254,2,"Ejerlejlighed",59,1959,{"$f":"IF(ISBLANK(VLOOKUP(A1729,Veje!A:B,2,FALSE)),INDEX(Veje!$D$2:$RT$652,MATCH(A1729,Veje!$A$2:$A$652,0),MATCH(B1729,Veje!$D$1:$RT$1,0)),VLOOKUP(A1729,Veje!A:B,2,FALSE))","v":"DY"},{"$f":"IFERROR(VLOOKUP(C1729,Medlemmer!A:C,3,FALSE),\"\")","v":""},{"$f":"IFERROR(VLOOKUP(C1729,Medlemmer!A:C,2,FALSE),\"\")","v":""},{"$f":"IFERROR(VLOOKUP(C1729,Tidligere_henvendelser!A:B,2,FALSE),\"\")","v":""}]
[{"$f":"ReplaceNumbers(C1730)","v":"Ordrup Jagtvej"},{"$f":"_xlfn.NUMBERVALUE(FindNumbers(C1730))","v":42},"Ordrup Jagtvej 42C, 2. th","2920 Charlottenlund",2320000,"2021-12-07","Alm. Salg",40000,2,"Ejerlejlighed",58,1934,{"$f":"IF(ISBLANK(VLOOKUP(A1730,Veje!A:B,2,FALSE)),INDEX(Veje!$D$2:$RT$652,MATCH(A1730,Veje!$A$2:$A$652,0),MATCH(B1730,Veje!$D$1:$RT$1,0)),VLOOKUP(A1730,Veje!A:B,2,FALSE))","v":"SKGF"},{"$f":"IFERROR(VLOOKUP(C1730,Medlemmer!A:C,3,FALSE),\"\")","v":""},{"$f":"IFERROR(VLOOKUP(C1730,Medlemmer!A:C,2,FALSE),\"\")","v":""},{"$f":"IFERROR(VLOOKUP(C1730,Tidligere_henvendelser!A:B,2,FALSE),\"\")","v":""}]
[{"$f":"ReplaceNumbers(C1731)","v":"Strandvejen"},{"$f":"_xlfn.NUMBERVALUE(FindNumbers(C1731))","v":194},"Strandvejen 194E","2920 Charlottenlund",17700000,"2021-12-08","Alm. Salg",137209,4,"Rækkehus",129,1976,{"$f":"IF(ISBLANK(VLOOKUP(A1731,Veje!A:B,2,FALSE)),INDEX(Veje!$D$2:$RT$652,MATCH(A1731,Veje!$A$2:$A$652,0),MATCH(B1731,Veje!$D$1:$RT$1,0)),VLOOKUP(A1731,Veje!A:B,2,FALSE))","v":"SKGF"},{"$f":"IFERROR(VLOOKUP(C1731,Medlemmer!A:C,3,FALSE),\"\")","v":""},{"$f":"IFERROR(VLOOKUP(C1731,Medlemmer!A:C,2,FALSE),\"\")","v":""},{"$f":"IFERROR(VLOOKUP(C1731,Tidligere_henvendelser!A:B,2,FALSE),\"\")","v":""}]
[{"$f":"ReplaceNumbers(C1732)","v":"Gjørlingsvej"},{"$f":"_xlfn.NUMBERVALUE(FindNumbers(C1732))","v":10},"Gjørlingsvej 10","2900 Hellerup",15700000,"2021-12-08","Alm. Salg",69162,9,"Villa",227,1918,{"$f":"IF(ISBLANK(VLOOKUP(A1732,Veje!A:B,2,FALSE)),INDEX(Veje!$D$2:$RT$652,MATCH(A1732,Veje!$A$2:$A$652,0),MATCH(B1732,Veje!$D$1:$RT$1,0)),VLOOKUP(A1732,Veje!A:B,2,FALSE))","v":"HMG"},{"$f":"IFERROR(VLOOKUP(C1732,Medlemmer!A:C,3,FALSE),\"\")","v":""},{"$f":"IFERROR(VLOOKUP(C1732,Medlemmer!A:C,2,FALSE),\"\")","v":""},{"$f":"IFERROR(VLOOKUP(C1732,Tidligere_henvendelser!A:B,2,FALSE),\"\")","v":""}]
[{"$f":"ReplaceNumbers(C1733)","v":"Vangede Bygade"},{"$f":"_xlfn.NUMBERVALUE(FindNumbers(C1733))","v":68},"Vangede Bygade 68, 2. tv","2820 Gentofte",680000,"2021-12-08","Fam. Salg",13333,2,"Ejerlejlighed",51,1940,{"$f":"IF(ISBLANK(VLOOKUP(A1733,Veje!A:B,2,FALSE)),INDEX(Veje!$D$2:$RT$652,MATCH(A1733,Veje!$A$2:$A$652,0),MATCH(B1733,Veje!$D$1:$RT$1,0)),VLOOKUP(A1733,Veje!A:B,2,FALSE))","v":"GSG"},{"$f":"IFERROR(VLOOKUP(C1733,Medlemmer!A:C,3,FALSE),\"\")","v":""},{"$f":"IFERROR(VLOOKUP(C1733,Medlemmer!A:C,2,FALSE),\"\")","v":""},{"$f":"IFERROR(VLOOKUP(C1733,Tidligere_henvendelser!A:B,2,FALSE),\"\")","v":""}]
[{"$f":"ReplaceNumbers(C1734)","v":"Sofievej"},{"$f":"_xlfn.NUMBERVALUE(FindNumbers(C1734))","v":13},"Sofievej 13","2900 Hellerup",8625000,"2021-12-09","Alm. Salg",32919,9,"Villa",262,1910,{"$f":"IF(ISBLANK(VLOOKUP(A1734,Veje!A:B,2,FALSE)),INDEX(Veje!$D$2:$RT$652,MATCH(A1734,Veje!$A$2:$A$652,0),MATCH(B1734,Veje!$D$1:$RT$1,0)),VLOOKUP(A1734,Veje!A:B,2,FALSE))","v":"HMG"},{"$f":"IFERROR(VLOOKUP(C1734,Medlemmer!A:C,3,FALSE),\"\")","v":""},{"$f":"IFERROR(VLOOKUP(C1734,Medlemmer!A:C,2,FALSE),\"\")","v":""},{"$f":"IFERROR(VLOOKUP(C1734,Tidligere_henvendelser!A:B,2,FALSE),\"\")","v":""}]
[{"$f":"ReplaceNumbers(C1735)","v":"Vangede Bygade"},{"$f":"_xlfn.NUMBERVALUE(FindNumbers(C1735))","v":64},"Vangede Bygade 64, st. th","2820 Gentofte",1825000,"2021-12-09","Alm. Salg",35784,2,"Ejerlejlighed",51,1940,{"$f":"IF(ISBLANK(VLOOKUP(A1735,Veje!A:B,2,FALSE)),INDEX(Veje!$D$2:$RT$652,MATCH(A1735,Veje!$A$2:$A$652,0),MATCH(B1735,Veje!$D$1:$RT$1,0)),VLOOKUP(A1735,Veje!A:B,2,FALSE))","v":"GSG"},{"$f":"IFERROR(VLOOKUP(C1735,Medlemmer!A:C,3,FALSE),\"\")","v":""},{"$f":"IFERROR(VLOOKUP(C1735,Medlemmer!A:C,2,FALSE),\"\")","v":""},{"$f":"IFERROR(VLOOKUP(C1735,Tidligere_henvendelser!A:B,2,FALSE),\"\")","v":""}]
[{"$f":"ReplaceNumbers(C1736)","v":"Ellebækvej"},{"$f":"_xlfn.NUMBERVALUE(FindNumbers(C1736))","v":65},"Ellebækvej 65, 1. th","2820 Gentofte",2150000,"2021-12-09","Alm. Salg",39090,2,"Ejerlejlighed",55,1939,{"$f":"IF(ISBLANK(VLOOKUP(A1736,Veje!A:B,2,FALSE)),INDEX(Veje!$D$2:$RT$652,MATCH(A1736,Veje!$A$2:$A$652,0),MATCH(B1736,Veje!$D$1:$RT$1,0)),VLOOKUP(A1736,Veje!A:B,2,FALSE))","v":"GSG"},{"$f":"IFERROR(VLOOKUP(C1736,Medlemmer!A:C,3,FALSE),\"\")","v":""},{"$f":"IFERROR(VLOOKUP(C1736,Medlemmer!A:C,2,FALSE),\"\")","v":""},{"$f":"IFERROR(VLOOKUP(C1736,Tidligere_henvendelser!A:B,2,FALSE),\"\")","v":""}]
[{"$f":"ReplaceNumbers(C1737)","v":"Hjemmevej"},{"$f":"_xlfn.NUMBERVALUE(FindNumbers(C1737))","v":24},"Hjemmevej 24","2870 Dyssegård ",9400000,"2021-12-09","Alm. Salg",69117,5,"Villa",136,1938,{"$f":"IF(ISBLANK(VLOOKUP(A1737,Veje!A:B,2,FALSE)),INDEX(Veje!$D$2:$RT$652,MATCH(A1737,Veje!$A$2:$A$652,0),MATCH(B1737,Veje!$D$1:$RT$1,0)),VLOOKUP(A1737,Veje!A:B,2,FALSE))","v":"DY"},{"$f":"IFERROR(VLOOKUP(C1737,Medlemmer!A:C,3,FALSE),\"\")","v":""},{"$f":"IFERROR(VLOOKUP(C1737,Medlemmer!A:C,2,FALSE),\"\")","v":""},{"$f":"IFERROR(VLOOKUP(C1737,Tidligere_henvendelser!A:B,2,FALSE),\"\")","v":""}]
[{"$f":"ReplaceNumbers(C1738)","v":"Maglemosevej"},{"$f":"_xlfn.NUMBERVALUE(FindNumbers(C1738))","v":55},"Maglemosevej 55","2920 Charlottenlund",14500000,"2021-12-10","Alm. Salg",88957,5,"Villa",163,1922,{"$f":"IF(ISBLANK(VLOOKUP(A1738,Veje!A:B,2,FALSE)),INDEX(Veje!$D$2:$RT$652,MATCH(A1738,Veje!$A$2:$A$652,0),MATCH(B1738,Veje!$D$1:$RT$1,0)),VLOOKUP(A1738,Veje!A:B,2,FALSE))","v":"HMG"},{"$f":"IFERROR(VLOOKUP(C1738,Medlemmer!A:C,3,FALSE),\"\")","v":""},{"$f":"IFERROR(VLOOKUP(C1738,Medlemmer!A:C,2,FALSE),\"\")","v":""},{"$f":"IFERROR(VLOOKUP(C1738,Tidligere_henvendelser!A:B,2,FALSE),\"\")","v":""}]
[{"$f":"ReplaceNumbers(C1739)","v":"Slotsvej"},{"$f":"_xlfn.NUMBERVALUE(FindNumbers(C1739))","v":16},"Slotsvej 16B","2920 Charlottenlund",15000000,"2021-12-11","Alm. Salg",75376,8,"Villa",199,1922,{"$f":"IF(ISBLANK(VLOOKUP(A1739,Veje!A:B,2,FALSE)),INDEX(Veje!$D$2:$RT$652,MATCH(A1739,Veje!$A$2:$A$652,0),MATCH(B1739,Veje!$D$1:$RT$1,0)),VLOOKUP(A1739,Veje!A:B,2,FALSE))","v":"BJGF"},{"$f":"IFERROR(VLOOKUP(C1739,Medlemmer!A:C,3,FALSE),\"\")","v":""},{"$f":"IFERROR(VLOOKUP(C1739,Medlemmer!A:C,2,FALSE),\"\")","v":""},{"$f":"IFERROR(VLOOKUP(C1739,Tidligere_henvendelser!A:B,2,FALSE),\"\")","v":""}]
[{"$f":"ReplaceNumbers(C1740)","v":"Sundvænget"},{"$f":"_xlfn.NUMBERVALUE(FindNumbers(C1740))","v":12},"Sundvænget 12","2900 Hellerup",31000000,"2021-12-12","Alm. Salg",145539,6,"Rækkehus",213,1927,{"$f":"IF(ISBLANK(VLOOKUP(A1740,Veje!A:B,2,FALSE)),INDEX(Veje!$D$2:$RT$652,MATCH(A1740,Veje!$A$2:$A$652,0),MATCH(B1740,Veje!$D$1:$RT$1,0)),VLOOKUP(A1740,Veje!A:B,2,FALSE))","v":"HMG"},{"$f":"IFERROR(VLOOKUP(C1740,Medlemmer!A:C,3,FALSE),\"\")","v":""},{"$f":"IFERROR(VLOOKUP(C1740,Medlemmer!A:C,2,FALSE),\"\")","v":""},{"$f":"IFERROR(VLOOKUP(C1740,Tidligere_henvendelser!A:B,2,FALSE),\"\")","v":""}]
[{"$f":"ReplaceNumbers(C1741)","v":"Tranegårdsvej"},{"$f":"_xlfn.NUMBERVALUE(FindNumbers(C1741))","v":64},"Tranegårdsvej 64, 2. th","2900 Hellerup",2595000,"2021-12-12","Alm. Salg",43250,2,"Ejerlejlighed",60,1919,{"$f":"IF(ISBLANK(VLOOKUP(A1741,Veje!A:B,2,FALSE)),INDEX(Veje!$D$2:$RT$652,MATCH(A1741,Veje!$A$2:$A$652,0),MATCH(B1741,Veje!$D$1:$RT$1,0)),VLOOKUP(A1741,Veje!A:B,2,FALSE))","v":"HMG"},{"$f":"IFERROR(VLOOKUP(C1741,Medlemmer!A:C,3,FALSE),\"\")","v":""},{"$f":"IFERROR(VLOOKUP(C1741,Medlemmer!A:C,2,FALSE),\"\")","v":""},{"$f":"IFERROR(VLOOKUP(C1741,Tidligere_henvendelser!A:B,2,FALSE),\"\")","v":""}]
[{"$f":"ReplaceNumbers(C1742)","v":"Blidahpark"},{"$f":"_xlfn.NUMBERVALUE(FindNumbers(C1742))","v":9},"Blidahpark 9, 2. tv","2900 Hellerup",5000000,"2021-12-12","Alm. Salg",64102,3,"Ejerlejlighed",78,1933,{"$f":"IF(ISBLANK(VLOOKUP(A1742,Veje!A:B,2,FALSE)),INDEX(Veje!$D$2:$RT$652,MATCH(A1742,Veje!$A$2:$A$652,0),MATCH(B1742,Veje!$D$1:$RT$1,0)),VLOOKUP(A1742,Veje!A:B,2,FALSE))","v":"HMG"},{"$f":"IFERROR(VLOOKUP(C1742,Medlemmer!A:C,3,FALSE),\"\")","v":""},{"$f":"IFERROR(VLOOKUP(C1742,Medlemmer!A:C,2,FALSE),\"\")","v":""},{"$f":"IFERROR(VLOOKUP(C1742,Tidligere_henvendelser!A:B,2,FALSE),\"\")","v":""}]
[{"$f":"ReplaceNumbers(C1743)","v":"Ordrupvej"},{"$f":"_xlfn.NUMBERVALUE(FindNumbers(C1743))","v":47},"Ordrupvej 47B, 2. th","2920 Charlottenlund",1062000,"2021-12-12","Alm. Salg",16338,2,"Ejerlejlighed",65,1955,{"$f":"IF(ISBLANK(VLOOKUP(A1743,Veje!A:B,2,FALSE)),INDEX(Veje!$D$2:$RT$652,MATCH(A1743,Veje!$A$2:$A$652,0),MATCH(B1743,Veje!$D$1:$RT$1,0)),VLOOKUP(A1743,Veje!A:B,2,FALSE))","v":"OCG"},{"$f":"IFERROR(VLOOKUP(C1743,Medlemmer!A:C,3,FALSE),\"\")","v":""},{"$f":"IFERROR(VLOOKUP(C1743,Medlemmer!A:C,2,FALSE),\"\")","v":""},{"$f":"IFERROR(VLOOKUP(C1743,Tidligere_henvendelser!A:B,2,FALSE),\"\")","v":""}]
[{"$f":"ReplaceNumbers(C1744)","v":"Gudrunsvej"},{"$f":"_xlfn.NUMBERVALUE(FindNumbers(C1744))","v":16},"Gudrunsvej 16","2920 Charlottenlund",10500000,"2021-12-13","Alm. Salg",60693,6,"Villa",173,1896,{"$f":"IF(ISBLANK(VLOOKUP(A1744,Veje!A:B,2,FALSE)),INDEX(Veje!$D$2:$RT$652,MATCH(A1744,Veje!$A$2:$A$652,0),MATCH(B1744,Veje!$D$1:$RT$1,0)),VLOOKUP(A1744,Veje!A:B,2,FALSE))","v":"OCG"},{"$f":"IFERROR(VLOOKUP(C1744,Medlemmer!A:C,3,FALSE),\"\")","v":""},{"$f":"IFERROR(VLOOKUP(C1744,Medlemmer!A:C,2,FALSE),\"\")","v":""},{"$f":"IFERROR(VLOOKUP(C1744,Tidligere_henvendelser!A:B,2,FALSE),\"\")","v":""}]
[{"$f":"ReplaceNumbers(C1745)","v":"Ole Bruuns Vej"},{"$f":"_xlfn.NUMBERVALUE(FindNumbers(C1745))","v":16},"Ole Bruuns Vej 16","2920 Charlottenlund",4760000,"2021-12-13","Fam. Salg",26010,6,"Villa",183,1886,{"$f":"IF(ISBLANK(VLOOKUP(A1745,Veje!A:B,2,FALSE)),INDEX(Veje!$D$2:$RT$652,MATCH(A1745,Veje!$A$2:$A$652,0),MATCH(B1745,Veje!$D$1:$RT$1,0)),VLOOKUP(A1745,Veje!A:B,2,FALSE))","v":"OCG"},{"$f":"IFERROR(VLOOKUP(C1745,Medlemmer!A:C,3,FALSE),\"\")","v":""},{"$f":"IFERROR(VLOOKUP(C1745,Medlemmer!A:C,2,FALSE),\"\")","v":""},{"$f":"IFERROR(VLOOKUP(C1745,Tidligere_henvendelser!A:B,2,FALSE),\"\")","v":""}]
[{"$f":"ReplaceNumbers(C1746)","v":"Charlottenlundvej"},{"$f":"_xlfn.NUMBERVALUE(FindNumbers(C1746))","v":9},"Charlottenlundvej 9, 1. th","2900 Hellerup",4350000,"2021-12-14","Alm. Salg",56493,3,"Ejerlejlighed",77,1904,{"$f":"IF(ISBLANK(VLOOKUP(A1746,Veje!A:B,2,FALSE)),INDEX(Veje!$D$2:$RT$652,MATCH(A1746,Veje!$A$2:$A$652,0),MATCH(B1746,Veje!$D$1:$RT$1,0)),VLOOKUP(A1746,Veje!A:B,2,FALSE))","v":"HMG"},{"$f":"IFERROR(VLOOKUP(C1746,Medlemmer!A:C,3,FALSE),\"\")","v":""},{"$f":"IFERROR(VLOOKUP(C1746,Medlemmer!A:C,2,FALSE),\"\")","v":""},{"$f":"IFERROR(VLOOKUP(C1746,Tidligere_henvendelser!A:B,2,FALSE),\"\")","v":""}]
[{"$f":"ReplaceNumbers(C1747)","v":"Højsgårds Alle"},{"$f":"_xlfn.NUMBERVALUE(FindNumbers(C1747))","v":66},"Højsgårds Alle 66, 1","2900 Hellerup",7010000,"2021-12-14","Alm. Salg",40520,6,"Ejerlejlighed",173,1933,{"$f":"IF(ISBLANK(VLOOKUP(A1747,Veje!A:B,2,FALSE)),INDEX(Veje!$D$2:$RT$652,MATCH(A1747,Veje!$A$2:$A$652,0),MATCH(B1747,Veje!$D$1:$RT$1,0)),VLOOKUP(A1747,Veje!A:B,2,FALSE))","v":"DY"},{"$f":"IFERROR(VLOOKUP(C1747,Medlemmer!A:C,3,FALSE),\"\")","v":""},{"$f":"IFERROR(VLOOKUP(C1747,Medlemmer!A:C,2,FALSE),\"\")","v":""},{"$f":"IFERROR(VLOOKUP(C1747,Tidligere_henvendelser!A:B,2,FALSE),\"\")","v":""}]
[{"$f":"ReplaceNumbers(C1748)","v":"Højsgårds Alle"},{"$f":"_xlfn.NUMBERVALUE(FindNumbers(C1748))","v":66},"Højsgårds Alle 66, st","2900 Hellerup",7010000,"2021-12-14","Alm. Salg",63153,4,"Ejerlejlighed",111,1933,{"$f":"IF(ISBLANK(VLOOKUP(A1748,Veje!A:B,2,FALSE)),INDEX(Veje!$D$2:$RT$652,MATCH(A1748,Veje!$A$2:$A$652,0),MATCH(B1748,Veje!$D$1:$RT$1,0)),VLOOKUP(A1748,Veje!A:B,2,FALSE))","v":"DY"},{"$f":"IFERROR(VLOOKUP(C1748,Medlemmer!A:C,3,FALSE),\"\")","v":""},{"$f":"IFERROR(VLOOKUP(C1748,Medlemmer!A:C,2,FALSE),\"\")","v":""},{"$f":"IFERROR(VLOOKUP(C1748,Tidligere_henvendelser!A:B,2,FALSE),\"\")","v":""}]
[{"$f":"ReplaceNumbers(C1749)","v":"Stolbergvej"},{"$f":"_xlfn.NUMBERVALUE(FindNumbers(C1749))","v":1},"Stolbergvej 1","2820 Gentofte",2514000,"2021-12-14","Fam. Salg",23495,4,"Villa",107,1934,{"$f":"IF(ISBLANK(VLOOKUP(A1749,Veje!A:B,2,FALSE)),INDEX(Veje!$D$2:$RT$652,MATCH(A1749,Veje!$A$2:$A$652,0),MATCH(B1749,Veje!$D$1:$RT$1,0)),VLOOKUP(A1749,Veje!A:B,2,FALSE))","v":"GSG"},{"$f":"IFERROR(VLOOKUP(C1749,Medlemmer!A:C,3,FALSE),\"\")","v":""},{"$f":"IFERROR(VLOOKUP(C1749,Medlemmer!A:C,2,FALSE),\"\")","v":""},{"$f":"IFERROR(VLOOKUP(C1749,Tidligere_henvendelser!A:B,2,FALSE),\"\")","v":"20Q1"}]
[{"$f":"ReplaceNumbers(C1750)","v":"Dalparken"},{"$f":"_xlfn.NUMBERVALUE(FindNumbers(C1750))","v":10},"Dalparken 10","2820 Gentofte",11150000,"2021-12-14","Alm. Salg",51146,7,"Villa",218,1967,{"$f":"IF(ISBLANK(VLOOKUP(A1750,Veje!A:B,2,FALSE)),INDEX(Veje!$D$2:$RT$652,MATCH(A1750,Veje!$A$2:$A$652,0),MATCH(B1750,Veje!$D$1:$RT$1,0)),VLOOKUP(A1750,Veje!A:B,2,FALSE))","v":"BJGF"},{"$f":"IFERROR(VLOOKUP(C1750,Medlemmer!A:C,3,FALSE),\"\")","v":""},{"$f":"IFERROR(VLOOKUP(C1750,Medlemmer!A:C,2,FALSE),\"\")","v":""},{"$f":"IFERROR(VLOOKUP(C1750,Tidligere_henvendelser!A:B,2,FALSE),\"\")","v":""}]
[{"$f":"ReplaceNumbers(C1751)","v":"Duntzfelts Alle"},{"$f":"_xlfn.NUMBERVALUE(FindNumbers(C1751))","v":28},"Duntzfelts Alle 28","2900 Hellerup",24500000,"2021-12-15","Alm. Salg",68435,9,"Villa",358,1901,{"$f":"IF(ISBLANK(VLOOKUP(A1751,Veje!A:B,2,FALSE)),INDEX(Veje!$D$2:$RT$652,MATCH(A1751,Veje!$A$2:$A$652,0),MATCH(B1751,Veje!$D$1:$RT$1,0)),VLOOKUP(A1751,Veje!A:B,2,FALSE))","v":"HMG"},{"$f":"IFERROR(VLOOKUP(C1751,Medlemmer!A:C,3,FALSE),\"\")","v":""},{"$f":"IFERROR(VLOOKUP(C1751,Medlemmer!A:C,2,FALSE),\"\")","v":""},{"$f":"IFERROR(VLOOKUP(C1751,Tidligere_henvendelser!A:B,2,FALSE),\"\")","v":""}]
[{"$f":"ReplaceNumbers(C1752)","v":"Dalstrøget"},{"$f":"_xlfn.NUMBERVALUE(FindNumbers(C1752))","v":100},"Dalstrøget 100, 2","2870 Dyssegård ",2850000,"2021-12-15","Alm. Salg",37500,3,"Ejerlejlighed",76,1959,{"$f":"IF(ISBLANK(VLOOKUP(A1752,Veje!A:B,2,FALSE)),INDEX(Veje!$D$2:$RT$652,MATCH(A1752,Veje!$A$2:$A$652,0),MATCH(B1752,Veje!$D$1:$RT$1,0)),VLOOKUP(A1752,Veje!A:B,2,FALSE))","v":"DY"},{"$f":"IFERROR(VLOOKUP(C1752,Medlemmer!A:C,3,FALSE),\"\")","v":""},{"$f":"IFERROR(VLOOKUP(C1752,Medlemmer!A:C,2,FALSE),\"\")","v":""},{"$f":"IFERROR(VLOOKUP(C1752,Tidligere_henvendelser!A:B,2,FALSE),\"\")","v":""}]
[{"$f":"ReplaceNumbers(C1753)","v":"Jægersborgvej"},{"$f":"_xlfn.NUMBERVALUE(FindNumbers(C1753))","v":110},"Jægersborgvej 110, 2. tv","2820 Gentofte",3230000,"2021-12-15","Alm. Salg",32626,4,"Ejerlejlighed",99,1949,{"$f":"IF(ISBLANK(VLOOKUP(A1753,Veje!A:B,2,FALSE)),INDEX(Veje!$D$2:$RT$652,MATCH(A1753,Veje!$A$2:$A$652,0),MATCH(B1753,Veje!$D$1:$RT$1,0)),VLOOKUP(A1753,Veje!A:B,2,FALSE))","v":"GSG"},{"$f":"IFERROR(VLOOKUP(C1753,Medlemmer!A:C,3,FALSE),\"\")","v":""},{"$f":"IFERROR(VLOOKUP(C1753,Medlemmer!A:C,2,FALSE),\"\")","v":""},{"$f":"IFERROR(VLOOKUP(C1753,Tidligere_henvendelser!A:B,2,FALSE),\"\")","v":""}]
[{"$f":"ReplaceNumbers(C1754)","v":"Strandlund"},{"$f":"_xlfn.NUMBERVALUE(FindNumbers(C1754))","v":129},"Strandlund 129","2920 Charlottenlund",9100000,"2021-12-15","Alm. Salg",104597,3,"Ejerlejlighed",87,1978,{"$f":"IF(ISBLANK(VLOOKUP(A1754,Veje!A:B,2,FALSE)),INDEX(Veje!$D$2:$RT$652,MATCH(A1754,Veje!$A$2:$A$652,0),MATCH(B1754,Veje!$D$1:$RT$1,0)),VLOOKUP(A1754,Veje!A:B,2,FALSE))","v":"HMG"},{"$f":"IFERROR(VLOOKUP(C1754,Medlemmer!A:C,3,FALSE),\"\")","v":""},{"$f":"IFERROR(VLOOKUP(C1754,Medlemmer!A:C,2,FALSE),\"\")","v":""},{"$f":"IFERROR(VLOOKUP(C1754,Tidligere_henvendelser!A:B,2,FALSE),\"\")","v":""}]
[{"$f":"ReplaceNumbers(C1755)","v":"Munkegårdsvej"},{"$f":"_xlfn.NUMBERVALUE(FindNumbers(C1755))","v":12},"Munkegårdsvej 12","2870 Dyssegård ",2295000,"2021-12-15","Fam. Salg",31438,3,"Villa",73,1957,{"$f":"IF(ISBLANK(VLOOKUP(A1755,Veje!A:B,2,FALSE)),INDEX(Veje!$D$2:$RT$652,MATCH(A1755,Veje!$A$2:$A$652,0),MATCH(B1755,Veje!$D$1:$RT$1,0)),VLOOKUP(A1755,Veje!A:B,2,FALSE))","v":"DY"},{"$f":"IFERROR(VLOOKUP(C1755,Medlemmer!A:C,3,FALSE),\"\")","v":""},{"$f":"IFERROR(VLOOKUP(C1755,Medlemmer!A:C,2,FALSE),\"\")","v":""},{"$f":"IFERROR(VLOOKUP(C1755,Tidligere_henvendelser!A:B,2,FALSE),\"\")","v":""}]
[{"$f":"ReplaceNumbers(C1756)","v":"Maltegårdsvej"},{"$f":"_xlfn.NUMBERVALUE(FindNumbers(C1756))","v":24},"Maltegårdsvej 24F","2820 Gentofte",12950000,"2021-12-15","Alm. Salg",75290,4,"Rækkehus",172,2009,{"$f":"IF(ISBLANK(VLOOKUP(A1756,Veje!A:B,2,FALSE)),INDEX(Veje!$D$2:$RT$652,MATCH(A1756,Veje!$A$2:$A$652,0),MATCH(B1756,Veje!$D$1:$RT$1,0)),VLOOKUP(A1756,Veje!A:B,2,FALSE))","v":"GSG"},{"$f":"IFERROR(VLOOKUP(C1756,Medlemmer!A:C,3,FALSE),\"\")","v":""},{"$f":"IFERROR(VLOOKUP(C1756,Medlemmer!A:C,2,FALSE),\"\")","v":""},{"$f":"IFERROR(VLOOKUP(C1756,Tidligere_henvendelser!A:B,2,FALSE),\"\")","v":"20Q2"}]
[{"$f":"ReplaceNumbers(C1757)","v":"Jensløvs Tværvej"},{"$f":"_xlfn.NUMBERVALUE(FindNumbers(C1757))","v":3},"Jensløvs Tværvej 3B, 4. th","2920 Charlottenlund",3250000,"2021-12-16","Alm. Salg",48507,3,"Ejerlejlighed",67,1945,{"$f":"IF(ISBLANK(VLOOKUP(A1757,Veje!A:B,2,FALSE)),INDEX(Veje!$D$2:$RT$652,MATCH(A1757,Veje!$A$2:$A$652,0),MATCH(B1757,Veje!$D$1:$RT$1,0)),VLOOKUP(A1757,Veje!A:B,2,FALSE))","v":"OCG"},{"$f":"IFERROR(VLOOKUP(C1757,Medlemmer!A:C,3,FALSE),\"\")","v":""},{"$f":"IFERROR(VLOOKUP(C1757,Medlemmer!A:C,2,FALSE),\"\")","v":""},{"$f":"IFERROR(VLOOKUP(C1757,Tidligere_henvendelser!A:B,2,FALSE),\"\")","v":""}]
[{"$f":"ReplaceNumbers(C1758)","v":"Blidahpark"},{"$f":"_xlfn.NUMBERVALUE(FindNumbers(C1758))","v":23},"Blidahpark 23, st. 2","2900 Hellerup",3350000,"2021-12-16","Alm. Salg",59821,2,"Ejerlejlighed",56,1933,{"$f":"IF(ISBLANK(VLOOKUP(A1758,Veje!A:B,2,FALSE)),INDEX(Veje!$D$2:$RT$652,MATCH(A1758,Veje!$A$2:$A$652,0),MATCH(B1758,Veje!$D$1:$RT$1,0)),VLOOKUP(A1758,Veje!A:B,2,FALSE))","v":"HMG"},{"$f":"IFERROR(VLOOKUP(C1758,Medlemmer!A:C,3,FALSE),\"\")","v":""},{"$f":"IFERROR(VLOOKUP(C1758,Medlemmer!A:C,2,FALSE),\"\")","v":""},{"$f":"IFERROR(VLOOKUP(C1758,Tidligere_henvendelser!A:B,2,FALSE),\"\")","v":""}]
[{"$f":"ReplaceNumbers(C1759)","v":"Lille Strandvej"},{"$f":"_xlfn.NUMBERVALUE(FindNumbers(C1759))","v":2},"Lille Strandvej 2A, 4. tv","2900 Hellerup",7275000,"2021-12-16","Alm. Salg",63815,5,"Ejerlejlighed",114,1902,{"$f":"IF(ISBLANK(VLOOKUP(A1759,Veje!A:B,2,FALSE)),INDEX(Veje!$D$2:$RT$652,MATCH(A1759,Veje!$A$2:$A$652,0),MATCH(B1759,Veje!$D$1:$RT$1,0)),VLOOKUP(A1759,Veje!A:B,2,FALSE))","v":"HMG"},{"$f":"IFERROR(VLOOKUP(C1759,Medlemmer!A:C,3,FALSE),\"\")","v":""},{"$f":"IFERROR(VLOOKUP(C1759,Medlemmer!A:C,2,FALSE),\"\")","v":""},{"$f":"IFERROR(VLOOKUP(C1759,Tidligere_henvendelser!A:B,2,FALSE),\"\")","v":""}]
[{"$f":"ReplaceNumbers(C1760)","v":"Ridebanevang"},{"$f":"_xlfn.NUMBERVALUE(FindNumbers(C1760))","v":16},"Ridebanevang 16","2820 Gentofte",7600000,"2021-12-17","Alm. Salg",80851,4,"Rækkehus",94,1946,{"$f":"IF(ISBLANK(VLOOKUP(A1760,Veje!A:B,2,FALSE)),INDEX(Veje!$D$2:$RT$652,MATCH(A1760,Veje!$A$2:$A$652,0),MATCH(B1760,Veje!$D$1:$RT$1,0)),VLOOKUP(A1760,Veje!A:B,2,FALSE))","v":"BJGF"},{"$f":"IFERROR(VLOOKUP(C1760,Medlemmer!A:C,3,FALSE),\"\")","v":""},{"$f":"IFERROR(VLOOKUP(C1760,Medlemmer!A:C,2,FALSE),\"\")","v":""},{"$f":"IFERROR(VLOOKUP(C1760,Tidligere_henvendelser!A:B,2,FALSE),\"\")","v":""}]
[{"$f":"ReplaceNumbers(C1761)","v":"Dalstrøget"},{"$f":"_xlfn.NUMBERVALUE(FindNumbers(C1761))","v":63},"Dalstrøget 63, 3. tv","2870 Dyssegård ",2215000,"2021-12-18","Alm. Salg",34609,2,"Ejerlejlighed",64,1959,{"$f":"IF(ISBLANK(VLOOKUP(A1761,Veje!A:B,2,FALSE)),INDEX(Veje!$D$2:$RT$652,MATCH(A1761,Veje!$A$2:$A$652,0),MATCH(B1761,Veje!$D$1:$RT$1,0)),VLOOKUP(A1761,Veje!A:B,2,FALSE))","v":"DY"},{"$f":"IFERROR(VLOOKUP(C1761,Medlemmer!A:C,3,FALSE),\"\")","v":""},{"$f":"IFERROR(VLOOKUP(C1761,Medlemmer!A:C,2,FALSE),\"\")","v":""},{"$f":"IFERROR(VLOOKUP(C1761,Tidligere_henvendelser!A:B,2,FALSE),\"\")","v":""}]
[{"$f":"ReplaceNumbers(C1762)","v":"Lille Fredensvej"},{"$f":"_xlfn.NUMBERVALUE(FindNumbers(C1762))","v":5},"Lille Fredensvej 5B, 1. tv","2920 Charlottenlund",5725000,"2021-12-18","Alm. Salg",62228,3,"Ejerlejlighed",92,1983,{"$f":"IF(ISBLANK(VLOOKUP(A1762,Veje!A:B,2,FALSE)),INDEX(Veje!$D$2:$RT$652,MATCH(A1762,Veje!$A$2:$A$652,0),MATCH(B1762,Veje!$D$1:$RT$1,0)),VLOOKUP(A1762,Veje!A:B,2,FALSE))","v":"OCG"},{"$f":"IFERROR(VLOOKUP(C1762,Medlemmer!A:C,3,FALSE),\"\")","v":""},{"$f":"IFERROR(VLOOKUP(C1762,Medlemmer!A:C,2,FALSE),\"\")","v":""},{"$f":"IFERROR(VLOOKUP(C1762,Tidligere_henvendelser!A:B,2,FALSE),\"\")","v":""}]
[{"$f":"ReplaceNumbers(C1763)","v":"Enighedsvej"},{"$f":"_xlfn.NUMBERVALUE(FindNumbers(C1763))","v":21},"Enighedsvej 21B","2920 Charlottenlund",9550000,"2021-12-18","Alm. Salg",81623,4,"Ejerlejlighed",117,1889,{"$f":"IF(ISBLANK(VLOOKUP(A1763,Veje!A:B,2,FALSE)),INDEX(Veje!$D$2:$RT$652,MATCH(A1763,Veje!$A$2:$A$652,0),MATCH(B1763,Veje!$D$1:$RT$1,0)),VLOOKUP(A1763,Veje!A:B,2,FALSE))","v":"OCG"},{"$f":"IFERROR(VLOOKUP(C1763,Medlemmer!A:C,3,FALSE),\"\")","v":""},{"$f":"IFERROR(VLOOKUP(C1763,Medlemmer!A:C,2,FALSE),\"\")","v":""},{"$f":"IFERROR(VLOOKUP(C1763,Tidligere_henvendelser!A:B,2,FALSE),\"\")","v":""}]
[{"$f":"ReplaceNumbers(C1764)","v":"Udsigten"},{"$f":"_xlfn.NUMBERVALUE(FindNumbers(C1764))","v":28},"Udsigten 28","2820 Gentofte",17200000,"2021-12-18","Alm. Salg",87755,8,"Villa",196,1928,{"$f":"IF(ISBLANK(VLOOKUP(A1764,Veje!A:B,2,FALSE)),INDEX(Veje!$D$2:$RT$652,MATCH(A1764,Veje!$A$2:$A$652,0),MATCH(B1764,Veje!$D$1:$RT$1,0)),VLOOKUP(A1764,Veje!A:B,2,FALSE))","v":"GSG"},{"$f":"IFERROR(VLOOKUP(C1764,Medlemmer!A:C,3,FALSE),\"\")","v":""},{"$f":"IFERROR(VLOOKUP(C1764,Medlemmer!A:C,2,FALSE),\"\")","v":""},{"$f":"IFERROR(VLOOKUP(C1764,Tidligere_henvendelser!A:B,2,FALSE),\"\")","v":""}]
[{"$f":"ReplaceNumbers(C1765)","v":"Ejgårdsvej"},{"$f":"_xlfn.NUMBERVALUE(FindNumbers(C1765))","v":24},"Ejgårdsvej 24, 2. th","2920 Charlottenlund",3950000,"2021-12-19","Alm. Salg",47590,3,"Ejerlejlighed",83,1899,{"$f":"IF(ISBLANK(VLOOKUP(A1765,Veje!A:B,2,FALSE)),INDEX(Veje!$D$2:$RT$652,MATCH(A1765,Veje!$A$2:$A$652,0),MATCH(B1765,Veje!$D$1:$RT$1,0)),VLOOKUP(A1765,Veje!A:B,2,FALSE))","v":"OCG"},{"$f":"IFERROR(VLOOKUP(C1765,Medlemmer!A:C,3,FALSE),\"\")","v":""},{"$f":"IFERROR(VLOOKUP(C1765,Medlemmer!A:C,2,FALSE),\"\")","v":""},{"$f":"IFERROR(VLOOKUP(C1765,Tidligere_henvendelser!A:B,2,FALSE),\"\")","v":""}]
[{"$f":"ReplaceNumbers(C1766)","v":"Jensløvsvej"},{"$f":"_xlfn.NUMBERVALUE(FindNumbers(C1766))","v":2},"Jensløvsvej 2, 1. tv","2920 Charlottenlund",2700000,"2021-12-19","Fam. Salg",35064,2,"Ejerlejlighed",77,1880,{"$f":"IF(ISBLANK(VLOOKUP(A1766,Veje!A:B,2,FALSE)),INDEX(Veje!$D$2:$RT$652,MATCH(A1766,Veje!$A$2:$A$652,0),MATCH(B1766,Veje!$D$1:$RT$1,0)),VLOOKUP(A1766,Veje!A:B,2,FALSE))","v":"OCG"},{"$f":"IFERROR(VLOOKUP(C1766,Medlemmer!A:C,3,FALSE),\"\")","v":""},{"$f":"IFERROR(VLOOKUP(C1766,Medlemmer!A:C,2,FALSE),\"\")","v":""},{"$f":"IFERROR(VLOOKUP(C1766,Tidligere_henvendelser!A:B,2,FALSE),\"\")","v":""}]
[{"$f":"ReplaceNumbers(C1767)","v":"Blidahpark"},{"$f":"_xlfn.NUMBERVALUE(FindNumbers(C1767))","v":33},"Blidahpark 33, 1. th","2900 Hellerup",5850000,"2021-12-19","Alm. Salg",64285,4,"Ejerlejlighed",91,1934,{"$f":"IF(ISBLANK(VLOOKUP(A1767,Veje!A:B,2,FALSE)),INDEX(Veje!$D$2:$RT$652,MATCH(A1767,Veje!$A$2:$A$652,0),MATCH(B1767,Veje!$D$1:$RT$1,0)),VLOOKUP(A1767,Veje!A:B,2,FALSE))","v":"HMG"},{"$f":"IFERROR(VLOOKUP(C1767,Medlemmer!A:C,3,FALSE),\"\")","v":""},{"$f":"IFERROR(VLOOKUP(C1767,Medlemmer!A:C,2,FALSE),\"\")","v":""},{"$f":"IFERROR(VLOOKUP(C1767,Tidligere_henvendelser!A:B,2,FALSE),\"\")","v":""}]
[{"$f":"ReplaceNumbers(C1768)","v":"Vangedevej"},{"$f":"_xlfn.NUMBERVALUE(FindNumbers(C1768))","v":220},"Vangedevej 220A, 4. tv","2870 Dyssegård ",1035000,"2021-12-19","Fam. Salg",18157,2,"Ejerlejlighed",57,1948,{"$f":"IF(ISBLANK(VLOOKUP(A1768,Veje!A:B,2,FALSE)),INDEX(Veje!$D$2:$RT$652,MATCH(A1768,Veje!$A$2:$A$652,0),MATCH(B1768,Veje!$D$1:$RT$1,0)),VLOOKUP(A1768,Veje!A:B,2,FALSE))","v":"DY"},{"$f":"IFERROR(VLOOKUP(C1768,Medlemmer!A:C,3,FALSE),\"\")","v":""},{"$f":"IFERROR(VLOOKUP(C1768,Medlemmer!A:C,2,FALSE),\"\")","v":""},{"$f":"IFERROR(VLOOKUP(C1768,Tidligere_henvendelser!A:B,2,FALSE),\"\")","v":""}]
[{"$f":"ReplaceNumbers(C1769)","v":"Ordrup Jagtvej"},{"$f":"_xlfn.NUMBERVALUE(FindNumbers(C1769))","v":139},"Ordrup Jagtvej 139, 1. th","2920 Charlottenlund",3395000,"2021-12-19","Alm. Salg",50671,2,"Ejerlejlighed",67,1935,{"$f":"IF(ISBLANK(VLOOKUP(A1769,Veje!A:B,2,FALSE)),INDEX(Veje!$D$2:$RT$652,MATCH(A1769,Veje!$A$2:$A$652,0),MATCH(B1769,Veje!$D$1:$RT$1,0)),VLOOKUP(A1769,Veje!A:B,2,FALSE))","v":"SKGF"},{"$f":"IFERROR(VLOOKUP(C1769,Medlemmer!A:C,3,FALSE),\"\")","v":""},{"$f":"IFERROR(VLOOKUP(C1769,Medlemmer!A:C,2,FALSE),\"\")","v":""},{"$f":"IFERROR(VLOOKUP(C1769,Tidligere_henvendelser!A:B,2,FALSE),\"\")","v":""}]
[{"$f":"ReplaceNumbers(C1770)","v":"Folevænget"},{"$f":"_xlfn.NUMBERVALUE(FindNumbers(C1770))","v":6},"Folevænget 6","2920 Charlottenlund",13750000,"2021-12-19","Alm. Salg",83333,6,"Villa",165,1936,{"$f":"IF(ISBLANK(VLOOKUP(A1770,Veje!A:B,2,FALSE)),INDEX(Veje!$D$2:$RT$652,MATCH(A1770,Veje!$A$2:$A$652,0),MATCH(B1770,Veje!$D$1:$RT$1,0)),VLOOKUP(A1770,Veje!A:B,2,FALSE))","v":"SKGF"},{"$f":"IFERROR(VLOOKUP(C1770,Medlemmer!A:C,3,FALSE),\"\")","v":""},{"$f":"IFERROR(VLOOKUP(C1770,Medlemmer!A:C,2,FALSE),\"\")","v":""},{"$f":"IFERROR(VLOOKUP(C1770,Tidligere_henvendelser!A:B,2,FALSE),\"\")","v":""}]
[{"$f":"ReplaceNumbers(C1771)","v":"Jægersborg Alle"},{"$f":"_xlfn.NUMBERVALUE(FindNumbers(C1771))","v":7},"Jægersborg Alle 7, 1. tv","2920 Charlottenlund",2700000,"2021-12-19","Fam. Salg",13106,7,"Ejerlejlighed",206,1925,{"$f":"IF(ISBLANK(VLOOKUP(A1771,Veje!A:B,2,FALSE)),INDEX(Veje!$D$2:$RT$652,MATCH(A1771,Veje!$A$2:$A$652,0),MATCH(B1771,Veje!$D$1:$RT$1,0)),VLOOKUP(A1771,Veje!A:B,2,FALSE))","v":"OCG"},{"$f":"IFERROR(VLOOKUP(C1771,Medlemmer!A:C,3,FALSE),\"\")","v":""},{"$f":"IFERROR(VLOOKUP(C1771,Medlemmer!A:C,2,FALSE),\"\")","v":""},{"$f":"IFERROR(VLOOKUP(C1771,Tidligere_henvendelser!A:B,2,FALSE),\"\")","v":""}]
[{"$f":"ReplaceNumbers(C1772)","v":"Jægersborg Alle"},{"$f":"_xlfn.NUMBERVALUE(FindNumbers(C1772))","v":7},"Jægersborg Alle 7, 1. th","2920 Charlottenlund",2700000,"2021-12-19","Fam. Salg",18000,6,"Ejerlejlighed",150,1925,{"$f":"IF(ISBLANK(VLOOKUP(A1772,Veje!A:B,2,FALSE)),INDEX(Veje!$D$2:$RT$652,MATCH(A1772,Veje!$A$2:$A$652,0),MATCH(B1772,Veje!$D$1:$RT$1,0)),VLOOKUP(A1772,Veje!A:B,2,FALSE))","v":"OCG"},{"$f":"IFERROR(VLOOKUP(C1772,Medlemmer!A:C,3,FALSE),\"\")","v":""},{"$f":"IFERROR(VLOOKUP(C1772,Medlemmer!A:C,2,FALSE),\"\")","v":""},{"$f":"IFERROR(VLOOKUP(C1772,Tidligere_henvendelser!A:B,2,FALSE),\"\")","v":""}]
[{"$f":"ReplaceNumbers(C1773)","v":"Jægersborg Alle"},{"$f":"_xlfn.NUMBERVALUE(FindNumbers(C1773))","v":7},"Jægersborg Alle 7, 2. th","2920 Charlottenlund",2700000,"2021-12-19","Fam. Salg",18000,6,"Ejerlejlighed",150,1925,{"$f":"IF(ISBLANK(VLOOKUP(A1773,Veje!A:B,2,FALSE)),INDEX(Veje!$D$2:$RT$652,MATCH(A1773,Veje!$A$2:$A$652,0),MATCH(B1773,Veje!$D$1:$RT$1,0)),VLOOKUP(A1773,Veje!A:B,2,FALSE))","v":"OCG"},{"$f":"IFERROR(VLOOKUP(C1773,Medlemmer!A:C,3,FALSE),\"\")","v":""},{"$f":"IFERROR(VLOOKUP(C1773,Medlemmer!A:C,2,FALSE),\"\")","v":""},{"$f":"IFERROR(VLOOKUP(C1773,Tidligere_henvendelser!A:B,2,FALSE),\"\")","v":""}]
[{"$f":"ReplaceNumbers(C1774)","v":"Jægersborg Alle"},{"$f":"_xlfn.NUMBERVALUE(FindNumbers(C1774))","v":7},"Jægersborg Alle 7, 2. tv","2920 Charlottenlund",2700000,"2021-12-19","Fam. Salg",13106,7,"Ejerlejlighed",206,1925,{"$f":"IF(ISBLANK(VLOOKUP(A1774,Veje!A:B,2,FALSE)),INDEX(Veje!$D$2:$RT$652,MATCH(A1774,Veje!$A$2:$A$652,0),MATCH(B1774,Veje!$D$1:$RT$1,0)),VLOOKUP(A1774,Veje!A:B,2,FALSE))","v":"OCG"},{"$f":"IFERROR(VLOOKUP(C1774,Medlemmer!A:C,3,FALSE),\"\")","v":""},{"$f":"IFERROR(VLOOKUP(C1774,Medlemmer!A:C,2,FALSE),\"\")","v":""},{"$f":"IFERROR(VLOOKUP(C1774,Tidligere_henvendelser!A:B,2,FALSE),\"\")","v":""}]
[{"$f":"ReplaceNumbers(C1775)","v":"Jægersborg Alle"},{"$f":"_xlfn.NUMBERVALUE(FindNumbers(C1775))","v":7},"Jægersborg Alle 7, 3. tv","2920 Charlottenlund",2700000,"2021-12-19","Fam. Salg",13106,7,"Ejerlejlighed",206,1925,{"$f":"IF(ISBLANK(VLOOKUP(A1775,Veje!A:B,2,FALSE)),INDEX(Veje!$D$2:$RT$652,MATCH(A1775,Veje!$A$2:$A$652,0),MATCH(B1775,Veje!$D$1:$RT$1,0)),VLOOKUP(A1775,Veje!A:B,2,FALSE))","v":"OCG"},{"$f":"IFERROR(VLOOKUP(C1775,Medlemmer!A:C,3,FALSE),\"\")","v":""},{"$f":"IFERROR(VLOOKUP(C1775,Medlemmer!A:C,2,FALSE),\"\")","v":""},{"$f":"IFERROR(VLOOKUP(C1775,Tidligere_henvendelser!A:B,2,FALSE),\"\")","v":""}]
[{"$f":"ReplaceNumbers(C1776)","v":"Jægersborg Alle"},{"$f":"_xlfn.NUMBERVALUE(FindNumbers(C1776))","v":7},"Jægersborg Alle 7, 4","2920 Charlottenlund",2700000,"2021-12-19","Fam. Salg",45000,3,"Ejerlejlighed",60,1925,{"$f":"IF(ISBLANK(VLOOKUP(A1776,Veje!A:B,2,FALSE)),INDEX(Veje!$D$2:$RT$652,MATCH(A1776,Veje!$A$2:$A$652,0),MATCH(B1776,Veje!$D$1:$RT$1,0)),VLOOKUP(A1776,Veje!A:B,2,FALSE))","v":"OCG"},{"$f":"IFERROR(VLOOKUP(C1776,Medlemmer!A:C,3,FALSE),\"\")","v":""},{"$f":"IFERROR(VLOOKUP(C1776,Medlemmer!A:C,2,FALSE),\"\")","v":""},{"$f":"IFERROR(VLOOKUP(C1776,Tidligere_henvendelser!A:B,2,FALSE),\"\")","v":""}]
[{"$f":"ReplaceNumbers(C1777)","v":"Jægersborg Alle"},{"$f":"_xlfn.NUMBERVALUE(FindNumbers(C1777))","v":7},"Jægersborg Alle 7, 3. th","2920 Charlottenlund",2700000,"2021-12-19","Fam. Salg",18000,6,"Ejerlejlighed",150,1925,{"$f":"IF(ISBLANK(VLOOKUP(A1777,Veje!A:B,2,FALSE)),INDEX(Veje!$D$2:$RT$652,MATCH(A1777,Veje!$A$2:$A$652,0),MATCH(B1777,Veje!$D$1:$RT$1,0)),VLOOKUP(A1777,Veje!A:B,2,FALSE))","v":"OCG"},{"$f":"IFERROR(VLOOKUP(C1777,Medlemmer!A:C,3,FALSE),\"\")","v":""},{"$f":"IFERROR(VLOOKUP(C1777,Medlemmer!A:C,2,FALSE),\"\")","v":""},{"$f":"IFERROR(VLOOKUP(C1777,Tidligere_henvendelser!A:B,2,FALSE),\"\")","v":""}]
[{"$f":"ReplaceNumbers(C1778)","v":"Jægersborg Alle"},{"$f":"_xlfn.NUMBERVALUE(FindNumbers(C1778))","v":9},"Jægersborg Alle 9, 1","2920 Charlottenlund",2700000,"2021-12-19","Fam. Salg",20769,5,"Ejerlejlighed",130,1925,{"$f":"IF(ISBLANK(VLOOKUP(A1778,Veje!A:B,2,FALSE)),INDEX(Veje!$D$2:$RT$652,MATCH(A1778,Veje!$A$2:$A$652,0),MATCH(B1778,Veje!$D$1:$RT$1,0)),VLOOKUP(A1778,Veje!A:B,2,FALSE))","v":"OCG"},{"$f":"IFERROR(VLOOKUP(C1778,Medlemmer!A:C,3,FALSE),\"\")","v":""},{"$f":"IFERROR(VLOOKUP(C1778,Medlemmer!A:C,2,FALSE),\"\")","v":""},{"$f":"IFERROR(VLOOKUP(C1778,Tidligere_henvendelser!A:B,2,FALSE),\"\")","v":""}]
[{"$f":"ReplaceNumbers(C1779)","v":"Jægersborg Alle"},{"$f":"_xlfn.NUMBERVALUE(FindNumbers(C1779))","v":9},"Jægersborg Alle 9, 2","2920 Charlottenlund",2700000,"2021-12-19","Fam. Salg",20769,5,"Ejerlejlighed",130,1925,{"$f":"IF(ISBLANK(VLOOKUP(A1779,Veje!A:B,2,FALSE)),INDEX(Veje!$D$2:$RT$652,MATCH(A1779,Veje!$A$2:$A$652,0),MATCH(B1779,Veje!$D$1:$RT$1,0)),VLOOKUP(A1779,Veje!A:B,2,FALSE))","v":"OCG"},{"$f":"IFERROR(VLOOKUP(C1779,Medlemmer!A:C,3,FALSE),\"\")","v":""},{"$f":"IFERROR(VLOOKUP(C1779,Medlemmer!A:C,2,FALSE),\"\")","v":""},{"$f":"IFERROR(VLOOKUP(C1779,Tidligere_henvendelser!A:B,2,FALSE),\"\")","v":""}]
[{"$f":"ReplaceNumbers(C1780)","v":"Jægersborg Alle"},{"$f":"_xlfn.NUMBERVALUE(FindNumbers(C1780))","v":9},"Jægersborg Alle 9, 3","2920 Charlottenlund",2700000,"2021-12-19","Fam. Salg",20769,5,"Ejerlejlighed",130,1925,{"$f":"IF(ISBLANK(VLOOKUP(A1780,Veje!A:B,2,FALSE)),INDEX(Veje!$D$2:$RT$652,MATCH(A1780,Veje!$A$2:$A$652,0),MATCH(B1780,Veje!$D$1:$RT$1,0)),VLOOKUP(A1780,Veje!A:B,2,FALSE))","v":"OCG"},{"$f":"IFERROR(VLOOKUP(C1780,Medlemmer!A:C,3,FALSE),\"\")","v":""},{"$f":"IFERROR(VLOOKUP(C1780,Medlemmer!A:C,2,FALSE),\"\")","v":""},{"$f":"IFERROR(VLOOKUP(C1780,Tidligere_henvendelser!A:B,2,FALSE),\"\")","v":""}]
[{"$f":"ReplaceNumbers(C1781)","v":"Mindevej"},{"$f":"_xlfn.NUMBERVALUE(FindNumbers(C1781))","v":1},"Mindevej 1B","2870 Dyssegård ",10150000,"2021-12-19","Alm. Salg",54569,7,"Villa",186,1907,{"$f":"IF(ISBLANK(VLOOKUP(A1781,Veje!A:B,2,FALSE)),INDEX(Veje!$D$2:$RT$652,MATCH(A1781,Veje!$A$2:$A$652,0),MATCH(B1781,Veje!$D$1:$RT$1,0)),VLOOKUP(A1781,Veje!A:B,2,FALSE))","v":"DY"},{"$f":"IFERROR(VLOOKUP(C1781,Medlemmer!A:C,3,FALSE),\"\")","v":""},{"$f":"IFERROR(VLOOKUP(C1781,Medlemmer!A:C,2,FALSE),\"\")","v":""},{"$f":"IFERROR(VLOOKUP(C1781,Tidligere_henvendelser!A:B,2,FALSE),\"\")","v":""}]
[{"$f":"ReplaceNumbers(C1782)","v":"Jægersborg Alle"},{"$f":"_xlfn.NUMBERVALUE(FindNumbers(C1782))","v":239},"Jægersborg Alle 239, 2. th","2820 Gentofte",2900000,"2021-12-20","Alm. Salg",32222,2,"Ejerlejlighed",90,1958,{"$f":"IF(ISBLANK(VLOOKUP(A1782,Veje!A:B,2,FALSE)),INDEX(Veje!$D$2:$RT$652,MATCH(A1782,Veje!$A$2:$A$652,0),MATCH(B1782,Veje!$D$1:$RT$1,0)),VLOOKUP(A1782,Veje!A:B,2,FALSE))","v":"BJGF"},{"$f":"IFERROR(VLOOKUP(C1782,Medlemmer!A:C,3,FALSE),\"\")","v":""},{"$f":"IFERROR(VLOOKUP(C1782,Medlemmer!A:C,2,FALSE),\"\")","v":""},{"$f":"IFERROR(VLOOKUP(C1782,Tidligere_henvendelser!A:B,2,FALSE),\"\")","v":""}]
[{"$f":"ReplaceNumbers(C1783)","v":"Søbakken"},{"$f":"_xlfn.NUMBERVALUE(FindNumbers(C1783))","v":28},"Søbakken 28, 2. tv","2920 Charlottenlund",3800000,"2021-12-20","Alm. Salg",62295,3,"Ejerlejlighed",61,1905,{"$f":"IF(ISBLANK(VLOOKUP(A1783,Veje!A:B,2,FALSE)),INDEX(Veje!$D$2:$RT$652,MATCH(A1783,Veje!$A$2:$A$652,0),MATCH(B1783,Veje!$D$1:$RT$1,0)),VLOOKUP(A1783,Veje!A:B,2,FALSE))","v":"SKGF"},{"$f":"IFERROR(VLOOKUP(C1783,Medlemmer!A:C,3,FALSE),\"\")","v":""},{"$f":"IFERROR(VLOOKUP(C1783,Medlemmer!A:C,2,FALSE),\"\")","v":""},{"$f":"IFERROR(VLOOKUP(C1783,Tidligere_henvendelser!A:B,2,FALSE),\"\")","v":""}]
[{"$f":"ReplaceNumbers(C1784)","v":"Dalstrøget"},{"$f":"_xlfn.NUMBERVALUE(FindNumbers(C1784))","v":65},"Dalstrøget 65, 3. mf","2870 Dyssegård ",1600000,"2021-12-20","Alm. Salg",36363,1,"Ejerlejlighed",44,1959,{"$f":"IF(ISBLANK(VLOOKUP(A1784,Veje!A:B,2,FALSE)),INDEX(Veje!$D$2:$RT$652,MATCH(A1784,Veje!$A$2:$A$652,0),MATCH(B1784,Veje!$D$1:$RT$1,0)),VLOOKUP(A1784,Veje!A:B,2,FALSE))","v":"DY"},{"$f":"IFERROR(VLOOKUP(C1784,Medlemmer!A:C,3,FALSE),\"\")","v":""},{"$f":"IFERROR(VLOOKUP(C1784,Medlemmer!A:C,2,FALSE),\"\")","v":""},{"$f":"IFERROR(VLOOKUP(C1784,Tidligere_henvendelser!A:B,2,FALSE),\"\")","v":""}]
[{"$f":"ReplaceNumbers(C1785)","v":"Gentoftegade"},{"$f":"_xlfn.NUMBERVALUE(FindNumbers(C1785))","v":110},"Gentoftegade 110, 2","2820 Gentofte",2400000,"2021-12-20","Alm. Salg",33333,3,"Ejerlejlighed",72,1937,{"$f":"IF(ISBLANK(VLOOKUP(A1785,Veje!A:B,2,FALSE)),INDEX(Veje!$D$2:$RT$652,MATCH(A1785,Veje!$A$2:$A$652,0),MATCH(B1785,Veje!$D$1:$RT$1,0)),VLOOKUP(A1785,Veje!A:B,2,FALSE))","v":"GSG"},{"$f":"IFERROR(VLOOKUP(C1785,Medlemmer!A:C,3,FALSE),\"\")","v":""},{"$f":"IFERROR(VLOOKUP(C1785,Medlemmer!A:C,2,FALSE),\"\")","v":""},{"$f":"IFERROR(VLOOKUP(C1785,Tidligere_henvendelser!A:B,2,FALSE),\"\")","v":""}]
[{"$f":"ReplaceNumbers(C1786)","v":"Broholms Alle"},{"$f":"_xlfn.NUMBERVALUE(FindNumbers(C1786))","v":13},"Broholms Alle 13B, 1. th","2920 Charlottenlund",3700000,"2021-12-20","Alm. Salg",43529,4,"Ejerlejlighed",85,1939,{"$f":"IF(ISBLANK(VLOOKUP(A1786,Veje!A:B,2,FALSE)),INDEX(Veje!$D$2:$RT$652,MATCH(A1786,Veje!$A$2:$A$652,0),MATCH(B1786,Veje!$D$1:$RT$1,0)),VLOOKUP(A1786,Veje!A:B,2,FALSE))","v":"SKGF"},{"$f":"IFERROR(VLOOKUP(C1786,Medlemmer!A:C,3,FALSE),\"\")","v":""},{"$f":"IFERROR(VLOOKUP(C1786,Medlemmer!A:C,2,FALSE),\"\")","v":""},{"$f":"IFERROR(VLOOKUP(C1786,Tidligere_henvendelser!A:B,2,FALSE),\"\")","v":""}]
[{"$f":"ReplaceNumbers(C1787)","v":"Henrik Hertz Vej"},{"$f":"_xlfn.NUMBERVALUE(FindNumbers(C1787))","v":13},"Henrik Hertz Vej 13","2920 Charlottenlund",17000000,"2021-12-21","Alm. Salg",98837,5,"Villa",172,1902,{"$f":"IF(ISBLANK(VLOOKUP(A1787,Veje!A:B,2,FALSE)),INDEX(Veje!$D$2:$RT$652,MATCH(A1787,Veje!$A$2:$A$652,0),MATCH(B1787,Veje!$D$1:$RT$1,0)),VLOOKUP(A1787,Veje!A:B,2,FALSE))","v":"OCG"},{"$f":"IFERROR(VLOOKUP(C1787,Medlemmer!A:C,3,FALSE),\"\")","v":""},{"$f":"IFERROR(VLOOKUP(C1787,Medlemmer!A:C,2,FALSE),\"\")","v":""},{"$f":"IFERROR(VLOOKUP(C1787,Tidligere_henvendelser!A:B,2,FALSE),\"\")","v":""}]
[{"$f":"ReplaceNumbers(C1788)","v":"Plantevej"},{"$f":"_xlfn.NUMBERVALUE(FindNumbers(C1788))","v":27},"Plantevej 27, 2. th","2870 Dyssegård ",1800000,"2021-12-21","Alm. Salg",33962,2,"Ejerlejlighed",53,1938,{"$f":"IF(ISBLANK(VLOOKUP(A1788,Veje!A:B,2,FALSE)),INDEX(Veje!$D$2:$RT$652,MATCH(A1788,Veje!$A$2:$A$652,0),MATCH(B1788,Veje!$D$1:$RT$1,0)),VLOOKUP(A1788,Veje!A:B,2,FALSE))","v":"DY"},{"$f":"IFERROR(VLOOKUP(C1788,Medlemmer!A:C,3,FALSE),\"\")","v":""},{"$f":"IFERROR(VLOOKUP(C1788,Medlemmer!A:C,2,FALSE),\"\")","v":""},{"$f":"IFERROR(VLOOKUP(C1788,Tidligere_henvendelser!A:B,2,FALSE),\"\")","v":""}]
[{"$f":"ReplaceNumbers(C1789)","v":"Høeghsmindevej"},{"$f":"_xlfn.NUMBERVALUE(FindNumbers(C1789))","v":16},"Høeghsmindevej 16","2820 Gentofte",8500000,"2021-12-21","Alm. Salg",74561,5,"Villa",114,1947,{"$f":"IF(ISBLANK(VLOOKUP(A1789,Veje!A:B,2,FALSE)),INDEX(Veje!$D$2:$RT$652,MATCH(A1789,Veje!$A$2:$A$652,0),MATCH(B1789,Veje!$D$1:$RT$1,0)),VLOOKUP(A1789,Veje!A:B,2,FALSE))","v":"GSG"},{"$f":"IFERROR(VLOOKUP(C1789,Medlemmer!A:C,3,FALSE),\"\")","v":""},{"$f":"IFERROR(VLOOKUP(C1789,Medlemmer!A:C,2,FALSE),\"\")","v":""},{"$f":"IFERROR(VLOOKUP(C1789,Tidligere_henvendelser!A:B,2,FALSE),\"\")","v":""}]
[{"$f":"ReplaceNumbers(C1790)","v":"Hyldegårds Tværvej"},{"$f":"_xlfn.NUMBERVALUE(FindNumbers(C1790))","v":15},"Hyldegårds Tværvej 15A, 1. tv","2920 Charlottenlund",1300000,"2021-12-21","Fam. Salg",26000,2,"Ejerlejlighed",50,1906,{"$f":"IF(ISBLANK(VLOOKUP(A1790,Veje!A:B,2,FALSE)),INDEX(Veje!$D$2:$RT$652,MATCH(A1790,Veje!$A$2:$A$652,0),MATCH(B1790,Veje!$D$1:$RT$1,0)),VLOOKUP(A1790,Veje!A:B,2,FALSE))","v":"OCG"},{"$f":"IFERROR(VLOOKUP(C1790,Medlemmer!A:C,3,FALSE),\"\")","v":""},{"$f":"IFERROR(VLOOKUP(C1790,Medlemmer!A:C,2,FALSE),\"\")","v":""},{"$f":"IFERROR(VLOOKUP(C1790,Tidligere_henvendelser!A:B,2,FALSE),\"\")","v":""}]
[{"$f":"ReplaceNumbers(C1791)","v":"Tværbommen"},{"$f":"_xlfn.NUMBERVALUE(FindNumbers(C1791))","v":51},"Tværbommen 51, 1. th","2820 Gentofte",2165000,"2021-12-21","Alm. Salg",37327,2,"Ejerlejlighed",58,1946,{"$f":"IF(ISBLANK(VLOOKUP(A1791,Veje!A:B,2,FALSE)),INDEX(Veje!$D$2:$RT$652,MATCH(A1791,Veje!$A$2:$A$652,0),MATCH(B1791,Veje!$D$1:$RT$1,0)),VLOOKUP(A1791,Veje!A:B,2,FALSE))","v":"GSG"},{"$f":"IFERROR(VLOOKUP(C1791,Medlemmer!A:C,3,FALSE),\"\")","v":""},{"$f":"IFERROR(VLOOKUP(C1791,Medlemmer!A:C,2,FALSE),\"\")","v":""},{"$f":"IFERROR(VLOOKUP(C1791,Tidligere_henvendelser!A:B,2,FALSE),\"\")","v":""}]
[{"$f":"ReplaceNumbers(C1792)","v":"Ermelundsvej"},{"$f":"_xlfn.NUMBERVALUE(FindNumbers(C1792))","v":126},"Ermelundsvej 126, st","2820 Gentofte",17275000,"2021-12-21","Alm. Salg",154241,3,"Ejerlejlighed",112,1887,{"$f":"IF(ISBLANK(VLOOKUP(A1792,Veje!A:B,2,FALSE)),INDEX(Veje!$D$2:$RT$652,MATCH(A1792,Veje!$A$2:$A$652,0),MATCH(B1792,Veje!$D$1:$RT$1,0)),VLOOKUP(A1792,Veje!A:B,2,FALSE))","v":"BJGF"},{"$f":"IFERROR(VLOOKUP(C1792,Medlemmer!A:C,3,FALSE),\"\")","v":""},{"$f":"IFERROR(VLOOKUP(C1792,Medlemmer!A:C,2,FALSE),\"\")","v":""},{"$f":"IFERROR(VLOOKUP(C1792,Tidligere_henvendelser!A:B,2,FALSE),\"\")","v":""}]
[{"$f":"ReplaceNumbers(C1793)","v":"Ermelundsvej"},{"$f":"_xlfn.NUMBERVALUE(FindNumbers(C1793))","v":126},"Ermelundsvej 126, 1","2820 Gentofte",17275000,"2021-12-21","Alm. Salg",117517,4,"Ejerlejlighed",147,1887,{"$f":"IF(ISBLANK(VLOOKUP(A1793,Veje!A:B,2,FALSE)),INDEX(Veje!$D$2:$RT$652,MATCH(A1793,Veje!$A$2:$A$652,0),MATCH(B1793,Veje!$D$1:$RT$1,0)),VLOOKUP(A1793,Veje!A:B,2,FALSE))","v":"BJGF"},{"$f":"IFERROR(VLOOKUP(C1793,Medlemmer!A:C,3,FALSE),\"\")","v":""},{"$f":"IFERROR(VLOOKUP(C1793,Medlemmer!A:C,2,FALSE),\"\")","v":""},{"$f":"IFERROR(VLOOKUP(C1793,Tidligere_henvendelser!A:B,2,FALSE),\"\")","v":""}]
[{"$f":"ReplaceNumbers(C1794)","v":"Munkely"},{"$f":"_xlfn.NUMBERVALUE(FindNumbers(C1794))","v":9},"Munkely 9, 1","2870 Dyssegård ",4027500,"2021-12-21","Alm. Salg",44750,4,"Ejerlejlighed",90,1931,{"$f":"IF(ISBLANK(VLOOKUP(A1794,Veje!A:B,2,FALSE)),INDEX(Veje!$D$2:$RT$652,MATCH(A1794,Veje!$A$2:$A$652,0),MATCH(B1794,Veje!$D$1:$RT$1,0)),VLOOKUP(A1794,Veje!A:B,2,FALSE))","v":"DY"},{"$f":"IFERROR(VLOOKUP(C1794,Medlemmer!A:C,3,FALSE),\"\")","v":""},{"$f":"IFERROR(VLOOKUP(C1794,Medlemmer!A:C,2,FALSE),\"\")","v":""},{"$f":"IFERROR(VLOOKUP(C1794,Tidligere_henvendelser!A:B,2,FALSE),\"\")","v":""}]
[{"$f":"ReplaceNumbers(C1795)","v":"Travervænget"},{"$f":"_xlfn.NUMBERVALUE(FindNumbers(C1795))","v":12},"Travervænget 12","2920 Charlottenlund",12500000,"2021-12-21","Alm. Salg",71428,7,"Villa",175,1937,{"$f":"IF(ISBLANK(VLOOKUP(A1795,Veje!A:B,2,FALSE)),INDEX(Veje!$D$2:$RT$652,MATCH(A1795,Veje!$A$2:$A$652,0),MATCH(B1795,Veje!$D$1:$RT$1,0)),VLOOKUP(A1795,Veje!A:B,2,FALSE))","v":"SKGF"},{"$f":"IFERROR(VLOOKUP(C1795,Medlemmer!A:C,3,FALSE),\"\")","v":""},{"$f":"IFERROR(VLOOKUP(C1795,Medlemmer!A:C,2,FALSE),\"\")","v":""},{"$f":"IFERROR(VLOOKUP(C1795,Tidligere_henvendelser!A:B,2,FALSE),\"\")","v":""}]
[{"$f":"ReplaceNumbers(C1796)","v":"Søborg Hovedgade"},{"$f":"_xlfn.NUMBERVALUE(FindNumbers(C1796))","v":8},"Søborg Hovedgade 8D, 3. th","2870 Dyssegård ",954500,"2021-12-21","Fam. Salg",18009,2,"Ejerlejlighed",53,1953,{"$f":"IF(ISBLANK(VLOOKUP(A1796,Veje!A:B,2,FALSE)),INDEX(Veje!$D$2:$RT$652,MATCH(A1796,Veje!$A$2:$A$652,0),MATCH(B1796,Veje!$D$1:$RT$1,0)),VLOOKUP(A1796,Veje!A:B,2,FALSE))","v":"DY"},{"$f":"IFERROR(VLOOKUP(C1796,Medlemmer!A:C,3,FALSE),\"\")","v":""},{"$f":"IFERROR(VLOOKUP(C1796,Medlemmer!A:C,2,FALSE),\"\")","v":""},{"$f":"IFERROR(VLOOKUP(C1796,Tidligere_henvendelser!A:B,2,FALSE),\"\")","v":""}]
[{"$f":"ReplaceNumbers(C1797)","v":"Blidahpark"},{"$f":"_xlfn.NUMBERVALUE(FindNumbers(C1797))","v":25},"Blidahpark 25, 2. 1","2900 Hellerup",2100000,"2021-12-22","Fam. Salg",42000,2,"Ejerlejlighed",50,1933,{"$f":"IF(ISBLANK(VLOOKUP(A1797,Veje!A:B,2,FALSE)),INDEX(Veje!$D$2:$RT$652,MATCH(A1797,Veje!$A$2:$A$652,0),MATCH(B1797,Veje!$D$1:$RT$1,0)),VLOOKUP(A1797,Veje!A:B,2,FALSE))","v":"HMG"},{"$f":"IFERROR(VLOOKUP(C1797,Medlemmer!A:C,3,FALSE),\"\")","v":""},{"$f":"IFERROR(VLOOKUP(C1797,Medlemmer!A:C,2,FALSE),\"\")","v":""},{"$f":"IFERROR(VLOOKUP(C1797,Tidligere_henvendelser!A:B,2,FALSE),\"\")","v":""}]
[{"$f":"ReplaceNumbers(C1798)","v":"Jægersborg Alle"},{"$f":"_xlfn.NUMBERVALUE(FindNumbers(C1798))","v":39},"Jægersborg Alle 39, 5","2920 Charlottenlund",4325000,"2021-12-22","Alm. Salg",56907,3,"Ejerlejlighed",76,1932,{"$f":"IF(ISBLANK(VLOOKUP(A1798,Veje!A:B,2,FALSE)),INDEX(Veje!$D$2:$RT$652,MATCH(A1798,Veje!$A$2:$A$652,0),MATCH(B1798,Veje!$D$1:$RT$1,0)),VLOOKUP(A1798,Veje!A:B,2,FALSE))","v":"OCG"},{"$f":"IFERROR(VLOOKUP(C1798,Medlemmer!A:C,3,FALSE),\"\")","v":""},{"$f":"IFERROR(VLOOKUP(C1798,Medlemmer!A:C,2,FALSE),\"\")","v":""},{"$f":"IFERROR(VLOOKUP(C1798,Tidligere_henvendelser!A:B,2,FALSE),\"\")","v":""}]
[{"$f":"ReplaceNumbers(C1799)","v":"Sødalen"},{"$f":"_xlfn.NUMBERVALUE(FindNumbers(C1799))","v":12},"Sødalen 12","2820 Gentofte",3000000,"2021-12-22","Andet",19480,7,"Villa",154,1931,{"$f":"IF(ISBLANK(VLOOKUP(A1799,Veje!A:B,2,FALSE)),INDEX(Veje!$D$2:$RT$652,MATCH(A1799,Veje!$A$2:$A$652,0),MATCH(B1799,Veje!$D$1:$RT$1,0)),VLOOKUP(A1799,Veje!A:B,2,FALSE))","v":"GSG"},{"$f":"IFERROR(VLOOKUP(C1799,Medlemmer!A:C,3,FALSE),\"\")","v":""},{"$f":"IFERROR(VLOOKUP(C1799,Medlemmer!A:C,2,FALSE),\"\")","v":""},{"$f":"IFERROR(VLOOKUP(C1799,Tidligere_henvendelser!A:B,2,FALSE),\"\")","v":""}]
[{"$f":"ReplaceNumbers(C1800)","v":"Strandvejen"},{"$f":"_xlfn.NUMBERVALUE(FindNumbers(C1800))","v":293},"Strandvejen 293A","2920 Charlottenlund",7750000,"2021-12-23","Alm. Salg",110714,3,"Villa",70,1893,{"$f":"IF(ISBLANK(VLOOKUP(A1800,Veje!A:B,2,FALSE)),INDEX(Veje!$D$2:$RT$652,MATCH(A1800,Veje!$A$2:$A$652,0),MATCH(B1800,Veje!$D$1:$RT$1,0)),VLOOKUP(A1800,Veje!A:B,2,FALSE))","v":"Skovshoved By"},{"$f":"IFERROR(VLOOKUP(C1800,Medlemmer!A:C,3,FALSE),\"\")","v":""},{"$f":"IFERROR(VLOOKUP(C1800,Medlemmer!A:C,2,FALSE),\"\")","v":""},{"$f":"IFERROR(VLOOKUP(C1800,Tidligere_henvendelser!A:B,2,FALSE),\"\")","v":""}]
[{"$f":"ReplaceNumbers(C1801)","v":"Brogårdsvej"},{"$f":"_xlfn.NUMBERVALUE(FindNumbers(C1801))","v":71},"Brogårdsvej 71, st. tv","2820 Gentofte",2995000,"2021-12-26","Alm. Salg",45378,3,"Ejerlejlighed",66,1916,{"$f":"IF(ISBLANK(VLOOKUP(A1801,Veje!A:B,2,FALSE)),INDEX(Veje!$D$2:$RT$652,MATCH(A1801,Veje!$A$2:$A$652,0),MATCH(B1801,Veje!$D$1:$RT$1,0)),VLOOKUP(A1801,Veje!A:B,2,FALSE))","v":"GSG"},{"$f":"IFERROR(VLOOKUP(C1801,Medlemmer!A:C,3,FALSE),\"\")","v":""},{"$f":"IFERROR(VLOOKUP(C1801,Medlemmer!A:C,2,FALSE),\"\")","v":""},{"$f":"IFERROR(VLOOKUP(C1801,Tidligere_henvendelser!A:B,2,FALSE),\"\")","v":""}]
[{"$f":"ReplaceNumbers(C1802)","v":"Heslegårdsvej"},{"$f":"_xlfn.NUMBERVALUE(FindNumbers(C1802))","v":4},"Heslegårdsvej 4, 1. 1","2900 Hellerup",2350000,"2021-12-26","Alm. Salg",31333,2,"Ejerlejlighed",75,1992,{"$f":"IF(ISBLANK(VLOOKUP(A1802,Veje!A:B,2,FALSE)),INDEX(Veje!$D$2:$RT$652,MATCH(A1802,Veje!$A$2:$A$652,0),MATCH(B1802,Veje!$D$1:$RT$1,0)),VLOOKUP(A1802,Veje!A:B,2,FALSE))","v":"GSG"},{"$f":"IFERROR(VLOOKUP(C1802,Medlemmer!A:C,3,FALSE),\"\")","v":""},{"$f":"IFERROR(VLOOKUP(C1802,Medlemmer!A:C,2,FALSE),\"\")","v":""},{"$f":"IFERROR(VLOOKUP(C1802,Tidligere_henvendelser!A:B,2,FALSE),\"\")","v":""}]
[{"$f":"ReplaceNumbers(C1803)","v":"Kildegårdsvej"},{"$f":"_xlfn.NUMBERVALUE(FindNumbers(C1803))","v":59},"Kildegårdsvej 59B","2900 Hellerup",7900000,"2021-12-26","Alm. Salg",59398,5,"Rækkehus",133,2015,{"$f":"IF(ISBLANK(VLOOKUP(A1803,Veje!A:B,2,FALSE)),INDEX(Veje!$D$2:$RT$652,MATCH(A1803,Veje!$A$2:$A$652,0),MATCH(B1803,Veje!$D$1:$RT$1,0)),VLOOKUP(A1803,Veje!A:B,2,FALSE))","v":"GSG"},{"$f":"IFERROR(VLOOKUP(C1803,Medlemmer!A:C,3,FALSE),\"\")","v":""},{"$f":"IFERROR(VLOOKUP(C1803,Medlemmer!A:C,2,FALSE),\"\")","v":""},{"$f":"IFERROR(VLOOKUP(C1803,Tidligere_henvendelser!A:B,2,FALSE),\"\")","v":""}]
[{"$f":"ReplaceNumbers(C1804)","v":"Stigaardsvej"},{"$f":"_xlfn.NUMBERVALUE(FindNumbers(C1804))","v":2},"Stigaardsvej 2","2900 Hellerup",19000000,"2021-12-27","Alm. Salg",77551,7,"Villa",225,1905,{"$f":"IF(ISBLANK(VLOOKUP(A1804,Veje!A:B,2,FALSE)),INDEX(Veje!$D$2:$RT$652,MATCH(A1804,Veje!$A$2:$A$652,0),MATCH(B1804,Veje!$D$1:$RT$1,0)),VLOOKUP(A1804,Veje!A:B,2,FALSE))","v":"HMG"},{"$f":"IFERROR(VLOOKUP(C1804,Medlemmer!A:C,3,FALSE),\"\")","v":""},{"$f":"IFERROR(VLOOKUP(C1804,Medlemmer!A:C,2,FALSE),\"\")","v":""},{"$f":"IFERROR(VLOOKUP(C1804,Tidligere_henvendelser!A:B,2,FALSE),\"\")","v":""}]
[{"$f":"ReplaceNumbers(C1805)","v":"Plantevej"},{"$f":"_xlfn.NUMBERVALUE(FindNumbers(C1805))","v":19},"Plantevej 19, 1. tv","2870 Dyssegård ",2145000,"2021-12-27","Alm. Salg",36982,2,"Ejerlejlighed",58,1938,{"$f":"IF(ISBLANK(VLOOKUP(A1805,Veje!A:B,2,FALSE)),INDEX(Veje!$D$2:$RT$652,MATCH(A1805,Veje!$A$2:$A$652,0),MATCH(B1805,Veje!$D$1:$RT$1,0)),VLOOKUP(A1805,Veje!A:B,2,FALSE))","v":"DY"},{"$f":"IFERROR(VLOOKUP(C1805,Medlemmer!A:C,3,FALSE),\"\")","v":""},{"$f":"IFERROR(VLOOKUP(C1805,Medlemmer!A:C,2,FALSE),\"\")","v":""},{"$f":"IFERROR(VLOOKUP(C1805,Tidligere_henvendelser!A:B,2,FALSE),\"\")","v":""}]
[{"$f":"ReplaceNumbers(C1806)","v":"Broholms Alle"},{"$f":"_xlfn.NUMBERVALUE(FindNumbers(C1806))","v":18},"Broholms Alle 18, 1. th","2920 Charlottenlund",4295000,"2021-12-27","Alm. Salg",53024,3,"Ejerlejlighed",81,1997,{"$f":"IF(ISBLANK(VLOOKUP(A1806,Veje!A:B,2,FALSE)),INDEX(Veje!$D$2:$RT$652,MATCH(A1806,Veje!$A$2:$A$652,0),MATCH(B1806,Veje!$D$1:$RT$1,0)),VLOOKUP(A1806,Veje!A:B,2,FALSE))","v":"SKGF"},{"$f":"IFERROR(VLOOKUP(C1806,Medlemmer!A:C,3,FALSE),\"\")","v":""},{"$f":"IFERROR(VLOOKUP(C1806,Medlemmer!A:C,2,FALSE),\"\")","v":""},{"$f":"IFERROR(VLOOKUP(C1806,Tidligere_henvendelser!A:B,2,FALSE),\"\")","v":""}]
[{"$f":"ReplaceNumbers(C1807)","v":"Gentoftegade"},{"$f":"_xlfn.NUMBERVALUE(FindNumbers(C1807))","v":48},"Gentoftegade 48, 3. tv","2820 Gentofte",4650000,"2021-12-27","Alm. Salg",59615,3,"Ejerlejlighed",78,1958,{"$f":"IF(ISBLANK(VLOOKUP(A1807,Veje!A:B,2,FALSE)),INDEX(Veje!$D$2:$RT$652,MATCH(A1807,Veje!$A$2:$A$652,0),MATCH(B1807,Veje!$D$1:$RT$1,0)),VLOOKUP(A1807,Veje!A:B,2,FALSE))","v":"GSG"},{"$f":"IFERROR(VLOOKUP(C1807,Medlemmer!A:C,3,FALSE),\"\")","v":""},{"$f":"IFERROR(VLOOKUP(C1807,Medlemmer!A:C,2,FALSE),\"\")","v":""},{"$f":"IFERROR(VLOOKUP(C1807,Tidligere_henvendelser!A:B,2,FALSE),\"\")","v":""}]
[{"$f":"ReplaceNumbers(C1808)","v":"Ericavej"},{"$f":"_xlfn.NUMBERVALUE(FindNumbers(C1808))","v":147},"Ericavej 147, st. 2","2820 Gentofte",1725000,"2021-12-27","Alm. Salg",28278,2,"Ejerlejlighed",61,1968,{"$f":"IF(ISBLANK(VLOOKUP(A1808,Veje!A:B,2,FALSE)),INDEX(Veje!$D$2:$RT$652,MATCH(A1808,Veje!$A$2:$A$652,0),MATCH(B1808,Veje!$D$1:$RT$1,0)),VLOOKUP(A1808,Veje!A:B,2,FALSE))","v":"GSG"},{"$f":"IFERROR(VLOOKUP(C1808,Medlemmer!A:C,3,FALSE),\"\")","v":""},{"$f":"IFERROR(VLOOKUP(C1808,Medlemmer!A:C,2,FALSE),\"\")","v":""},{"$f":"IFERROR(VLOOKUP(C1808,Tidligere_henvendelser!A:B,2,FALSE),\"\")","v":""}]
[{"$f":"ReplaceNumbers(C1809)","v":"Ermelundsvej"},{"$f":"_xlfn.NUMBERVALUE(FindNumbers(C1809))","v":117},"Ermelundsvej 117B","2820 Gentofte",433500,"2021-12-27","Fam. Salg",3468,4,"Villa",125,1967,{"$f":"IF(ISBLANK(VLOOKUP(A1809,Veje!A:B,2,FALSE)),INDEX(Veje!$D$2:$RT$652,MATCH(A1809,Veje!$A$2:$A$652,0),MATCH(B1809,Veje!$D$1:$RT$1,0)),VLOOKUP(A1809,Veje!A:B,2,FALSE))","v":"BJGF"},{"$f":"IFERROR(VLOOKUP(C1809,Medlemmer!A:C,3,FALSE),\"\")","v":""},{"$f":"IFERROR(VLOOKUP(C1809,Medlemmer!A:C,2,FALSE),\"\")","v":""},{"$f":"IFERROR(VLOOKUP(C1809,Tidligere_henvendelser!A:B,2,FALSE),\"\")","v":""}]
[{"$f":"ReplaceNumbers(C1810)","v":"Høeghsmindevej"},{"$f":"_xlfn.NUMBERVALUE(FindNumbers(C1810))","v":32},"Høeghsmindevej 32","2820 Gentofte",8500000,"2021-12-28","Alm. Salg",55921,5,"Villa",152,1934,{"$f":"IF(ISBLANK(VLOOKUP(A1810,Veje!A:B,2,FALSE)),INDEX(Veje!$D$2:$RT$652,MATCH(A1810,Veje!$A$2:$A$652,0),MATCH(B1810,Veje!$D$1:$RT$1,0)),VLOOKUP(A1810,Veje!A:B,2,FALSE))","v":"GSG"},{"$f":"IFERROR(VLOOKUP(C1810,Medlemmer!A:C,3,FALSE),\"\")","v":""},{"$f":"IFERROR(VLOOKUP(C1810,Medlemmer!A:C,2,FALSE),\"\")","v":""},{"$f":"IFERROR(VLOOKUP(C1810,Tidligere_henvendelser!A:B,2,FALSE),\"\")","v":""}]
[{"$f":"ReplaceNumbers(C1811)","v":"Jægersborg Alle"},{"$f":"_xlfn.NUMBERVALUE(FindNumbers(C1811))","v":37},"Jægersborg Alle 37, 1. tv","2920 Charlottenlund",9250000,"2021-12-28","Alm. Salg",61666,4,"Ejerlejlighed",150,1928,{"$f":"IF(ISBLANK(VLOOKUP(A1811,Veje!A:B,2,FALSE)),INDEX(Veje!$D$2:$RT$652,MATCH(A1811,Veje!$A$2:$A$652,0),MATCH(B1811,Veje!$D$1:$RT$1,0)),VLOOKUP(A1811,Veje!A:B,2,FALSE))","v":"OCG"},{"$f":"IFERROR(VLOOKUP(C1811,Medlemmer!A:C,3,FALSE),\"\")","v":""},{"$f":"IFERROR(VLOOKUP(C1811,Medlemmer!A:C,2,FALSE),\"\")","v":""},{"$f":"IFERROR(VLOOKUP(C1811,Tidligere_henvendelser!A:B,2,FALSE),\"\")","v":""}]
[{"$f":"ReplaceNumbers(C1812)","v":"Maglemosevej"},{"$f":"_xlfn.NUMBERVALUE(FindNumbers(C1812))","v":29},"Maglemosevej 29","2900 Hellerup",13850000,"2021-12-28","Alm. Salg",100362,5,"Rækkehus",138,1943,{"$f":"IF(ISBLANK(VLOOKUP(A1812,Veje!A:B,2,FALSE)),INDEX(Veje!$D$2:$RT$652,MATCH(A1812,Veje!$A$2:$A$652,0),MATCH(B1812,Veje!$D$1:$RT$1,0)),VLOOKUP(A1812,Veje!A:B,2,FALSE))","v":"HMG"},{"$f":"IFERROR(VLOOKUP(C1812,Medlemmer!A:C,3,FALSE),\"\")","v":""},{"$f":"IFERROR(VLOOKUP(C1812,Medlemmer!A:C,2,FALSE),\"\")","v":""},{"$f":"IFERROR(VLOOKUP(C1812,Tidligere_henvendelser!A:B,2,FALSE),\"\")","v":""}]
[{"$f":"ReplaceNumbers(C1813)","v":"Vangedevej"},{"$f":"_xlfn.NUMBERVALUE(FindNumbers(C1813))","v":6},"Vangedevej 6, st. th","2820 Gentofte",1700000,"2021-12-28","Alm. Salg",29824,2,"Ejerlejlighed",57,1939,{"$f":"IF(ISBLANK(VLOOKUP(A1813,Veje!A:B,2,FALSE)),INDEX(Veje!$D$2:$RT$652,MATCH(A1813,Veje!$A$2:$A$652,0),MATCH(B1813,Veje!$D$1:$RT$1,0)),VLOOKUP(A1813,Veje!A:B,2,FALSE))","v":"GSG"},{"$f":"IFERROR(VLOOKUP(C1813,Medlemmer!A:C,3,FALSE),\"\")","v":""},{"$f":"IFERROR(VLOOKUP(C1813,Medlemmer!A:C,2,FALSE),\"\")","v":""},{"$f":"IFERROR(VLOOKUP(C1813,Tidligere_henvendelser!A:B,2,FALSE),\"\")","v":""}]
[{"$f":"ReplaceNumbers(C1814)","v":"Niels Andersens Vej"},{"$f":"_xlfn.NUMBERVALUE(FindNumbers(C1814))","v":48},"Niels Andersens Vej 48","2900 Hellerup",14750000,"2021-12-28","Alm. Salg",57843,8,"Rækkehus",255,1932,{"$f":"IF(ISBLANK(VLOOKUP(A1814,Veje!A:B,2,FALSE)),INDEX(Veje!$D$2:$RT$652,MATCH(A1814,Veje!$A$2:$A$652,0),MATCH(B1814,Veje!$D$1:$RT$1,0)),VLOOKUP(A1814,Veje!A:B,2,FALSE))","v":"GSG"},{"$f":"IFERROR(VLOOKUP(C1814,Medlemmer!A:C,3,FALSE),\"\")","v":""},{"$f":"IFERROR(VLOOKUP(C1814,Medlemmer!A:C,2,FALSE),\"\")","v":""},{"$f":"IFERROR(VLOOKUP(C1814,Tidligere_henvendelser!A:B,2,FALSE),\"\")","v":""}]
[{"$f":"ReplaceNumbers(C1815)","v":"Sofievej"},{"$f":"_xlfn.NUMBERVALUE(FindNumbers(C1815))","v":19},"Sofievej 19","2900 Hellerup",45500000,"2021-12-29","Alm. Salg",117875,9,"Villa",386,1915,{"$f":"IF(ISBLANK(VLOOKUP(A1815,Veje!A:B,2,FALSE)),INDEX(Veje!$D$2:$RT$652,MATCH(A1815,Veje!$A$2:$A$652,0),MATCH(B1815,Veje!$D$1:$RT$1,0)),VLOOKUP(A1815,Veje!A:B,2,FALSE))","v":"HMG"},{"$f":"IFERROR(VLOOKUP(C1815,Medlemmer!A:C,3,FALSE),\"\")","v":""},{"$f":"IFERROR(VLOOKUP(C1815,Medlemmer!A:C,2,FALSE),\"\")","v":""},{"$f":"IFERROR(VLOOKUP(C1815,Tidligere_henvendelser!A:B,2,FALSE),\"\")","v":""}]
[{"$f":"ReplaceNumbers(C1816)","v":"Blidahpark"},{"$f":"_xlfn.NUMBERVALUE(FindNumbers(C1816))","v":24},"Blidahpark 24, 2. tv","2900 Hellerup",2970000,"2021-12-29","Alm. Salg",48688,2,"Ejerlejlighed",61,1934,{"$f":"IF(ISBLANK(VLOOKUP(A1816,Veje!A:B,2,FALSE)),INDEX(Veje!$D$2:$RT$652,MATCH(A1816,Veje!$A$2:$A$652,0),MATCH(B1816,Veje!$D$1:$RT$1,0)),VLOOKUP(A1816,Veje!A:B,2,FALSE))","v":"HMG"},{"$f":"IFERROR(VLOOKUP(C1816,Medlemmer!A:C,3,FALSE),\"\")","v":""},{"$f":"IFERROR(VLOOKUP(C1816,Medlemmer!A:C,2,FALSE),\"\")","v":""},{"$f":"IFERROR(VLOOKUP(C1816,Tidligere_henvendelser!A:B,2,FALSE),\"\")","v":""}]
[{"$f":"ReplaceNumbers(C1817)","v":"Dalstrøget"},{"$f":"_xlfn.NUMBERVALUE(FindNumbers(C1817))","v":63},"Dalstrøget 63, 1. mf","2870 Dyssegård ",1700000,"2021-12-29","Alm. Salg",38636,2,"Ejerlejlighed",44,1959,{"$f":"IF(ISBLANK(VLOOKUP(A1817,Veje!A:B,2,FALSE)),INDEX(Veje!$D$2:$RT$652,MATCH(A1817,Veje!$A$2:$A$652,0),MATCH(B1817,Veje!$D$1:$RT$1,0)),VLOOKUP(A1817,Veje!A:B,2,FALSE))","v":"DY"},{"$f":"IFERROR(VLOOKUP(C1817,Medlemmer!A:C,3,FALSE),\"\")","v":""},{"$f":"IFERROR(VLOOKUP(C1817,Medlemmer!A:C,2,FALSE),\"\")","v":""},{"$f":"IFERROR(VLOOKUP(C1817,Tidligere_henvendelser!A:B,2,FALSE),\"\")","v":""}]
[{"$f":"ReplaceNumbers(C1818)","v":"Lille Fredensvej"},{"$f":"_xlfn.NUMBERVALUE(FindNumbers(C1818))","v":5},"Lille Fredensvej 5A, 1. tv","2920 Charlottenlund",4550000,"2021-12-29","Alm. Salg",59868,3,"Ejerlejlighed",76,1983,{"$f":"IF(ISBLANK(VLOOKUP(A1818,Veje!A:B,2,FALSE)),INDEX(Veje!$D$2:$RT$652,MATCH(A1818,Veje!$A$2:$A$652,0),MATCH(B1818,Veje!$D$1:$RT$1,0)),VLOOKUP(A1818,Veje!A:B,2,FALSE))","v":"OCG"},{"$f":"IFERROR(VLOOKUP(C1818,Medlemmer!A:C,3,FALSE),\"\")","v":""},{"$f":"IFERROR(VLOOKUP(C1818,Medlemmer!A:C,2,FALSE),\"\")","v":""},{"$f":"IFERROR(VLOOKUP(C1818,Tidligere_henvendelser!A:B,2,FALSE),\"\")","v":""}]
[{"$f":"ReplaceNumbers(C1819)","v":"Hyldegårds Tværvej"},{"$f":"_xlfn.NUMBERVALUE(FindNumbers(C1819))","v":15},"Hyldegårds Tværvej 15A, st. th","2920 Charlottenlund",2100000,"2021-12-29","Fam. Salg",42000,2,"Ejerlejlighed",50,1906,{"$f":"IF(ISBLANK(VLOOKUP(A1819,Veje!A:B,2,FALSE)),INDEX(Veje!$D$2:$RT$652,MATCH(A1819,Veje!$A$2:$A$652,0),MATCH(B1819,Veje!$D$1:$RT$1,0)),VLOOKUP(A1819,Veje!A:B,2,FALSE))","v":"OCG"},{"$f":"IFERROR(VLOOKUP(C1819,Medlemmer!A:C,3,FALSE),\"\")","v":""},{"$f":"IFERROR(VLOOKUP(C1819,Medlemmer!A:C,2,FALSE),\"\")","v":""},{"$f":"IFERROR(VLOOKUP(C1819,Tidligere_henvendelser!A:B,2,FALSE),\"\")","v":""}]
[{"$f":"ReplaceNumbers(C1820)","v":"Skjoldagervej"},{"$f":"_xlfn.NUMBERVALUE(FindNumbers(C1820))","v":80},"Skjoldagervej 80, 1. th","2820 Gentofte",2350000,"2021-12-29","Alm. Salg",39166,2,"Ejerlejlighed",60,1959,{"$f":"IF(ISBLANK(VLOOKUP(A1820,Veje!A:B,2,FALSE)),INDEX(Veje!$D$2:$RT$652,MATCH(A1820,Veje!$A$2:$A$652,0),MATCH(B1820,Veje!$D$1:$RT$1,0)),VLOOKUP(A1820,Veje!A:B,2,FALSE))","v":"BJGF"},{"$f":"IFERROR(VLOOKUP(C1820,Medlemmer!A:C,3,FALSE),\"\")","v":""},{"$f":"IFERROR(VLOOKUP(C1820,Medlemmer!A:C,2,FALSE),\"\")","v":""},{"$f":"IFERROR(VLOOKUP(C1820,Tidligere_henvendelser!A:B,2,FALSE),\"\")","v":""}]
[{"$f":"ReplaceNumbers(C1821)","v":"Vinagervej"},{"$f":"_xlfn.NUMBERVALUE(FindNumbers(C1821))","v":23},"Vinagervej 23","2800 Kongens Lyngby",2900000,"2021-12-29","Alm. Salg",15263,7,"Villa",190,1955,{"$f":"IF(ISBLANK(VLOOKUP(A1821,Veje!A:B,2,FALSE)),INDEX(Veje!$D$2:$RT$652,MATCH(A1821,Veje!$A$2:$A$652,0),MATCH(B1821,Veje!$D$1:$RT$1,0)),VLOOKUP(A1821,Veje!A:B,2,FALSE))","v":"GSG"},{"$f":"IFERROR(VLOOKUP(C1821,Medlemmer!A:C,3,FALSE),\"\")","v":""},{"$f":"IFERROR(VLOOKUP(C1821,Medlemmer!A:C,2,FALSE),\"\")","v":""},{"$f":"IFERROR(VLOOKUP(C1821,Tidligere_henvendelser!A:B,2,FALSE),\"\")","v":"21Q1"}]
[{"$f":"ReplaceNumbers(C1822)","v":"C L Ibsens Vej"},{"$f":"_xlfn.NUMBERVALUE(FindNumbers(C1822))","v":21},"C L Ibsens Vej 21, st","2820 Gentofte",11750000,"2021-12-29","Alm. Salg",38149,7,"Villa",308,1903,{"$f":"IF(ISBLANK(VLOOKUP(A1822,Veje!A:B,2,FALSE)),INDEX(Veje!$D$2:$RT$652,MATCH(A1822,Veje!$A$2:$A$652,0),MATCH(B1822,Veje!$D$1:$RT$1,0)),VLOOKUP(A1822,Veje!A:B,2,FALSE))","v":"GSG"},{"$f":"IFERROR(VLOOKUP(C1822,Medlemmer!A:C,3,FALSE),\"\")","v":""},{"$f":"IFERROR(VLOOKUP(C1822,Medlemmer!A:C,2,FALSE),\"\")","v":""},{"$f":"IFERROR(VLOOKUP(C1822,Tidligere_henvendelser!A:B,2,FALSE),\"\")","v":""}]
[{"$f":"ReplaceNumbers(C1823)","v":"Wilhelm Smidts Vej"},{"$f":"_xlfn.NUMBERVALUE(FindNumbers(C1823))","v":15},"Wilhelm Smidts Vej 15","2820 Gentofte",18100000,"2021-12-30","Alm. Salg",67537,9,"Villa",268,1916,{"$f":"IF(ISBLANK(VLOOKUP(A1823,Veje!A:B,2,FALSE)),INDEX(Veje!$D$2:$RT$652,MATCH(A1823,Veje!$A$2:$A$652,0),MATCH(B1823,Veje!$D$1:$RT$1,0)),VLOOKUP(A1823,Veje!A:B,2,FALSE))","v":"GSG"},{"$f":"IFERROR(VLOOKUP(C1823,Medlemmer!A:C,3,FALSE),\"\")","v":""},{"$f":"IFERROR(VLOOKUP(C1823,Medlemmer!A:C,2,FALSE),\"\")","v":""},{"$f":"IFERROR(VLOOKUP(C1823,Tidligere_henvendelser!A:B,2,FALSE),\"\")","v":""}]
[{"$f":"ReplaceNumbers(C1824)","v":"Smakkegårdsvej"},{"$f":"_xlfn.NUMBERVALUE(FindNumbers(C1824))","v":185},"Smakkegårdsvej 185, st. th","2820 Gentofte",1808143,"2021-12-31","Fam. Salg",20316,3,"Ejerlejlighed",89,1946,{"$f":"IF(ISBLANK(VLOOKUP(A1824,Veje!A:B,2,FALSE)),INDEX(Veje!$D$2:$RT$652,MATCH(A1824,Veje!$A$2:$A$652,0),MATCH(B1824,Veje!$D$1:$RT$1,0)),VLOOKUP(A1824,Veje!A:B,2,FALSE))","v":"GSG"},{"$f":"IFERROR(VLOOKUP(C1824,Medlemmer!A:C,3,FALSE),\"\")","v":""},{"$f":"IFERROR(VLOOKUP(C1824,Medlemmer!A:C,2,FALSE),\"\")","v":""},{"$f":"IFERROR(VLOOKUP(C1824,Tidligere_henvendelser!A:B,2,FALSE),\"\")","v":""}]
[{"$f":"ReplaceNumbers(C1825)","v":"Soløsevej"},{"$f":"_xlfn.NUMBERVALUE(FindNumbers(C1825))","v":69},"Soløsevej 69","2820 Gentofte",20950000,"2022-01-01","Alm. Salg",91885,6,"Villa",228,2017,{"$f":"IF(ISBLANK(VLOOKUP(A1825,Veje!A:B,2,FALSE)),INDEX(Veje!$D$2:$RT$652,MATCH(A1825,Veje!$A$2:$A$652,0),MATCH(B1825,Veje!$D$1:$RT$1,0)),VLOOKUP(A1825,Veje!A:B,2,FALSE))","v":"BJGF"},{"$f":"IFERROR(VLOOKUP(C1825,Medlemmer!A:C,3,FALSE),\"\")","v":""},{"$f":"IFERROR(VLOOKUP(C1825,Medlemmer!A:C,2,FALSE),\"\")","v":""},{"$f":"IFERROR(VLOOKUP(C1825,Tidligere_henvendelser!A:B,2,FALSE),\"\")","v":""}]
[{"$f":"ReplaceNumbers(C1826)","v":"Hellerupvej"},{"$f":"_xlfn.NUMBERVALUE(FindNumbers(C1826))","v":15},"Hellerupvej 15, 1. tv","2900 Hellerup",5550000,"2022-01-02","Alm. Salg",59677,3,"Ejerlejlighed",93,1900,{"$f":"IF(ISBLANK(VLOOKUP(A1826,Veje!A:B,2,FALSE)),INDEX(Veje!$D$2:$RT$652,MATCH(A1826,Veje!$A$2:$A$652,0),MATCH(B1826,Veje!$D$1:$RT$1,0)),VLOOKUP(A1826,Veje!A:B,2,FALSE))","v":"HMG"},{"$f":"IFERROR(VLOOKUP(C1826,Medlemmer!A:C,3,FALSE),\"\")","v":""},{"$f":"IFERROR(VLOOKUP(C1826,Medlemmer!A:C,2,FALSE),\"\")","v":""},{"$f":"IFERROR(VLOOKUP(C1826,Tidligere_henvendelser!A:B,2,FALSE),\"\")","v":""}]
[{"$f":"ReplaceNumbers(C1827)","v":"Bernstorffsvej"},{"$f":"_xlfn.NUMBERVALUE(FindNumbers(C1827))","v":175},"Bernstorffsvej 175","2920 Charlottenlund",11000000,"2022-01-02","Alm. Salg",60773,6,"Villa",181,1937,{"$f":"IF(ISBLANK(VLOOKUP(A1827,Veje!A:B,2,FALSE)),INDEX(Veje!$D$2:$RT$652,MATCH(A1827,Veje!$A$2:$A$652,0),MATCH(B1827,Veje!$D$1:$RT$1,0)),VLOOKUP(A1827,Veje!A:B,2,FALSE))","v":"GSG"},{"$f":"IFERROR(VLOOKUP(C1827,Medlemmer!A:C,3,FALSE),\"\")","v":""},{"$f":"IFERROR(VLOOKUP(C1827,Medlemmer!A:C,2,FALSE),\"\")","v":""},{"$f":"IFERROR(VLOOKUP(C1827,Tidligere_henvendelser!A:B,2,FALSE),\"\")","v":""}]
[{"$f":"ReplaceNumbers(C1828)","v":"Ordrupvej"},{"$f":"_xlfn.NUMBERVALUE(FindNumbers(C1828))","v":48},"Ordrupvej 48A, 2. th","2920 Charlottenlund",2850000,"2022-01-02","Alm. Salg",40714,3,"Ejerlejlighed",70,1939,{"$f":"IF(ISBLANK(VLOOKUP(A1828,Veje!A:B,2,FALSE)),INDEX(Veje!$D$2:$RT$652,MATCH(A1828,Veje!$A$2:$A$652,0),MATCH(B1828,Veje!$D$1:$RT$1,0)),VLOOKUP(A1828,Veje!A:B,2,FALSE))","v":"OCG"},{"$f":"IFERROR(VLOOKUP(C1828,Medlemmer!A:C,3,FALSE),\"\")","v":""},{"$f":"IFERROR(VLOOKUP(C1828,Medlemmer!A:C,2,FALSE),\"\")","v":""},{"$f":"IFERROR(VLOOKUP(C1828,Tidligere_henvendelser!A:B,2,FALSE),\"\")","v":""}]
[{"$f":"ReplaceNumbers(C1829)","v":"Plantevej"},{"$f":"_xlfn.NUMBERVALUE(FindNumbers(C1829))","v":17},"Plantevej 17, 1. th","2870 Dyssegård ",2100000,"2022-01-03","Alm. Salg",36206,2,"Ejerlejlighed",58,1938,{"$f":"IF(ISBLANK(VLOOKUP(A1829,Veje!A:B,2,FALSE)),INDEX(Veje!$D$2:$RT$652,MATCH(A1829,Veje!$A$2:$A$652,0),MATCH(B1829,Veje!$D$1:$RT$1,0)),VLOOKUP(A1829,Veje!A:B,2,FALSE))","v":"DY"},{"$f":"IFERROR(VLOOKUP(C1829,Medlemmer!A:C,3,FALSE),\"\")","v":""},{"$f":"IFERROR(VLOOKUP(C1829,Medlemmer!A:C,2,FALSE),\"\")","v":""},{"$f":"IFERROR(VLOOKUP(C1829,Tidligere_henvendelser!A:B,2,FALSE),\"\")","v":""}]
[{"$f":"ReplaceNumbers(C1830)","v":"Lyngbyvej"},{"$f":"_xlfn.NUMBERVALUE(FindNumbers(C1830))","v":345},"Lyngbyvej 345A, st. th","2820 Gentofte",2050000,"2022-01-03","Alm. Salg",29285,3,"Ejerlejlighed",70,1938,{"$f":"IF(ISBLANK(VLOOKUP(A1830,Veje!A:B,2,FALSE)),INDEX(Veje!$D$2:$RT$652,MATCH(A1830,Veje!$A$2:$A$652,0),MATCH(B1830,Veje!$D$1:$RT$1,0)),VLOOKUP(A1830,Veje!A:B,2,FALSE))","v":"GSG"},{"$f":"IFERROR(VLOOKUP(C1830,Medlemmer!A:C,3,FALSE),\"\")","v":""},{"$f":"IFERROR(VLOOKUP(C1830,Medlemmer!A:C,2,FALSE),\"\")","v":""},{"$f":"IFERROR(VLOOKUP(C1830,Tidligere_henvendelser!A:B,2,FALSE),\"\")","v":""}]
[{"$f":"ReplaceNumbers(C1831)","v":"Ellemosevej"},{"$f":"_xlfn.NUMBERVALUE(FindNumbers(C1831))","v":32},"Ellemosevej 32","2900 Hellerup",8075000,"2022-01-03","Alm. Salg",79950,4,"Villa",101,1942,{"$f":"IF(ISBLANK(VLOOKUP(A1831,Veje!A:B,2,FALSE)),INDEX(Veje!$D$2:$RT$652,MATCH(A1831,Veje!$A$2:$A$652,0),MATCH(B1831,Veje!$D$1:$RT$1,0)),VLOOKUP(A1831,Veje!A:B,2,FALSE))","v":"DY"},{"$f":"IFERROR(VLOOKUP(C1831,Medlemmer!A:C,3,FALSE),\"\")","v":""},{"$f":"IFERROR(VLOOKUP(C1831,Medlemmer!A:C,2,FALSE),\"\")","v":""},{"$f":"IFERROR(VLOOKUP(C1831,Tidligere_henvendelser!A:B,2,FALSE),\"\")","v":""}]
[{"$f":"ReplaceNumbers(C1832)","v":"Bomporten"},{"$f":"_xlfn.NUMBERVALUE(FindNumbers(C1832))","v":24},"Bomporten 24","2820 Gentofte",4500000,"2022-01-03","Alm. Salg",46875,4,"Rækkehus",96,1944,{"$f":"IF(ISBLANK(VLOOKUP(A1832,Veje!A:B,2,FALSE)),INDEX(Veje!$D$2:$RT$652,MATCH(A1832,Veje!$A$2:$A$652,0),MATCH(B1832,Veje!$D$1:$RT$1,0)),VLOOKUP(A1832,Veje!A:B,2,FALSE))","v":"GSG"},{"$f":"IFERROR(VLOOKUP(C1832,Medlemmer!A:C,3,FALSE),\"\")","v":""},{"$f":"IFERROR(VLOOKUP(C1832,Medlemmer!A:C,2,FALSE),\"\")","v":""},{"$f":"IFERROR(VLOOKUP(C1832,Tidligere_henvendelser!A:B,2,FALSE),\"\")","v":""}]
[{"$f":"ReplaceNumbers(C1833)","v":"Bækkebo"},{"$f":"_xlfn.NUMBERVALUE(FindNumbers(C1833))","v":16},"Bækkebo 16","2870 Dyssegård ",7920000,"2022-01-03","Alm. Salg",71351,5,"Villa",111,1930,{"$f":"IF(ISBLANK(VLOOKUP(A1833,Veje!A:B,2,FALSE)),INDEX(Veje!$D$2:$RT$652,MATCH(A1833,Veje!$A$2:$A$652,0),MATCH(B1833,Veje!$D$1:$RT$1,0)),VLOOKUP(A1833,Veje!A:B,2,FALSE))","v":"DY"},{"$f":"IFERROR(VLOOKUP(C1833,Medlemmer!A:C,3,FALSE),\"\")","v":""},{"$f":"IFERROR(VLOOKUP(C1833,Medlemmer!A:C,2,FALSE),\"\")","v":""},{"$f":"IFERROR(VLOOKUP(C1833,Tidligere_henvendelser!A:B,2,FALSE),\"\")","v":""}]
[{"$f":"ReplaceNumbers(C1834)","v":"Fuglegårdsvænget"},{"$f":"_xlfn.NUMBERVALUE(FindNumbers(C1834))","v":85},"Fuglegårdsvænget 85, st. th","2820 Gentofte",1850000,"2022-01-03","Alm. Salg",34259,2,"Ejerlejlighed",54,1936,{"$f":"IF(ISBLANK(VLOOKUP(A1834,Veje!A:B,2,FALSE)),INDEX(Veje!$D$2:$RT$652,MATCH(A1834,Veje!$A$2:$A$652,0),MATCH(B1834,Veje!$D$1:$RT$1,0)),VLOOKUP(A1834,Veje!A:B,2,FALSE))","v":"GSG"},{"$f":"IFERROR(VLOOKUP(C1834,Medlemmer!A:C,3,FALSE),\"\")","v":""},{"$f":"IFERROR(VLOOKUP(C1834,Medlemmer!A:C,2,FALSE),\"\")","v":""},{"$f":"IFERROR(VLOOKUP(C1834,Tidligere_henvendelser!A:B,2,FALSE),\"\")","v":""}]
[{"$f":"ReplaceNumbers(C1835)","v":"Kærmindevej"},{"$f":"_xlfn.NUMBERVALUE(FindNumbers(C1835))","v":9},"Kærmindevej 9","2820 Gentofte",9225000,"2022-01-04","Alm. Salg",40818,8,"Villa",226,1959,{"$f":"IF(ISBLANK(VLOOKUP(A1835,Veje!A:B,2,FALSE)),INDEX(Veje!$D$2:$RT$652,MATCH(A1835,Veje!$A$2:$A$652,0),MATCH(B1835,Veje!$D$1:$RT$1,0)),VLOOKUP(A1835,Veje!A:B,2,FALSE))","v":"GSG"},{"$f":"IFERROR(VLOOKUP(C1835,Medlemmer!A:C,3,FALSE),\"\")","v":""},{"$f":"IFERROR(VLOOKUP(C1835,Medlemmer!A:C,2,FALSE),\"\")","v":""},{"$f":"IFERROR(VLOOKUP(C1835,Tidligere_henvendelser!A:B,2,FALSE),\"\")","v":""}]
[{"$f":"ReplaceNumbers(C1836)","v":"Søbakken"},{"$f":"_xlfn.NUMBERVALUE(FindNumbers(C1836))","v":28},"Søbakken 28, st. tv","2920 Charlottenlund",4150000,"2022-01-04","Alm. Salg",69166,3,"Ejerlejlighed",60,1905,{"$f":"IF(ISBLANK(VLOOKUP(A1836,Veje!A:B,2,FALSE)),INDEX(Veje!$D$2:$RT$652,MATCH(A1836,Veje!$A$2:$A$652,0),MATCH(B1836,Veje!$D$1:$RT$1,0)),VLOOKUP(A1836,Veje!A:B,2,FALSE))","v":"SKGF"},{"$f":"IFERROR(VLOOKUP(C1836,Medlemmer!A:C,3,FALSE),\"\")","v":""},{"$f":"IFERROR(VLOOKUP(C1836,Medlemmer!A:C,2,FALSE),\"\")","v":""},{"$f":"IFERROR(VLOOKUP(C1836,Tidligere_henvendelser!A:B,2,FALSE),\"\")","v":""}]
[{"$f":"ReplaceNumbers(C1837)","v":"Strandvejen"},{"$f":"_xlfn.NUMBERVALUE(FindNumbers(C1837))","v":62},"Strandvejen 62B, 2. 3","2900 Hellerup",5200000,"2022-01-04","Alm. Salg",63414,3,"Ejerlejlighed",82,1995,{"$f":"IF(ISBLANK(VLOOKUP(A1837,Veje!A:B,2,FALSE)),INDEX(Veje!$D$2:$RT$652,MATCH(A1837,Veje!$A$2:$A$652,0),MATCH(B1837,Veje!$D$1:$RT$1,0)),VLOOKUP(A1837,Veje!A:B,2,FALSE))","v":"HMG"},{"$f":"IFERROR(VLOOKUP(C1837,Medlemmer!A:C,3,FALSE),\"\")","v":""},{"$f":"IFERROR(VLOOKUP(C1837,Medlemmer!A:C,2,FALSE),\"\")","v":""},{"$f":"IFERROR(VLOOKUP(C1837,Tidligere_henvendelser!A:B,2,FALSE),\"\")","v":""}]
[{"$f":"ReplaceNumbers(C1838)","v":"Sagaparken"},{"$f":"_xlfn.NUMBERVALUE(FindNumbers(C1838))","v":1},"Sagaparken 1","2920 Charlottenlund",11995000,"2022-01-04","Alm. Salg",83298,6,"Rækkehus",144,1966,{"$f":"IF(ISBLANK(VLOOKUP(A1838,Veje!A:B,2,FALSE)),INDEX(Veje!$D$2:$RT$652,MATCH(A1838,Veje!$A$2:$A$652,0),MATCH(B1838,Veje!$D$1:$RT$1,0)),VLOOKUP(A1838,Veje!A:B,2,FALSE))","v":"OCG"},{"$f":"IFERROR(VLOOKUP(C1838,Medlemmer!A:C,3,FALSE),\"\")","v":""},{"$f":"IFERROR(VLOOKUP(C1838,Medlemmer!A:C,2,FALSE),\"\")","v":""},{"$f":"IFERROR(VLOOKUP(C1838,Tidligere_henvendelser!A:B,2,FALSE),\"\")","v":""}]
[{"$f":"ReplaceNumbers(C1839)","v":"Ericavej"},{"$f":"_xlfn.NUMBERVALUE(FindNumbers(C1839))","v":25},"Ericavej 25","2820 Gentofte",5650000,"2022-01-04","Alm. Salg",51834,4,"Villa",109,1930,{"$f":"IF(ISBLANK(VLOOKUP(A1839,Veje!A:B,2,FALSE)),INDEX(Veje!$D$2:$RT$652,MATCH(A1839,Veje!$A$2:$A$652,0),MATCH(B1839,Veje!$D$1:$RT$1,0)),VLOOKUP(A1839,Veje!A:B,2,FALSE))","v":"GSG"},{"$f":"IFERROR(VLOOKUP(C1839,Medlemmer!A:C,3,FALSE),\"\")","v":""},{"$f":"IFERROR(VLOOKUP(C1839,Medlemmer!A:C,2,FALSE),\"\")","v":""},{"$f":"IFERROR(VLOOKUP(C1839,Tidligere_henvendelser!A:B,2,FALSE),\"\")","v":""}]
[{"$f":"ReplaceNumbers(C1840)","v":"Jensløvs Tværvej"},{"$f":"_xlfn.NUMBERVALUE(FindNumbers(C1840))","v":5},"Jensløvs Tværvej 5A, 1. th","2920 Charlottenlund",3400000,"2022-01-05","Alm. Salg",50746,3,"Ejerlejlighed",67,1945,{"$f":"IF(ISBLANK(VLOOKUP(A1840,Veje!A:B,2,FALSE)),INDEX(Veje!$D$2:$RT$652,MATCH(A1840,Veje!$A$2:$A$652,0),MATCH(B1840,Veje!$D$1:$RT$1,0)),VLOOKUP(A1840,Veje!A:B,2,FALSE))","v":"OCG"},{"$f":"IFERROR(VLOOKUP(C1840,Medlemmer!A:C,3,FALSE),\"\")","v":""},{"$f":"IFERROR(VLOOKUP(C1840,Medlemmer!A:C,2,FALSE),\"\")","v":""},{"$f":"IFERROR(VLOOKUP(C1840,Tidligere_henvendelser!A:B,2,FALSE),\"\")","v":""}]
[{"$f":"ReplaceNumbers(C1841)","v":"Løvspringsvej"},{"$f":"_xlfn.NUMBERVALUE(FindNumbers(C1841))","v":20},"Løvspringsvej 20, st","2920 Charlottenlund",1000000,"2022-01-05","Alm. Salg",10000,4,"Ejerlejlighed",100,1899,{"$f":"IF(ISBLANK(VLOOKUP(A1841,Veje!A:B,2,FALSE)),INDEX(Veje!$D$2:$RT$652,MATCH(A1841,Veje!$A$2:$A$652,0),MATCH(B1841,Veje!$D$1:$RT$1,0)),VLOOKUP(A1841,Veje!A:B,2,FALSE))","v":"OCG"},{"$f":"IFERROR(VLOOKUP(C1841,Medlemmer!A:C,3,FALSE),\"\")","v":""},{"$f":"IFERROR(VLOOKUP(C1841,Medlemmer!A:C,2,FALSE),\"\")","v":""},{"$f":"IFERROR(VLOOKUP(C1841,Tidligere_henvendelser!A:B,2,FALSE),\"\")","v":""}]
[{"$f":"ReplaceNumbers(C1842)","v":"Løvspringsvej"},{"$f":"_xlfn.NUMBERVALUE(FindNumbers(C1842))","v":20},"Løvspringsvej 20, 1","2920 Charlottenlund",1000000,"2022-01-05","Alm. Salg",10869,3,"Ejerlejlighed",92,1899,{"$f":"IF(ISBLANK(VLOOKUP(A1842,Veje!A:B,2,FALSE)),INDEX(Veje!$D$2:$RT$652,MATCH(A1842,Veje!$A$2:$A$652,0),MATCH(B1842,Veje!$D$1:$RT$1,0)),VLOOKUP(A1842,Veje!A:B,2,FALSE))","v":"OCG"},{"$f":"IFERROR(VLOOKUP(C1842,Medlemmer!A:C,3,FALSE),\"\")","v":""},{"$f":"IFERROR(VLOOKUP(C1842,Medlemmer!A:C,2,FALSE),\"\")","v":""},{"$f":"IFERROR(VLOOKUP(C1842,Tidligere_henvendelser!A:B,2,FALSE),\"\")","v":""}]
[{"$f":"ReplaceNumbers(C1843)","v":"Løvspringsvej"},{"$f":"_xlfn.NUMBERVALUE(FindNumbers(C1843))","v":20},"Løvspringsvej 20A","2920 Charlottenlund",1000000,"2022-01-05","Alm. Salg",11111,2,"Ejerlejlighed",90,1954,{"$f":"IF(ISBLANK(VLOOKUP(A1843,Veje!A:B,2,FALSE)),INDEX(Veje!$D$2:$RT$652,MATCH(A1843,Veje!$A$2:$A$652,0),MATCH(B1843,Veje!$D$1:$RT$1,0)),VLOOKUP(A1843,Veje!A:B,2,FALSE))","v":"OCG"},{"$f":"IFERROR(VLOOKUP(C1843,Medlemmer!A:C,3,FALSE),\"\")","v":""},{"$f":"IFERROR(VLOOKUP(C1843,Medlemmer!A:C,2,FALSE),\"\")","v":""},{"$f":"IFERROR(VLOOKUP(C1843,Tidligere_henvendelser!A:B,2,FALSE),\"\")","v":""}]
[{"$f":"ReplaceNumbers(C1844)","v":"Hambros Alle"},{"$f":"_xlfn.NUMBERVALUE(FindNumbers(C1844))","v":15},"Hambros Alle 15, st","2900 Hellerup",40000000,"2022-01-05","Alm. Salg",219780,5,"Ejerlejlighed",182,1917,{"$f":"IF(ISBLANK(VLOOKUP(A1844,Veje!A:B,2,FALSE)),INDEX(Veje!$D$2:$RT$652,MATCH(A1844,Veje!$A$2:$A$652,0),MATCH(B1844,Veje!$D$1:$RT$1,0)),VLOOKUP(A1844,Veje!A:B,2,FALSE))","v":"HMG"},{"$f":"IFERROR(VLOOKUP(C1844,Medlemmer!A:C,3,FALSE),\"\")","v":""},{"$f":"IFERROR(VLOOKUP(C1844,Medlemmer!A:C,2,FALSE),\"\")","v":""},{"$f":"IFERROR(VLOOKUP(C1844,Tidligere_henvendelser!A:B,2,FALSE),\"\")","v":""}]
[{"$f":"ReplaceNumbers(C1845)","v":"Hambros Alle"},{"$f":"_xlfn.NUMBERVALUE(FindNumbers(C1845))","v":15},"Hambros Alle 15, 1","2900 Hellerup",40000000,"2022-01-05","Alm. Salg",246913,5,"Ejerlejlighed",162,1917,{"$f":"IF(ISBLANK(VLOOKUP(A1845,Veje!A:B,2,FALSE)),INDEX(Veje!$D$2:$RT$652,MATCH(A1845,Veje!$A$2:$A$652,0),MATCH(B1845,Veje!$D$1:$RT$1,0)),VLOOKUP(A1845,Veje!A:B,2,FALSE))","v":"HMG"},{"$f":"IFERROR(VLOOKUP(C1845,Medlemmer!A:C,3,FALSE),\"\")","v":""},{"$f":"IFERROR(VLOOKUP(C1845,Medlemmer!A:C,2,FALSE),\"\")","v":""},{"$f":"IFERROR(VLOOKUP(C1845,Tidligere_henvendelser!A:B,2,FALSE),\"\")","v":""}]
[{"$f":"ReplaceNumbers(C1846)","v":"Hambros Alle"},{"$f":"_xlfn.NUMBERVALUE(FindNumbers(C1846))","v":15},"Hambros Alle 15, 2. 1","2900 Hellerup",40000000,"2022-01-05","Alm. Salg",769230,3,"Ejerlejlighed",52,1917,{"$f":"IF(ISBLANK(VLOOKUP(A1846,Veje!A:B,2,FALSE)),INDEX(Veje!$D$2:$RT$652,MATCH(A1846,Veje!$A$2:$A$652,0),MATCH(B1846,Veje!$D$1:$RT$1,0)),VLOOKUP(A1846,Veje!A:B,2,FALSE))","v":"HMG"},{"$f":"IFERROR(VLOOKUP(C1846,Medlemmer!A:C,3,FALSE),\"\")","v":""},{"$f":"IFERROR(VLOOKUP(C1846,Medlemmer!A:C,2,FALSE),\"\")","v":""},{"$f":"IFERROR(VLOOKUP(C1846,Tidligere_henvendelser!A:B,2,FALSE),\"\")","v":""}]
[{"$f":"ReplaceNumbers(C1847)","v":"Hambros Alle"},{"$f":"_xlfn.NUMBERVALUE(FindNumbers(C1847))","v":15},"Hambros Alle 15, 2. 2","2900 Hellerup",40000000,"2022-01-05","Alm. Salg",769230,2,"Ejerlejlighed",52,1917,{"$f":"IF(ISBLANK(VLOOKUP(A1847,Veje!A:B,2,FALSE)),INDEX(Veje!$D$2:$RT$652,MATCH(A1847,Veje!$A$2:$A$652,0),MATCH(B1847,Veje!$D$1:$RT$1,0)),VLOOKUP(A1847,Veje!A:B,2,FALSE))","v":"HMG"},{"$f":"IFERROR(VLOOKUP(C1847,Medlemmer!A:C,3,FALSE),\"\")","v":""},{"$f":"IFERROR(VLOOKUP(C1847,Medlemmer!A:C,2,FALSE),\"\")","v":""},{"$f":"IFERROR(VLOOKUP(C1847,Tidligere_henvendelser!A:B,2,FALSE),\"\")","v":""}]
[{"$f":"ReplaceNumbers(C1848)","v":"Vangedevej"},{"$f":"_xlfn.NUMBERVALUE(FindNumbers(C1848))","v":162},"Vangedevej 162C, 1. th","2870 Dyssegård ",935000,"2022-01-05","Fam. Salg",13955,2,"Ejerlejlighed",67,1987,{"$f":"IF(ISBLANK(VLOOKUP(A1848,Veje!A:B,2,FALSE)),INDEX(Veje!$D$2:$RT$652,MATCH(A1848,Veje!$A$2:$A$652,0),MATCH(B1848,Veje!$D$1:$RT$1,0)),VLOOKUP(A1848,Veje!A:B,2,FALSE))","v":"DY"},{"$f":"IFERROR(VLOOKUP(C1848,Medlemmer!A:C,3,FALSE),\"\")","v":""},{"$f":"IFERROR(VLOOKUP(C1848,Medlemmer!A:C,2,FALSE),\"\")","v":""},{"$f":"IFERROR(VLOOKUP(C1848,Tidligere_henvendelser!A:B,2,FALSE),\"\")","v":""}]
[{"$f":"ReplaceNumbers(C1849)","v":"Tuborgvej"},{"$f":"_xlfn.NUMBERVALUE(FindNumbers(C1849))","v":138},"Tuborgvej 138","2900 Hellerup",8350000,"2022-01-06","Alm. Salg",56418,6,"Villa",148,1924,{"$f":"IF(ISBLANK(VLOOKUP(A1849,Veje!A:B,2,FALSE)),INDEX(Veje!$D$2:$RT$652,MATCH(A1849,Veje!$A$2:$A$652,0),MATCH(B1849,Veje!$D$1:$RT$1,0)),VLOOKUP(A1849,Veje!A:B,2,FALSE))","v":"DY"},{"$f":"IFERROR(VLOOKUP(C1849,Medlemmer!A:C,3,FALSE),\"\")","v":""},{"$f":"IFERROR(VLOOKUP(C1849,Medlemmer!A:C,2,FALSE),\"\")","v":""},{"$f":"IFERROR(VLOOKUP(C1849,Tidligere_henvendelser!A:B,2,FALSE),\"\")","v":""}]
[{"$f":"ReplaceNumbers(C1850)","v":"Smakkegårdsvej"},{"$f":"_xlfn.NUMBERVALUE(FindNumbers(C1850))","v":189},"Smakkegårdsvej 189, 2. mf","2820 Gentofte",2390000,"2022-01-06","Alm. Salg",37936,2,"Ejerlejlighed",63,1946,{"$f":"IF(ISBLANK(VLOOKUP(A1850,Veje!A:B,2,FALSE)),INDEX(Veje!$D$2:$RT$652,MATCH(A1850,Veje!$A$2:$A$652,0),MATCH(B1850,Veje!$D$1:$RT$1,0)),VLOOKUP(A1850,Veje!A:B,2,FALSE))","v":"GSG"},{"$f":"IFERROR(VLOOKUP(C1850,Medlemmer!A:C,3,FALSE),\"\")","v":""},{"$f":"IFERROR(VLOOKUP(C1850,Medlemmer!A:C,2,FALSE),\"\")","v":""},{"$f":"IFERROR(VLOOKUP(C1850,Tidligere_henvendelser!A:B,2,FALSE),\"\")","v":""}]
[{"$f":"ReplaceNumbers(C1851)","v":"Clarasvej"},{"$f":"_xlfn.NUMBERVALUE(FindNumbers(C1851))","v":1},"Clarasvej 1B, 1. 2","2920 Charlottenlund",2295000,"2022-01-06","Alm. Salg",42500,2,"Ejerlejlighed",54,1939,{"$f":"IF(ISBLANK(VLOOKUP(A1851,Veje!A:B,2,FALSE)),INDEX(Veje!$D$2:$RT$652,MATCH(A1851,Veje!$A$2:$A$652,0),MATCH(B1851,Veje!$D$1:$RT$1,0)),VLOOKUP(A1851,Veje!A:B,2,FALSE))","v":"OCG"},{"$f":"IFERROR(VLOOKUP(C1851,Medlemmer!A:C,3,FALSE),\"\")","v":""},{"$f":"IFERROR(VLOOKUP(C1851,Medlemmer!A:C,2,FALSE),\"\")","v":""},{"$f":"IFERROR(VLOOKUP(C1851,Tidligere_henvendelser!A:B,2,FALSE),\"\")","v":""}]
[{"$f":"ReplaceNumbers(C1852)","v":"Brogårdsvej"},{"$f":"_xlfn.NUMBERVALUE(FindNumbers(C1852))","v":3},"Brogårdsvej 3, st","2820 Gentofte",6295000,"2022-01-06","Alm. Salg",61116,4,"Ejerlejlighed",103,1893,{"$f":"IF(ISBLANK(VLOOKUP(A1852,Veje!A:B,2,FALSE)),INDEX(Veje!$D$2:$RT$652,MATCH(A1852,Veje!$A$2:$A$652,0),MATCH(B1852,Veje!$D$1:$RT$1,0)),VLOOKUP(A1852,Veje!A:B,2,FALSE))","v":"GSG"},{"$f":"IFERROR(VLOOKUP(C1852,Medlemmer!A:C,3,FALSE),\"\")","v":""},{"$f":"IFERROR(VLOOKUP(C1852,Medlemmer!A:C,2,FALSE),\"\")","v":""},{"$f":"IFERROR(VLOOKUP(C1852,Tidligere_henvendelser!A:B,2,FALSE),\"\")","v":""}]
[{"$f":"ReplaceNumbers(C1853)","v":"Brogårdsvej"},{"$f":"_xlfn.NUMBERVALUE(FindNumbers(C1853))","v":3},"Brogårdsvej 3, 1","2820 Gentofte",6295000,"2022-01-06","Alm. Salg",74940,1,"Ejerlejlighed",84,1893,{"$f":"IF(ISBLANK(VLOOKUP(A1853,Veje!A:B,2,FALSE)),INDEX(Veje!$D$2:$RT$652,MATCH(A1853,Veje!$A$2:$A$652,0),MATCH(B1853,Veje!$D$1:$RT$1,0)),VLOOKUP(A1853,Veje!A:B,2,FALSE))","v":"GSG"},{"$f":"IFERROR(VLOOKUP(C1853,Medlemmer!A:C,3,FALSE),\"\")","v":""},{"$f":"IFERROR(VLOOKUP(C1853,Medlemmer!A:C,2,FALSE),\"\")","v":""},{"$f":"IFERROR(VLOOKUP(C1853,Tidligere_henvendelser!A:B,2,FALSE),\"\")","v":""}]
[{"$f":"ReplaceNumbers(C1854)","v":"Høstvej"},{"$f":"_xlfn.NUMBERVALUE(FindNumbers(C1854))","v":28},"Høstvej 28","2920 Charlottenlund",16895000,"2022-01-06","Alm. Salg",107611,5,"Villa",157,1928,{"$f":"IF(ISBLANK(VLOOKUP(A1854,Veje!A:B,2,FALSE)),INDEX(Veje!$D$2:$RT$652,MATCH(A1854,Veje!$A$2:$A$652,0),MATCH(B1854,Veje!$D$1:$RT$1,0)),VLOOKUP(A1854,Veje!A:B,2,FALSE))","v":"OCG"},{"$f":"IFERROR(VLOOKUP(C1854,Medlemmer!A:C,3,FALSE),\"\")","v":""},{"$f":"IFERROR(VLOOKUP(C1854,Medlemmer!A:C,2,FALSE),\"\")","v":""},{"$f":"IFERROR(VLOOKUP(C1854,Tidligere_henvendelser!A:B,2,FALSE),\"\")","v":""}]
[{"$f":"ReplaceNumbers(C1855)","v":"Phistersvej"},{"$f":"_xlfn.NUMBERVALUE(FindNumbers(C1855))","v":10},"Phistersvej 10","2900 Hellerup",21500000,"2022-01-08","Alm. Salg",101415,8,"Villa",212,1916,{"$f":"IF(ISBLANK(VLOOKUP(A1855,Veje!A:B,2,FALSE)),INDEX(Veje!$D$2:$RT$652,MATCH(A1855,Veje!$A$2:$A$652,0),MATCH(B1855,Veje!$D$1:$RT$1,0)),VLOOKUP(A1855,Veje!A:B,2,FALSE))","v":"HMG"},{"$f":"IFERROR(VLOOKUP(C1855,Medlemmer!A:C,3,FALSE),\"\")","v":""},{"$f":"IFERROR(VLOOKUP(C1855,Medlemmer!A:C,2,FALSE),\"\")","v":""},{"$f":"IFERROR(VLOOKUP(C1855,Tidligere_henvendelser!A:B,2,FALSE),\"\")","v":""}]
[{"$f":"ReplaceNumbers(C1856)","v":"Morescosvej"},{"$f":"_xlfn.NUMBERVALUE(FindNumbers(C1856))","v":10},"Morescosvej 10, 2. tv","2920 Charlottenlund",1525000,"2022-01-09","Alm. Salg",20890,2,"Ejerlejlighed",73,1943,{"$f":"IF(ISBLANK(VLOOKUP(A1856,Veje!A:B,2,FALSE)),INDEX(Veje!$D$2:$RT$652,MATCH(A1856,Veje!$A$2:$A$652,0),MATCH(B1856,Veje!$D$1:$RT$1,0)),VLOOKUP(A1856,Veje!A:B,2,FALSE))","v":"OCG"},{"$f":"IFERROR(VLOOKUP(C1856,Medlemmer!A:C,3,FALSE),\"\")","v":""},{"$f":"IFERROR(VLOOKUP(C1856,Medlemmer!A:C,2,FALSE),\"\")","v":""},{"$f":"IFERROR(VLOOKUP(C1856,Tidligere_henvendelser!A:B,2,FALSE),\"\")","v":""}]
[{"$f":"ReplaceNumbers(C1857)","v":"Høyrups Alle"},{"$f":"_xlfn.NUMBERVALUE(FindNumbers(C1857))","v":30},"Høyrups Alle 30","2900 Hellerup",30000000,"2022-01-09","Alm. Salg",160427,5,"Villa",187,1931,{"$f":"IF(ISBLANK(VLOOKUP(A1857,Veje!A:B,2,FALSE)),INDEX(Veje!$D$2:$RT$652,MATCH(A1857,Veje!$A$2:$A$652,0),MATCH(B1857,Veje!$D$1:$RT$1,0)),VLOOKUP(A1857,Veje!A:B,2,FALSE))","v":"HMG"},{"$f":"IFERROR(VLOOKUP(C1857,Medlemmer!A:C,3,FALSE),\"\")","v":""},{"$f":"IFERROR(VLOOKUP(C1857,Medlemmer!A:C,2,FALSE),\"\")","v":""},{"$f":"IFERROR(VLOOKUP(C1857,Tidligere_henvendelser!A:B,2,FALSE),\"\")","v":""}]
[{"$f":"ReplaceNumbers(C1858)","v":"Vangede Bygade"},{"$f":"_xlfn.NUMBERVALUE(FindNumbers(C1858))","v":78},"Vangede Bygade 78, 2. th","2820 Gentofte",1850000,"2022-01-09","Alm. Salg",33636,2,"Ejerlejlighed",55,1940,{"$f":"IF(ISBLANK(VLOOKUP(A1858,Veje!A:B,2,FALSE)),INDEX(Veje!$D$2:$RT$652,MATCH(A1858,Veje!$A$2:$A$652,0),MATCH(B1858,Veje!$D$1:$RT$1,0)),VLOOKUP(A1858,Veje!A:B,2,FALSE))","v":"GSG"},{"$f":"IFERROR(VLOOKUP(C1858,Medlemmer!A:C,3,FALSE),\"\")","v":""},{"$f":"IFERROR(VLOOKUP(C1858,Medlemmer!A:C,2,FALSE),\"\")","v":""},{"$f":"IFERROR(VLOOKUP(C1858,Tidligere_henvendelser!A:B,2,FALSE),\"\")","v":""}]
[{"$f":"ReplaceNumbers(C1859)","v":"Vangede Bygade"},{"$f":"_xlfn.NUMBERVALUE(FindNumbers(C1859))","v":109},"Vangede Bygade 109, 2. tv","2820 Gentofte",1675000,"2022-01-09","Alm. Salg",32843,2,"Ejerlejlighed",51,1958,{"$f":"IF(ISBLANK(VLOOKUP(A1859,Veje!A:B,2,FALSE)),INDEX(Veje!$D$2:$RT$652,MATCH(A1859,Veje!$A$2:$A$652,0),MATCH(B1859,Veje!$D$1:$RT$1,0)),VLOOKUP(A1859,Veje!A:B,2,FALSE))","v":"GSG"},{"$f":"IFERROR(VLOOKUP(C1859,Medlemmer!A:C,3,FALSE),\"\")","v":""},{"$f":"IFERROR(VLOOKUP(C1859,Medlemmer!A:C,2,FALSE),\"\")","v":""},{"$f":"IFERROR(VLOOKUP(C1859,Tidligere_henvendelser!A:B,2,FALSE),\"\")","v":""}]
[{"$f":"ReplaceNumbers(C1860)","v":"Hyldegårdsvej"},{"$f":"_xlfn.NUMBERVALUE(FindNumbers(C1860))","v":10},"Hyldegårdsvej 10, 1. 2","2920 Charlottenlund",1140000,"2022-01-09","Alm. Salg",16521,2,"Ejerlejlighed",69,1959,{"$f":"IF(ISBLANK(VLOOKUP(A1860,Veje!A:B,2,FALSE)),INDEX(Veje!$D$2:$RT$652,MATCH(A1860,Veje!$A$2:$A$652,0),MATCH(B1860,Veje!$D$1:$RT$1,0)),VLOOKUP(A1860,Veje!A:B,2,FALSE))","v":"OCG"},{"$f":"IFERROR(VLOOKUP(C1860,Medlemmer!A:C,3,FALSE),\"\")","v":""},{"$f":"IFERROR(VLOOKUP(C1860,Medlemmer!A:C,2,FALSE),\"\")","v":""},{"$f":"IFERROR(VLOOKUP(C1860,Tidligere_henvendelser!A:B,2,FALSE),\"\")","v":""}]
[{"$f":"ReplaceNumbers(C1861)","v":"Vangedevej"},{"$f":"_xlfn.NUMBERVALUE(FindNumbers(C1861))","v":26},"Vangedevej 26","2820 Gentofte",8050000,"2022-01-09","Alm. Salg",54026,5,"Villa",149,1934,{"$f":"IF(ISBLANK(VLOOKUP(A1861,Veje!A:B,2,FALSE)),INDEX(Veje!$D$2:$RT$652,MATCH(A1861,Veje!$A$2:$A$652,0),MATCH(B1861,Veje!$D$1:$RT$1,0)),VLOOKUP(A1861,Veje!A:B,2,FALSE))","v":"GSG"},{"$f":"IFERROR(VLOOKUP(C1861,Medlemmer!A:C,3,FALSE),\"\")","v":""},{"$f":"IFERROR(VLOOKUP(C1861,Medlemmer!A:C,2,FALSE),\"\")","v":""},{"$f":"IFERROR(VLOOKUP(C1861,Tidligere_henvendelser!A:B,2,FALSE),\"\")","v":""}]
[{"$f":"ReplaceNumbers(C1862)","v":"Vermehrensvej"},{"$f":"_xlfn.NUMBERVALUE(FindNumbers(C1862))","v":7},"Vermehrensvej 7","2930 Klampenborg",23000000,"2022-01-10","Alm. Salg",95833,6,"Villa",240,1952,{"$f":"IF(ISBLANK(VLOOKUP(A1862,Veje!A:B,2,FALSE)),INDEX(Veje!$D$2:$RT$652,MATCH(A1862,Veje!$A$2:$A$652,0),MATCH(B1862,Veje!$D$1:$RT$1,0)),VLOOKUP(A1862,Veje!A:B,2,FALSE))","v":"SKGF"},{"$f":"IFERROR(VLOOKUP(C1862,Medlemmer!A:C,3,FALSE),\"\")","v":""},{"$f":"IFERROR(VLOOKUP(C1862,Medlemmer!A:C,2,FALSE),\"\")","v":""},{"$f":"IFERROR(VLOOKUP(C1862,Tidligere_henvendelser!A:B,2,FALSE),\"\")","v":""}]
[{"$f":"ReplaceNumbers(C1863)","v":"Ordrupvej"},{"$f":"_xlfn.NUMBERVALUE(FindNumbers(C1863))","v":49},"Ordrupvej 49, 2. 206","2920 Charlottenlund",2745000,"2022-01-10","Alm. Salg",40367,2,"Ejerlejlighed",68,1971,{"$f":"IF(ISBLANK(VLOOKUP(A1863,Veje!A:B,2,FALSE)),INDEX(Veje!$D$2:$RT$652,MATCH(A1863,Veje!$A$2:$A$652,0),MATCH(B1863,Veje!$D$1:$RT$1,0)),VLOOKUP(A1863,Veje!A:B,2,FALSE))","v":"OCG"},{"$f":"IFERROR(VLOOKUP(C1863,Medlemmer!A:C,3,FALSE),\"\")","v":""},{"$f":"IFERROR(VLOOKUP(C1863,Medlemmer!A:C,2,FALSE),\"\")","v":""},{"$f":"IFERROR(VLOOKUP(C1863,Tidligere_henvendelser!A:B,2,FALSE),\"\")","v":""}]
[{"$f":"ReplaceNumbers(C1864)","v":"Eivindsvej"},{"$f":"_xlfn.NUMBERVALUE(FindNumbers(C1864))","v":25},"Eivindsvej 25, st","2920 Charlottenlund",7900000,"2022-01-10","Alm. Salg",66949,4,"Ejerlejlighed",118,1913,{"$f":"IF(ISBLANK(VLOOKUP(A1864,Veje!A:B,2,FALSE)),INDEX(Veje!$D$2:$RT$652,MATCH(A1864,Veje!$A$2:$A$652,0),MATCH(B1864,Veje!$D$1:$RT$1,0)),VLOOKUP(A1864,Veje!A:B,2,FALSE))","v":"HMG"},{"$f":"IFERROR(VLOOKUP(C1864,Medlemmer!A:C,3,FALSE),\"\")","v":""},{"$f":"IFERROR(VLOOKUP(C1864,Medlemmer!A:C,2,FALSE),\"\")","v":""},{"$f":"IFERROR(VLOOKUP(C1864,Tidligere_henvendelser!A:B,2,FALSE),\"\")","v":""}]
[{"$f":"ReplaceNumbers(C1865)","v":"Fortunvej"},{"$f":"_xlfn.NUMBERVALUE(FindNumbers(C1865))","v":31},"Fortunvej 31","2920 Charlottenlund",17300000,"2022-01-10","Alm. Salg",102366,4,"Villa",169,1934,{"$f":"IF(ISBLANK(VLOOKUP(A1865,Veje!A:B,2,FALSE)),INDEX(Veje!$D$2:$RT$652,MATCH(A1865,Veje!$A$2:$A$652,0),MATCH(B1865,Veje!$D$1:$RT$1,0)),VLOOKUP(A1865,Veje!A:B,2,FALSE))","v":"BJGF"},{"$f":"IFERROR(VLOOKUP(C1865,Medlemmer!A:C,3,FALSE),\"\")","v":""},{"$f":"IFERROR(VLOOKUP(C1865,Medlemmer!A:C,2,FALSE),\"\")","v":""},{"$f":"IFERROR(VLOOKUP(C1865,Tidligere_henvendelser!A:B,2,FALSE),\"\")","v":""}]
[{"$f":"ReplaceNumbers(C1866)","v":"Skovvej"},{"$f":"_xlfn.NUMBERVALUE(FindNumbers(C1866))","v":1},"Skovvej 1B, st","2820 Gentofte",8600000,"2022-01-10","Alm. Salg",56578,4,"Ejerlejlighed",152,1902,{"$f":"IF(ISBLANK(VLOOKUP(A1866,Veje!A:B,2,FALSE)),INDEX(Veje!$D$2:$RT$652,MATCH(A1866,Veje!$A$2:$A$652,0),MATCH(B1866,Veje!$D$1:$RT$1,0)),VLOOKUP(A1866,Veje!A:B,2,FALSE))","v":"BJGF"},{"$f":"IFERROR(VLOOKUP(C1866,Medlemmer!A:C,3,FALSE),\"\")","v":""},{"$f":"IFERROR(VLOOKUP(C1866,Medlemmer!A:C,2,FALSE),\"\")","v":""},{"$f":"IFERROR(VLOOKUP(C1866,Tidligere_henvendelser!A:B,2,FALSE),\"\")","v":""}]
[{"$f":"ReplaceNumbers(C1867)","v":"Skovvej"},{"$f":"_xlfn.NUMBERVALUE(FindNumbers(C1867))","v":1},"Skovvej 1B, 1","2820 Gentofte",8600000,"2022-01-10","Alm. Salg",60139,4,"Ejerlejlighed",143,1902,{"$f":"IF(ISBLANK(VLOOKUP(A1867,Veje!A:B,2,FALSE)),INDEX(Veje!$D$2:$RT$652,MATCH(A1867,Veje!$A$2:$A$652,0),MATCH(B1867,Veje!$D$1:$RT$1,0)),VLOOKUP(A1867,Veje!A:B,2,FALSE))","v":"BJGF"},{"$f":"IFERROR(VLOOKUP(C1867,Medlemmer!A:C,3,FALSE),\"\")","v":""},{"$f":"IFERROR(VLOOKUP(C1867,Medlemmer!A:C,2,FALSE),\"\")","v":""},{"$f":"IFERROR(VLOOKUP(C1867,Tidligere_henvendelser!A:B,2,FALSE),\"\")","v":""}]
[{"$f":"ReplaceNumbers(C1868)","v":"Snogegårdsvej"},{"$f":"_xlfn.NUMBERVALUE(FindNumbers(C1868))","v":99},"Snogegårdsvej 99","2820 Gentofte",7250000,"2022-01-10","Alm. Salg",47385,6,"Villa",153,1957,{"$f":"IF(ISBLANK(VLOOKUP(A1868,Veje!A:B,2,FALSE)),INDEX(Veje!$D$2:$RT$652,MATCH(A1868,Veje!$A$2:$A$652,0),MATCH(B1868,Veje!$D$1:$RT$1,0)),VLOOKUP(A1868,Veje!A:B,2,FALSE))","v":"GSG"},{"$f":"IFERROR(VLOOKUP(C1868,Medlemmer!A:C,3,FALSE),\"\")","v":""},{"$f":"IFERROR(VLOOKUP(C1868,Medlemmer!A:C,2,FALSE),\"\")","v":""},{"$f":"IFERROR(VLOOKUP(C1868,Tidligere_henvendelser!A:B,2,FALSE),\"\")","v":""}]
[{"$f":"ReplaceNumbers(C1869)","v":"Brønlunds Alle"},{"$f":"_xlfn.NUMBERVALUE(FindNumbers(C1869))","v":50},"Brønlunds Alle 50","2900 Hellerup",10650000,"2022-01-11","Alm. Salg",84523,5,"Villa",126,1931,{"$f":"IF(ISBLANK(VLOOKUP(A1869,Veje!A:B,2,FALSE)),INDEX(Veje!$D$2:$RT$652,MATCH(A1869,Veje!$A$2:$A$652,0),MATCH(B1869,Veje!$D$1:$RT$1,0)),VLOOKUP(A1869,Veje!A:B,2,FALSE))","v":"DY"},{"$f":"IFERROR(VLOOKUP(C1869,Medlemmer!A:C,3,FALSE),\"\")","v":""},{"$f":"IFERROR(VLOOKUP(C1869,Medlemmer!A:C,2,FALSE),\"\")","v":""},{"$f":"IFERROR(VLOOKUP(C1869,Tidligere_henvendelser!A:B,2,FALSE),\"\")","v":""}]
[{"$f":"ReplaceNumbers(C1870)","v":"Ny Ordrup Sidealle"},{"$f":"_xlfn.NUMBERVALUE(FindNumbers(C1870))","v":7},"Ny Ordrup Sidealle 7, 2. th","2920 Charlottenlund",2800000,"2022-01-11","Alm. Salg",40000,3,"Ejerlejlighed",70,1946,{"$f":"IF(ISBLANK(VLOOKUP(A1870,Veje!A:B,2,FALSE)),INDEX(Veje!$D$2:$RT$652,MATCH(A1870,Veje!$A$2:$A$652,0),MATCH(B1870,Veje!$D$1:$RT$1,0)),VLOOKUP(A1870,Veje!A:B,2,FALSE))","v":"SKGF"},{"$f":"IFERROR(VLOOKUP(C1870,Medlemmer!A:C,3,FALSE),\"\")","v":""},{"$f":"IFERROR(VLOOKUP(C1870,Medlemmer!A:C,2,FALSE),\"\")","v":""},{"$f":"IFERROR(VLOOKUP(C1870,Tidligere_henvendelser!A:B,2,FALSE),\"\")","v":""}]
[{"$f":"ReplaceNumbers(C1871)","v":"Ellemosevej"},{"$f":"_xlfn.NUMBERVALUE(FindNumbers(C1871))","v":100},"Ellemosevej 100, st","2900 Hellerup",3905023,"2022-01-12","Alm. Salg",42445,3,"Ejerlejlighed",92,1929,{"$f":"IF(ISBLANK(VLOOKUP(A1871,Veje!A:B,2,FALSE)),INDEX(Veje!$D$2:$RT$652,MATCH(A1871,Veje!$A$2:$A$652,0),MATCH(B1871,Veje!$D$1:$RT$1,0)),VLOOKUP(A1871,Veje!A:B,2,FALSE))","v":"DY"},{"$f":"IFERROR(VLOOKUP(C1871,Medlemmer!A:C,3,FALSE),\"\")","v":""},{"$f":"IFERROR(VLOOKUP(C1871,Medlemmer!A:C,2,FALSE),\"\")","v":""},{"$f":"IFERROR(VLOOKUP(C1871,Tidligere_henvendelser!A:B,2,FALSE),\"\")","v":""}]
[{"$f":"ReplaceNumbers(C1872)","v":"Ellemosevej"},{"$f":"_xlfn.NUMBERVALUE(FindNumbers(C1872))","v":100},"Ellemosevej 100, 1","2900 Hellerup",3905023,"2022-01-12","Alm. Salg",48210,3,"Ejerlejlighed",81,1929,{"$f":"IF(ISBLANK(VLOOKUP(A1872,Veje!A:B,2,FALSE)),INDEX(Veje!$D$2:$RT$652,MATCH(A1872,Veje!$A$2:$A$652,0),MATCH(B1872,Veje!$D$1:$RT$1,0)),VLOOKUP(A1872,Veje!A:B,2,FALSE))","v":"DY"},{"$f":"IFERROR(VLOOKUP(C1872,Medlemmer!A:C,3,FALSE),\"\")","v":""},{"$f":"IFERROR(VLOOKUP(C1872,Medlemmer!A:C,2,FALSE),\"\")","v":""},{"$f":"IFERROR(VLOOKUP(C1872,Tidligere_henvendelser!A:B,2,FALSE),\"\")","v":""}]
[{"$f":"ReplaceNumbers(C1873)","v":"Parkovsvej"},{"$f":"_xlfn.NUMBERVALUE(FindNumbers(C1873))","v":1},"Parkovsvej 1","2820 Gentofte",12000000,"2022-01-12","Alm. Salg",49586,6,"Villa",242,1936,{"$f":"IF(ISBLANK(VLOOKUP(A1873,Veje!A:B,2,FALSE)),INDEX(Veje!$D$2:$RT$652,MATCH(A1873,Veje!$A$2:$A$652,0),MATCH(B1873,Veje!$D$1:$RT$1,0)),VLOOKUP(A1873,Veje!A:B,2,FALSE))","v":"GSG"},{"$f":"IFERROR(VLOOKUP(C1873,Medlemmer!A:C,3,FALSE),\"\")","v":""},{"$f":"IFERROR(VLOOKUP(C1873,Medlemmer!A:C,2,FALSE),\"\")","v":""},{"$f":"IFERROR(VLOOKUP(C1873,Tidligere_henvendelser!A:B,2,FALSE),\"\")","v":""}]
[{"$f":"ReplaceNumbers(C1874)","v":"Christiansvej"},{"$f":"_xlfn.NUMBERVALUE(FindNumbers(C1874))","v":35},"Christiansvej 35","2920 Charlottenlund",24000000,"2022-01-13","Alm. Salg",127659,7,"Villa",188,1912,{"$f":"IF(ISBLANK(VLOOKUP(A1874,Veje!A:B,2,FALSE)),INDEX(Veje!$D$2:$RT$652,MATCH(A1874,Veje!$A$2:$A$652,0),MATCH(B1874,Veje!$D$1:$RT$1,0)),VLOOKUP(A1874,Veje!A:B,2,FALSE))","v":"OCG"},{"$f":"IFERROR(VLOOKUP(C1874,Medlemmer!A:C,3,FALSE),\"\")","v":""},{"$f":"IFERROR(VLOOKUP(C1874,Medlemmer!A:C,2,FALSE),\"\")","v":""},{"$f":"IFERROR(VLOOKUP(C1874,Tidligere_henvendelser!A:B,2,FALSE),\"\")","v":""}]
[{"$f":"ReplaceNumbers(C1875)","v":"Strandlund"},{"$f":"_xlfn.NUMBERVALUE(FindNumbers(C1875))","v":83},"Strandlund 83","2920 Charlottenlund",7800000,"2022-01-13","Alm. Salg",69026,4,"Ejerlejlighed",113,1979,{"$f":"IF(ISBLANK(VLOOKUP(A1875,Veje!A:B,2,FALSE)),INDEX(Veje!$D$2:$RT$652,MATCH(A1875,Veje!$A$2:$A$652,0),MATCH(B1875,Veje!$D$1:$RT$1,0)),VLOOKUP(A1875,Veje!A:B,2,FALSE))","v":"HMG"},{"$f":"IFERROR(VLOOKUP(C1875,Medlemmer!A:C,3,FALSE),\"\")","v":""},{"$f":"IFERROR(VLOOKUP(C1875,Medlemmer!A:C,2,FALSE),\"\")","v":""},{"$f":"IFERROR(VLOOKUP(C1875,Tidligere_henvendelser!A:B,2,FALSE),\"\")","v":""}]
[{"$f":"ReplaceNumbers(C1876)","v":"Dalstrøget"},{"$f":"_xlfn.NUMBERVALUE(FindNumbers(C1876))","v":105},"Dalstrøget 105, 3. tv","2870 Dyssegård ",3250000,"2022-01-13","Alm. Salg",45138,3,"Ejerlejlighed",72,1959,{"$f":"IF(ISBLANK(VLOOKUP(A1876,Veje!A:B,2,FALSE)),INDEX(Veje!$D$2:$RT$652,MATCH(A1876,Veje!$A$2:$A$652,0),MATCH(B1876,Veje!$D$1:$RT$1,0)),VLOOKUP(A1876,Veje!A:B,2,FALSE))","v":"DY"},{"$f":"IFERROR(VLOOKUP(C1876,Medlemmer!A:C,3,FALSE),\"\")","v":""},{"$f":"IFERROR(VLOOKUP(C1876,Medlemmer!A:C,2,FALSE),\"\")","v":""},{"$f":"IFERROR(VLOOKUP(C1876,Tidligere_henvendelser!A:B,2,FALSE),\"\")","v":""}]
[{"$f":"ReplaceNumbers(C1877)","v":"Ordrupvej"},{"$f":"_xlfn.NUMBERVALUE(FindNumbers(C1877))","v":98},"Ordrupvej 98, 4. th","2920 Charlottenlund",2895000,"2022-01-13","Alm. Salg",45952,2,"Ejerlejlighed",63,1934,{"$f":"IF(ISBLANK(VLOOKUP(A1877,Veje!A:B,2,FALSE)),INDEX(Veje!$D$2:$RT$652,MATCH(A1877,Veje!$A$2:$A$652,0),MATCH(B1877,Veje!$D$1:$RT$1,0)),VLOOKUP(A1877,Veje!A:B,2,FALSE))","v":"OCG"},{"$f":"IFERROR(VLOOKUP(C1877,Medlemmer!A:C,3,FALSE),\"\")","v":""},{"$f":"IFERROR(VLOOKUP(C1877,Medlemmer!A:C,2,FALSE),\"\")","v":""},{"$f":"IFERROR(VLOOKUP(C1877,Tidligere_henvendelser!A:B,2,FALSE),\"\")","v":""}]
[{"$f":"ReplaceNumbers(C1878)","v":"Høstvej"},{"$f":"_xlfn.NUMBERVALUE(FindNumbers(C1878))","v":30},"Høstvej 30","2920 Charlottenlund",16500000,"2022-01-13","Alm. Salg",104430,6,"Villa",158,1928,{"$f":"IF(ISBLANK(VLOOKUP(A1878,Veje!A:B,2,FALSE)),INDEX(Veje!$D$2:$RT$652,MATCH(A1878,Veje!$A$2:$A$652,0),MATCH(B1878,Veje!$D$1:$RT$1,0)),VLOOKUP(A1878,Veje!A:B,2,FALSE))","v":"OCG"},{"$f":"IFERROR(VLOOKUP(C1878,Medlemmer!A:C,3,FALSE),\"\")","v":""},{"$f":"IFERROR(VLOOKUP(C1878,Medlemmer!A:C,2,FALSE),\"\")","v":""},{"$f":"IFERROR(VLOOKUP(C1878,Tidligere_henvendelser!A:B,2,FALSE),\"\")","v":""}]
[{"$f":"ReplaceNumbers(C1879)","v":"Mosebuen"},{"$f":"_xlfn.NUMBERVALUE(FindNumbers(C1879))","v":15},"Mosebuen 15A","2820 Gentofte",9100000,"2022-01-14","Alm. Salg",57232,5,"Ejerlejlighed",159,1932,{"$f":"IF(ISBLANK(VLOOKUP(A1879,Veje!A:B,2,FALSE)),INDEX(Veje!$D$2:$RT$652,MATCH(A1879,Veje!$A$2:$A$652,0),MATCH(B1879,Veje!$D$1:$RT$1,0)),VLOOKUP(A1879,Veje!A:B,2,FALSE))","v":"GSG"},{"$f":"IFERROR(VLOOKUP(C1879,Medlemmer!A:C,3,FALSE),\"\")","v":""},{"$f":"IFERROR(VLOOKUP(C1879,Medlemmer!A:C,2,FALSE),\"\")","v":""},{"$f":"IFERROR(VLOOKUP(C1879,Tidligere_henvendelser!A:B,2,FALSE),\"\")","v":""}]
[{"$f":"ReplaceNumbers(C1880)","v":"Vangede Bygade"},{"$f":"_xlfn.NUMBERVALUE(FindNumbers(C1880))","v":78},"Vangede Bygade 78, 2. tv","2820 Gentofte",1900000,"2022-01-15","Alm. Salg",34545,2,"Ejerlejlighed",55,1940,{"$f":"IF(ISBLANK(VLOOKUP(A1880,Veje!A:B,2,FALSE)),INDEX(Veje!$D$2:$RT$652,MATCH(A1880,Veje!$A$2:$A$652,0),MATCH(B1880,Veje!$D$1:$RT$1,0)),VLOOKUP(A1880,Veje!A:B,2,FALSE))","v":"GSG"},{"$f":"IFERROR(VLOOKUP(C1880,Medlemmer!A:C,3,FALSE),\"\")","v":""},{"$f":"IFERROR(VLOOKUP(C1880,Medlemmer!A:C,2,FALSE),\"\")","v":""},{"$f":"IFERROR(VLOOKUP(C1880,Tidligere_henvendelser!A:B,2,FALSE),\"\")","v":""}]
[{"$f":"ReplaceNumbers(C1881)","v":"Lindegårdsvej"},{"$f":"_xlfn.NUMBERVALUE(FindNumbers(C1881))","v":11},"Lindegårdsvej 11, 2. th","2920 Charlottenlund",6000000,"2022-01-15","Alm. Salg",58252,4,"Ejerlejlighed",103,1913,{"$f":"IF(ISBLANK(VLOOKUP(A1881,Veje!A:B,2,FALSE)),INDEX(Veje!$D$2:$RT$652,MATCH(A1881,Veje!$A$2:$A$652,0),MATCH(B1881,Veje!$D$1:$RT$1,0)),VLOOKUP(A1881,Veje!A:B,2,FALSE))","v":"OCG"},{"$f":"IFERROR(VLOOKUP(C1881,Medlemmer!A:C,3,FALSE),\"\")","v":""},{"$f":"IFERROR(VLOOKUP(C1881,Medlemmer!A:C,2,FALSE),\"\")","v":""},{"$f":"IFERROR(VLOOKUP(C1881,Tidligere_henvendelser!A:B,2,FALSE),\"\")","v":""}]
[{"$f":"ReplaceNumbers(C1882)","v":"Smakkegårdsvej"},{"$f":"_xlfn.NUMBERVALUE(FindNumbers(C1882))","v":169},"Smakkegårdsvej 169, st. tv","2820 Gentofte",2185000,"2022-01-16","Alm. Salg",33106,2,"Ejerlejlighed",66,1946,{"$f":"IF(ISBLANK(VLOOKUP(A1882,Veje!A:B,2,FALSE)),INDEX(Veje!$D$2:$RT$652,MATCH(A1882,Veje!$A$2:$A$652,0),MATCH(B1882,Veje!$D$1:$RT$1,0)),VLOOKUP(A1882,Veje!A:B,2,FALSE))","v":"GSG"},{"$f":"IFERROR(VLOOKUP(C1882,Medlemmer!A:C,3,FALSE),\"\")","v":""},{"$f":"IFERROR(VLOOKUP(C1882,Medlemmer!A:C,2,FALSE),\"\")","v":""},{"$f":"IFERROR(VLOOKUP(C1882,Tidligere_henvendelser!A:B,2,FALSE),\"\")","v":""}]
[{"$f":"ReplaceNumbers(C1883)","v":"Tranegårdsvej"},{"$f":"_xlfn.NUMBERVALUE(FindNumbers(C1883))","v":55},"Tranegårdsvej 55, 2. tv","2900 Hellerup",6375000,"2022-01-16","Alm. Salg",56415,4,"Ejerlejlighed",113,1931,{"$f":"IF(ISBLANK(VLOOKUP(A1883,Veje!A:B,2,FALSE)),INDEX(Veje!$D$2:$RT$652,MATCH(A1883,Veje!$A$2:$A$652,0),MATCH(B1883,Veje!$D$1:$RT$1,0)),VLOOKUP(A1883,Veje!A:B,2,FALSE))","v":"HMG"},{"$f":"IFERROR(VLOOKUP(C1883,Medlemmer!A:C,3,FALSE),\"\")","v":""},{"$f":"IFERROR(VLOOKUP(C1883,Medlemmer!A:C,2,FALSE),\"\")","v":""},{"$f":"IFERROR(VLOOKUP(C1883,Tidligere_henvendelser!A:B,2,FALSE),\"\")","v":""}]
[{"$f":"ReplaceNumbers(C1884)","v":"Tranegårdsvej"},{"$f":"_xlfn.NUMBERVALUE(FindNumbers(C1884))","v":55},"Tranegårdsvej 55, 3. tv","2900 Hellerup",6375000,"2022-01-16","Alm. Salg",796875,1,"Ejerlejlighed",8,1931,{"$f":"IF(ISBLANK(VLOOKUP(A1884,Veje!A:B,2,FALSE)),INDEX(Veje!$D$2:$RT$652,MATCH(A1884,Veje!$A$2:$A$652,0),MATCH(B1884,Veje!$D$1:$RT$1,0)),VLOOKUP(A1884,Veje!A:B,2,FALSE))","v":"HMG"},{"$f":"IFERROR(VLOOKUP(C1884,Medlemmer!A:C,3,FALSE),\"\")","v":""},{"$f":"IFERROR(VLOOKUP(C1884,Medlemmer!A:C,2,FALSE),\"\")","v":""},{"$f":"IFERROR(VLOOKUP(C1884,Tidligere_henvendelser!A:B,2,FALSE),\"\")","v":""}]
[{"$f":"ReplaceNumbers(C1885)","v":"Sønderdalen"},{"$f":"_xlfn.NUMBERVALUE(FindNumbers(C1885))","v":2},"Sønderdalen 2, 1. tv","2870 Dyssegård ",1000000,"2022-01-17","Alm. Salg",14492,3,"Ejerlejlighed",69,1935,{"$f":"IF(ISBLANK(VLOOKUP(A1885,Veje!A:B,2,FALSE)),INDEX(Veje!$D$2:$RT$652,MATCH(A1885,Veje!$A$2:$A$652,0),MATCH(B1885,Veje!$D$1:$RT$1,0)),VLOOKUP(A1885,Veje!A:B,2,FALSE))","v":"DY"},{"$f":"IFERROR(VLOOKUP(C1885,Medlemmer!A:C,3,FALSE),\"\")","v":""},{"$f":"IFERROR(VLOOKUP(C1885,Medlemmer!A:C,2,FALSE),\"\")","v":""},{"$f":"IFERROR(VLOOKUP(C1885,Tidligere_henvendelser!A:B,2,FALSE),\"\")","v":""}]
[{"$f":"ReplaceNumbers(C1886)","v":"Vangedevej"},{"$f":"_xlfn.NUMBERVALUE(FindNumbers(C1886))","v":150},"Vangedevej 150A, st. tv","2870 Dyssegård ",2380000,"2022-01-17","Alm. Salg",38387,2,"Ejerlejlighed",62,1956,{"$f":"IF(ISBLANK(VLOOKUP(A1886,Veje!A:B,2,FALSE)),INDEX(Veje!$D$2:$RT$652,MATCH(A1886,Veje!$A$2:$A$652,0),MATCH(B1886,Veje!$D$1:$RT$1,0)),VLOOKUP(A1886,Veje!A:B,2,FALSE))","v":"DY"},{"$f":"IFERROR(VLOOKUP(C1886,Medlemmer!A:C,3,FALSE),\"\")","v":""},{"$f":"IFERROR(VLOOKUP(C1886,Medlemmer!A:C,2,FALSE),\"\")","v":""},{"$f":"IFERROR(VLOOKUP(C1886,Tidligere_henvendelser!A:B,2,FALSE),\"\")","v":""}]
[{"$f":"ReplaceNumbers(C1887)","v":"Sønderdalen"},{"$f":"_xlfn.NUMBERVALUE(FindNumbers(C1887))","v":4},"Sønderdalen 4, 3. tv","2870 Dyssegård ",2800000,"2022-01-17","Alm. Salg",25000,3,"Ejerlejlighed",112,1935,{"$f":"IF(ISBLANK(VLOOKUP(A1887,Veje!A:B,2,FALSE)),INDEX(Veje!$D$2:$RT$652,MATCH(A1887,Veje!$A$2:$A$652,0),MATCH(B1887,Veje!$D$1:$RT$1,0)),VLOOKUP(A1887,Veje!A:B,2,FALSE))","v":"DY"},{"$f":"IFERROR(VLOOKUP(C1887,Medlemmer!A:C,3,FALSE),\"\")","v":""},{"$f":"IFERROR(VLOOKUP(C1887,Medlemmer!A:C,2,FALSE),\"\")","v":""},{"$f":"IFERROR(VLOOKUP(C1887,Tidligere_henvendelser!A:B,2,FALSE),\"\")","v":""}]
[{"$f":"ReplaceNumbers(C1888)","v":"Schioldannsvej"},{"$f":"_xlfn.NUMBERVALUE(FindNumbers(C1888))","v":3},"Schioldannsvej 3, st. b","2920 Charlottenlund",1710000,"2022-01-17","Alm. Salg",46216,1,"Ejerlejlighed",37,1962,{"$f":"IF(ISBLANK(VLOOKUP(A1888,Veje!A:B,2,FALSE)),INDEX(Veje!$D$2:$RT$652,MATCH(A1888,Veje!$A$2:$A$652,0),MATCH(B1888,Veje!$D$1:$RT$1,0)),VLOOKUP(A1888,Veje!A:B,2,FALSE))","v":"OCG"},{"$f":"IFERROR(VLOOKUP(C1888,Medlemmer!A:C,3,FALSE),\"\")","v":""},{"$f":"IFERROR(VLOOKUP(C1888,Medlemmer!A:C,2,FALSE),\"\")","v":""},{"$f":"IFERROR(VLOOKUP(C1888,Tidligere_henvendelser!A:B,2,FALSE),\"\")","v":""}]
[{"$f":"ReplaceNumbers(C1889)","v":"Sønderdalen"},{"$f":"_xlfn.NUMBERVALUE(FindNumbers(C1889))","v":6},"Sønderdalen 6, 2. th","2870 Dyssegård ",1000000,"2022-01-17","Alm. Salg",15151,3,"Ejerlejlighed",66,1935,{"$f":"IF(ISBLANK(VLOOKUP(A1889,Veje!A:B,2,FALSE)),INDEX(Veje!$D$2:$RT$652,MATCH(A1889,Veje!$A$2:$A$652,0),MATCH(B1889,Veje!$D$1:$RT$1,0)),VLOOKUP(A1889,Veje!A:B,2,FALSE))","v":"DY"},{"$f":"IFERROR(VLOOKUP(C1889,Medlemmer!A:C,3,FALSE),\"\")","v":""},{"$f":"IFERROR(VLOOKUP(C1889,Medlemmer!A:C,2,FALSE),\"\")","v":""},{"$f":"IFERROR(VLOOKUP(C1889,Tidligere_henvendelser!A:B,2,FALSE),\"\")","v":""}]
[{"$f":"ReplaceNumbers(C1890)","v":"Drachmannsvej"},{"$f":"_xlfn.NUMBERVALUE(FindNumbers(C1890))","v":2},"Drachmannsvej 2A","2930 Klampenborg",16750000,"2022-01-17","Alm. Salg",100299,6,"Villa",167,1950,{"$f":"IF(ISBLANK(VLOOKUP(A1890,Veje!A:B,2,FALSE)),INDEX(Veje!$D$2:$RT$652,MATCH(A1890,Veje!$A$2:$A$652,0),MATCH(B1890,Veje!$D$1:$RT$1,0)),VLOOKUP(A1890,Veje!A:B,2,FALSE))","v":"SKGF"},{"$f":"IFERROR(VLOOKUP(C1890,Medlemmer!A:C,3,FALSE),\"\")","v":""},{"$f":"IFERROR(VLOOKUP(C1890,Medlemmer!A:C,2,FALSE),\"\")","v":""},{"$f":"IFERROR(VLOOKUP(C1890,Tidligere_henvendelser!A:B,2,FALSE),\"\")","v":""}]
[{"$f":"ReplaceNumbers(C1891)","v":"Baunegårdsvej"},{"$f":"_xlfn.NUMBERVALUE(FindNumbers(C1891))","v":71},"Baunegårdsvej 71A","2900 Hellerup",10600000,"2022-01-17","Alm. Salg",78518,4,"Rækkehus",135,1931,{"$f":"IF(ISBLANK(VLOOKUP(A1891,Veje!A:B,2,FALSE)),INDEX(Veje!$D$2:$RT$652,MATCH(A1891,Veje!$A$2:$A$652,0),MATCH(B1891,Veje!$D$1:$RT$1,0)),VLOOKUP(A1891,Veje!A:B,2,FALSE))","v":"GSG"},{"$f":"IFERROR(VLOOKUP(C1891,Medlemmer!A:C,3,FALSE),\"\")","v":""},{"$f":"IFERROR(VLOOKUP(C1891,Medlemmer!A:C,2,FALSE),\"\")","v":""},{"$f":"IFERROR(VLOOKUP(C1891,Tidligere_henvendelser!A:B,2,FALSE),\"\")","v":""}]
[{"$f":"ReplaceNumbers(C1892)","v":"Strandvejen"},{"$f":"_xlfn.NUMBERVALUE(FindNumbers(C1892))","v":66},"Strandvejen 66A, 3. 1","2900 Hellerup",5200000,"2022-01-17","Alm. Salg",59770,3,"Ejerlejlighed",87,1995,{"$f":"IF(ISBLANK(VLOOKUP(A1892,Veje!A:B,2,FALSE)),INDEX(Veje!$D$2:$RT$652,MATCH(A1892,Veje!$A$2:$A$652,0),MATCH(B1892,Veje!$D$1:$RT$1,0)),VLOOKUP(A1892,Veje!A:B,2,FALSE))","v":"HMG"},{"$f":"IFERROR(VLOOKUP(C1892,Medlemmer!A:C,3,FALSE),\"\")","v":""},{"$f":"IFERROR(VLOOKUP(C1892,Medlemmer!A:C,2,FALSE),\"\")","v":""},{"$f":"IFERROR(VLOOKUP(C1892,Tidligere_henvendelser!A:B,2,FALSE),\"\")","v":""}]
[{"$f":"ReplaceNumbers(C1893)","v":"Tranevænget"},{"$f":"_xlfn.NUMBERVALUE(FindNumbers(C1893))","v":10},"Tranevænget 10, 3. th","2900 Hellerup",7100000,"2022-01-17","Alm. Salg",78021,4,"Ejerlejlighed",91,1930,{"$f":"IF(ISBLANK(VLOOKUP(A1893,Veje!A:B,2,FALSE)),INDEX(Veje!$D$2:$RT$652,MATCH(A1893,Veje!$A$2:$A$652,0),MATCH(B1893,Veje!$D$1:$RT$1,0)),VLOOKUP(A1893,Veje!A:B,2,FALSE))","v":"HMG"},{"$f":"IFERROR(VLOOKUP(C1893,Medlemmer!A:C,3,FALSE),\"\")","v":""},{"$f":"IFERROR(VLOOKUP(C1893,Medlemmer!A:C,2,FALSE),\"\")","v":""},{"$f":"IFERROR(VLOOKUP(C1893,Tidligere_henvendelser!A:B,2,FALSE),\"\")","v":""}]
[{"$f":"ReplaceNumbers(C1894)","v":"Ordrupvej"},{"$f":"_xlfn.NUMBERVALUE(FindNumbers(C1894))","v":78},"Ordrupvej 78B, 5. tv","2920 Charlottenlund",4650000,"2022-01-17","Alm. Salg",56707,3,"Ejerlejlighed",82,1947,{"$f":"IF(ISBLANK(VLOOKUP(A1894,Veje!A:B,2,FALSE)),INDEX(Veje!$D$2:$RT$652,MATCH(A1894,Veje!$A$2:$A$652,0),MATCH(B1894,Veje!$D$1:$RT$1,0)),VLOOKUP(A1894,Veje!A:B,2,FALSE))","v":"OCG"},{"$f":"IFERROR(VLOOKUP(C1894,Medlemmer!A:C,3,FALSE),\"\")","v":""},{"$f":"IFERROR(VLOOKUP(C1894,Medlemmer!A:C,2,FALSE),\"\")","v":""},{"$f":"IFERROR(VLOOKUP(C1894,Tidligere_henvendelser!A:B,2,FALSE),\"\")","v":""}]
[{"$f":"ReplaceNumbers(C1895)","v":"Søndergårdsvej"},{"$f":"_xlfn.NUMBERVALUE(FindNumbers(C1895))","v":20},"Søndergårdsvej 20","2870 Dyssegård ",7350000,"2022-01-18","Alm. Salg",76562,4,"Villa",96,1933,{"$f":"IF(ISBLANK(VLOOKUP(A1895,Veje!A:B,2,FALSE)),INDEX(Veje!$D$2:$RT$652,MATCH(A1895,Veje!$A$2:$A$652,0),MATCH(B1895,Veje!$D$1:$RT$1,0)),VLOOKUP(A1895,Veje!A:B,2,FALSE))","v":"DY"},{"$f":"IFERROR(VLOOKUP(C1895,Medlemmer!A:C,3,FALSE),\"\")","v":""},{"$f":"IFERROR(VLOOKUP(C1895,Medlemmer!A:C,2,FALSE),\"\")","v":""},{"$f":"IFERROR(VLOOKUP(C1895,Tidligere_henvendelser!A:B,2,FALSE),\"\")","v":""}]
[{"$f":"ReplaceNumbers(C1896)","v":"På Højden"},{"$f":"_xlfn.NUMBERVALUE(FindNumbers(C1896))","v":4},"På Højden 4","2900 Hellerup",8895000,"2022-01-18","Alm. Salg",68423,4,"Villa",130,1931,{"$f":"IF(ISBLANK(VLOOKUP(A1896,Veje!A:B,2,FALSE)),INDEX(Veje!$D$2:$RT$652,MATCH(A1896,Veje!$A$2:$A$652,0),MATCH(B1896,Veje!$D$1:$RT$1,0)),VLOOKUP(A1896,Veje!A:B,2,FALSE))","v":"GSG"},{"$f":"IFERROR(VLOOKUP(C1896,Medlemmer!A:C,3,FALSE),\"\")","v":""},{"$f":"IFERROR(VLOOKUP(C1896,Medlemmer!A:C,2,FALSE),\"\")","v":""},{"$f":"IFERROR(VLOOKUP(C1896,Tidligere_henvendelser!A:B,2,FALSE),\"\")","v":""}]
[{"$f":"ReplaceNumbers(C1897)","v":"Strandvejen"},{"$f":"_xlfn.NUMBERVALUE(FindNumbers(C1897))","v":365},"Strandvejen 365","2930 Klampenborg",8900000,"2022-01-18","Alm. Salg",85576,4,"Villa",104,1896,{"$f":"IF(ISBLANK(VLOOKUP(A1897,Veje!A:B,2,FALSE)),INDEX(Veje!$D$2:$RT$652,MATCH(A1897,Veje!$A$2:$A$652,0),MATCH(B1897,Veje!$D$1:$RT$1,0)),VLOOKUP(A1897,Veje!A:B,2,FALSE))","v":"SKGF"},{"$f":"IFERROR(VLOOKUP(C1897,Medlemmer!A:C,3,FALSE),\"\")","v":""},{"$f":"IFERROR(VLOOKUP(C1897,Medlemmer!A:C,2,FALSE),\"\")","v":""},{"$f":"IFERROR(VLOOKUP(C1897,Tidligere_henvendelser!A:B,2,FALSE),\"\")","v":""}]
[{"$f":"ReplaceNumbers(C1898)","v":"Gyldenlundsvej"},{"$f":"_xlfn.NUMBERVALUE(FindNumbers(C1898))","v":34},"Gyldenlundsvej 34, st","2920 Charlottenlund",7450000,"2022-01-18","Alm. Salg",63135,4,"Ejerlejlighed",118,1933,{"$f":"IF(ISBLANK(VLOOKUP(A1898,Veje!A:B,2,FALSE)),INDEX(Veje!$D$2:$RT$652,MATCH(A1898,Veje!$A$2:$A$652,0),MATCH(B1898,Veje!$D$1:$RT$1,0)),VLOOKUP(A1898,Veje!A:B,2,FALSE))","v":"SKGF"},{"$f":"IFERROR(VLOOKUP(C1898,Medlemmer!A:C,3,FALSE),\"\")","v":""},{"$f":"IFERROR(VLOOKUP(C1898,Medlemmer!A:C,2,FALSE),\"\")","v":""},{"$f":"IFERROR(VLOOKUP(C1898,Tidligere_henvendelser!A:B,2,FALSE),\"\")","v":""}]
[{"$f":"ReplaceNumbers(C1899)","v":"Gyldenlundsvej"},{"$f":"_xlfn.NUMBERVALUE(FindNumbers(C1899))","v":34},"Gyldenlundsvej 34, 1","2920 Charlottenlund",7450000,"2022-01-18","Alm. Salg",73762,3,"Ejerlejlighed",101,1933,{"$f":"IF(ISBLANK(VLOOKUP(A1899,Veje!A:B,2,FALSE)),INDEX(Veje!$D$2:$RT$652,MATCH(A1899,Veje!$A$2:$A$652,0),MATCH(B1899,Veje!$D$1:$RT$1,0)),VLOOKUP(A1899,Veje!A:B,2,FALSE))","v":"SKGF"},{"$f":"IFERROR(VLOOKUP(C1899,Medlemmer!A:C,3,FALSE),\"\")","v":""},{"$f":"IFERROR(VLOOKUP(C1899,Medlemmer!A:C,2,FALSE),\"\")","v":""},{"$f":"IFERROR(VLOOKUP(C1899,Tidligere_henvendelser!A:B,2,FALSE),\"\")","v":""}]
[{"$f":"ReplaceNumbers(C1900)","v":"Klampenborgvej"},{"$f":"_xlfn.NUMBERVALUE(FindNumbers(C1900))","v":11},"Klampenborgvej 11","2930 Klampenborg",13450000,"2022-01-19","Alm. Salg",71164,6,"Villa",189,1956,{"$f":"IF(ISBLANK(VLOOKUP(A1900,Veje!A:B,2,FALSE)),INDEX(Veje!$D$2:$RT$652,MATCH(A1900,Veje!$A$2:$A$652,0),MATCH(B1900,Veje!$D$1:$RT$1,0)),VLOOKUP(A1900,Veje!A:B,2,FALSE))","v":"SKGF"},{"$f":"IFERROR(VLOOKUP(C1900,Medlemmer!A:C,3,FALSE),\"\")","v":""},{"$f":"IFERROR(VLOOKUP(C1900,Medlemmer!A:C,2,FALSE),\"\")","v":""},{"$f":"IFERROR(VLOOKUP(C1900,Tidligere_henvendelser!A:B,2,FALSE),\"\")","v":""}]
[{"$f":"ReplaceNumbers(C1901)","v":"Kirsten Piils Vej"},{"$f":"_xlfn.NUMBERVALUE(FindNumbers(C1901))","v":16},"Kirsten Piils Vej 16, 2. 2","2920 Charlottenlund",10750000,"2022-01-19","Alm. Salg",335937,1,"Ejerlejlighed",32,1917,{"$f":"IF(ISBLANK(VLOOKUP(A1901,Veje!A:B,2,FALSE)),INDEX(Veje!$D$2:$RT$652,MATCH(A1901,Veje!$A$2:$A$652,0),MATCH(B1901,Veje!$D$1:$RT$1,0)),VLOOKUP(A1901,Veje!A:B,2,FALSE))","v":"OCG"},{"$f":"IFERROR(VLOOKUP(C1901,Medlemmer!A:C,3,FALSE),\"\")","v":""},{"$f":"IFERROR(VLOOKUP(C1901,Medlemmer!A:C,2,FALSE),\"\")","v":""},{"$f":"IFERROR(VLOOKUP(C1901,Tidligere_henvendelser!A:B,2,FALSE),\"\")","v":""}]
[{"$f":"ReplaceNumbers(C1902)","v":"Jægersborg Alle"},{"$f":"_xlfn.NUMBERVALUE(FindNumbers(C1902))","v":35},"Jægersborg Alle 35, 1. 2","2920 Charlottenlund",3875000,"2022-01-19","Alm. Salg",56985,2,"Ejerlejlighed",68,1991,{"$f":"IF(ISBLANK(VLOOKUP(A1902,Veje!A:B,2,FALSE)),INDEX(Veje!$D$2:$RT$652,MATCH(A1902,Veje!$A$2:$A$652,0),MATCH(B1902,Veje!$D$1:$RT$1,0)),VLOOKUP(A1902,Veje!A:B,2,FALSE))","v":"OCG"},{"$f":"IFERROR(VLOOKUP(C1902,Medlemmer!A:C,3,FALSE),\"\")","v":""},{"$f":"IFERROR(VLOOKUP(C1902,Medlemmer!A:C,2,FALSE),\"\")","v":""},{"$f":"IFERROR(VLOOKUP(C1902,Tidligere_henvendelser!A:B,2,FALSE),\"\")","v":""}]
[{"$f":"ReplaceNumbers(C1903)","v":"Søbakken"},{"$f":"_xlfn.NUMBERVALUE(FindNumbers(C1903))","v":30},"Søbakken 30, 2. th","2920 Charlottenlund",5995000,"2022-01-19","Alm. Salg",77857,3,"Ejerlejlighed",77,1905,{"$f":"IF(ISBLANK(VLOOKUP(A1903,Veje!A:B,2,FALSE)),INDEX(Veje!$D$2:$RT$652,MATCH(A1903,Veje!$A$2:$A$652,0),MATCH(B1903,Veje!$D$1:$RT$1,0)),VLOOKUP(A1903,Veje!A:B,2,FALSE))","v":"SKGF"},{"$f":"IFERROR(VLOOKUP(C1903,Medlemmer!A:C,3,FALSE),\"\")","v":""},{"$f":"IFERROR(VLOOKUP(C1903,Medlemmer!A:C,2,FALSE),\"\")","v":""},{"$f":"IFERROR(VLOOKUP(C1903,Tidligere_henvendelser!A:B,2,FALSE),\"\")","v":""}]
[{"$f":"ReplaceNumbers(C1904)","v":"Ordrupvej"},{"$f":"_xlfn.NUMBERVALUE(FindNumbers(C1904))","v":41},"Ordrupvej 41B, 3. 1","2920 Charlottenlund",2250000,"2022-01-19","Alm. Salg",39473,2,"Ejerlejlighed",57,1961,{"$f":"IF(ISBLANK(VLOOKUP(A1904,Veje!A:B,2,FALSE)),INDEX(Veje!$D$2:$RT$652,MATCH(A1904,Veje!$A$2:$A$652,0),MATCH(B1904,Veje!$D$1:$RT$1,0)),VLOOKUP(A1904,Veje!A:B,2,FALSE))","v":"OCG"},{"$f":"IFERROR(VLOOKUP(C1904,Medlemmer!A:C,3,FALSE),\"\")","v":""},{"$f":"IFERROR(VLOOKUP(C1904,Medlemmer!A:C,2,FALSE),\"\")","v":""},{"$f":"IFERROR(VLOOKUP(C1904,Tidligere_henvendelser!A:B,2,FALSE),\"\")","v":""}]
[{"$f":"ReplaceNumbers(C1905)","v":"Kirsten Piils Vej"},{"$f":"_xlfn.NUMBERVALUE(FindNumbers(C1905))","v":16},"Kirsten Piils Vej 16, 1","2920 Charlottenlund",10750000,"2022-01-19","Alm. Salg",90336,3,"Ejerlejlighed",119,1917,{"$f":"IF(ISBLANK(VLOOKUP(A1905,Veje!A:B,2,FALSE)),INDEX(Veje!$D$2:$RT$652,MATCH(A1905,Veje!$A$2:$A$652,0),MATCH(B1905,Veje!$D$1:$RT$1,0)),VLOOKUP(A1905,Veje!A:B,2,FALSE))","v":"OCG"},{"$f":"IFERROR(VLOOKUP(C1905,Medlemmer!A:C,3,FALSE),\"\")","v":""},{"$f":"IFERROR(VLOOKUP(C1905,Medlemmer!A:C,2,FALSE),\"\")","v":""},{"$f":"IFERROR(VLOOKUP(C1905,Tidligere_henvendelser!A:B,2,FALSE),\"\")","v":""}]
[{"$f":"ReplaceNumbers(C1906)","v":"Gjørlingsvej"},{"$f":"_xlfn.NUMBERVALUE(FindNumbers(C1906))","v":15},"Gjørlingsvej 15, 2","2900 Hellerup",7995000,"2022-01-19","Alm. Salg",45169,5,"Ejerlejlighed",177,1919,{"$f":"IF(ISBLANK(VLOOKUP(A1906,Veje!A:B,2,FALSE)),INDEX(Veje!$D$2:$RT$652,MATCH(A1906,Veje!$A$2:$A$652,0),MATCH(B1906,Veje!$D$1:$RT$1,0)),VLOOKUP(A1906,Veje!A:B,2,FALSE))","v":"HMG"},{"$f":"IFERROR(VLOOKUP(C1906,Medlemmer!A:C,3,FALSE),\"\")","v":""},{"$f":"IFERROR(VLOOKUP(C1906,Medlemmer!A:C,2,FALSE),\"\")","v":""},{"$f":"IFERROR(VLOOKUP(C1906,Tidligere_henvendelser!A:B,2,FALSE),\"\")","v":""}]
[{"$f":"ReplaceNumbers(C1907)","v":"Strandvejen"},{"$f":"_xlfn.NUMBERVALUE(FindNumbers(C1907))","v":211},"Strandvejen 211C, 3. tv","2900 Hellerup",9150000,"2022-01-20","Alm. Salg",56832,5,"Ejerlejlighed",161,1982,{"$f":"IF(ISBLANK(VLOOKUP(A1907,Veje!A:B,2,FALSE)),INDEX(Veje!$D$2:$RT$652,MATCH(A1907,Veje!$A$2:$A$652,0),MATCH(B1907,Veje!$D$1:$RT$1,0)),VLOOKUP(A1907,Veje!A:B,2,FALSE))","v":"HMG"},{"$f":"IFERROR(VLOOKUP(C1907,Medlemmer!A:C,3,FALSE),\"\")","v":""},{"$f":"IFERROR(VLOOKUP(C1907,Medlemmer!A:C,2,FALSE),\"\")","v":""},{"$f":"IFERROR(VLOOKUP(C1907,Tidligere_henvendelser!A:B,2,FALSE),\"\")","v":""}]
[{"$f":"ReplaceNumbers(C1908)","v":"Dalstrøget"},{"$f":"_xlfn.NUMBERVALUE(FindNumbers(C1908))","v":89},"Dalstrøget 89, 2. th","2870 Dyssegård ",2550000,"2022-01-20","Alm. Salg",41803,2,"Ejerlejlighed",61,1959,{"$f":"IF(ISBLANK(VLOOKUP(A1908,Veje!A:B,2,FALSE)),INDEX(Veje!$D$2:$RT$652,MATCH(A1908,Veje!$A$2:$A$652,0),MATCH(B1908,Veje!$D$1:$RT$1,0)),VLOOKUP(A1908,Veje!A:B,2,FALSE))","v":"DY"},{"$f":"IFERROR(VLOOKUP(C1908,Medlemmer!A:C,3,FALSE),\"\")","v":""},{"$f":"IFERROR(VLOOKUP(C1908,Medlemmer!A:C,2,FALSE),\"\")","v":""},{"$f":"IFERROR(VLOOKUP(C1908,Tidligere_henvendelser!A:B,2,FALSE),\"\")","v":""}]
[{"$f":"ReplaceNumbers(C1909)","v":"Ved Bommen"},{"$f":"_xlfn.NUMBERVALUE(FindNumbers(C1909))","v":28},"Ved Bommen 28, 1. 13","2820 Gentofte",2960000,"2022-01-20","Alm. Salg",41690,2,"Ejerlejlighed",71,1977,{"$f":"IF(ISBLANK(VLOOKUP(A1909,Veje!A:B,2,FALSE)),INDEX(Veje!$D$2:$RT$652,MATCH(A1909,Veje!$A$2:$A$652,0),MATCH(B1909,Veje!$D$1:$RT$1,0)),VLOOKUP(A1909,Veje!A:B,2,FALSE))","v":"GSG"},{"$f":"IFERROR(VLOOKUP(C1909,Medlemmer!A:C,3,FALSE),\"\")","v":""},{"$f":"IFERROR(VLOOKUP(C1909,Medlemmer!A:C,2,FALSE),\"\")","v":""},{"$f":"IFERROR(VLOOKUP(C1909,Tidligere_henvendelser!A:B,2,FALSE),\"\")","v":""}]
[{"$f":"ReplaceNumbers(C1910)","v":"Vesterbyvej"},{"$f":"_xlfn.NUMBERVALUE(FindNumbers(C1910))","v":19},"Vesterbyvej 19","2820 Gentofte",8320000,"2022-01-20","Alm. Salg",90434,4,"Villa",92,1938,{"$f":"IF(ISBLANK(VLOOKUP(A1910,Veje!A:B,2,FALSE)),INDEX(Veje!$D$2:$RT$652,MATCH(A1910,Veje!$A$2:$A$652,0),MATCH(B1910,Veje!$D$1:$RT$1,0)),VLOOKUP(A1910,Veje!A:B,2,FALSE))","v":"GSG"},{"$f":"IFERROR(VLOOKUP(C1910,Medlemmer!A:C,3,FALSE),\"\")","v":""},{"$f":"IFERROR(VLOOKUP(C1910,Medlemmer!A:C,2,FALSE),\"\")","v":""},{"$f":"IFERROR(VLOOKUP(C1910,Tidligere_henvendelser!A:B,2,FALSE),\"\")","v":""}]
[{"$f":"ReplaceNumbers(C1911)","v":"Vangedevej"},{"$f":"_xlfn.NUMBERVALUE(FindNumbers(C1911))","v":158},"Vangedevej 158A, st. tv","2870 Dyssegård ",2995000,"2022-01-21","Alm. Salg",36975,2,"Ejerlejlighed",81,1987,{"$f":"IF(ISBLANK(VLOOKUP(A1911,Veje!A:B,2,FALSE)),INDEX(Veje!$D$2:$RT$652,MATCH(A1911,Veje!$A$2:$A$652,0),MATCH(B1911,Veje!$D$1:$RT$1,0)),VLOOKUP(A1911,Veje!A:B,2,FALSE))","v":"DY"},{"$f":"IFERROR(VLOOKUP(C1911,Medlemmer!A:C,3,FALSE),\"\")","v":""},{"$f":"IFERROR(VLOOKUP(C1911,Medlemmer!A:C,2,FALSE),\"\")","v":""},{"$f":"IFERROR(VLOOKUP(C1911,Tidligere_henvendelser!A:B,2,FALSE),\"\")","v":""}]
[{"$f":"ReplaceNumbers(C1912)","v":"Ewaldsbakken"},{"$f":"_xlfn.NUMBERVALUE(FindNumbers(C1912))","v":23},"Ewaldsbakken 23A","2900 Hellerup",7750000,"2022-01-21","Alm. Salg",58270,5,"Rækkehus",133,1986,{"$f":"IF(ISBLANK(VLOOKUP(A1912,Veje!A:B,2,FALSE)),INDEX(Veje!$D$2:$RT$652,MATCH(A1912,Veje!$A$2:$A$652,0),MATCH(B1912,Veje!$D$1:$RT$1,0)),VLOOKUP(A1912,Veje!A:B,2,FALSE))","v":"DY"},{"$f":"IFERROR(VLOOKUP(C1912,Medlemmer!A:C,3,FALSE),\"\")","v":""},{"$f":"IFERROR(VLOOKUP(C1912,Medlemmer!A:C,2,FALSE),\"\")","v":""},{"$f":"IFERROR(VLOOKUP(C1912,Tidligere_henvendelser!A:B,2,FALSE),\"\")","v":""}]
[{"$f":"ReplaceNumbers(C1913)","v":"Mosehøjvej"},{"$f":"_xlfn.NUMBERVALUE(FindNumbers(C1913))","v":11},"Mosehøjvej 11","2920 Charlottenlund",15995000,"2022-01-22","Alm. Salg",85079,5,"Villa",188,1942,{"$f":"IF(ISBLANK(VLOOKUP(A1913,Veje!A:B,2,FALSE)),INDEX(Veje!$D$2:$RT$652,MATCH(A1913,Veje!$A$2:$A$652,0),MATCH(B1913,Veje!$D$1:$RT$1,0)),VLOOKUP(A1913,Veje!A:B,2,FALSE))","v":"OCG"},{"$f":"IFERROR(VLOOKUP(C1913,Medlemmer!A:C,3,FALSE),\"\")","v":""},{"$f":"IFERROR(VLOOKUP(C1913,Medlemmer!A:C,2,FALSE),\"\")","v":""},{"$f":"IFERROR(VLOOKUP(C1913,Tidligere_henvendelser!A:B,2,FALSE),\"\")","v":""}]
[{"$f":"ReplaceNumbers(C1914)","v":"Snogegårdsvænget"},{"$f":"_xlfn.NUMBERVALUE(FindNumbers(C1914))","v":4},"Snogegårdsvænget 4, 1. mf","2820 Gentofte",1595000,"2022-01-22","Alm. Salg",39875,2,"Ejerlejlighed",40,1958,{"$f":"IF(ISBLANK(VLOOKUP(A1914,Veje!A:B,2,FALSE)),INDEX(Veje!$D$2:$RT$652,MATCH(A1914,Veje!$A$2:$A$652,0),MATCH(B1914,Veje!$D$1:$RT$1,0)),VLOOKUP(A1914,Veje!A:B,2,FALSE))","v":"GSG"},{"$f":"IFERROR(VLOOKUP(C1914,Medlemmer!A:C,3,FALSE),\"\")","v":""},{"$f":"IFERROR(VLOOKUP(C1914,Medlemmer!A:C,2,FALSE),\"\")","v":""},{"$f":"IFERROR(VLOOKUP(C1914,Tidligere_henvendelser!A:B,2,FALSE),\"\")","v":""}]
[{"$f":"ReplaceNumbers(C1915)","v":"Ordrupvej"},{"$f":"_xlfn.NUMBERVALUE(FindNumbers(C1915))","v":67},"Ordrupvej 67B, 1. th","2920 Charlottenlund",2505000,"2022-01-23","Alm. Salg",46388,2,"Ejerlejlighed",54,1938,{"$f":"IF(ISBLANK(VLOOKUP(A1915,Veje!A:B,2,FALSE)),INDEX(Veje!$D$2:$RT$652,MATCH(A1915,Veje!$A$2:$A$652,0),MATCH(B1915,Veje!$D$1:$RT$1,0)),VLOOKUP(A1915,Veje!A:B,2,FALSE))","v":"OCG"},{"$f":"IFERROR(VLOOKUP(C1915,Medlemmer!A:C,3,FALSE),\"\")","v":""},{"$f":"IFERROR(VLOOKUP(C1915,Medlemmer!A:C,2,FALSE),\"\")","v":""},{"$f":"IFERROR(VLOOKUP(C1915,Tidligere_henvendelser!A:B,2,FALSE),\"\")","v":""}]
[{"$f":"ReplaceNumbers(C1916)","v":"Strandparksvej"},{"$f":"_xlfn.NUMBERVALUE(FindNumbers(C1916))","v":24},"Strandparksvej 24, 2. tv","2900 Hellerup",5800000,"2022-01-23","Alm. Salg",86567,2,"Ejerlejlighed",67,1905,{"$f":"IF(ISBLANK(VLOOKUP(A1916,Veje!A:B,2,FALSE)),INDEX(Veje!$D$2:$RT$652,MATCH(A1916,Veje!$A$2:$A$652,0),MATCH(B1916,Veje!$D$1:$RT$1,0)),VLOOKUP(A1916,Veje!A:B,2,FALSE))","v":"HMG"},{"$f":"IFERROR(VLOOKUP(C1916,Medlemmer!A:C,3,FALSE),\"\")","v":""},{"$f":"IFERROR(VLOOKUP(C1916,Medlemmer!A:C,2,FALSE),\"\")","v":""},{"$f":"IFERROR(VLOOKUP(C1916,Tidligere_henvendelser!A:B,2,FALSE),\"\")","v":""}]
[{"$f":"ReplaceNumbers(C1917)","v":"Bramsvej"},{"$f":"_xlfn.NUMBERVALUE(FindNumbers(C1917))","v":13},"Bramsvej 13","2920 Charlottenlund",17710000,"2022-01-23","Alm. Salg",83145,7,"Villa",213,1898,{"$f":"IF(ISBLANK(VLOOKUP(A1917,Veje!A:B,2,FALSE)),INDEX(Veje!$D$2:$RT$652,MATCH(A1917,Veje!$A$2:$A$652,0),MATCH(B1917,Veje!$D$1:$RT$1,0)),VLOOKUP(A1917,Veje!A:B,2,FALSE))","v":"OCG"},{"$f":"IFERROR(VLOOKUP(C1917,Medlemmer!A:C,3,FALSE),\"\")","v":""},{"$f":"IFERROR(VLOOKUP(C1917,Medlemmer!A:C,2,FALSE),\"\")","v":""},{"$f":"IFERROR(VLOOKUP(C1917,Tidligere_henvendelser!A:B,2,FALSE),\"\")","v":""}]
[{"$f":"ReplaceNumbers(C1918)","v":"Ellebakken"},{"$f":"_xlfn.NUMBERVALUE(FindNumbers(C1918))","v":10},"Ellebakken 10","2900 Hellerup",10200000,"2022-01-23","Alm. Salg",49038,8,"Villa",208,1932,{"$f":"IF(ISBLANK(VLOOKUP(A1918,Veje!A:B,2,FALSE)),INDEX(Veje!$D$2:$RT$652,MATCH(A1918,Veje!$A$2:$A$652,0),MATCH(B1918,Veje!$D$1:$RT$1,0)),VLOOKUP(A1918,Veje!A:B,2,FALSE))","v":"DY"},{"$f":"IFERROR(VLOOKUP(C1918,Medlemmer!A:C,3,FALSE),\"\")","v":""},{"$f":"IFERROR(VLOOKUP(C1918,Medlemmer!A:C,2,FALSE),\"\")","v":""},{"$f":"IFERROR(VLOOKUP(C1918,Tidligere_henvendelser!A:B,2,FALSE),\"\")","v":""}]
[{"$f":"ReplaceNumbers(C1919)","v":"H A Clausens Vej"},{"$f":"_xlfn.NUMBERVALUE(FindNumbers(C1919))","v":24},"H A Clausens Vej 24","2820 Gentofte",12000000,"2022-01-24","Alm. Salg",67796,7,"Villa",177,1981,{"$f":"IF(ISBLANK(VLOOKUP(A1919,Veje!A:B,2,FALSE)),INDEX(Veje!$D$2:$RT$652,MATCH(A1919,Veje!$A$2:$A$652,0),MATCH(B1919,Veje!$D$1:$RT$1,0)),VLOOKUP(A1919,Veje!A:B,2,FALSE))","v":"GSG"},{"$f":"IFERROR(VLOOKUP(C1919,Medlemmer!A:C,3,FALSE),\"\")","v":""},{"$f":"IFERROR(VLOOKUP(C1919,Medlemmer!A:C,2,FALSE),\"\")","v":""},{"$f":"IFERROR(VLOOKUP(C1919,Tidligere_henvendelser!A:B,2,FALSE),\"\")","v":""}]
[{"$f":"ReplaceNumbers(C1920)","v":"Fuglegårdsvænget"},{"$f":"_xlfn.NUMBERVALUE(FindNumbers(C1920))","v":65},"Fuglegårdsvænget 65, 1. mf","2820 Gentofte",2255000,"2022-01-24","Alm. Salg",38879,2,"Ejerlejlighed",58,1938,{"$f":"IF(ISBLANK(VLOOKUP(A1920,Veje!A:B,2,FALSE)),INDEX(Veje!$D$2:$RT$652,MATCH(A1920,Veje!$A$2:$A$652,0),MATCH(B1920,Veje!$D$1:$RT$1,0)),VLOOKUP(A1920,Veje!A:B,2,FALSE))","v":"GSG"},{"$f":"IFERROR(VLOOKUP(C1920,Medlemmer!A:C,3,FALSE),\"\")","v":""},{"$f":"IFERROR(VLOOKUP(C1920,Medlemmer!A:C,2,FALSE),\"\")","v":""},{"$f":"IFERROR(VLOOKUP(C1920,Tidligere_henvendelser!A:B,2,FALSE),\"\")","v":""}]
[{"$f":"ReplaceNumbers(C1921)","v":"Ellegårdsvej"},{"$f":"_xlfn.NUMBERVALUE(FindNumbers(C1921))","v":76},"Ellegårdsvej 76","2820 Gentofte",7695000,"2022-01-24","Alm. Salg",62560,5,"Villa",123,1921,{"$f":"IF(ISBLANK(VLOOKUP(A1921,Veje!A:B,2,FALSE)),INDEX(Veje!$D$2:$RT$652,MATCH(A1921,Veje!$A$2:$A$652,0),MATCH(B1921,Veje!$D$1:$RT$1,0)),VLOOKUP(A1921,Veje!A:B,2,FALSE))","v":"GSG"},{"$f":"IFERROR(VLOOKUP(C1921,Medlemmer!A:C,3,FALSE),\"\")","v":""},{"$f":"IFERROR(VLOOKUP(C1921,Medlemmer!A:C,2,FALSE),\"\")","v":""},{"$f":"IFERROR(VLOOKUP(C1921,Tidligere_henvendelser!A:B,2,FALSE),\"\")","v":"21Q1"}]
[{"$f":"ReplaceNumbers(C1922)","v":"Ericavej"},{"$f":"_xlfn.NUMBERVALUE(FindNumbers(C1922))","v":163},"Ericavej 163, 2. 304","2820 Gentofte",1650000,"2022-01-24","Alm. Salg",33000,1,"Ejerlejlighed",50,1956,{"$f":"IF(ISBLANK(VLOOKUP(A1922,Veje!A:B,2,FALSE)),INDEX(Veje!$D$2:$RT$652,MATCH(A1922,Veje!$A$2:$A$652,0),MATCH(B1922,Veje!$D$1:$RT$1,0)),VLOOKUP(A1922,Veje!A:B,2,FALSE))","v":"GSG"},{"$f":"IFERROR(VLOOKUP(C1922,Medlemmer!A:C,3,FALSE),\"\")","v":""},{"$f":"IFERROR(VLOOKUP(C1922,Medlemmer!A:C,2,FALSE),\"\")","v":""},{"$f":"IFERROR(VLOOKUP(C1922,Tidligere_henvendelser!A:B,2,FALSE),\"\")","v":""}]
[{"$f":"ReplaceNumbers(C1923)","v":"Vangede Bygade"},{"$f":"_xlfn.NUMBERVALUE(FindNumbers(C1923))","v":108},"Vangede Bygade 108, 1. th","2820 Gentofte",2810000,"2022-01-25","Alm. Salg",39577,2,"Ejerlejlighed",71,1981,{"$f":"IF(ISBLANK(VLOOKUP(A1923,Veje!A:B,2,FALSE)),INDEX(Veje!$D$2:$RT$652,MATCH(A1923,Veje!$A$2:$A$652,0),MATCH(B1923,Veje!$D$1:$RT$1,0)),VLOOKUP(A1923,Veje!A:B,2,FALSE))","v":"GSG"},{"$f":"IFERROR(VLOOKUP(C1923,Medlemmer!A:C,3,FALSE),\"\")","v":""},{"$f":"IFERROR(VLOOKUP(C1923,Medlemmer!A:C,2,FALSE),\"\")","v":""},{"$f":"IFERROR(VLOOKUP(C1923,Tidligere_henvendelser!A:B,2,FALSE),\"\")","v":""}]
[{"$f":"ReplaceNumbers(C1924)","v":"Brogårdsvej"},{"$f":"_xlfn.NUMBERVALUE(FindNumbers(C1924))","v":75},"Brogårdsvej 75, 1","2820 Gentofte",870000,"2022-01-25","Fam. Salg",6744,4,"Ejerlejlighed",129,1916,{"$f":"IF(ISBLANK(VLOOKUP(A1924,Veje!A:B,2,FALSE)),INDEX(Veje!$D$2:$RT$652,MATCH(A1924,Veje!$A$2:$A$652,0),MATCH(B1924,Veje!$D$1:$RT$1,0)),VLOOKUP(A1924,Veje!A:B,2,FALSE))","v":"GSG"},{"$f":"IFERROR(VLOOKUP(C1924,Medlemmer!A:C,3,FALSE),\"\")","v":""},{"$f":"IFERROR(VLOOKUP(C1924,Medlemmer!A:C,2,FALSE),\"\")","v":""},{"$f":"IFERROR(VLOOKUP(C1924,Tidligere_henvendelser!A:B,2,FALSE),\"\")","v":""}]
[{"$f":"ReplaceNumbers(C1925)","v":"Ordrup Jagtvej"},{"$f":"_xlfn.NUMBERVALUE(FindNumbers(C1925))","v":42},"Ordrup Jagtvej 42B, 3. tv","2920 Charlottenlund",3320000,"2022-01-25","Alm. Salg",42564,3,"Ejerlejlighed",78,1934,{"$f":"IF(ISBLANK(VLOOKUP(A1925,Veje!A:B,2,FALSE)),INDEX(Veje!$D$2:$RT$652,MATCH(A1925,Veje!$A$2:$A$652,0),MATCH(B1925,Veje!$D$1:$RT$1,0)),VLOOKUP(A1925,Veje!A:B,2,FALSE))","v":"SKGF"},{"$f":"IFERROR(VLOOKUP(C1925,Medlemmer!A:C,3,FALSE),\"\")","v":""},{"$f":"IFERROR(VLOOKUP(C1925,Medlemmer!A:C,2,FALSE),\"\")","v":""},{"$f":"IFERROR(VLOOKUP(C1925,Tidligere_henvendelser!A:B,2,FALSE),\"\")","v":""}]
[{"$f":"ReplaceNumbers(C1926)","v":"Strandlund"},{"$f":"_xlfn.NUMBERVALUE(FindNumbers(C1926))","v":131},"Strandlund 131","2920 Charlottenlund",7995000,"2022-01-25","Alm. Salg",88833,3,"Ejerlejlighed",90,1978,{"$f":"IF(ISBLANK(VLOOKUP(A1926,Veje!A:B,2,FALSE)),INDEX(Veje!$D$2:$RT$652,MATCH(A1926,Veje!$A$2:$A$652,0),MATCH(B1926,Veje!$D$1:$RT$1,0)),VLOOKUP(A1926,Veje!A:B,2,FALSE))","v":"HMG"},{"$f":"IFERROR(VLOOKUP(C1926,Medlemmer!A:C,3,FALSE),\"\")","v":""},{"$f":"IFERROR(VLOOKUP(C1926,Medlemmer!A:C,2,FALSE),\"\")","v":""},{"$f":"IFERROR(VLOOKUP(C1926,Tidligere_henvendelser!A:B,2,FALSE),\"\")","v":""}]
[{"$f":"ReplaceNumbers(C1927)","v":"Ericavej"},{"$f":"_xlfn.NUMBERVALUE(FindNumbers(C1927))","v":163},"Ericavej 163, 2. 303","2820 Gentofte",1760000,"2022-01-25","Alm. Salg",35200,1,"Ejerlejlighed",50,1956,{"$f":"IF(ISBLANK(VLOOKUP(A1927,Veje!A:B,2,FALSE)),INDEX(Veje!$D$2:$RT$652,MATCH(A1927,Veje!$A$2:$A$652,0),MATCH(B1927,Veje!$D$1:$RT$1,0)),VLOOKUP(A1927,Veje!A:B,2,FALSE))","v":"GSG"},{"$f":"IFERROR(VLOOKUP(C1927,Medlemmer!A:C,3,FALSE),\"\")","v":""},{"$f":"IFERROR(VLOOKUP(C1927,Medlemmer!A:C,2,FALSE),\"\")","v":""},{"$f":"IFERROR(VLOOKUP(C1927,Tidligere_henvendelser!A:B,2,FALSE),\"\")","v":""}]
[{"$f":"ReplaceNumbers(C1928)","v":"Godhavnsvej"},{"$f":"_xlfn.NUMBERVALUE(FindNumbers(C1928))","v":9},"Godhavnsvej 9","2900 Hellerup",8395000,"2022-01-25","Alm. Salg",79952,4,"Villa",105,1938,{"$f":"IF(ISBLANK(VLOOKUP(A1928,Veje!A:B,2,FALSE)),INDEX(Veje!$D$2:$RT$652,MATCH(A1928,Veje!$A$2:$A$652,0),MATCH(B1928,Veje!$D$1:$RT$1,0)),VLOOKUP(A1928,Veje!A:B,2,FALSE))","v":"DY"},{"$f":"IFERROR(VLOOKUP(C1928,Medlemmer!A:C,3,FALSE),\"\")","v":""},{"$f":"IFERROR(VLOOKUP(C1928,Medlemmer!A:C,2,FALSE),\"\")","v":""},{"$f":"IFERROR(VLOOKUP(C1928,Tidligere_henvendelser!A:B,2,FALSE),\"\")","v":""}]
[{"$f":"ReplaceNumbers(C1929)","v":"Smakkegårdsvej"},{"$f":"_xlfn.NUMBERVALUE(FindNumbers(C1929))","v":163},"Smakkegårdsvej 163, 2. th","2820 Gentofte",4295000,"2022-01-26","Alm. Salg",42524,4,"Ejerlejlighed",101,1946,{"$f":"IF(ISBLANK(VLOOKUP(A1929,Veje!A:B,2,FALSE)),INDEX(Veje!$D$2:$RT$652,MATCH(A1929,Veje!$A$2:$A$652,0),MATCH(B1929,Veje!$D$1:$RT$1,0)),VLOOKUP(A1929,Veje!A:B,2,FALSE))","v":"GSG"},{"$f":"IFERROR(VLOOKUP(C1929,Medlemmer!A:C,3,FALSE),\"\")","v":""},{"$f":"IFERROR(VLOOKUP(C1929,Medlemmer!A:C,2,FALSE),\"\")","v":""},{"$f":"IFERROR(VLOOKUP(C1929,Tidligere_henvendelser!A:B,2,FALSE),\"\")","v":""}]
[{"$f":"ReplaceNumbers(C1930)","v":"Strandvejen"},{"$f":"_xlfn.NUMBERVALUE(FindNumbers(C1930))","v":212},"Strandvejen 212C","2920 Charlottenlund",19000000,"2022-01-26","Alm. Salg",115853,4,"Villa",164,1984,{"$f":"IF(ISBLANK(VLOOKUP(A1930,Veje!A:B,2,FALSE)),INDEX(Veje!$D$2:$RT$652,MATCH(A1930,Veje!$A$2:$A$652,0),MATCH(B1930,Veje!$D$1:$RT$1,0)),VLOOKUP(A1930,Veje!A:B,2,FALSE))","v":"SKGF"},{"$f":"IFERROR(VLOOKUP(C1930,Medlemmer!A:C,3,FALSE),\"\")","v":""},{"$f":"IFERROR(VLOOKUP(C1930,Medlemmer!A:C,2,FALSE),\"\")","v":""},{"$f":"IFERROR(VLOOKUP(C1930,Tidligere_henvendelser!A:B,2,FALSE),\"\")","v":""}]
[{"$f":"ReplaceNumbers(C1931)","v":"Blidahpark"},{"$f":"_xlfn.NUMBERVALUE(FindNumbers(C1931))","v":29},"Blidahpark 29, 1. th","2900 Hellerup",7100000,"2022-01-26","Alm. Salg",66355,4,"Ejerlejlighed",107,1934,{"$f":"IF(ISBLANK(VLOOKUP(A1931,Veje!A:B,2,FALSE)),INDEX(Veje!$D$2:$RT$652,MATCH(A1931,Veje!$A$2:$A$652,0),MATCH(B1931,Veje!$D$1:$RT$1,0)),VLOOKUP(A1931,Veje!A:B,2,FALSE))","v":"HMG"},{"$f":"IFERROR(VLOOKUP(C1931,Medlemmer!A:C,3,FALSE),\"\")","v":""},{"$f":"IFERROR(VLOOKUP(C1931,Medlemmer!A:C,2,FALSE),\"\")","v":""},{"$f":"IFERROR(VLOOKUP(C1931,Tidligere_henvendelser!A:B,2,FALSE),\"\")","v":""}]
[{"$f":"ReplaceNumbers(C1932)","v":"Jægersborg Alle"},{"$f":"_xlfn.NUMBERVALUE(FindNumbers(C1932))","v":43},"Jægersborg Alle 43, 2. tv","2920 Charlottenlund",4400000,"2022-01-26","Alm. Salg",49438,3,"Ejerlejlighed",89,1981,{"$f":"IF(ISBLANK(VLOOKUP(A1932,Veje!A:B,2,FALSE)),INDEX(Veje!$D$2:$RT$652,MATCH(A1932,Veje!$A$2:$A$652,0),MATCH(B1932,Veje!$D$1:$RT$1,0)),VLOOKUP(A1932,Veje!A:B,2,FALSE))","v":"OCG"},{"$f":"IFERROR(VLOOKUP(C1932,Medlemmer!A:C,3,FALSE),\"\")","v":""},{"$f":"IFERROR(VLOOKUP(C1932,Medlemmer!A:C,2,FALSE),\"\")","v":""},{"$f":"IFERROR(VLOOKUP(C1932,Tidligere_henvendelser!A:B,2,FALSE),\"\")","v":""}]
[{"$f":"ReplaceNumbers(C1933)","v":"Rosenvej"},{"$f":"_xlfn.NUMBERVALUE(FindNumbers(C1933))","v":19},"Rosenvej 19, 1","2820 Gentofte",2415000,"2022-01-26","Andet",21000,3,"Ejerlejlighed",115,1902,{"$f":"IF(ISBLANK(VLOOKUP(A1933,Veje!A:B,2,FALSE)),INDEX(Veje!$D$2:$RT$652,MATCH(A1933,Veje!$A$2:$A$652,0),MATCH(B1933,Veje!$D$1:$RT$1,0)),VLOOKUP(A1933,Veje!A:B,2,FALSE))","v":"GSG"},{"$f":"IFERROR(VLOOKUP(C1933,Medlemmer!A:C,3,FALSE),\"\")","v":""},{"$f":"IFERROR(VLOOKUP(C1933,Medlemmer!A:C,2,FALSE),\"\")","v":""},{"$f":"IFERROR(VLOOKUP(C1933,Tidligere_henvendelser!A:B,2,FALSE),\"\")","v":""}]
[{"$f":"ReplaceNumbers(C1934)","v":"Adolphsvej"},{"$f":"_xlfn.NUMBERVALUE(FindNumbers(C1934))","v":28},"Adolphsvej 28, st","2820 Gentofte",3090000,"2022-01-26","Alm. Salg",23769,5,"Ejerlejlighed",130,1937,{"$f":"IF(ISBLANK(VLOOKUP(A1934,Veje!A:B,2,FALSE)),INDEX(Veje!$D$2:$RT$652,MATCH(A1934,Veje!$A$2:$A$652,0),MATCH(B1934,Veje!$D$1:$RT$1,0)),VLOOKUP(A1934,Veje!A:B,2,FALSE))","v":"GSG"},{"$f":"IFERROR(VLOOKUP(C1934,Medlemmer!A:C,3,FALSE),\"\")","v":""},{"$f":"IFERROR(VLOOKUP(C1934,Medlemmer!A:C,2,FALSE),\"\")","v":""},{"$f":"IFERROR(VLOOKUP(C1934,Tidligere_henvendelser!A:B,2,FALSE),\"\")","v":""}]
[{"$f":"ReplaceNumbers(C1935)","v":"Rosenvej"},{"$f":"_xlfn.NUMBERVALUE(FindNumbers(C1935))","v":19},"Rosenvej 19, st","2820 Gentofte",2415000,"2022-01-26","Andet",20125,4,"Ejerlejlighed",120,1902,{"$f":"IF(ISBLANK(VLOOKUP(A1935,Veje!A:B,2,FALSE)),INDEX(Veje!$D$2:$RT$652,MATCH(A1935,Veje!$A$2:$A$652,0),MATCH(B1935,Veje!$D$1:$RT$1,0)),VLOOKUP(A1935,Veje!A:B,2,FALSE))","v":"GSG"},{"$f":"IFERROR(VLOOKUP(C1935,Medlemmer!A:C,3,FALSE),\"\")","v":""},{"$f":"IFERROR(VLOOKUP(C1935,Medlemmer!A:C,2,FALSE),\"\")","v":""},{"$f":"IFERROR(VLOOKUP(C1935,Tidligere_henvendelser!A:B,2,FALSE),\"\")","v":""}]
[{"$f":"ReplaceNumbers(C1936)","v":"Brannersvej"},{"$f":"_xlfn.NUMBERVALUE(FindNumbers(C1936))","v":23},"Brannersvej 23, 2. 42","2920 Charlottenlund",2395000,"2022-01-26","Alm. Salg",46960,2,"Ejerlejlighed",51,1972,{"$f":"IF(ISBLANK(VLOOKUP(A1936,Veje!A:B,2,FALSE)),INDEX(Veje!$D$2:$RT$652,MATCH(A1936,Veje!$A$2:$A$652,0),MATCH(B1936,Veje!$D$1:$RT$1,0)),VLOOKUP(A1936,Veje!A:B,2,FALSE))","v":"OCG"},{"$f":"IFERROR(VLOOKUP(C1936,Medlemmer!A:C,3,FALSE),\"\")","v":""},{"$f":"IFERROR(VLOOKUP(C1936,Medlemmer!A:C,2,FALSE),\"\")","v":""},{"$f":"IFERROR(VLOOKUP(C1936,Tidligere_henvendelser!A:B,2,FALSE),\"\")","v":""}]
[{"$f":"ReplaceNumbers(C1937)","v":"Herthavej"},{"$f":"_xlfn.NUMBERVALUE(FindNumbers(C1937))","v":5},"Herthavej 5E, 1. tv","2920 Charlottenlund",6300000,"2022-01-27","Alm. Salg",69230,3,"Ejerlejlighed",91,1982,{"$f":"IF(ISBLANK(VLOOKUP(A1937,Veje!A:B,2,FALSE)),INDEX(Veje!$D$2:$RT$652,MATCH(A1937,Veje!$A$2:$A$652,0),MATCH(B1937,Veje!$D$1:$RT$1,0)),VLOOKUP(A1937,Veje!A:B,2,FALSE))","v":"OCG"},{"$f":"IFERROR(VLOOKUP(C1937,Medlemmer!A:C,3,FALSE),\"\")","v":""},{"$f":"IFERROR(VLOOKUP(C1937,Medlemmer!A:C,2,FALSE),\"\")","v":""},{"$f":"IFERROR(VLOOKUP(C1937,Tidligere_henvendelser!A:B,2,FALSE),\"\")","v":""}]
[{"$f":"ReplaceNumbers(C1938)","v":"Phistersvej"},{"$f":"_xlfn.NUMBERVALUE(FindNumbers(C1938))","v":35},"Phistersvej 35","2900 Hellerup",29995000,"2022-01-27","Alm. Salg",124979,7,"Villa",240,1903,{"$f":"IF(ISBLANK(VLOOKUP(A1938,Veje!A:B,2,FALSE)),INDEX(Veje!$D$2:$RT$652,MATCH(A1938,Veje!$A$2:$A$652,0),MATCH(B1938,Veje!$D$1:$RT$1,0)),VLOOKUP(A1938,Veje!A:B,2,FALSE))","v":"HMG"},{"$f":"IFERROR(VLOOKUP(C1938,Medlemmer!A:C,3,FALSE),\"\")","v":""},{"$f":"IFERROR(VLOOKUP(C1938,Medlemmer!A:C,2,FALSE),\"\")","v":""},{"$f":"IFERROR(VLOOKUP(C1938,Tidligere_henvendelser!A:B,2,FALSE),\"\")","v":""}]
[{"$f":"ReplaceNumbers(C1939)","v":"Vingårds Alle"},{"$f":"_xlfn.NUMBERVALUE(FindNumbers(C1939))","v":73},"Vingårds Alle 73, 2. tv","2900 Hellerup",3220000,"2022-01-27","Alm. Salg",52786,2,"Ejerlejlighed",61,1952,{"$f":"IF(ISBLANK(VLOOKUP(A1939,Veje!A:B,2,FALSE)),INDEX(Veje!$D$2:$RT$652,MATCH(A1939,Veje!$A$2:$A$652,0),MATCH(B1939,Veje!$D$1:$RT$1,0)),VLOOKUP(A1939,Veje!A:B,2,FALSE))","v":"HMG"},{"$f":"IFERROR(VLOOKUP(C1939,Medlemmer!A:C,3,FALSE),\"\")","v":""},{"$f":"IFERROR(VLOOKUP(C1939,Medlemmer!A:C,2,FALSE),\"\")","v":""},{"$f":"IFERROR(VLOOKUP(C1939,Tidligere_henvendelser!A:B,2,FALSE),\"\")","v":""}]
[{"$f":"ReplaceNumbers(C1940)","v":"Christiansholmsvej"},{"$f":"_xlfn.NUMBERVALUE(FindNumbers(C1940))","v":36},"Christiansholmsvej 36","2930 Klampenborg",15065000,"2022-01-27","Alm. Salg",60260,7,"Villa",250,1933,{"$f":"IF(ISBLANK(VLOOKUP(A1940,Veje!A:B,2,FALSE)),INDEX(Veje!$D$2:$RT$652,MATCH(A1940,Veje!$A$2:$A$652,0),MATCH(B1940,Veje!$D$1:$RT$1,0)),VLOOKUP(A1940,Veje!A:B,2,FALSE))","v":"SKGF"},{"$f":"IFERROR(VLOOKUP(C1940,Medlemmer!A:C,3,FALSE),\"\")","v":""},{"$f":"IFERROR(VLOOKUP(C1940,Medlemmer!A:C,2,FALSE),\"\")","v":""},{"$f":"IFERROR(VLOOKUP(C1940,Tidligere_henvendelser!A:B,2,FALSE),\"\")","v":""}]
[{"$f":"ReplaceNumbers(C1941)","v":"Vangedevej"},{"$f":"_xlfn.NUMBERVALUE(FindNumbers(C1941))","v":186},"Vangedevej 186","2870 Dyssegård ",6550000,"2022-01-27","Alm. Salg",50775,7,"Villa",129,1936,{"$f":"IF(ISBLANK(VLOOKUP(A1941,Veje!A:B,2,FALSE)),INDEX(Veje!$D$2:$RT$652,MATCH(A1941,Veje!$A$2:$A$652,0),MATCH(B1941,Veje!$D$1:$RT$1,0)),VLOOKUP(A1941,Veje!A:B,2,FALSE))","v":"DY"},{"$f":"IFERROR(VLOOKUP(C1941,Medlemmer!A:C,3,FALSE),\"\")","v":""},{"$f":"IFERROR(VLOOKUP(C1941,Medlemmer!A:C,2,FALSE),\"\")","v":""},{"$f":"IFERROR(VLOOKUP(C1941,Tidligere_henvendelser!A:B,2,FALSE),\"\")","v":""}]
[{"$f":"ReplaceNumbers(C1942)","v":"Grøntoften"},{"$f":"_xlfn.NUMBERVALUE(FindNumbers(C1942))","v":7},"Grøntoften 7, st. th","2870 Dyssegård ",2190000,"2022-01-27","Alm. Salg",33181,3,"Ejerlejlighed",66,1931,{"$f":"IF(ISBLANK(VLOOKUP(A1942,Veje!A:B,2,FALSE)),INDEX(Veje!$D$2:$RT$652,MATCH(A1942,Veje!$A$2:$A$652,0),MATCH(B1942,Veje!$D$1:$RT$1,0)),VLOOKUP(A1942,Veje!A:B,2,FALSE))","v":"DY"},{"$f":"IFERROR(VLOOKUP(C1942,Medlemmer!A:C,3,FALSE),\"\")","v":""},{"$f":"IFERROR(VLOOKUP(C1942,Medlemmer!A:C,2,FALSE),\"\")","v":""},{"$f":"IFERROR(VLOOKUP(C1942,Tidligere_henvendelser!A:B,2,FALSE),\"\")","v":""}]
[{"$f":"ReplaceNumbers(C1943)","v":"Norasvej"},{"$f":"_xlfn.NUMBERVALUE(FindNumbers(C1943))","v":10},"Norasvej 10","2920 Charlottenlund",5352211,"2022-01-28","Andet",28930,6,"Villa",185,1892,{"$f":"IF(ISBLANK(VLOOKUP(A1943,Veje!A:B,2,FALSE)),INDEX(Veje!$D$2:$RT$652,MATCH(A1943,Veje!$A$2:$A$652,0),MATCH(B1943,Veje!$D$1:$RT$1,0)),VLOOKUP(A1943,Veje!A:B,2,FALSE))","v":"SKGF"},{"$f":"IFERROR(VLOOKUP(C1943,Medlemmer!A:C,3,FALSE),\"\")","v":""},{"$f":"IFERROR(VLOOKUP(C1943,Medlemmer!A:C,2,FALSE),\"\")","v":""},{"$f":"IFERROR(VLOOKUP(C1943,Tidligere_henvendelser!A:B,2,FALSE),\"\")","v":""}]
[{"$f":"ReplaceNumbers(C1944)","v":"Dalvej"},{"$f":"_xlfn.NUMBERVALUE(FindNumbers(C1944))","v":35},"Dalvej 35A","2820 Gentofte",8500000,"2022-01-29","Alm. Salg",66406,5,"Rækkehus",128,1984,{"$f":"IF(ISBLANK(VLOOKUP(A1944,Veje!A:B,2,FALSE)),INDEX(Veje!$D$2:$RT$652,MATCH(A1944,Veje!$A$2:$A$652,0),MATCH(B1944,Veje!$D$1:$RT$1,0)),VLOOKUP(A1944,Veje!A:B,2,FALSE))","v":"BJGF"},{"$f":"IFERROR(VLOOKUP(C1944,Medlemmer!A:C,3,FALSE),\"\")","v":""},{"$f":"IFERROR(VLOOKUP(C1944,Medlemmer!A:C,2,FALSE),\"\")","v":""},{"$f":"IFERROR(VLOOKUP(C1944,Tidligere_henvendelser!A:B,2,FALSE),\"\")","v":""}]
[{"$f":"ReplaceNumbers(C1945)","v":"Plantevej"},{"$f":"_xlfn.NUMBERVALUE(FindNumbers(C1945))","v":21},"Plantevej 21, 2. th","2870 Dyssegård ",600000,"2022-01-30","Fam. Salg",10526,2,"Ejerlejlighed",57,1938,{"$f":"IF(ISBLANK(VLOOKUP(A1945,Veje!A:B,2,FALSE)),INDEX(Veje!$D$2:$RT$652,MATCH(A1945,Veje!$A$2:$A$652,0),MATCH(B1945,Veje!$D$1:$RT$1,0)),VLOOKUP(A1945,Veje!A:B,2,FALSE))","v":"DY"},{"$f":"IFERROR(VLOOKUP(C1945,Medlemmer!A:C,3,FALSE),\"\")","v":""},{"$f":"IFERROR(VLOOKUP(C1945,Medlemmer!A:C,2,FALSE),\"\")","v":""},{"$f":"IFERROR(VLOOKUP(C1945,Tidligere_henvendelser!A:B,2,FALSE),\"\")","v":""}]
[{"$f":"ReplaceNumbers(C1946)","v":"Annasvej"},{"$f":"_xlfn.NUMBERVALUE(FindNumbers(C1946))","v":4},"Annasvej 4A, st. th","2900 Hellerup",5350000,"2022-01-30","Alm. Salg",57526,3,"Ejerlejlighed",93,1994,{"$f":"IF(ISBLANK(VLOOKUP(A1946,Veje!A:B,2,FALSE)),INDEX(Veje!$D$2:$RT$652,MATCH(A1946,Veje!$A$2:$A$652,0),MATCH(B1946,Veje!$D$1:$RT$1,0)),VLOOKUP(A1946,Veje!A:B,2,FALSE))","v":"HMG"},{"$f":"IFERROR(VLOOKUP(C1946,Medlemmer!A:C,3,FALSE),\"\")","v":""},{"$f":"IFERROR(VLOOKUP(C1946,Medlemmer!A:C,2,FALSE),\"\")","v":""},{"$f":"IFERROR(VLOOKUP(C1946,Tidligere_henvendelser!A:B,2,FALSE),\"\")","v":""}]
[{"$f":"ReplaceNumbers(C1947)","v":"Tranegårdsvej"},{"$f":"_xlfn.NUMBERVALUE(FindNumbers(C1947))","v":64},"Tranegårdsvej 64, 3. th","2900 Hellerup",2325500,"2022-01-30","Alm. Salg",48447,2,"Ejerlejlighed",48,1919,{"$f":"IF(ISBLANK(VLOOKUP(A1947,Veje!A:B,2,FALSE)),INDEX(Veje!$D$2:$RT$652,MATCH(A1947,Veje!$A$2:$A$652,0),MATCH(B1947,Veje!$D$1:$RT$1,0)),VLOOKUP(A1947,Veje!A:B,2,FALSE))","v":"HMG"},{"$f":"IFERROR(VLOOKUP(C1947,Medlemmer!A:C,3,FALSE),\"\")","v":""},{"$f":"IFERROR(VLOOKUP(C1947,Medlemmer!A:C,2,FALSE),\"\")","v":""},{"$f":"IFERROR(VLOOKUP(C1947,Tidligere_henvendelser!A:B,2,FALSE),\"\")","v":""}]
[{"$f":"ReplaceNumbers(C1948)","v":"Dyssegårdsvej"},{"$f":"_xlfn.NUMBERVALUE(FindNumbers(C1948))","v":31},"Dyssegårdsvej 31","2900 Hellerup",8000000,"2022-01-30","Alm. Salg",78431,4,"Villa",102,1926,{"$f":"IF(ISBLANK(VLOOKUP(A1948,Veje!A:B,2,FALSE)),INDEX(Veje!$D$2:$RT$652,MATCH(A1948,Veje!$A$2:$A$652,0),MATCH(B1948,Veje!$D$1:$RT$1,0)),VLOOKUP(A1948,Veje!A:B,2,FALSE))","v":"DY"},{"$f":"IFERROR(VLOOKUP(C1948,Medlemmer!A:C,3,FALSE),\"\")","v":""},{"$f":"IFERROR(VLOOKUP(C1948,Medlemmer!A:C,2,FALSE),\"\")","v":""},{"$f":"IFERROR(VLOOKUP(C1948,Tidligere_henvendelser!A:B,2,FALSE),\"\")","v":""}]
[{"$f":"ReplaceNumbers(C1949)","v":"Strandvejen"},{"$f":"_xlfn.NUMBERVALUE(FindNumbers(C1949))","v":194},"Strandvejen 194F","2920 Charlottenlund",17000000,"2022-01-30","Alm. Salg",131782,4,"Rækkehus",129,1976,{"$f":"IF(ISBLANK(VLOOKUP(A1949,Veje!A:B,2,FALSE)),INDEX(Veje!$D$2:$RT$652,MATCH(A1949,Veje!$A$2:$A$652,0),MATCH(B1949,Veje!$D$1:$RT$1,0)),VLOOKUP(A1949,Veje!A:B,2,FALSE))","v":"SKGF"},{"$f":"IFERROR(VLOOKUP(C1949,Medlemmer!A:C,3,FALSE),\"\")","v":""},{"$f":"IFERROR(VLOOKUP(C1949,Medlemmer!A:C,2,FALSE),\"\")","v":""},{"$f":"IFERROR(VLOOKUP(C1949,Tidligere_henvendelser!A:B,2,FALSE),\"\")","v":""}]
[{"$f":"ReplaceNumbers(C1950)","v":"Vingårds Alle"},{"$f":"_xlfn.NUMBERVALUE(FindNumbers(C1950))","v":57},"Vingårds Alle 57, 3. tv","2900 Hellerup",4595000,"2022-01-31","Alm. Salg",58910,2,"Ejerlejlighed",78,1952,{"$f":"IF(ISBLANK(VLOOKUP(A1950,Veje!A:B,2,FALSE)),INDEX(Veje!$D$2:$RT$652,MATCH(A1950,Veje!$A$2:$A$652,0),MATCH(B1950,Veje!$D$1:$RT$1,0)),VLOOKUP(A1950,Veje!A:B,2,FALSE))","v":"HMG"},{"$f":"IFERROR(VLOOKUP(C1950,Medlemmer!A:C,3,FALSE),\"\")","v":""},{"$f":"IFERROR(VLOOKUP(C1950,Medlemmer!A:C,2,FALSE),\"\")","v":""},{"$f":"IFERROR(VLOOKUP(C1950,Tidligere_henvendelser!A:B,2,FALSE),\"\")","v":""}]
[{"$f":"ReplaceNumbers(C1951)","v":"Annasvej"},{"$f":"_xlfn.NUMBERVALUE(FindNumbers(C1951))","v":9},"Annasvej 9, 2","2900 Hellerup",7100000,"2022-01-31","Alm. Salg",69607,2,"Ejerlejlighed",102,1903,{"$f":"IF(ISBLANK(VLOOKUP(A1951,Veje!A:B,2,FALSE)),INDEX(Veje!$D$2:$RT$652,MATCH(A1951,Veje!$A$2:$A$652,0),MATCH(B1951,Veje!$D$1:$RT$1,0)),VLOOKUP(A1951,Veje!A:B,2,FALSE))","v":"HMG"},{"$f":"IFERROR(VLOOKUP(C1951,Medlemmer!A:C,3,FALSE),\"\")","v":""},{"$f":"IFERROR(VLOOKUP(C1951,Medlemmer!A:C,2,FALSE),\"\")","v":""},{"$f":"IFERROR(VLOOKUP(C1951,Tidligere_henvendelser!A:B,2,FALSE),\"\")","v":""}]
[{"$f":"ReplaceNumbers(C1952)","v":"Dæmringsvej"},{"$f":"_xlfn.NUMBERVALUE(FindNumbers(C1952))","v":11},"Dæmringsvej 11","2900 Hellerup",8950000,"2022-01-31","Alm. Salg",63028,5,"Villa",142,1934,{"$f":"IF(ISBLANK(VLOOKUP(A1952,Veje!A:B,2,FALSE)),INDEX(Veje!$D$2:$RT$652,MATCH(A1952,Veje!$A$2:$A$652,0),MATCH(B1952,Veje!$D$1:$RT$1,0)),VLOOKUP(A1952,Veje!A:B,2,FALSE))","v":"GSG"},{"$f":"IFERROR(VLOOKUP(C1952,Medlemmer!A:C,3,FALSE),\"\")","v":""},{"$f":"IFERROR(VLOOKUP(C1952,Medlemmer!A:C,2,FALSE),\"\")","v":""},{"$f":"IFERROR(VLOOKUP(C1952,Tidligere_henvendelser!A:B,2,FALSE),\"\")","v":""}]
[{"$f":"ReplaceNumbers(C1953)","v":"Brogårdsvej"},{"$f":"_xlfn.NUMBERVALUE(FindNumbers(C1953))","v":133},"Brogårdsvej 133, st. tv","2820 Gentofte",480000,"2022-02-01","Alm. Salg",8888,2,"Ejerlejlighed",54,1903,{"$f":"IF(ISBLANK(VLOOKUP(A1953,Veje!A:B,2,FALSE)),INDEX(Veje!$D$2:$RT$652,MATCH(A1953,Veje!$A$2:$A$652,0),MATCH(B1953,Veje!$D$1:$RT$1,0)),VLOOKUP(A1953,Veje!A:B,2,FALSE))","v":"GSG"},{"$f":"IFERROR(VLOOKUP(C1953,Medlemmer!A:C,3,FALSE),\"\")","v":""},{"$f":"IFERROR(VLOOKUP(C1953,Medlemmer!A:C,2,FALSE),\"\")","v":""},{"$f":"IFERROR(VLOOKUP(C1953,Tidligere_henvendelser!A:B,2,FALSE),\"\")","v":""}]
[{"$f":"ReplaceNumbers(C1954)","v":"Garderhøjvej"},{"$f":"_xlfn.NUMBERVALUE(FindNumbers(C1954))","v":7},"Garderhøjvej 7","2820 Gentofte",8100000,"2022-02-01","Alm. Salg",63779,6,"Villa",127,1950,{"$f":"IF(ISBLANK(VLOOKUP(A1954,Veje!A:B,2,FALSE)),INDEX(Veje!$D$2:$RT$652,MATCH(A1954,Veje!$A$2:$A$652,0),MATCH(B1954,Veje!$D$1:$RT$1,0)),VLOOKUP(A1954,Veje!A:B,2,FALSE))","v":"BJGF"},{"$f":"IFERROR(VLOOKUP(C1954,Medlemmer!A:C,3,FALSE),\"\")","v":""},{"$f":"IFERROR(VLOOKUP(C1954,Medlemmer!A:C,2,FALSE),\"\")","v":""},{"$f":"IFERROR(VLOOKUP(C1954,Tidligere_henvendelser!A:B,2,FALSE),\"\")","v":""}]
[{"$f":"ReplaceNumbers(C1955)","v":"Grøntoften"},{"$f":"_xlfn.NUMBERVALUE(FindNumbers(C1955))","v":1},"Grøntoften 1, 1. th","2870 Dyssegård ",1890000,"2022-02-01","Alm. Salg",35660,2,"Ejerlejlighed",53,1931,{"$f":"IF(ISBLANK(VLOOKUP(A1955,Veje!A:B,2,FALSE)),INDEX(Veje!$D$2:$RT$652,MATCH(A1955,Veje!$A$2:$A$652,0),MATCH(B1955,Veje!$D$1:$RT$1,0)),VLOOKUP(A1955,Veje!A:B,2,FALSE))","v":"DY"},{"$f":"IFERROR(VLOOKUP(C1955,Medlemmer!A:C,3,FALSE),\"\")","v":""},{"$f":"IFERROR(VLOOKUP(C1955,Medlemmer!A:C,2,FALSE),\"\")","v":""},{"$f":"IFERROR(VLOOKUP(C1955,Tidligere_henvendelser!A:B,2,FALSE),\"\")","v":""}]
[{"$f":"ReplaceNumbers(C1956)","v":"Ordrupvej"},{"$f":"_xlfn.NUMBERVALUE(FindNumbers(C1956))","v":108},"Ordrupvej 108, 3. mf","2920 Charlottenlund",3150000,"2022-02-01","Alm. Salg",61764,2,"Ejerlejlighed",51,1985,{"$f":"IF(ISBLANK(VLOOKUP(A1956,Veje!A:B,2,FALSE)),INDEX(Veje!$D$2:$RT$652,MATCH(A1956,Veje!$A$2:$A$652,0),MATCH(B1956,Veje!$D$1:$RT$1,0)),VLOOKUP(A1956,Veje!A:B,2,FALSE))","v":"OCG"},{"$f":"IFERROR(VLOOKUP(C1956,Medlemmer!A:C,3,FALSE),\"\")","v":""},{"$f":"IFERROR(VLOOKUP(C1956,Medlemmer!A:C,2,FALSE),\"\")","v":""},{"$f":"IFERROR(VLOOKUP(C1956,Tidligere_henvendelser!A:B,2,FALSE),\"\")","v":""}]
[{"$f":"ReplaceNumbers(C1957)","v":"Tuborg Havnepark"},{"$f":"_xlfn.NUMBERVALUE(FindNumbers(C1957))","v":12},"Tuborg Havnepark 12, 1. th","2900 Hellerup",14995000,"2022-02-01","Alm. Salg",100637,4,"Ejerlejlighed",149,2008,{"$f":"IF(ISBLANK(VLOOKUP(A1957,Veje!A:B,2,FALSE)),INDEX(Veje!$D$2:$RT$652,MATCH(A1957,Veje!$A$2:$A$652,0),MATCH(B1957,Veje!$D$1:$RT$1,0)),VLOOKUP(A1957,Veje!A:B,2,FALSE))","v":"HMG"},{"$f":"IFERROR(VLOOKUP(C1957,Medlemmer!A:C,3,FALSE),\"\")","v":""},{"$f":"IFERROR(VLOOKUP(C1957,Medlemmer!A:C,2,FALSE),\"\")","v":""},{"$f":"IFERROR(VLOOKUP(C1957,Tidligere_henvendelser!A:B,2,FALSE),\"\")","v":""}]
[{"$f":"ReplaceNumbers(C1958)","v":"Snogegårdsvej"},{"$f":"_xlfn.NUMBERVALUE(FindNumbers(C1958))","v":8},"Snogegårdsvej 8H, st. tv","2820 Gentofte",2100000,"2022-02-02","Alm. Salg",41176,2,"Ejerlejlighed",51,1940,{"$f":"IF(ISBLANK(VLOOKUP(A1958,Veje!A:B,2,FALSE)),INDEX(Veje!$D$2:$RT$652,MATCH(A1958,Veje!$A$2:$A$652,0),MATCH(B1958,Veje!$D$1:$RT$1,0)),VLOOKUP(A1958,Veje!A:B,2,FALSE))","v":"GSG"},{"$f":"IFERROR(VLOOKUP(C1958,Medlemmer!A:C,3,FALSE),\"\")","v":""},{"$f":"IFERROR(VLOOKUP(C1958,Medlemmer!A:C,2,FALSE),\"\")","v":""},{"$f":"IFERROR(VLOOKUP(C1958,Tidligere_henvendelser!A:B,2,FALSE),\"\")","v":""}]
[{"$f":"ReplaceNumbers(C1959)","v":"Søndersøvej"},{"$f":"_xlfn.NUMBERVALUE(FindNumbers(C1959))","v":6},"Søndersøvej 6A","2820 Gentofte",12000001,"2022-02-02","Alm. Salg",70588,4,"Villa",170,1943,{"$f":"IF(ISBLANK(VLOOKUP(A1959,Veje!A:B,2,FALSE)),INDEX(Veje!$D$2:$RT$652,MATCH(A1959,Veje!$A$2:$A$652,0),MATCH(B1959,Veje!$D$1:$RT$1,0)),VLOOKUP(A1959,Veje!A:B,2,FALSE))","v":"BJGF"},{"$f":"IFERROR(VLOOKUP(C1959,Medlemmer!A:C,3,FALSE),\"\")","v":""},{"$f":"IFERROR(VLOOKUP(C1959,Medlemmer!A:C,2,FALSE),\"\")","v":""},{"$f":"IFERROR(VLOOKUP(C1959,Tidligere_henvendelser!A:B,2,FALSE),\"\")","v":""}]
[{"$f":"ReplaceNumbers(C1960)","v":"Viggo Rothes Vej"},{"$f":"_xlfn.NUMBERVALUE(FindNumbers(C1960))","v":26},"Viggo Rothes Vej 26","2920 Charlottenlund",9150000,"2022-02-02","Fam. Salg",42558,7,"Villa",215,1913,{"$f":"IF(ISBLANK(VLOOKUP(A1960,Veje!A:B,2,FALSE)),INDEX(Veje!$D$2:$RT$652,MATCH(A1960,Veje!$A$2:$A$652,0),MATCH(B1960,Veje!$D$1:$RT$1,0)),VLOOKUP(A1960,Veje!A:B,2,FALSE))","v":"HMG"},{"$f":"IFERROR(VLOOKUP(C1960,Medlemmer!A:C,3,FALSE),\"\")","v":""},{"$f":"IFERROR(VLOOKUP(C1960,Medlemmer!A:C,2,FALSE),\"\")","v":""},{"$f":"IFERROR(VLOOKUP(C1960,Tidligere_henvendelser!A:B,2,FALSE),\"\")","v":""}]
[{"$f":"ReplaceNumbers(C1961)","v":"Vesterbyvej"},{"$f":"_xlfn.NUMBERVALUE(FindNumbers(C1961))","v":24},"Vesterbyvej 24, 1","2820 Gentofte",5650000,"2022-02-02","Alm. Salg",45200,3,"Ejerlejlighed",125,1930,{"$f":"IF(ISBLANK(VLOOKUP(A1961,Veje!A:B,2,FALSE)),INDEX(Veje!$D$2:$RT$652,MATCH(A1961,Veje!$A$2:$A$652,0),MATCH(B1961,Veje!$D$1:$RT$1,0)),VLOOKUP(A1961,Veje!A:B,2,FALSE))","v":"GSG"},{"$f":"IFERROR(VLOOKUP(C1961,Medlemmer!A:C,3,FALSE),\"\")","v":""},{"$f":"IFERROR(VLOOKUP(C1961,Medlemmer!A:C,2,FALSE),\"\")","v":""},{"$f":"IFERROR(VLOOKUP(C1961,Tidligere_henvendelser!A:B,2,FALSE),\"\")","v":""}]
[{"$f":"ReplaceNumbers(C1962)","v":"Fuglegårdsvænget"},{"$f":"_xlfn.NUMBERVALUE(FindNumbers(C1962))","v":16},"Fuglegårdsvænget 16","2820 Gentofte",5550000,"2022-02-03","Alm. Salg",75000,3,"Rækkehus",74,1941,{"$f":"IF(ISBLANK(VLOOKUP(A1962,Veje!A:B,2,FALSE)),INDEX(Veje!$D$2:$RT$652,MATCH(A1962,Veje!$A$2:$A$652,0),MATCH(B1962,Veje!$D$1:$RT$1,0)),VLOOKUP(A1962,Veje!A:B,2,FALSE))","v":"GSG"},{"$f":"IFERROR(VLOOKUP(C1962,Medlemmer!A:C,3,FALSE),\"\")","v":""},{"$f":"IFERROR(VLOOKUP(C1962,Medlemmer!A:C,2,FALSE),\"\")","v":""},{"$f":"IFERROR(VLOOKUP(C1962,Tidligere_henvendelser!A:B,2,FALSE),\"\")","v":""}]
[{"$f":"ReplaceNumbers(C1963)","v":"Plantevej"},{"$f":"_xlfn.NUMBERVALUE(FindNumbers(C1963))","v":19},"Plantevej 19, 2. th","2870 Dyssegård ",2262500,"2022-02-03","Alm. Salg",39008,2,"Ejerlejlighed",58,1938,{"$f":"IF(ISBLANK(VLOOKUP(A1963,Veje!A:B,2,FALSE)),INDEX(Veje!$D$2:$RT$652,MATCH(A1963,Veje!$A$2:$A$652,0),MATCH(B1963,Veje!$D$1:$RT$1,0)),VLOOKUP(A1963,Veje!A:B,2,FALSE))","v":"DY"},{"$f":"IFERROR(VLOOKUP(C1963,Medlemmer!A:C,3,FALSE),\"\")","v":""},{"$f":"IFERROR(VLOOKUP(C1963,Medlemmer!A:C,2,FALSE),\"\")","v":""},{"$f":"IFERROR(VLOOKUP(C1963,Tidligere_henvendelser!A:B,2,FALSE),\"\")","v":""}]
[{"$f":"ReplaceNumbers(C1964)","v":"Sønderbakken"},{"$f":"_xlfn.NUMBERVALUE(FindNumbers(C1964))","v":3},"Sønderbakken 3","2820 Gentofte",6300000,"2022-02-03","Alm. Salg",44680,3,"Villa",141,1935,{"$f":"IF(ISBLANK(VLOOKUP(A1964,Veje!A:B,2,FALSE)),INDEX(Veje!$D$2:$RT$652,MATCH(A1964,Veje!$A$2:$A$652,0),MATCH(B1964,Veje!$D$1:$RT$1,0)),VLOOKUP(A1964,Veje!A:B,2,FALSE))","v":"GSG"},{"$f":"IFERROR(VLOOKUP(C1964,Medlemmer!A:C,3,FALSE),\"\")","v":""},{"$f":"IFERROR(VLOOKUP(C1964,Medlemmer!A:C,2,FALSE),\"\")","v":""},{"$f":"IFERROR(VLOOKUP(C1964,Tidligere_henvendelser!A:B,2,FALSE),\"\")","v":""}]
[{"$f":"ReplaceNumbers(C1965)","v":"Vilvordevej"},{"$f":"_xlfn.NUMBERVALUE(FindNumbers(C1965))","v":57},"Vilvordevej 57, st","2920 Charlottenlund",10400000,"2022-02-03","Alm. Salg",76470,5,"Ejerlejlighed",136,1933,{"$f":"IF(ISBLANK(VLOOKUP(A1965,Veje!A:B,2,FALSE)),INDEX(Veje!$D$2:$RT$652,MATCH(A1965,Veje!$A$2:$A$652,0),MATCH(B1965,Veje!$D$1:$RT$1,0)),VLOOKUP(A1965,Veje!A:B,2,FALSE))","v":"BJGF"},{"$f":"IFERROR(VLOOKUP(C1965,Medlemmer!A:C,3,FALSE),\"\")","v":""},{"$f":"IFERROR(VLOOKUP(C1965,Medlemmer!A:C,2,FALSE),\"\")","v":""},{"$f":"IFERROR(VLOOKUP(C1965,Tidligere_henvendelser!A:B,2,FALSE),\"\")","v":""}]
[{"$f":"ReplaceNumbers(C1966)","v":"Vilvordevej"},{"$f":"_xlfn.NUMBERVALUE(FindNumbers(C1966))","v":57},"Vilvordevej 57, 1","2920 Charlottenlund",10400000,"2022-02-03","Alm. Salg",76470,5,"Ejerlejlighed",136,1933,{"$f":"IF(ISBLANK(VLOOKUP(A1966,Veje!A:B,2,FALSE)),INDEX(Veje!$D$2:$RT$652,MATCH(A1966,Veje!$A$2:$A$652,0),MATCH(B1966,Veje!$D$1:$RT$1,0)),VLOOKUP(A1966,Veje!A:B,2,FALSE))","v":"BJGF"},{"$f":"IFERROR(VLOOKUP(C1966,Medlemmer!A:C,3,FALSE),\"\")","v":""},{"$f":"IFERROR(VLOOKUP(C1966,Medlemmer!A:C,2,FALSE),\"\")","v":""},{"$f":"IFERROR(VLOOKUP(C1966,Tidligere_henvendelser!A:B,2,FALSE),\"\")","v":""}]
[{"$f":"ReplaceNumbers(C1967)","v":"Resedavej"},{"$f":"_xlfn.NUMBERVALUE(FindNumbers(C1967))","v":19},"Resedavej 19","2820 Gentofte",8050000,"2022-02-03","Alm. Salg",55136,4,"Villa",146,1980,{"$f":"IF(ISBLANK(VLOOKUP(A1967,Veje!A:B,2,FALSE)),INDEX(Veje!$D$2:$RT$652,MATCH(A1967,Veje!$A$2:$A$652,0),MATCH(B1967,Veje!$D$1:$RT$1,0)),VLOOKUP(A1967,Veje!A:B,2,FALSE))","v":"GSG"},{"$f":"IFERROR(VLOOKUP(C1967,Medlemmer!A:C,3,FALSE),\"\")","v":""},{"$f":"IFERROR(VLOOKUP(C1967,Medlemmer!A:C,2,FALSE),\"\")","v":""},{"$f":"IFERROR(VLOOKUP(C1967,Tidligere_henvendelser!A:B,2,FALSE),\"\")","v":""}]
[{"$f":"ReplaceNumbers(C1968)","v":"Rygårds Alle"},{"$f":"_xlfn.NUMBERVALUE(FindNumbers(C1968))","v":8},"Rygårds Alle 8, 1. th","2900 Hellerup",5175000,"2022-02-03","Alm. Salg",58806,3,"Ejerlejlighed",88,1930,{"$f":"IF(ISBLANK(VLOOKUP(A1968,Veje!A:B,2,FALSE)),INDEX(Veje!$D$2:$RT$652,MATCH(A1968,Veje!$A$2:$A$652,0),MATCH(B1968,Veje!$D$1:$RT$1,0)),VLOOKUP(A1968,Veje!A:B,2,FALSE))","v":"HMG"},{"$f":"IFERROR(VLOOKUP(C1968,Medlemmer!A:C,3,FALSE),\"\")","v":""},{"$f":"IFERROR(VLOOKUP(C1968,Medlemmer!A:C,2,FALSE),\"\")","v":""},{"$f":"IFERROR(VLOOKUP(C1968,Tidligere_henvendelser!A:B,2,FALSE),\"\")","v":""}]
[{"$f":"ReplaceNumbers(C1969)","v":"Henriettevej"},{"$f":"_xlfn.NUMBERVALUE(FindNumbers(C1969))","v":8},"Henriettevej 8, 1. th","2920 Charlottenlund",5495000,"2022-02-03","Alm. Salg",52836,3,"Ejerlejlighed",104,1992,{"$f":"IF(ISBLANK(VLOOKUP(A1969,Veje!A:B,2,FALSE)),INDEX(Veje!$D$2:$RT$652,MATCH(A1969,Veje!$A$2:$A$652,0),MATCH(B1969,Veje!$D$1:$RT$1,0)),VLOOKUP(A1969,Veje!A:B,2,FALSE))","v":"OCG"},{"$f":"IFERROR(VLOOKUP(C1969,Medlemmer!A:C,3,FALSE),\"\")","v":""},{"$f":"IFERROR(VLOOKUP(C1969,Medlemmer!A:C,2,FALSE),\"\")","v":""},{"$f":"IFERROR(VLOOKUP(C1969,Tidligere_henvendelser!A:B,2,FALSE),\"\")","v":""}]
[{"$f":"ReplaceNumbers(C1970)","v":"Høeghs Alle"},{"$f":"_xlfn.NUMBERVALUE(FindNumbers(C1970))","v":1},"Høeghs Alle 1","2820 Gentofte",12700000,"2022-02-03","Alm. Salg",71348,6,"Villa",178,1916,{"$f":"IF(ISBLANK(VLOOKUP(A1970,Veje!A:B,2,FALSE)),INDEX(Veje!$D$2:$RT$652,MATCH(A1970,Veje!$A$2:$A$652,0),MATCH(B1970,Veje!$D$1:$RT$1,0)),VLOOKUP(A1970,Veje!A:B,2,FALSE))","v":"GSG"},{"$f":"IFERROR(VLOOKUP(C1970,Medlemmer!A:C,3,FALSE),\"\")","v":""},{"$f":"IFERROR(VLOOKUP(C1970,Medlemmer!A:C,2,FALSE),\"\")","v":""},{"$f":"IFERROR(VLOOKUP(C1970,Tidligere_henvendelser!A:B,2,FALSE),\"\")","v":""}]
[{"$f":"ReplaceNumbers(C1971)","v":"Dalstrøget"},{"$f":"_xlfn.NUMBERVALUE(FindNumbers(C1971))","v":76},"Dalstrøget 76, st","2870 Dyssegård ",2800000,"2022-02-03","Alm. Salg",32183,3,"Ejerlejlighed",87,1959,{"$f":"IF(ISBLANK(VLOOKUP(A1971,Veje!A:B,2,FALSE)),INDEX(Veje!$D$2:$RT$652,MATCH(A1971,Veje!$A$2:$A$652,0),MATCH(B1971,Veje!$D$1:$RT$1,0)),VLOOKUP(A1971,Veje!A:B,2,FALSE))","v":"DY"},{"$f":"IFERROR(VLOOKUP(C1971,Medlemmer!A:C,3,FALSE),\"\")","v":""},{"$f":"IFERROR(VLOOKUP(C1971,Medlemmer!A:C,2,FALSE),\"\")","v":""},{"$f":"IFERROR(VLOOKUP(C1971,Tidligere_henvendelser!A:B,2,FALSE),\"\")","v":""}]
[{"$f":"ReplaceNumbers(C1972)","v":"Poppelhøj"},{"$f":"_xlfn.NUMBERVALUE(FindNumbers(C1972))","v":9},"Poppelhøj 9","2900 Hellerup",10875000,"2022-02-03","Alm. Salg",94565,4,"Villa",115,1935,{"$f":"IF(ISBLANK(VLOOKUP(A1972,Veje!A:B,2,FALSE)),INDEX(Veje!$D$2:$RT$652,MATCH(A1972,Veje!$A$2:$A$652,0),MATCH(B1972,Veje!$D$1:$RT$1,0)),VLOOKUP(A1972,Veje!A:B,2,FALSE))","v":"DY"},{"$f":"IFERROR(VLOOKUP(C1972,Medlemmer!A:C,3,FALSE),\"\")","v":""},{"$f":"IFERROR(VLOOKUP(C1972,Medlemmer!A:C,2,FALSE),\"\")","v":""},{"$f":"IFERROR(VLOOKUP(C1972,Tidligere_henvendelser!A:B,2,FALSE),\"\")","v":""}]
[{"$f":"ReplaceNumbers(C1973)","v":"Tuborg Havnepark"},{"$f":"_xlfn.NUMBERVALUE(FindNumbers(C1973))","v":2},"Tuborg Havnepark 2, 4. th","2900 Hellerup",11700000,"2022-02-03","Alm. Salg",89312,4,"Ejerlejlighed",131,2007,{"$f":"IF(ISBLANK(VLOOKUP(A1973,Veje!A:B,2,FALSE)),INDEX(Veje!$D$2:$RT$652,MATCH(A1973,Veje!$A$2:$A$652,0),MATCH(B1973,Veje!$D$1:$RT$1,0)),VLOOKUP(A1973,Veje!A:B,2,FALSE))","v":"HMG"},{"$f":"IFERROR(VLOOKUP(C1973,Medlemmer!A:C,3,FALSE),\"\")","v":""},{"$f":"IFERROR(VLOOKUP(C1973,Medlemmer!A:C,2,FALSE),\"\")","v":""},{"$f":"IFERROR(VLOOKUP(C1973,Tidligere_henvendelser!A:B,2,FALSE),\"\")","v":""}]
[{"$f":"ReplaceNumbers(C1974)","v":"Prins Valdemars Vej"},{"$f":"_xlfn.NUMBERVALUE(FindNumbers(C1974))","v":22},"Prins Valdemars Vej 22","2820 Gentofte",16300000,"2022-02-04","Alm. Salg",78365,6,"Villa",208,1936,{"$f":"IF(ISBLANK(VLOOKUP(A1974,Veje!A:B,2,FALSE)),INDEX(Veje!$D$2:$RT$652,MATCH(A1974,Veje!$A$2:$A$652,0),MATCH(B1974,Veje!$D$1:$RT$1,0)),VLOOKUP(A1974,Veje!A:B,2,FALSE))","v":"BJGF"},{"$f":"IFERROR(VLOOKUP(C1974,Medlemmer!A:C,3,FALSE),\"\")","v":""},{"$f":"IFERROR(VLOOKUP(C1974,Medlemmer!A:C,2,FALSE),\"\")","v":""},{"$f":"IFERROR(VLOOKUP(C1974,Tidligere_henvendelser!A:B,2,FALSE),\"\")","v":""}]
[{"$f":"ReplaceNumbers(C1975)","v":"Lyngbyvej"},{"$f":"_xlfn.NUMBERVALUE(FindNumbers(C1975))","v":301},"Lyngbyvej 301, 1. tv","2900 Hellerup",2375000,"2022-02-06","Alm. Salg",35984,2,"Ejerlejlighed",66,1935,{"$f":"IF(ISBLANK(VLOOKUP(A1975,Veje!A:B,2,FALSE)),INDEX(Veje!$D$2:$RT$652,MATCH(A1975,Veje!$A$2:$A$652,0),MATCH(B1975,Veje!$D$1:$RT$1,0)),VLOOKUP(A1975,Veje!A:B,2,FALSE))","v":"DY"},{"$f":"IFERROR(VLOOKUP(C1975,Medlemmer!A:C,3,FALSE),\"\")","v":""},{"$f":"IFERROR(VLOOKUP(C1975,Medlemmer!A:C,2,FALSE),\"\")","v":""},{"$f":"IFERROR(VLOOKUP(C1975,Tidligere_henvendelser!A:B,2,FALSE),\"\")","v":""}]
[{"$f":"ReplaceNumbers(C1976)","v":"Vingårds Alle"},{"$f":"_xlfn.NUMBERVALUE(FindNumbers(C1976))","v":75},"Vingårds Alle 75, 3. tv","2900 Hellerup",1737500,"2022-02-06","Alm. Salg",28483,2,"Ejerlejlighed",61,1952,{"$f":"IF(ISBLANK(VLOOKUP(A1976,Veje!A:B,2,FALSE)),INDEX(Veje!$D$2:$RT$652,MATCH(A1976,Veje!$A$2:$A$652,0),MATCH(B1976,Veje!$D$1:$RT$1,0)),VLOOKUP(A1976,Veje!A:B,2,FALSE))","v":"HMG"},{"$f":"IFERROR(VLOOKUP(C1976,Medlemmer!A:C,3,FALSE),\"\")","v":""},{"$f":"IFERROR(VLOOKUP(C1976,Medlemmer!A:C,2,FALSE),\"\")","v":""},{"$f":"IFERROR(VLOOKUP(C1976,Tidligere_henvendelser!A:B,2,FALSE),\"\")","v":""}]
[{"$f":"ReplaceNumbers(C1977)","v":"Øresundshøj"},{"$f":"_xlfn.NUMBERVALUE(FindNumbers(C1977))","v":2},"Øresundshøj 2A","2920 Charlottenlund",29000000,"2022-02-06","Alm. Salg",142857,5,"Villa",203,1988,{"$f":"IF(ISBLANK(VLOOKUP(A1977,Veje!A:B,2,FALSE)),INDEX(Veje!$D$2:$RT$652,MATCH(A1977,Veje!$A$2:$A$652,0),MATCH(B1977,Veje!$D$1:$RT$1,0)),VLOOKUP(A1977,Veje!A:B,2,FALSE))","v":"SKGF"},{"$f":"IFERROR(VLOOKUP(C1977,Medlemmer!A:C,3,FALSE),\"\")","v":""},{"$f":"IFERROR(VLOOKUP(C1977,Medlemmer!A:C,2,FALSE),\"\")","v":""},{"$f":"IFERROR(VLOOKUP(C1977,Tidligere_henvendelser!A:B,2,FALSE),\"\")","v":""}]
[{"$f":"ReplaceNumbers(C1978)","v":"Ordrup Jagtvej"},{"$f":"_xlfn.NUMBERVALUE(FindNumbers(C1978))","v":173},"Ordrup Jagtvej 173, st. tv","2920 Charlottenlund",4075000,"2022-02-06","Alm. Salg",54333,3,"Ejerlejlighed",75,1935,{"$f":"IF(ISBLANK(VLOOKUP(A1978,Veje!A:B,2,FALSE)),INDEX(Veje!$D$2:$RT$652,MATCH(A1978,Veje!$A$2:$A$652,0),MATCH(B1978,Veje!$D$1:$RT$1,0)),VLOOKUP(A1978,Veje!A:B,2,FALSE))","v":"SKGF"},{"$f":"IFERROR(VLOOKUP(C1978,Medlemmer!A:C,3,FALSE),\"\")","v":""},{"$f":"IFERROR(VLOOKUP(C1978,Medlemmer!A:C,2,FALSE),\"\")","v":""},{"$f":"IFERROR(VLOOKUP(C1978,Tidligere_henvendelser!A:B,2,FALSE),\"\")","v":""}]
[{"$f":"ReplaceNumbers(C1979)","v":"Søbakken"},{"$f":"_xlfn.NUMBERVALUE(FindNumbers(C1979))","v":32},"Søbakken 32, 1. tv","2920 Charlottenlund",4495000,"2022-02-07","Alm. Salg",66102,3,"Ejerlejlighed",68,1905,{"$f":"IF(ISBLANK(VLOOKUP(A1979,Veje!A:B,2,FALSE)),INDEX(Veje!$D$2:$RT$652,MATCH(A1979,Veje!$A$2:$A$652,0),MATCH(B1979,Veje!$D$1:$RT$1,0)),VLOOKUP(A1979,Veje!A:B,2,FALSE))","v":"SKGF"},{"$f":"IFERROR(VLOOKUP(C1979,Medlemmer!A:C,3,FALSE),\"\")","v":""},{"$f":"IFERROR(VLOOKUP(C1979,Medlemmer!A:C,2,FALSE),\"\")","v":""},{"$f":"IFERROR(VLOOKUP(C1979,Tidligere_henvendelser!A:B,2,FALSE),\"\")","v":""}]
[{"$f":"ReplaceNumbers(C1980)","v":"Ejgårdsvej"},{"$f":"_xlfn.NUMBERVALUE(FindNumbers(C1980))","v":13},"Ejgårdsvej 13, st. th","2920 Charlottenlund",5300000,"2022-02-07","Alm. Salg",51960,4,"Ejerlejlighed",102,1898,{"$f":"IF(ISBLANK(VLOOKUP(A1980,Veje!A:B,2,FALSE)),INDEX(Veje!$D$2:$RT$652,MATCH(A1980,Veje!$A$2:$A$652,0),MATCH(B1980,Veje!$D$1:$RT$1,0)),VLOOKUP(A1980,Veje!A:B,2,FALSE))","v":"OCG"},{"$f":"IFERROR(VLOOKUP(C1980,Medlemmer!A:C,3,FALSE),\"\")","v":""},{"$f":"IFERROR(VLOOKUP(C1980,Medlemmer!A:C,2,FALSE),\"\")","v":""},{"$f":"IFERROR(VLOOKUP(C1980,Tidligere_henvendelser!A:B,2,FALSE),\"\")","v":""}]
[{"$f":"ReplaceNumbers(C1981)","v":"Søholm Park"},{"$f":"_xlfn.NUMBERVALUE(FindNumbers(C1981))","v":7},"Søholm Park 7","2900 Hellerup",19600000,"2022-02-07","Alm. Salg",69503,7,"Villa",282,1926,{"$f":"IF(ISBLANK(VLOOKUP(A1981,Veje!A:B,2,FALSE)),INDEX(Veje!$D$2:$RT$652,MATCH(A1981,Veje!$A$2:$A$652,0),MATCH(B1981,Veje!$D$1:$RT$1,0)),VLOOKUP(A1981,Veje!A:B,2,FALSE))","v":"DY"},{"$f":"IFERROR(VLOOKUP(C1981,Medlemmer!A:C,3,FALSE),\"\")","v":""},{"$f":"IFERROR(VLOOKUP(C1981,Medlemmer!A:C,2,FALSE),\"\")","v":""},{"$f":"IFERROR(VLOOKUP(C1981,Tidligere_henvendelser!A:B,2,FALSE),\"\")","v":""}]
[{"$f":"ReplaceNumbers(C1982)","v":"Strandvejen"},{"$f":"_xlfn.NUMBERVALUE(FindNumbers(C1982))","v":419},"Strandvejen 419, 2. tv","2930 Klampenborg",1075000,"2022-02-08","Andet",15140,2,"Ejerlejlighed",71,1933,{"$f":"IF(ISBLANK(VLOOKUP(A1982,Veje!A:B,2,FALSE)),INDEX(Veje!$D$2:$RT$652,MATCH(A1982,Veje!$A$2:$A$652,0),MATCH(B1982,Veje!$D$1:$RT$1,0)),VLOOKUP(A1982,Veje!A:B,2,FALSE))","v":"SKGF"},{"$f":"IFERROR(VLOOKUP(C1982,Medlemmer!A:C,3,FALSE),\"\")","v":""},{"$f":"IFERROR(VLOOKUP(C1982,Medlemmer!A:C,2,FALSE),\"\")","v":""},{"$f":"IFERROR(VLOOKUP(C1982,Tidligere_henvendelser!A:B,2,FALSE),\"\")","v":""}]
[{"$f":"ReplaceNumbers(C1983)","v":"Vangedevej"},{"$f":"_xlfn.NUMBERVALUE(FindNumbers(C1983))","v":234},"Vangedevej 234A, st. tv","2870 Dyssegård ",1000000,"2022-02-08","Fam. Salg",14925,3,"Ejerlejlighed",67,1931,{"$f":"IF(ISBLANK(VLOOKUP(A1983,Veje!A:B,2,FALSE)),INDEX(Veje!$D$2:$RT$652,MATCH(A1983,Veje!$A$2:$A$652,0),MATCH(B1983,Veje!$D$1:$RT$1,0)),VLOOKUP(A1983,Veje!A:B,2,FALSE))","v":"DY"},{"$f":"IFERROR(VLOOKUP(C1983,Medlemmer!A:C,3,FALSE),\"\")","v":""},{"$f":"IFERROR(VLOOKUP(C1983,Medlemmer!A:C,2,FALSE),\"\")","v":""},{"$f":"IFERROR(VLOOKUP(C1983,Tidligere_henvendelser!A:B,2,FALSE),\"\")","v":""}]
[{"$f":"ReplaceNumbers(C1984)","v":"Dyssegårdsvej"},{"$f":"_xlfn.NUMBERVALUE(FindNumbers(C1984))","v":27},"Dyssegårdsvej 27","2900 Hellerup",9325000,"2022-02-09","Alm. Salg",56859,6,"Villa",164,1935,{"$f":"IF(ISBLANK(VLOOKUP(A1984,Veje!A:B,2,FALSE)),INDEX(Veje!$D$2:$RT$652,MATCH(A1984,Veje!$A$2:$A$652,0),MATCH(B1984,Veje!$D$1:$RT$1,0)),VLOOKUP(A1984,Veje!A:B,2,FALSE))","v":"DY"},{"$f":"IFERROR(VLOOKUP(C1984,Medlemmer!A:C,3,FALSE),\"\")","v":""},{"$f":"IFERROR(VLOOKUP(C1984,Medlemmer!A:C,2,FALSE),\"\")","v":""},{"$f":"IFERROR(VLOOKUP(C1984,Tidligere_henvendelser!A:B,2,FALSE),\"\")","v":""}]
[{"$f":"ReplaceNumbers(C1985)","v":"Jensløvs Tværvej"},{"$f":"_xlfn.NUMBERVALUE(FindNumbers(C1985))","v":1},"Jensløvs Tværvej 1A, 4. tv","2920 Charlottenlund",4550000,"2022-02-09","Alm. Salg",48924,3,"Ejerlejlighed",93,1945,{"$f":"IF(ISBLANK(VLOOKUP(A1985,Veje!A:B,2,FALSE)),INDEX(Veje!$D$2:$RT$652,MATCH(A1985,Veje!$A$2:$A$652,0),MATCH(B1985,Veje!$D$1:$RT$1,0)),VLOOKUP(A1985,Veje!A:B,2,FALSE))","v":"OCG"},{"$f":"IFERROR(VLOOKUP(C1985,Medlemmer!A:C,3,FALSE),\"\")","v":""},{"$f":"IFERROR(VLOOKUP(C1985,Medlemmer!A:C,2,FALSE),\"\")","v":""},{"$f":"IFERROR(VLOOKUP(C1985,Tidligere_henvendelser!A:B,2,FALSE),\"\")","v":""}]
[{"$f":"ReplaceNumbers(C1986)","v":"Ordrupvej"},{"$f":"_xlfn.NUMBERVALUE(FindNumbers(C1986))","v":78},"Ordrupvej 78C, 5. th","2920 Charlottenlund",3950000,"2022-02-09","Alm. Salg",48765,3,"Ejerlejlighed",81,1947,{"$f":"IF(ISBLANK(VLOOKUP(A1986,Veje!A:B,2,FALSE)),INDEX(Veje!$D$2:$RT$652,MATCH(A1986,Veje!$A$2:$A$652,0),MATCH(B1986,Veje!$D$1:$RT$1,0)),VLOOKUP(A1986,Veje!A:B,2,FALSE))","v":"OCG"},{"$f":"IFERROR(VLOOKUP(C1986,Medlemmer!A:C,3,FALSE),\"\")","v":""},{"$f":"IFERROR(VLOOKUP(C1986,Medlemmer!A:C,2,FALSE),\"\")","v":""},{"$f":"IFERROR(VLOOKUP(C1986,Tidligere_henvendelser!A:B,2,FALSE),\"\")","v":""}]
[{"$f":"ReplaceNumbers(C1987)","v":"Ordrupvej"},{"$f":"_xlfn.NUMBERVALUE(FindNumbers(C1987))","v":41},"Ordrupvej 41B, 3. 2","2920 Charlottenlund",2400000,"2022-02-10","Alm. Salg",42857,2,"Ejerlejlighed",56,1961,{"$f":"IF(ISBLANK(VLOOKUP(A1987,Veje!A:B,2,FALSE)),INDEX(Veje!$D$2:$RT$652,MATCH(A1987,Veje!$A$2:$A$652,0),MATCH(B1987,Veje!$D$1:$RT$1,0)),VLOOKUP(A1987,Veje!A:B,2,FALSE))","v":"OCG"},{"$f":"IFERROR(VLOOKUP(C1987,Medlemmer!A:C,3,FALSE),\"\")","v":""},{"$f":"IFERROR(VLOOKUP(C1987,Medlemmer!A:C,2,FALSE),\"\")","v":""},{"$f":"IFERROR(VLOOKUP(C1987,Tidligere_henvendelser!A:B,2,FALSE),\"\")","v":""}]
[{"$f":"ReplaceNumbers(C1988)","v":"Hartmannsvej"},{"$f":"_xlfn.NUMBERVALUE(FindNumbers(C1988))","v":12},"Hartmannsvej 12","2900 Hellerup",17900000,"2022-02-10","Alm. Salg",83255,7,"Villa",215,1928,{"$f":"IF(ISBLANK(VLOOKUP(A1988,Veje!A:B,2,FALSE)),INDEX(Veje!$D$2:$RT$652,MATCH(A1988,Veje!$A$2:$A$652,0),MATCH(B1988,Veje!$D$1:$RT$1,0)),VLOOKUP(A1988,Veje!A:B,2,FALSE))","v":"HMG"},{"$f":"IFERROR(VLOOKUP(C1988,Medlemmer!A:C,3,FALSE),\"\")","v":""},{"$f":"IFERROR(VLOOKUP(C1988,Medlemmer!A:C,2,FALSE),\"\")","v":""},{"$f":"IFERROR(VLOOKUP(C1988,Tidligere_henvendelser!A:B,2,FALSE),\"\")","v":""}]
[{"$f":"ReplaceNumbers(C1989)","v":"Christiansvej"},{"$f":"_xlfn.NUMBERVALUE(FindNumbers(C1989))","v":5},"Christiansvej 5","2920 Charlottenlund",19900000,"2022-02-10","Alm. Salg",88053,5,"Villa",226,1899,{"$f":"IF(ISBLANK(VLOOKUP(A1989,Veje!A:B,2,FALSE)),INDEX(Veje!$D$2:$RT$652,MATCH(A1989,Veje!$A$2:$A$652,0),MATCH(B1989,Veje!$D$1:$RT$1,0)),VLOOKUP(A1989,Veje!A:B,2,FALSE))","v":"OCG"},{"$f":"IFERROR(VLOOKUP(C1989,Medlemmer!A:C,3,FALSE),\"\")","v":""},{"$f":"IFERROR(VLOOKUP(C1989,Medlemmer!A:C,2,FALSE),\"\")","v":""},{"$f":"IFERROR(VLOOKUP(C1989,Tidligere_henvendelser!A:B,2,FALSE),\"\")","v":""}]
[{"$f":"ReplaceNumbers(C1990)","v":"Jægersborg Alle"},{"$f":"_xlfn.NUMBERVALUE(FindNumbers(C1990))","v":27},"Jægersborg Alle 27B, 1. th","2920 Charlottenlund",3150000,"2022-02-10","Alm. Salg",45000,2,"Ejerlejlighed",70,1936,{"$f":"IF(ISBLANK(VLOOKUP(A1990,Veje!A:B,2,FALSE)),INDEX(Veje!$D$2:$RT$652,MATCH(A1990,Veje!$A$2:$A$652,0),MATCH(B1990,Veje!$D$1:$RT$1,0)),VLOOKUP(A1990,Veje!A:B,2,FALSE))","v":"OCG"},{"$f":"IFERROR(VLOOKUP(C1990,Medlemmer!A:C,3,FALSE),\"\")","v":""},{"$f":"IFERROR(VLOOKUP(C1990,Medlemmer!A:C,2,FALSE),\"\")","v":""},{"$f":"IFERROR(VLOOKUP(C1990,Tidligere_henvendelser!A:B,2,FALSE),\"\")","v":""}]
[{"$f":"ReplaceNumbers(C1991)","v":"Fredensvej"},{"$f":"_xlfn.NUMBERVALUE(FindNumbers(C1991))","v":46},"Fredensvej 46, 2. tv","2920 Charlottenlund",4100000,"2022-02-10","Alm. Salg",49397,3,"Ejerlejlighed",83,1899,{"$f":"IF(ISBLANK(VLOOKUP(A1991,Veje!A:B,2,FALSE)),INDEX(Veje!$D$2:$RT$652,MATCH(A1991,Veje!$A$2:$A$652,0),MATCH(B1991,Veje!$D$1:$RT$1,0)),VLOOKUP(A1991,Veje!A:B,2,FALSE))","v":"OCG"},{"$f":"IFERROR(VLOOKUP(C1991,Medlemmer!A:C,3,FALSE),\"\")","v":""},{"$f":"IFERROR(VLOOKUP(C1991,Medlemmer!A:C,2,FALSE),\"\")","v":""},{"$f":"IFERROR(VLOOKUP(C1991,Tidligere_henvendelser!A:B,2,FALSE),\"\")","v":""}]
[{"$f":"ReplaceNumbers(C1992)","v":"Kildegårds Plads"},{"$f":"_xlfn.NUMBERVALUE(FindNumbers(C1992))","v":3},"Kildegårds Plads 3, 2. tv","2820 Gentofte",907500,"2022-02-10","Fam. Salg",17122,2,"Ejerlejlighed",53,1932,{"$f":"IF(ISBLANK(VLOOKUP(A1992,Veje!A:B,2,FALSE)),INDEX(Veje!$D$2:$RT$652,MATCH(A1992,Veje!$A$2:$A$652,0),MATCH(B1992,Veje!$D$1:$RT$1,0)),VLOOKUP(A1992,Veje!A:B,2,FALSE))","v":"DY"},{"$f":"IFERROR(VLOOKUP(C1992,Medlemmer!A:C,3,FALSE),\"\")","v":""},{"$f":"IFERROR(VLOOKUP(C1992,Medlemmer!A:C,2,FALSE),\"\")","v":""},{"$f":"IFERROR(VLOOKUP(C1992,Tidligere_henvendelser!A:B,2,FALSE),\"\")","v":""}]
[{"$f":"ReplaceNumbers(C1993)","v":"Ordrupvej"},{"$f":"_xlfn.NUMBERVALUE(FindNumbers(C1993))","v":98},"Ordrupvej 98C, 1. tv","2920 Charlottenlund",2495000,"2022-02-10","Alm. Salg",43017,2,"Ejerlejlighed",58,1934,{"$f":"IF(ISBLANK(VLOOKUP(A1993,Veje!A:B,2,FALSE)),INDEX(Veje!$D$2:$RT$652,MATCH(A1993,Veje!$A$2:$A$652,0),MATCH(B1993,Veje!$D$1:$RT$1,0)),VLOOKUP(A1993,Veje!A:B,2,FALSE))","v":"OCG"},{"$f":"IFERROR(VLOOKUP(C1993,Medlemmer!A:C,3,FALSE),\"\")","v":""},{"$f":"IFERROR(VLOOKUP(C1993,Medlemmer!A:C,2,FALSE),\"\")","v":""},{"$f":"IFERROR(VLOOKUP(C1993,Tidligere_henvendelser!A:B,2,FALSE),\"\")","v":""}]
[{"$f":"ReplaceNumbers(C1994)","v":"Annasvej"},{"$f":"_xlfn.NUMBERVALUE(FindNumbers(C1994))","v":4},"Annasvej 4A, 1. tv","2900 Hellerup",5500000,"2022-02-12","Alm. Salg",57894,3,"Ejerlejlighed",95,1994,{"$f":"IF(ISBLANK(VLOOKUP(A1994,Veje!A:B,2,FALSE)),INDEX(Veje!$D$2:$RT$652,MATCH(A1994,Veje!$A$2:$A$652,0),MATCH(B1994,Veje!$D$1:$RT$1,0)),VLOOKUP(A1994,Veje!A:B,2,FALSE))","v":"HMG"},{"$f":"IFERROR(VLOOKUP(C1994,Medlemmer!A:C,3,FALSE),\"\")","v":""},{"$f":"IFERROR(VLOOKUP(C1994,Medlemmer!A:C,2,FALSE),\"\")","v":""},{"$f":"IFERROR(VLOOKUP(C1994,Tidligere_henvendelser!A:B,2,FALSE),\"\")","v":""}]
[{"$f":"ReplaceNumbers(C1995)","v":"Ordrupvej"},{"$f":"_xlfn.NUMBERVALUE(FindNumbers(C1995))","v":67},"Ordrupvej 67B, 4. tv","2920 Charlottenlund",4100000,"2022-02-13","Alm. Salg",42708,4,"Ejerlejlighed",96,1938,{"$f":"IF(ISBLANK(VLOOKUP(A1995,Veje!A:B,2,FALSE)),INDEX(Veje!$D$2:$RT$652,MATCH(A1995,Veje!$A$2:$A$652,0),MATCH(B1995,Veje!$D$1:$RT$1,0)),VLOOKUP(A1995,Veje!A:B,2,FALSE))","v":"OCG"},{"$f":"IFERROR(VLOOKUP(C1995,Medlemmer!A:C,3,FALSE),\"\")","v":""},{"$f":"IFERROR(VLOOKUP(C1995,Medlemmer!A:C,2,FALSE),\"\")","v":""},{"$f":"IFERROR(VLOOKUP(C1995,Tidligere_henvendelser!A:B,2,FALSE),\"\")","v":""}]
[{"$f":"ReplaceNumbers(C1996)","v":"Ved Bommen"},{"$f":"_xlfn.NUMBERVALUE(FindNumbers(C1996))","v":31},"Ved Bommen 31D","2820 Gentofte",5400000,"2022-02-13","Alm. Salg",45000,5,"Rækkehus",120,2015,{"$f":"IF(ISBLANK(VLOOKUP(A1996,Veje!A:B,2,FALSE)),INDEX(Veje!$D$2:$RT$652,MATCH(A1996,Veje!$A$2:$A$652,0),MATCH(B1996,Veje!$D$1:$RT$1,0)),VLOOKUP(A1996,Veje!A:B,2,FALSE))","v":"GSG"},{"$f":"IFERROR(VLOOKUP(C1996,Medlemmer!A:C,3,FALSE),\"\")","v":""},{"$f":"IFERROR(VLOOKUP(C1996,Medlemmer!A:C,2,FALSE),\"\")","v":""},{"$f":"IFERROR(VLOOKUP(C1996,Tidligere_henvendelser!A:B,2,FALSE),\"\")","v":""}]
[{"$f":"ReplaceNumbers(C1997)","v":"Bregentved Alle"},{"$f":"_xlfn.NUMBERVALUE(FindNumbers(C1997))","v":24},"Bregentved Alle 24","2820 Gentofte",18850000,"2022-02-14","Alm. Salg",86866,7,"Villa",217,1921,{"$f":"IF(ISBLANK(VLOOKUP(A1997,Veje!A:B,2,FALSE)),INDEX(Veje!$D$2:$RT$652,MATCH(A1997,Veje!$A$2:$A$652,0),MATCH(B1997,Veje!$D$1:$RT$1,0)),VLOOKUP(A1997,Veje!A:B,2,FALSE))","v":"GSG"},{"$f":"IFERROR(VLOOKUP(C1997,Medlemmer!A:C,3,FALSE),\"\")","v":""},{"$f":"IFERROR(VLOOKUP(C1997,Medlemmer!A:C,2,FALSE),\"\")","v":""},{"$f":"IFERROR(VLOOKUP(C1997,Tidligere_henvendelser!A:B,2,FALSE),\"\")","v":""}]
[{"$f":"ReplaceNumbers(C1998)","v":"Jensløvsvej"},{"$f":"_xlfn.NUMBERVALUE(FindNumbers(C1998))","v":15},"Jensløvsvej 15, 1. th","2920 Charlottenlund",3875000,"2022-02-14","Alm. Salg",51666,3,"Ejerlejlighed",75,1934,{"$f":"IF(ISBLANK(VLOOKUP(A1998,Veje!A:B,2,FALSE)),INDEX(Veje!$D$2:$RT$652,MATCH(A1998,Veje!$A$2:$A$652,0),MATCH(B1998,Veje!$D$1:$RT$1,0)),VLOOKUP(A1998,Veje!A:B,2,FALSE))","v":"OCG"},{"$f":"IFERROR(VLOOKUP(C1998,Medlemmer!A:C,3,FALSE),\"\")","v":""},{"$f":"IFERROR(VLOOKUP(C1998,Medlemmer!A:C,2,FALSE),\"\")","v":""},{"$f":"IFERROR(VLOOKUP(C1998,Tidligere_henvendelser!A:B,2,FALSE),\"\")","v":""}]
[{"$f":"ReplaceNumbers(C1999)","v":"Skovvej"},{"$f":"_xlfn.NUMBERVALUE(FindNumbers(C1999))","v":4},"Skovvej 4A","2820 Gentofte",16000000,"2022-02-14","Alm. Salg",90395,6,"Villa",177,2017,{"$f":"IF(ISBLANK(VLOOKUP(A1999,Veje!A:B,2,FALSE)),INDEX(Veje!$D$2:$RT$652,MATCH(A1999,Veje!$A$2:$A$652,0),MATCH(B1999,Veje!$D$1:$RT$1,0)),VLOOKUP(A1999,Veje!A:B,2,FALSE))","v":"BJGF"},{"$f":"IFERROR(VLOOKUP(C1999,Medlemmer!A:C,3,FALSE),\"\")","v":""},{"$f":"IFERROR(VLOOKUP(C1999,Medlemmer!A:C,2,FALSE),\"\")","v":""},{"$f":"IFERROR(VLOOKUP(C1999,Tidligere_henvendelser!A:B,2,FALSE),\"\")","v":""}]
[{"$f":"ReplaceNumbers(C2000)","v":"Tranegårdsvej"},{"$f":"_xlfn.NUMBERVALUE(FindNumbers(C2000))","v":48},"Tranegårdsvej 48, st. tv","2900 Hellerup",3245000,"2022-02-14","Alm. Salg",36875,3,"Ejerlejlighed",88,1919,{"$f":"IF(ISBLANK(VLOOKUP(A2000,Veje!A:B,2,FALSE)),INDEX(Veje!$D$2:$RT$652,MATCH(A2000,Veje!$A$2:$A$652,0),MATCH(B2000,Veje!$D$1:$RT$1,0)),VLOOKUP(A2000,Veje!A:B,2,FALSE))","v":"HMG"},{"$f":"IFERROR(VLOOKUP(C2000,Medlemmer!A:C,3,FALSE),\"\")","v":""},{"$f":"IFERROR(VLOOKUP(C2000,Medlemmer!A:C,2,FALSE),\"\")","v":""},{"$f":"IFERROR(VLOOKUP(C2000,Tidligere_henvendelser!A:B,2,FALSE),\"\")","v":""}]
[{"$f":"ReplaceNumbers(C2001)","v":"Ordrupvej"},{"$f":"_xlfn.NUMBERVALUE(FindNumbers(C2001))","v":24},"Ordrupvej 24, st. 1","2920 Charlottenlund",2200000,"2022-02-14","Alm. Salg",39285,2,"Ejerlejlighed",56,1939,{"$f":"IF(ISBLANK(VLOOKUP(A2001,Veje!A:B,2,FALSE)),INDEX(Veje!$D$2:$RT$652,MATCH(A2001,Veje!$A$2:$A$652,0),MATCH(B2001,Veje!$D$1:$RT$1,0)),VLOOKUP(A2001,Veje!A:B,2,FALSE))","v":"OCG"},{"$f":"IFERROR(VLOOKUP(C2001,Medlemmer!A:C,3,FALSE),\"\")","v":""},{"$f":"IFERROR(VLOOKUP(C2001,Medlemmer!A:C,2,FALSE),\"\")","v":""},{"$f":"IFERROR(VLOOKUP(C2001,Tidligere_henvendelser!A:B,2,FALSE),\"\")","v":""}]
[{"$f":"ReplaceNumbers(C2002)","v":"Ny Ordrup Sidealle"},{"$f":"_xlfn.NUMBERVALUE(FindNumbers(C2002))","v":3},"Ny Ordrup Sidealle 3, st. tv","2920 Charlottenlund",3945000,"2022-02-15","Alm. Salg",51233,3,"Ejerlejlighed",77,1946,{"$f":"IF(ISBLANK(VLOOKUP(A2002,Veje!A:B,2,FALSE)),INDEX(Veje!$D$2:$RT$652,MATCH(A2002,Veje!$A$2:$A$652,0),MATCH(B2002,Veje!$D$1:$RT$1,0)),VLOOKUP(A2002,Veje!A:B,2,FALSE))","v":"SKGF"},{"$f":"IFERROR(VLOOKUP(C2002,Medlemmer!A:C,3,FALSE),\"\")","v":""},{"$f":"IFERROR(VLOOKUP(C2002,Medlemmer!A:C,2,FALSE),\"\")","v":""},{"$f":"IFERROR(VLOOKUP(C2002,Tidligere_henvendelser!A:B,2,FALSE),\"\")","v":""}]
[{"$f":"ReplaceNumbers(C2003)","v":"Skjoldagervej"},{"$f":"_xlfn.NUMBERVALUE(FindNumbers(C2003))","v":44},"Skjoldagervej 44, 3. tv","2820 Gentofte",2300000,"2022-02-15","Alm. Salg",39655,2,"Ejerlejlighed",58,1955,{"$f":"IF(ISBLANK(VLOOKUP(A2003,Veje!A:B,2,FALSE)),INDEX(Veje!$D$2:$RT$652,MATCH(A2003,Veje!$A$2:$A$652,0),MATCH(B2003,Veje!$D$1:$RT$1,0)),VLOOKUP(A2003,Veje!A:B,2,FALSE))","v":"BJGF"},{"$f":"IFERROR(VLOOKUP(C2003,Medlemmer!A:C,3,FALSE),\"\")","v":""},{"$f":"IFERROR(VLOOKUP(C2003,Medlemmer!A:C,2,FALSE),\"\")","v":""},{"$f":"IFERROR(VLOOKUP(C2003,Tidligere_henvendelser!A:B,2,FALSE),\"\")","v":""}]
[{"$f":"ReplaceNumbers(C2004)","v":"Ejgårdsparken"},{"$f":"_xlfn.NUMBERVALUE(FindNumbers(C2004))","v":11},"Ejgårdsparken 11, 1. th","2920 Charlottenlund",5395000,"2022-02-15","Alm. Salg",65792,2,"Ejerlejlighed",82,2003,{"$f":"IF(ISBLANK(VLOOKUP(A2004,Veje!A:B,2,FALSE)),INDEX(Veje!$D$2:$RT$652,MATCH(A2004,Veje!$A$2:$A$652,0),MATCH(B2004,Veje!$D$1:$RT$1,0)),VLOOKUP(A2004,Veje!A:B,2,FALSE))","v":"OCG"},{"$f":"IFERROR(VLOOKUP(C2004,Medlemmer!A:C,3,FALSE),\"\")","v":""},{"$f":"IFERROR(VLOOKUP(C2004,Medlemmer!A:C,2,FALSE),\"\")","v":""},{"$f":"IFERROR(VLOOKUP(C2004,Tidligere_henvendelser!A:B,2,FALSE),\"\")","v":""}]
[{"$f":"ReplaceNumbers(C2005)","v":"Lille Strandvej"},{"$f":"_xlfn.NUMBERVALUE(FindNumbers(C2005))","v":26},"Lille Strandvej 26, 4. 4","2900 Hellerup",4300000,"2022-02-15","Alm. Salg",61428,2,"Ejerlejlighed",70,1956,{"$f":"IF(ISBLANK(VLOOKUP(A2005,Veje!A:B,2,FALSE)),INDEX(Veje!$D$2:$RT$652,MATCH(A2005,Veje!$A$2:$A$652,0),MATCH(B2005,Veje!$D$1:$RT$1,0)),VLOOKUP(A2005,Veje!A:B,2,FALSE))","v":"HMG"},{"$f":"IFERROR(VLOOKUP(C2005,Medlemmer!A:C,3,FALSE),\"\")","v":""},{"$f":"IFERROR(VLOOKUP(C2005,Medlemmer!A:C,2,FALSE),\"\")","v":""},{"$f":"IFERROR(VLOOKUP(C2005,Tidligere_henvendelser!A:B,2,FALSE),\"\")","v":""}]
[{"$f":"ReplaceNumbers(C2006)","v":"Heslegårdsvej"},{"$f":"_xlfn.NUMBERVALUE(FindNumbers(C2006))","v":6},"Heslegårdsvej 6, st. 3","2900 Hellerup",4210000,"2022-02-16","Alm. Salg",48390,3,"Ejerlejlighed",87,1992,{"$f":"IF(ISBLANK(VLOOKUP(A2006,Veje!A:B,2,FALSE)),INDEX(Veje!$D$2:$RT$652,MATCH(A2006,Veje!$A$2:$A$652,0),MATCH(B2006,Veje!$D$1:$RT$1,0)),VLOOKUP(A2006,Veje!A:B,2,FALSE))","v":"GSG"},{"$f":"IFERROR(VLOOKUP(C2006,Medlemmer!A:C,3,FALSE),\"\")","v":""},{"$f":"IFERROR(VLOOKUP(C2006,Medlemmer!A:C,2,FALSE),\"\")","v":""},{"$f":"IFERROR(VLOOKUP(C2006,Tidligere_henvendelser!A:B,2,FALSE),\"\")","v":""}]
[{"$f":"ReplaceNumbers(C2007)","v":"Blidahpark"},{"$f":"_xlfn.NUMBERVALUE(FindNumbers(C2007))","v":18},"Blidahpark 18, 2. th","2900 Hellerup",552500,"2022-02-16","Fam. Salg",9057,2,"Ejerlejlighed",61,1934,{"$f":"IF(ISBLANK(VLOOKUP(A2007,Veje!A:B,2,FALSE)),INDEX(Veje!$D$2:$RT$652,MATCH(A2007,Veje!$A$2:$A$652,0),MATCH(B2007,Veje!$D$1:$RT$1,0)),VLOOKUP(A2007,Veje!A:B,2,FALSE))","v":"HMG"},{"$f":"IFERROR(VLOOKUP(C2007,Medlemmer!A:C,3,FALSE),\"\")","v":""},{"$f":"IFERROR(VLOOKUP(C2007,Medlemmer!A:C,2,FALSE),\"\")","v":""},{"$f":"IFERROR(VLOOKUP(C2007,Tidligere_henvendelser!A:B,2,FALSE),\"\")","v":""}]
[{"$f":"ReplaceNumbers(C2008)","v":"Søgårdsvej"},{"$f":"_xlfn.NUMBERVALUE(FindNumbers(C2008))","v":27},"Søgårdsvej 27, st","2820 Gentofte",3941000,"2022-02-16","Andet",27753,4,"Ejerlejlighed",142,1937,{"$f":"IF(ISBLANK(VLOOKUP(A2008,Veje!A:B,2,FALSE)),INDEX(Veje!$D$2:$RT$652,MATCH(A2008,Veje!$A$2:$A$652,0),MATCH(B2008,Veje!$D$1:$RT$1,0)),VLOOKUP(A2008,Veje!A:B,2,FALSE))","v":"GSG"},{"$f":"IFERROR(VLOOKUP(C2008,Medlemmer!A:C,3,FALSE),\"\")","v":""},{"$f":"IFERROR(VLOOKUP(C2008,Medlemmer!A:C,2,FALSE),\"\")","v":""},{"$f":"IFERROR(VLOOKUP(C2008,Tidligere_henvendelser!A:B,2,FALSE),\"\")","v":""}]
[{"$f":"ReplaceNumbers(C2009)","v":"Ordrup Jagtvej"},{"$f":"_xlfn.NUMBERVALUE(FindNumbers(C2009))","v":169},"Ordrup Jagtvej 169, st. tv","2920 Charlottenlund",1350000,"2022-02-16","Fam. Salg",18750,3,"Ejerlejlighed",72,1935,{"$f":"IF(ISBLANK(VLOOKUP(A2009,Veje!A:B,2,FALSE)),INDEX(Veje!$D$2:$RT$652,MATCH(A2009,Veje!$A$2:$A$652,0),MATCH(B2009,Veje!$D$1:$RT$1,0)),VLOOKUP(A2009,Veje!A:B,2,FALSE))","v":"SKGF"},{"$f":"IFERROR(VLOOKUP(C2009,Medlemmer!A:C,3,FALSE),\"\")","v":""},{"$f":"IFERROR(VLOOKUP(C2009,Medlemmer!A:C,2,FALSE),\"\")","v":""},{"$f":"IFERROR(VLOOKUP(C2009,Tidligere_henvendelser!A:B,2,FALSE),\"\")","v":""}]
[{"$f":"ReplaceNumbers(C2010)","v":"Søgårdsvej"},{"$f":"_xlfn.NUMBERVALUE(FindNumbers(C2010))","v":27},"Søgårdsvej 27, 1","2820 Gentofte",3941000,"2022-02-16","Andet",35187,4,"Ejerlejlighed",112,1937,{"$f":"IF(ISBLANK(VLOOKUP(A2010,Veje!A:B,2,FALSE)),INDEX(Veje!$D$2:$RT$652,MATCH(A2010,Veje!$A$2:$A$652,0),MATCH(B2010,Veje!$D$1:$RT$1,0)),VLOOKUP(A2010,Veje!A:B,2,FALSE))","v":"GSG"},{"$f":"IFERROR(VLOOKUP(C2010,Medlemmer!A:C,3,FALSE),\"\")","v":""},{"$f":"IFERROR(VLOOKUP(C2010,Medlemmer!A:C,2,FALSE),\"\")","v":""},{"$f":"IFERROR(VLOOKUP(C2010,Tidligere_henvendelser!A:B,2,FALSE),\"\")","v":""}]
[{"$f":"ReplaceNumbers(C2011)","v":"Lille Strandvej"},{"$f":"_xlfn.NUMBERVALUE(FindNumbers(C2011))","v":2},"Lille Strandvej 2A, 4. th","2900 Hellerup",7025000,"2022-02-16","Alm. Salg",60042,4,"Ejerlejlighed",117,1902,{"$f":"IF(ISBLANK(VLOOKUP(A2011,Veje!A:B,2,FALSE)),INDEX(Veje!$D$2:$RT$652,MATCH(A2011,Veje!$A$2:$A$652,0),MATCH(B2011,Veje!$D$1:$RT$1,0)),VLOOKUP(A2011,Veje!A:B,2,FALSE))","v":"HMG"},{"$f":"IFERROR(VLOOKUP(C2011,Medlemmer!A:C,3,FALSE),\"\")","v":""},{"$f":"IFERROR(VLOOKUP(C2011,Medlemmer!A:C,2,FALSE),\"\")","v":""},{"$f":"IFERROR(VLOOKUP(C2011,Tidligere_henvendelser!A:B,2,FALSE),\"\")","v":""}]
[{"$f":"ReplaceNumbers(C2012)","v":"Bernstorffsvej"},{"$f":"_xlfn.NUMBERVALUE(FindNumbers(C2012))","v":35},"Bernstorffsvej 35, 1","2900 Hellerup",6764000,"2022-02-16","Andet",26217,8,"Ejerlejlighed",258,1933,{"$f":"IF(ISBLANK(VLOOKUP(A2012,Veje!A:B,2,FALSE)),INDEX(Veje!$D$2:$RT$652,MATCH(A2012,Veje!$A$2:$A$652,0),MATCH(B2012,Veje!$D$1:$RT$1,0)),VLOOKUP(A2012,Veje!A:B,2,FALSE))","v":"GSG"},{"$f":"IFERROR(VLOOKUP(C2012,Medlemmer!A:C,3,FALSE),\"\")","v":""},{"$f":"IFERROR(VLOOKUP(C2012,Medlemmer!A:C,2,FALSE),\"\")","v":""},{"$f":"IFERROR(VLOOKUP(C2012,Tidligere_henvendelser!A:B,2,FALSE),\"\")","v":""}]
[{"$f":"ReplaceNumbers(C2013)","v":"Rågevej"},{"$f":"_xlfn.NUMBERVALUE(FindNumbers(C2013))","v":12},"Rågevej 12","2900 Hellerup",18900000,"2022-02-17","Alm. Salg",106179,5,"Villa",178,1917,{"$f":"IF(ISBLANK(VLOOKUP(A2013,Veje!A:B,2,FALSE)),INDEX(Veje!$D$2:$RT$652,MATCH(A2013,Veje!$A$2:$A$652,0),MATCH(B2013,Veje!$D$1:$RT$1,0)),VLOOKUP(A2013,Veje!A:B,2,FALSE))","v":"HMG"},{"$f":"IFERROR(VLOOKUP(C2013,Medlemmer!A:C,3,FALSE),\"\")","v":""},{"$f":"IFERROR(VLOOKUP(C2013,Medlemmer!A:C,2,FALSE),\"\")","v":""},{"$f":"IFERROR(VLOOKUP(C2013,Tidligere_henvendelser!A:B,2,FALSE),\"\")","v":""}]
[{"$f":"ReplaceNumbers(C2014)","v":"Sagaparken"},{"$f":"_xlfn.NUMBERVALUE(FindNumbers(C2014))","v":11},"Sagaparken 11","2920 Charlottenlund",4335000,"2022-02-17","Fam. Salg",29691,7,"Rækkehus",146,1969,{"$f":"IF(ISBLANK(VLOOKUP(A2014,Veje!A:B,2,FALSE)),INDEX(Veje!$D$2:$RT$652,MATCH(A2014,Veje!$A$2:$A$652,0),MATCH(B2014,Veje!$D$1:$RT$1,0)),VLOOKUP(A2014,Veje!A:B,2,FALSE))","v":"OCG"},{"$f":"IFERROR(VLOOKUP(C2014,Medlemmer!A:C,3,FALSE),\"\")","v":""},{"$f":"IFERROR(VLOOKUP(C2014,Medlemmer!A:C,2,FALSE),\"\")","v":""},{"$f":"IFERROR(VLOOKUP(C2014,Tidligere_henvendelser!A:B,2,FALSE),\"\")","v":""}]
[{"$f":"ReplaceNumbers(C2015)","v":"Jægersborg Alle"},{"$f":"_xlfn.NUMBERVALUE(FindNumbers(C2015))","v":137},"Jægersborg Alle 137C, st","2820 Gentofte",8750000,"2022-02-20","Alm. Salg",52083,5,"Ejerlejlighed",168,1903,{"$f":"IF(ISBLANK(VLOOKUP(A2015,Veje!A:B,2,FALSE)),INDEX(Veje!$D$2:$RT$652,MATCH(A2015,Veje!$A$2:$A$652,0),MATCH(B2015,Veje!$D$1:$RT$1,0)),VLOOKUP(A2015,Veje!A:B,2,FALSE))","v":"BJGF"},{"$f":"IFERROR(VLOOKUP(C2015,Medlemmer!A:C,3,FALSE),\"\")","v":""},{"$f":"IFERROR(VLOOKUP(C2015,Medlemmer!A:C,2,FALSE),\"\")","v":""},{"$f":"IFERROR(VLOOKUP(C2015,Tidligere_henvendelser!A:B,2,FALSE),\"\")","v":""}]
[{"$f":"ReplaceNumbers(C2016)","v":"Lille Strandvej"},{"$f":"_xlfn.NUMBERVALUE(FindNumbers(C2016))","v":19},"Lille Strandvej 19","2900 Hellerup",43500000,"2022-02-20","Alm. Salg",124285,10,"Villa",303,1885,{"$f":"IF(ISBLANK(VLOOKUP(A2016,Veje!A:B,2,FALSE)),INDEX(Veje!$D$2:$RT$652,MATCH(A2016,Veje!$A$2:$A$652,0),MATCH(B2016,Veje!$D$1:$RT$1,0)),VLOOKUP(A2016,Veje!A:B,2,FALSE))","v":"HMG"},{"$f":"IFERROR(VLOOKUP(C2016,Medlemmer!A:C,3,FALSE),\"\")","v":""},{"$f":"IFERROR(VLOOKUP(C2016,Medlemmer!A:C,2,FALSE),\"\")","v":""},{"$f":"IFERROR(VLOOKUP(C2016,Tidligere_henvendelser!A:B,2,FALSE),\"\")","v":""}]
[{"$f":"ReplaceNumbers(C2017)","v":"Vangedevej"},{"$f":"_xlfn.NUMBERVALUE(FindNumbers(C2017))","v":224},"Vangedevej 224A, 2. tv","2870 Dyssegård ",2030000,"2022-02-21","Fam. Salg",33833,2,"Ejerlejlighed",60,1948,{"$f":"IF(ISBLANK(VLOOKUP(A2017,Veje!A:B,2,FALSE)),INDEX(Veje!$D$2:$RT$652,MATCH(A2017,Veje!$A$2:$A$652,0),MATCH(B2017,Veje!$D$1:$RT$1,0)),VLOOKUP(A2017,Veje!A:B,2,FALSE))","v":"DY"},{"$f":"IFERROR(VLOOKUP(C2017,Medlemmer!A:C,3,FALSE),\"\")","v":""},{"$f":"IFERROR(VLOOKUP(C2017,Medlemmer!A:C,2,FALSE),\"\")","v":""},{"$f":"IFERROR(VLOOKUP(C2017,Tidligere_henvendelser!A:B,2,FALSE),\"\")","v":""}]
[{"$f":"ReplaceNumbers(C2018)","v":"Aftenbakken"},{"$f":"_xlfn.NUMBERVALUE(FindNumbers(C2018))","v":1},"Aftenbakken 1","2870 Dyssegård ",6650000,"2022-02-21","Alm. Salg",53200,6,"Villa",125,1933,{"$f":"IF(ISBLANK(VLOOKUP(A2018,Veje!A:B,2,FALSE)),INDEX(Veje!$D$2:$RT$652,MATCH(A2018,Veje!$A$2:$A$652,0),MATCH(B2018,Veje!$D$1:$RT$1,0)),VLOOKUP(A2018,Veje!A:B,2,FALSE))","v":"DY"},{"$f":"IFERROR(VLOOKUP(C2018,Medlemmer!A:C,3,FALSE),\"\")","v":""},{"$f":"IFERROR(VLOOKUP(C2018,Medlemmer!A:C,2,FALSE),\"\")","v":""},{"$f":"IFERROR(VLOOKUP(C2018,Tidligere_henvendelser!A:B,2,FALSE),\"\")","v":""}]
[{"$f":"ReplaceNumbers(C2019)","v":"Fredensvej"},{"$f":"_xlfn.NUMBERVALUE(FindNumbers(C2019))","v":42},"Fredensvej 42, 2. tv","2920 Charlottenlund",960692,"2022-02-21","Fam. Salg",7116,4,"Ejerlejlighed",135,1897,{"$f":"IF(ISBLANK(VLOOKUP(A2019,Veje!A:B,2,FALSE)),INDEX(Veje!$D$2:$RT$652,MATCH(A2019,Veje!$A$2:$A$652,0),MATCH(B2019,Veje!$D$1:$RT$1,0)),VLOOKUP(A2019,Veje!A:B,2,FALSE))","v":"OCG"},{"$f":"IFERROR(VLOOKUP(C2019,Medlemmer!A:C,3,FALSE),\"\")","v":""},{"$f":"IFERROR(VLOOKUP(C2019,Medlemmer!A:C,2,FALSE),\"\")","v":""},{"$f":"IFERROR(VLOOKUP(C2019,Tidligere_henvendelser!A:B,2,FALSE),\"\")","v":""}]
[{"$f":"ReplaceNumbers(C2020)","v":"Fredensvej"},{"$f":"_xlfn.NUMBERVALUE(FindNumbers(C2020))","v":42},"Fredensvej 42A, st","2920 Charlottenlund",960692,"2022-02-21","Fam. Salg",22341,2,"Ejerlejlighed",43,1897,{"$f":"IF(ISBLANK(VLOOKUP(A2020,Veje!A:B,2,FALSE)),INDEX(Veje!$D$2:$RT$652,MATCH(A2020,Veje!$A$2:$A$652,0),MATCH(B2020,Veje!$D$1:$RT$1,0)),VLOOKUP(A2020,Veje!A:B,2,FALSE))","v":"OCG"},{"$f":"IFERROR(VLOOKUP(C2020,Medlemmer!A:C,3,FALSE),\"\")","v":""},{"$f":"IFERROR(VLOOKUP(C2020,Medlemmer!A:C,2,FALSE),\"\")","v":""},{"$f":"IFERROR(VLOOKUP(C2020,Tidligere_henvendelser!A:B,2,FALSE),\"\")","v":""}]
[{"$f":"ReplaceNumbers(C2021)","v":"Fredensvej"},{"$f":"_xlfn.NUMBERVALUE(FindNumbers(C2021))","v":42},"Fredensvej 42A, 1","2920 Charlottenlund",960692,"2022-02-21","Fam. Salg",21348,2,"Ejerlejlighed",45,1897,{"$f":"IF(ISBLANK(VLOOKUP(A2021,Veje!A:B,2,FALSE)),INDEX(Veje!$D$2:$RT$652,MATCH(A2021,Veje!$A$2:$A$652,0),MATCH(B2021,Veje!$D$1:$RT$1,0)),VLOOKUP(A2021,Veje!A:B,2,FALSE))","v":"OCG"},{"$f":"IFERROR(VLOOKUP(C2021,Medlemmer!A:C,3,FALSE),\"\")","v":""},{"$f":"IFERROR(VLOOKUP(C2021,Medlemmer!A:C,2,FALSE),\"\")","v":""},{"$f":"IFERROR(VLOOKUP(C2021,Tidligere_henvendelser!A:B,2,FALSE),\"\")","v":""}]
[{"$f":"ReplaceNumbers(C2022)","v":"Fredensvej"},{"$f":"_xlfn.NUMBERVALUE(FindNumbers(C2022))","v":42},"Fredensvej 42, st. tv","2920 Charlottenlund",960692,"2022-02-21","Fam. Salg",10557,3,"Ejerlejlighed",63,1897,{"$f":"IF(ISBLANK(VLOOKUP(A2022,Veje!A:B,2,FALSE)),INDEX(Veje!$D$2:$RT$652,MATCH(A2022,Veje!$A$2:$A$652,0),MATCH(B2022,Veje!$D$1:$RT$1,0)),VLOOKUP(A2022,Veje!A:B,2,FALSE))","v":"OCG"},{"$f":"IFERROR(VLOOKUP(C2022,Medlemmer!A:C,3,FALSE),\"\")","v":""},{"$f":"IFERROR(VLOOKUP(C2022,Medlemmer!A:C,2,FALSE),\"\")","v":""},{"$f":"IFERROR(VLOOKUP(C2022,Tidligere_henvendelser!A:B,2,FALSE),\"\")","v":""}]
[{"$f":"ReplaceNumbers(C2023)","v":"Fredensvej"},{"$f":"_xlfn.NUMBERVALUE(FindNumbers(C2023))","v":42},"Fredensvej 42, st. th","2920 Charlottenlund",960692,"2022-02-21","Fam. Salg",7223,3,"Ejerlejlighed",133,1897,{"$f":"IF(ISBLANK(VLOOKUP(A2023,Veje!A:B,2,FALSE)),INDEX(Veje!$D$2:$RT$652,MATCH(A2023,Veje!$A$2:$A$652,0),MATCH(B2023,Veje!$D$1:$RT$1,0)),VLOOKUP(A2023,Veje!A:B,2,FALSE))","v":"OCG"},{"$f":"IFERROR(VLOOKUP(C2023,Medlemmer!A:C,3,FALSE),\"\")","v":""},{"$f":"IFERROR(VLOOKUP(C2023,Medlemmer!A:C,2,FALSE),\"\")","v":""},{"$f":"IFERROR(VLOOKUP(C2023,Tidligere_henvendelser!A:B,2,FALSE),\"\")","v":""}]
[{"$f":"ReplaceNumbers(C2024)","v":"Fredensvej"},{"$f":"_xlfn.NUMBERVALUE(FindNumbers(C2024))","v":42},"Fredensvej 42, 1. th","2920 Charlottenlund",960692,"2022-02-21","Fam. Salg",7223,4,"Ejerlejlighed",133,1897,{"$f":"IF(ISBLANK(VLOOKUP(A2024,Veje!A:B,2,FALSE)),INDEX(Veje!$D$2:$RT$652,MATCH(A2024,Veje!$A$2:$A$652,0),MATCH(B2024,Veje!$D$1:$RT$1,0)),VLOOKUP(A2024,Veje!A:B,2,FALSE))","v":"OCG"},{"$f":"IFERROR(VLOOKUP(C2024,Medlemmer!A:C,3,FALSE),\"\")","v":""},{"$f":"IFERROR(VLOOKUP(C2024,Medlemmer!A:C,2,FALSE),\"\")","v":""},{"$f":"IFERROR(VLOOKUP(C2024,Tidligere_henvendelser!A:B,2,FALSE),\"\")","v":""}]
[{"$f":"ReplaceNumbers(C2025)","v":"Fredensvej"},{"$f":"_xlfn.NUMBERVALUE(FindNumbers(C2025))","v":42},"Fredensvej 42, 2. th","2920 Charlottenlund",960692,"2022-02-21","Fam. Salg",7389,4,"Ejerlejlighed",130,1897,{"$f":"IF(ISBLANK(VLOOKUP(A2025,Veje!A:B,2,FALSE)),INDEX(Veje!$D$2:$RT$652,MATCH(A2025,Veje!$A$2:$A$652,0),MATCH(B2025,Veje!$D$1:$RT$1,0)),VLOOKUP(A2025,Veje!A:B,2,FALSE))","v":"OCG"},{"$f":"IFERROR(VLOOKUP(C2025,Medlemmer!A:C,3,FALSE),\"\")","v":""},{"$f":"IFERROR(VLOOKUP(C2025,Medlemmer!A:C,2,FALSE),\"\")","v":""},{"$f":"IFERROR(VLOOKUP(C2025,Tidligere_henvendelser!A:B,2,FALSE),\"\")","v":""}]
[{"$f":"ReplaceNumbers(C2026)","v":"Fredensvej"},{"$f":"_xlfn.NUMBERVALUE(FindNumbers(C2026))","v":42},"Fredensvej 42, 1. tv","2920 Charlottenlund",960692,"2022-02-21","Fam. Salg",6862,4,"Ejerlejlighed",140,1897,{"$f":"IF(ISBLANK(VLOOKUP(A2026,Veje!A:B,2,FALSE)),INDEX(Veje!$D$2:$RT$652,MATCH(A2026,Veje!$A$2:$A$652,0),MATCH(B2026,Veje!$D$1:$RT$1,0)),VLOOKUP(A2026,Veje!A:B,2,FALSE))","v":"OCG"},{"$f":"IFERROR(VLOOKUP(C2026,Medlemmer!A:C,3,FALSE),\"\")","v":""},{"$f":"IFERROR(VLOOKUP(C2026,Medlemmer!A:C,2,FALSE),\"\")","v":""},{"$f":"IFERROR(VLOOKUP(C2026,Tidligere_henvendelser!A:B,2,FALSE),\"\")","v":""}]
[{"$f":"ReplaceNumbers(C2027)","v":"Ordrupvej"},{"$f":"_xlfn.NUMBERVALUE(FindNumbers(C2027))","v":89},"Ordrupvej 89, 1. 4","2920 Charlottenlund",1795000,"2022-02-22","Alm. Salg",46025,2,"Ejerlejlighed",39,1958,{"$f":"IF(ISBLANK(VLOOKUP(A2027,Veje!A:B,2,FALSE)),INDEX(Veje!$D$2:$RT$652,MATCH(A2027,Veje!$A$2:$A$652,0),MATCH(B2027,Veje!$D$1:$RT$1,0)),VLOOKUP(A2027,Veje!A:B,2,FALSE))","v":"OCG"},{"$f":"IFERROR(VLOOKUP(C2027,Medlemmer!A:C,3,FALSE),\"\")","v":""},{"$f":"IFERROR(VLOOKUP(C2027,Medlemmer!A:C,2,FALSE),\"\")","v":""},{"$f":"IFERROR(VLOOKUP(C2027,Tidligere_henvendelser!A:B,2,FALSE),\"\")","v":""}]
[{"$f":"ReplaceNumbers(C2028)","v":"Snogegårdsvej"},{"$f":"_xlfn.NUMBERVALUE(FindNumbers(C2028))","v":6},"Snogegårdsvej 6, st. tv","2820 Gentofte",1800000,"2022-02-22","Alm. Salg",33962,2,"Ejerlejlighed",53,1940,{"$f":"IF(ISBLANK(VLOOKUP(A2028,Veje!A:B,2,FALSE)),INDEX(Veje!$D$2:$RT$652,MATCH(A2028,Veje!$A$2:$A$652,0),MATCH(B2028,Veje!$D$1:$RT$1,0)),VLOOKUP(A2028,Veje!A:B,2,FALSE))","v":"GSG"},{"$f":"IFERROR(VLOOKUP(C2028,Medlemmer!A:C,3,FALSE),\"\")","v":""},{"$f":"IFERROR(VLOOKUP(C2028,Medlemmer!A:C,2,FALSE),\"\")","v":""},{"$f":"IFERROR(VLOOKUP(C2028,Tidligere_henvendelser!A:B,2,FALSE),\"\")","v":""}]
[{"$f":"ReplaceNumbers(C2029)","v":"Jægersborgvej"},{"$f":"_xlfn.NUMBERVALUE(FindNumbers(C2029))","v":112},"Jægersborgvej 112, st. tv","2820 Gentofte",2710000,"2022-02-22","Alm. Salg",28829,4,"Ejerlejlighed",94,1949,{"$f":"IF(ISBLANK(VLOOKUP(A2029,Veje!A:B,2,FALSE)),INDEX(Veje!$D$2:$RT$652,MATCH(A2029,Veje!$A$2:$A$652,0),MATCH(B2029,Veje!$D$1:$RT$1,0)),VLOOKUP(A2029,Veje!A:B,2,FALSE))","v":"GSG"},{"$f":"IFERROR(VLOOKUP(C2029,Medlemmer!A:C,3,FALSE),\"\")","v":""},{"$f":"IFERROR(VLOOKUP(C2029,Medlemmer!A:C,2,FALSE),\"\")","v":""},{"$f":"IFERROR(VLOOKUP(C2029,Tidligere_henvendelser!A:B,2,FALSE),\"\")","v":""}]
[{"$f":"ReplaceNumbers(C2030)","v":"Enighedsvej"},{"$f":"_xlfn.NUMBERVALUE(FindNumbers(C2030))","v":2},"Enighedsvej 2, 3. tv","2920 Charlottenlund",5860000,"2022-02-22","Alm. Salg",59795,4,"Ejerlejlighed",98,1934,{"$f":"IF(ISBLANK(VLOOKUP(A2030,Veje!A:B,2,FALSE)),INDEX(Veje!$D$2:$RT$652,MATCH(A2030,Veje!$A$2:$A$652,0),MATCH(B2030,Veje!$D$1:$RT$1,0)),VLOOKUP(A2030,Veje!A:B,2,FALSE))","v":"OCG"},{"$f":"IFERROR(VLOOKUP(C2030,Medlemmer!A:C,3,FALSE),\"\")","v":""},{"$f":"IFERROR(VLOOKUP(C2030,Medlemmer!A:C,2,FALSE),\"\")","v":""},{"$f":"IFERROR(VLOOKUP(C2030,Tidligere_henvendelser!A:B,2,FALSE),\"\")","v":""}]
[{"$f":"ReplaceNumbers(C2031)","v":"Garderhøjvej"},{"$f":"_xlfn.NUMBERVALUE(FindNumbers(C2031))","v":17},"Garderhøjvej 17","2820 Gentofte",3000000,"2022-02-23","Fam. Salg",19736,5,"Villa",152,1937,{"$f":"IF(ISBLANK(VLOOKUP(A2031,Veje!A:B,2,FALSE)),INDEX(Veje!$D$2:$RT$652,MATCH(A2031,Veje!$A$2:$A$652,0),MATCH(B2031,Veje!$D$1:$RT$1,0)),VLOOKUP(A2031,Veje!A:B,2,FALSE))","v":"BJGF"},{"$f":"IFERROR(VLOOKUP(C2031,Medlemmer!A:C,3,FALSE),\"\")","v":""},{"$f":"IFERROR(VLOOKUP(C2031,Medlemmer!A:C,2,FALSE),\"\")","v":""},{"$f":"IFERROR(VLOOKUP(C2031,Tidligere_henvendelser!A:B,2,FALSE),\"\")","v":""}]
[{"$f":"ReplaceNumbers(C2032)","v":"Berlingsbakke"},{"$f":"_xlfn.NUMBERVALUE(FindNumbers(C2032))","v":12},"Berlingsbakke 12","2920 Charlottenlund",14500000,"2022-02-23","Alm. Salg",85294,4,"Villa",170,1979,{"$f":"IF(ISBLANK(VLOOKUP(A2032,Veje!A:B,2,FALSE)),INDEX(Veje!$D$2:$RT$652,MATCH(A2032,Veje!$A$2:$A$652,0),MATCH(B2032,Veje!$D$1:$RT$1,0)),VLOOKUP(A2032,Veje!A:B,2,FALSE))","v":"OCG"},{"$f":"IFERROR(VLOOKUP(C2032,Medlemmer!A:C,3,FALSE),\"\")","v":""},{"$f":"IFERROR(VLOOKUP(C2032,Medlemmer!A:C,2,FALSE),\"\")","v":""},{"$f":"IFERROR(VLOOKUP(C2032,Tidligere_henvendelser!A:B,2,FALSE),\"\")","v":""}]
[{"$f":"ReplaceNumbers(C2033)","v":"Smakkegårdsvej"},{"$f":"_xlfn.NUMBERVALUE(FindNumbers(C2033))","v":94},"Smakkegårdsvej 94, 2. tv","2820 Gentofte",3200000,"2022-02-24","Alm. Salg",42666,3,"Ejerlejlighed",75,1952,{"$f":"IF(ISBLANK(VLOOKUP(A2033,Veje!A:B,2,FALSE)),INDEX(Veje!$D$2:$RT$652,MATCH(A2033,Veje!$A$2:$A$652,0),MATCH(B2033,Veje!$D$1:$RT$1,0)),VLOOKUP(A2033,Veje!A:B,2,FALSE))","v":"BJGF"},{"$f":"IFERROR(VLOOKUP(C2033,Medlemmer!A:C,3,FALSE),\"\")","v":""},{"$f":"IFERROR(VLOOKUP(C2033,Medlemmer!A:C,2,FALSE),\"\")","v":""},{"$f":"IFERROR(VLOOKUP(C2033,Tidligere_henvendelser!A:B,2,FALSE),\"\")","v":""}]
[{"$f":"ReplaceNumbers(C2034)","v":"Brogårdsvænget"},{"$f":"_xlfn.NUMBERVALUE(FindNumbers(C2034))","v":4},"Brogårdsvænget 4, 1. tv","2820 Gentofte",8000000,"2022-02-24","Alm. Salg",53691,5,"Ejerlejlighed",149,1895,{"$f":"IF(ISBLANK(VLOOKUP(A2034,Veje!A:B,2,FALSE)),INDEX(Veje!$D$2:$RT$652,MATCH(A2034,Veje!$A$2:$A$652,0),MATCH(B2034,Veje!$D$1:$RT$1,0)),VLOOKUP(A2034,Veje!A:B,2,FALSE))","v":"GSG"},{"$f":"IFERROR(VLOOKUP(C2034,Medlemmer!A:C,3,FALSE),\"\")","v":""},{"$f":"IFERROR(VLOOKUP(C2034,Medlemmer!A:C,2,FALSE),\"\")","v":""},{"$f":"IFERROR(VLOOKUP(C2034,Tidligere_henvendelser!A:B,2,FALSE),\"\")","v":""}]
[{"$f":"ReplaceNumbers(C2035)","v":"Tværbommen"},{"$f":"_xlfn.NUMBERVALUE(FindNumbers(C2035))","v":45},"Tværbommen 45, st. tv","2820 Gentofte",2500000,"2022-02-25","Alm. Salg",37878,3,"Ejerlejlighed",66,1946,{"$f":"IF(ISBLANK(VLOOKUP(A2035,Veje!A:B,2,FALSE)),INDEX(Veje!$D$2:$RT$652,MATCH(A2035,Veje!$A$2:$A$652,0),MATCH(B2035,Veje!$D$1:$RT$1,0)),VLOOKUP(A2035,Veje!A:B,2,FALSE))","v":"GSG"},{"$f":"IFERROR(VLOOKUP(C2035,Medlemmer!A:C,3,FALSE),\"\")","v":""},{"$f":"IFERROR(VLOOKUP(C2035,Medlemmer!A:C,2,FALSE),\"\")","v":""},{"$f":"IFERROR(VLOOKUP(C2035,Tidligere_henvendelser!A:B,2,FALSE),\"\")","v":""}]
[{"$f":"ReplaceNumbers(C2036)","v":"Marediget"},{"$f":"_xlfn.NUMBERVALUE(FindNumbers(C2036))","v":3},"Marediget 3","2920 Charlottenlund",17500000,"2022-02-26","Alm. Salg",84134,7,"Villa",208,1926,{"$f":"IF(ISBLANK(VLOOKUP(A2036,Veje!A:B,2,FALSE)),INDEX(Veje!$D$2:$RT$652,MATCH(A2036,Veje!$A$2:$A$652,0),MATCH(B2036,Veje!$D$1:$RT$1,0)),VLOOKUP(A2036,Veje!A:B,2,FALSE))","v":"HMG"},{"$f":"IFERROR(VLOOKUP(C2036,Medlemmer!A:C,3,FALSE),\"\")","v":""},{"$f":"IFERROR(VLOOKUP(C2036,Medlemmer!A:C,2,FALSE),\"\")","v":""},{"$f":"IFERROR(VLOOKUP(C2036,Tidligere_henvendelser!A:B,2,FALSE),\"\")","v":""}]
[{"$f":"ReplaceNumbers(C2037)","v":"Sønderdalen"},{"$f":"_xlfn.NUMBERVALUE(FindNumbers(C2037))","v":57},"Sønderdalen 57","2870 Dyssegård ",10550000,"2022-02-26","Alm. Salg",66772,5,"Villa",158,1937,{"$f":"IF(ISBLANK(VLOOKUP(A2037,Veje!A:B,2,FALSE)),INDEX(Veje!$D$2:$RT$652,MATCH(A2037,Veje!$A$2:$A$652,0),MATCH(B2037,Veje!$D$1:$RT$1,0)),VLOOKUP(A2037,Veje!A:B,2,FALSE))","v":"DY"},{"$f":"IFERROR(VLOOKUP(C2037,Medlemmer!A:C,3,FALSE),\"\")","v":""},{"$f":"IFERROR(VLOOKUP(C2037,Medlemmer!A:C,2,FALSE),\"\")","v":""},{"$f":"IFERROR(VLOOKUP(C2037,Tidligere_henvendelser!A:B,2,FALSE),\"\")","v":""}]
[{"$f":"ReplaceNumbers(C2038)","v":"Vangedevej"},{"$f":"_xlfn.NUMBERVALUE(FindNumbers(C2038))","v":152},"Vangedevej 152B, 2. th","2870 Dyssegård ",2435000,"2022-02-27","Alm. Salg",39274,2,"Ejerlejlighed",62,1956,{"$f":"IF(ISBLANK(VLOOKUP(A2038,Veje!A:B,2,FALSE)),INDEX(Veje!$D$2:$RT$652,MATCH(A2038,Veje!$A$2:$A$652,0),MATCH(B2038,Veje!$D$1:$RT$1,0)),VLOOKUP(A2038,Veje!A:B,2,FALSE))","v":"DY"},{"$f":"IFERROR(VLOOKUP(C2038,Medlemmer!A:C,3,FALSE),\"\")","v":""},{"$f":"IFERROR(VLOOKUP(C2038,Medlemmer!A:C,2,FALSE),\"\")","v":""},{"$f":"IFERROR(VLOOKUP(C2038,Tidligere_henvendelser!A:B,2,FALSE),\"\")","v":""}]
[{"$f":"ReplaceNumbers(C2039)","v":"Smakkegårdsvej"},{"$f":"_xlfn.NUMBERVALUE(FindNumbers(C2039))","v":179},"Smakkegårdsvej 179, 1. mf","2820 Gentofte",2360000,"2022-02-27","Alm. Salg",37460,2,"Ejerlejlighed",63,1946,{"$f":"IF(ISBLANK(VLOOKUP(A2039,Veje!A:B,2,FALSE)),INDEX(Veje!$D$2:$RT$652,MATCH(A2039,Veje!$A$2:$A$652,0),MATCH(B2039,Veje!$D$1:$RT$1,0)),VLOOKUP(A2039,Veje!A:B,2,FALSE))","v":"GSG"},{"$f":"IFERROR(VLOOKUP(C2039,Medlemmer!A:C,3,FALSE),\"\")","v":""},{"$f":"IFERROR(VLOOKUP(C2039,Medlemmer!A:C,2,FALSE),\"\")","v":""},{"$f":"IFERROR(VLOOKUP(C2039,Tidligere_henvendelser!A:B,2,FALSE),\"\")","v":""}]
[{"$f":"ReplaceNumbers(C2040)","v":"Kildeskovsvej"},{"$f":"_xlfn.NUMBERVALUE(FindNumbers(C2040))","v":52},"Kildeskovsvej 52","2820 Gentofte",16300000,"2022-02-27","Alm. Salg",65991,8,"Villa",247,1913,{"$f":"IF(ISBLANK(VLOOKUP(A2040,Veje!A:B,2,FALSE)),INDEX(Veje!$D$2:$RT$652,MATCH(A2040,Veje!$A$2:$A$652,0),MATCH(B2040,Veje!$D$1:$RT$1,0)),VLOOKUP(A2040,Veje!A:B,2,FALSE))","v":"GSG"},{"$f":"IFERROR(VLOOKUP(C2040,Medlemmer!A:C,3,FALSE),\"\")","v":""},{"$f":"IFERROR(VLOOKUP(C2040,Medlemmer!A:C,2,FALSE),\"\")","v":""},{"$f":"IFERROR(VLOOKUP(C2040,Tidligere_henvendelser!A:B,2,FALSE),\"\")","v":""}]
[{"$f":"ReplaceNumbers(C2041)","v":"Strandvejen"},{"$f":"_xlfn.NUMBERVALUE(FindNumbers(C2041))","v":425},"Strandvejen 425, st. th","2930 Klampenborg",9050000,"2022-02-27","Alm. Salg",88725,3,"Ejerlejlighed",102,1933,{"$f":"IF(ISBLANK(VLOOKUP(A2041,Veje!A:B,2,FALSE)),INDEX(Veje!$D$2:$RT$652,MATCH(A2041,Veje!$A$2:$A$652,0),MATCH(B2041,Veje!$D$1:$RT$1,0)),VLOOKUP(A2041,Veje!A:B,2,FALSE))","v":"SKGF"},{"$f":"IFERROR(VLOOKUP(C2041,Medlemmer!A:C,3,FALSE),\"\")","v":""},{"$f":"IFERROR(VLOOKUP(C2041,Medlemmer!A:C,2,FALSE),\"\")","v":""},{"$f":"IFERROR(VLOOKUP(C2041,Tidligere_henvendelser!A:B,2,FALSE),\"\")","v":""}]
[{"$f":"ReplaceNumbers(C2042)","v":"Ejgårdsvej"},{"$f":"_xlfn.NUMBERVALUE(FindNumbers(C2042))","v":12},"Ejgårdsvej 12, st. mf","2920 Charlottenlund",4498000,"2022-02-28","Alm. Salg",57666,3,"Ejerlejlighed",78,1990,{"$f":"IF(ISBLANK(VLOOKUP(A2042,Veje!A:B,2,FALSE)),INDEX(Veje!$D$2:$RT$652,MATCH(A2042,Veje!$A$2:$A$652,0),MATCH(B2042,Veje!$D$1:$RT$1,0)),VLOOKUP(A2042,Veje!A:B,2,FALSE))","v":"OCG"},{"$f":"IFERROR(VLOOKUP(C2042,Medlemmer!A:C,3,FALSE),\"\")","v":""},{"$f":"IFERROR(VLOOKUP(C2042,Medlemmer!A:C,2,FALSE),\"\")","v":""},{"$f":"IFERROR(VLOOKUP(C2042,Tidligere_henvendelser!A:B,2,FALSE),\"\")","v":""}]
[{"$f":"ReplaceNumbers(C2043)","v":"Lyngbyvej"},{"$f":"_xlfn.NUMBERVALUE(FindNumbers(C2043))","v":271},"Lyngbyvej 271, 1","2900 Hellerup",2700000,"2022-02-28","Fam. Salg",21951,4,"Ejerlejlighed",123,1931,{"$f":"IF(ISBLANK(VLOOKUP(A2043,Veje!A:B,2,FALSE)),INDEX(Veje!$D$2:$RT$652,MATCH(A2043,Veje!$A$2:$A$652,0),MATCH(B2043,Veje!$D$1:$RT$1,0)),VLOOKUP(A2043,Veje!A:B,2,FALSE))","v":"DY"},{"$f":"IFERROR(VLOOKUP(C2043,Medlemmer!A:C,3,FALSE),\"\")","v":""},{"$f":"IFERROR(VLOOKUP(C2043,Medlemmer!A:C,2,FALSE),\"\")","v":""},{"$f":"IFERROR(VLOOKUP(C2043,Tidligere_henvendelser!A:B,2,FALSE),\"\")","v":""}]
[{"$f":"ReplaceNumbers(C2044)","v":"Tuborg Parkvej"},{"$f":"_xlfn.NUMBERVALUE(FindNumbers(C2044))","v":2},"Tuborg Parkvej 2, 2. 1","2900 Hellerup",4750000,"2022-03-01","Alm. Salg",53977,2,"Ejerlejlighed",88,1995,{"$f":"IF(ISBLANK(VLOOKUP(A2044,Veje!A:B,2,FALSE)),INDEX(Veje!$D$2:$RT$652,MATCH(A2044,Veje!$A$2:$A$652,0),MATCH(B2044,Veje!$D$1:$RT$1,0)),VLOOKUP(A2044,Veje!A:B,2,FALSE))","v":"HMG"},{"$f":"IFERROR(VLOOKUP(C2044,Medlemmer!A:C,3,FALSE),\"\")","v":""},{"$f":"IFERROR(VLOOKUP(C2044,Medlemmer!A:C,2,FALSE),\"\")","v":""},{"$f":"IFERROR(VLOOKUP(C2044,Tidligere_henvendelser!A:B,2,FALSE),\"\")","v":""}]
[{"$f":"ReplaceNumbers(C2045)","v":"Gyldenlundsvej"},{"$f":"_xlfn.NUMBERVALUE(FindNumbers(C2045))","v":16},"Gyldenlundsvej 16, 1","2920 Charlottenlund",6600000,"2022-03-01","Alm. Salg",62264,3,"Ejerlejlighed",106,1900,{"$f":"IF(ISBLANK(VLOOKUP(A2045,Veje!A:B,2,FALSE)),INDEX(Veje!$D$2:$RT$652,MATCH(A2045,Veje!$A$2:$A$652,0),MATCH(B2045,Veje!$D$1:$RT$1,0)),VLOOKUP(A2045,Veje!A:B,2,FALSE))","v":"SKGF"},{"$f":"IFERROR(VLOOKUP(C2045,Medlemmer!A:C,3,FALSE),\"\")","v":""},{"$f":"IFERROR(VLOOKUP(C2045,Medlemmer!A:C,2,FALSE),\"\")","v":""},{"$f":"IFERROR(VLOOKUP(C2045,Tidligere_henvendelser!A:B,2,FALSE),\"\")","v":""}]
[{"$f":"ReplaceNumbers(C2046)","v":"Gyldenlundsvej"},{"$f":"_xlfn.NUMBERVALUE(FindNumbers(C2046))","v":16},"Gyldenlundsvej 16, st","2920 Charlottenlund",6600000,"2022-03-01","Alm. Salg",55462,3,"Ejerlejlighed",119,1900,{"$f":"IF(ISBLANK(VLOOKUP(A2046,Veje!A:B,2,FALSE)),INDEX(Veje!$D$2:$RT$652,MATCH(A2046,Veje!$A$2:$A$652,0),MATCH(B2046,Veje!$D$1:$RT$1,0)),VLOOKUP(A2046,Veje!A:B,2,FALSE))","v":"SKGF"},{"$f":"IFERROR(VLOOKUP(C2046,Medlemmer!A:C,3,FALSE),\"\")","v":""},{"$f":"IFERROR(VLOOKUP(C2046,Medlemmer!A:C,2,FALSE),\"\")","v":""},{"$f":"IFERROR(VLOOKUP(C2046,Tidligere_henvendelser!A:B,2,FALSE),\"\")","v":""}]
[{"$f":"ReplaceNumbers(C2047)","v":"Tranegårdsvej"},{"$f":"_xlfn.NUMBERVALUE(FindNumbers(C2047))","v":66},"Tranegårdsvej 66, 3. tv","2900 Hellerup",5850000,"2022-03-01","Alm. Salg",50000,4,"Ejerlejlighed",117,1919,{"$f":"IF(ISBLANK(VLOOKUP(A2047,Veje!A:B,2,FALSE)),INDEX(Veje!$D$2:$RT$652,MATCH(A2047,Veje!$A$2:$A$652,0),MATCH(B2047,Veje!$D$1:$RT$1,0)),VLOOKUP(A2047,Veje!A:B,2,FALSE))","v":"HMG"},{"$f":"IFERROR(VLOOKUP(C2047,Medlemmer!A:C,3,FALSE),\"\")","v":""},{"$f":"IFERROR(VLOOKUP(C2047,Medlemmer!A:C,2,FALSE),\"\")","v":""},{"$f":"IFERROR(VLOOKUP(C2047,Tidligere_henvendelser!A:B,2,FALSE),\"\")","v":""}]
[{"$f":"ReplaceNumbers(C2048)","v":"Enighedsvej"},{"$f":"_xlfn.NUMBERVALUE(FindNumbers(C2048))","v":17},"Enighedsvej 17","2920 Charlottenlund",13500000,"2022-03-01","Alm. Salg",78034,6,"Villa",173,1885,{"$f":"IF(ISBLANK(VLOOKUP(A2048,Veje!A:B,2,FALSE)),INDEX(Veje!$D$2:$RT$652,MATCH(A2048,Veje!$A$2:$A$652,0),MATCH(B2048,Veje!$D$1:$RT$1,0)),VLOOKUP(A2048,Veje!A:B,2,FALSE))","v":"OCG"},{"$f":"IFERROR(VLOOKUP(C2048,Medlemmer!A:C,3,FALSE),\"\")","v":""},{"$f":"IFERROR(VLOOKUP(C2048,Medlemmer!A:C,2,FALSE),\"\")","v":""},{"$f":"IFERROR(VLOOKUP(C2048,Tidligere_henvendelser!A:B,2,FALSE),\"\")","v":""}]
[{"$f":"ReplaceNumbers(C2049)","v":"Sauntes Vænge"},{"$f":"_xlfn.NUMBERVALUE(FindNumbers(C2049))","v":7},"Sauntes Vænge 7","2820 Gentofte",7725000,"2022-03-01","Alm. Salg",67763,5,"Rækkehus",114,1952,{"$f":"IF(ISBLANK(VLOOKUP(A2049,Veje!A:B,2,FALSE)),INDEX(Veje!$D$2:$RT$652,MATCH(A2049,Veje!$A$2:$A$652,0),MATCH(B2049,Veje!$D$1:$RT$1,0)),VLOOKUP(A2049,Veje!A:B,2,FALSE))","v":"BJGF"},{"$f":"IFERROR(VLOOKUP(C2049,Medlemmer!A:C,3,FALSE),\"\")","v":""},{"$f":"IFERROR(VLOOKUP(C2049,Medlemmer!A:C,2,FALSE),\"\")","v":""},{"$f":"IFERROR(VLOOKUP(C2049,Tidligere_henvendelser!A:B,2,FALSE),\"\")","v":""}]
[{"$f":"ReplaceNumbers(C2050)","v":"Strandvejen"},{"$f":"_xlfn.NUMBERVALUE(FindNumbers(C2050))","v":247},"Strandvejen 247G","2920 Charlottenlund",60900000,"2022-03-01","Alm. Salg",139041,12,"Villa",438,1880,{"$f":"IF(ISBLANK(VLOOKUP(A2050,Veje!A:B,2,FALSE)),INDEX(Veje!$D$2:$RT$652,MATCH(A2050,Veje!$A$2:$A$652,0),MATCH(B2050,Veje!$D$1:$RT$1,0)),VLOOKUP(A2050,Veje!A:B,2,FALSE))","v":"SKGF"},{"$f":"IFERROR(VLOOKUP(C2050,Medlemmer!A:C,3,FALSE),\"\")","v":""},{"$f":"IFERROR(VLOOKUP(C2050,Medlemmer!A:C,2,FALSE),\"\")","v":""},{"$f":"IFERROR(VLOOKUP(C2050,Tidligere_henvendelser!A:B,2,FALSE),\"\")","v":""}]
[{"$f":"ReplaceNumbers(C2051)","v":"Christianshvilevej"},{"$f":"_xlfn.NUMBERVALUE(FindNumbers(C2051))","v":4},"Christianshvilevej 4, st. th","2920 Charlottenlund",2100000,"2022-03-02","Alm. Salg",42857,2,"Ejerlejlighed",49,1896,{"$f":"IF(ISBLANK(VLOOKUP(A2051,Veje!A:B,2,FALSE)),INDEX(Veje!$D$2:$RT$652,MATCH(A2051,Veje!$A$2:$A$652,0),MATCH(B2051,Veje!$D$1:$RT$1,0)),VLOOKUP(A2051,Veje!A:B,2,FALSE))","v":"OCG"},{"$f":"IFERROR(VLOOKUP(C2051,Medlemmer!A:C,3,FALSE),\"\")","v":""},{"$f":"IFERROR(VLOOKUP(C2051,Medlemmer!A:C,2,FALSE),\"\")","v":""},{"$f":"IFERROR(VLOOKUP(C2051,Tidligere_henvendelser!A:B,2,FALSE),\"\")","v":""}]
[{"$f":"ReplaceNumbers(C2052)","v":"Annasvej"},{"$f":"_xlfn.NUMBERVALUE(FindNumbers(C2052))","v":4},"Annasvej 4A, 1. mf","2900 Hellerup",5300000,"2022-03-02","Alm. Salg",53535,3,"Ejerlejlighed",99,1994,{"$f":"IF(ISBLANK(VLOOKUP(A2052,Veje!A:B,2,FALSE)),INDEX(Veje!$D$2:$RT$652,MATCH(A2052,Veje!$A$2:$A$652,0),MATCH(B2052,Veje!$D$1:$RT$1,0)),VLOOKUP(A2052,Veje!A:B,2,FALSE))","v":"HMG"},{"$f":"IFERROR(VLOOKUP(C2052,Medlemmer!A:C,3,FALSE),\"\")","v":""},{"$f":"IFERROR(VLOOKUP(C2052,Medlemmer!A:C,2,FALSE),\"\")","v":""},{"$f":"IFERROR(VLOOKUP(C2052,Tidligere_henvendelser!A:B,2,FALSE),\"\")","v":""}]
[{"$f":"ReplaceNumbers(C2053)","v":"Skovkrogen"},{"$f":"_xlfn.NUMBERVALUE(FindNumbers(C2053))","v":7},"Skovkrogen 7, 2. mf","2920 Charlottenlund",2320000,"2022-03-02","Alm. Salg",42181,2,"Ejerlejlighed",55,1934,{"$f":"IF(ISBLANK(VLOOKUP(A2053,Veje!A:B,2,FALSE)),INDEX(Veje!$D$2:$RT$652,MATCH(A2053,Veje!$A$2:$A$652,0),MATCH(B2053,Veje!$D$1:$RT$1,0)),VLOOKUP(A2053,Veje!A:B,2,FALSE))","v":"OCG"},{"$f":"IFERROR(VLOOKUP(C2053,Medlemmer!A:C,3,FALSE),\"\")","v":""},{"$f":"IFERROR(VLOOKUP(C2053,Medlemmer!A:C,2,FALSE),\"\")","v":""},{"$f":"IFERROR(VLOOKUP(C2053,Tidligere_henvendelser!A:B,2,FALSE),\"\")","v":""}]
[{"$f":"ReplaceNumbers(C2054)","v":"Resedavej"},{"$f":"_xlfn.NUMBERVALUE(FindNumbers(C2054))","v":5},"Resedavej 5, st","2820 Gentofte",4421000,"2022-03-03","Alm. Salg",44656,4,"Ejerlejlighed",99,1931,{"$f":"IF(ISBLANK(VLOOKUP(A2054,Veje!A:B,2,FALSE)),INDEX(Veje!$D$2:$RT$652,MATCH(A2054,Veje!$A$2:$A$652,0),MATCH(B2054,Veje!$D$1:$RT$1,0)),VLOOKUP(A2054,Veje!A:B,2,FALSE))","v":"GSG"},{"$f":"IFERROR(VLOOKUP(C2054,Medlemmer!A:C,3,FALSE),\"\")","v":""},{"$f":"IFERROR(VLOOKUP(C2054,Medlemmer!A:C,2,FALSE),\"\")","v":""},{"$f":"IFERROR(VLOOKUP(C2054,Tidligere_henvendelser!A:B,2,FALSE),\"\")","v":""}]
[{"$f":"ReplaceNumbers(C2055)","v":"Vangede Bygade"},{"$f":"_xlfn.NUMBERVALUE(FindNumbers(C2055))","v":110},"Vangede Bygade 110, 1. th","2820 Gentofte",2800000,"2022-03-03","Alm. Salg",39436,2,"Ejerlejlighed",71,1981,{"$f":"IF(ISBLANK(VLOOKUP(A2055,Veje!A:B,2,FALSE)),INDEX(Veje!$D$2:$RT$652,MATCH(A2055,Veje!$A$2:$A$652,0),MATCH(B2055,Veje!$D$1:$RT$1,0)),VLOOKUP(A2055,Veje!A:B,2,FALSE))","v":"GSG"},{"$f":"IFERROR(VLOOKUP(C2055,Medlemmer!A:C,3,FALSE),\"\")","v":""},{"$f":"IFERROR(VLOOKUP(C2055,Medlemmer!A:C,2,FALSE),\"\")","v":""},{"$f":"IFERROR(VLOOKUP(C2055,Tidligere_henvendelser!A:B,2,FALSE),\"\")","v":""}]
[{"$f":"ReplaceNumbers(C2056)","v":"Broholms Alle"},{"$f":"_xlfn.NUMBERVALUE(FindNumbers(C2056))","v":13},"Broholms Alle 13F, 2. th","2920 Charlottenlund",3325000,"2022-03-03","Alm. Salg",38218,4,"Ejerlejlighed",87,1939,{"$f":"IF(ISBLANK(VLOOKUP(A2056,Veje!A:B,2,FALSE)),INDEX(Veje!$D$2:$RT$652,MATCH(A2056,Veje!$A$2:$A$652,0),MATCH(B2056,Veje!$D$1:$RT$1,0)),VLOOKUP(A2056,Veje!A:B,2,FALSE))","v":"SKGF"},{"$f":"IFERROR(VLOOKUP(C2056,Medlemmer!A:C,3,FALSE),\"\")","v":""},{"$f":"IFERROR(VLOOKUP(C2056,Medlemmer!A:C,2,FALSE),\"\")","v":""},{"$f":"IFERROR(VLOOKUP(C2056,Tidligere_henvendelser!A:B,2,FALSE),\"\")","v":""}]
[{"$f":"ReplaceNumbers(C2057)","v":"Prinsesse Alexandrines Alle"},{"$f":"_xlfn.NUMBERVALUE(FindNumbers(C2057))","v":24},"Prinsesse Alexandrines Alle 24","2920 Charlottenlund",17500000,"2022-03-04","Alm. Salg",109375,5,"Villa",160,1905,{"$f":"IF(ISBLANK(VLOOKUP(A2057,Veje!A:B,2,FALSE)),INDEX(Veje!$D$2:$RT$652,MATCH(A2057,Veje!$A$2:$A$652,0),MATCH(B2057,Veje!$D$1:$RT$1,0)),VLOOKUP(A2057,Veje!A:B,2,FALSE))","v":"OCG"},{"$f":"IFERROR(VLOOKUP(C2057,Medlemmer!A:C,3,FALSE),\"\")","v":""},{"$f":"IFERROR(VLOOKUP(C2057,Medlemmer!A:C,2,FALSE),\"\")","v":""},{"$f":"IFERROR(VLOOKUP(C2057,Tidligere_henvendelser!A:B,2,FALSE),\"\")","v":""}]
[{"$f":"ReplaceNumbers(C2058)","v":"Enighedsvej"},{"$f":"_xlfn.NUMBERVALUE(FindNumbers(C2058))","v":15},"Enighedsvej 15, 1","2920 Charlottenlund",7695000,"2022-03-05","Alm. Salg",80156,4,"Ejerlejlighed",96,1889,{"$f":"IF(ISBLANK(VLOOKUP(A2058,Veje!A:B,2,FALSE)),INDEX(Veje!$D$2:$RT$652,MATCH(A2058,Veje!$A$2:$A$652,0),MATCH(B2058,Veje!$D$1:$RT$1,0)),VLOOKUP(A2058,Veje!A:B,2,FALSE))","v":"OCG"},{"$f":"IFERROR(VLOOKUP(C2058,Medlemmer!A:C,3,FALSE),\"\")","v":""},{"$f":"IFERROR(VLOOKUP(C2058,Medlemmer!A:C,2,FALSE),\"\")","v":""},{"$f":"IFERROR(VLOOKUP(C2058,Tidligere_henvendelser!A:B,2,FALSE),\"\")","v":""}]
[{"$f":"ReplaceNumbers(C2059)","v":"Enighedsvej"},{"$f":"_xlfn.NUMBERVALUE(FindNumbers(C2059))","v":15},"Enighedsvej 15, st","2920 Charlottenlund",7695000,"2022-03-05","Alm. Salg",65769,4,"Ejerlejlighed",117,1889,{"$f":"IF(ISBLANK(VLOOKUP(A2059,Veje!A:B,2,FALSE)),INDEX(Veje!$D$2:$RT$652,MATCH(A2059,Veje!$A$2:$A$652,0),MATCH(B2059,Veje!$D$1:$RT$1,0)),VLOOKUP(A2059,Veje!A:B,2,FALSE))","v":"OCG"},{"$f":"IFERROR(VLOOKUP(C2059,Medlemmer!A:C,3,FALSE),\"\")","v":""},{"$f":"IFERROR(VLOOKUP(C2059,Medlemmer!A:C,2,FALSE),\"\")","v":""},{"$f":"IFERROR(VLOOKUP(C2059,Tidligere_henvendelser!A:B,2,FALSE),\"\")","v":""}]
[{"$f":"ReplaceNumbers(C2060)","v":"Lyngbyvej"},{"$f":"_xlfn.NUMBERVALUE(FindNumbers(C2060))","v":305},"Lyngbyvej 305, st. th","2900 Hellerup",1800000,"2022-03-05","Fam. Salg",15126,4,"Ejerlejlighed",119,1935,{"$f":"IF(ISBLANK(VLOOKUP(A2060,Veje!A:B,2,FALSE)),INDEX(Veje!$D$2:$RT$652,MATCH(A2060,Veje!$A$2:$A$652,0),MATCH(B2060,Veje!$D$1:$RT$1,0)),VLOOKUP(A2060,Veje!A:B,2,FALSE))","v":"DY"},{"$f":"IFERROR(VLOOKUP(C2060,Medlemmer!A:C,3,FALSE),\"\")","v":""},{"$f":"IFERROR(VLOOKUP(C2060,Medlemmer!A:C,2,FALSE),\"\")","v":""},{"$f":"IFERROR(VLOOKUP(C2060,Tidligere_henvendelser!A:B,2,FALSE),\"\")","v":""}]
[{"$f":"ReplaceNumbers(C2061)","v":"Sønderdalen"},{"$f":"_xlfn.NUMBERVALUE(FindNumbers(C2061))","v":26},"Sønderdalen 26","2870 Dyssegård ",8000000,"2022-03-05","Alm. Salg",60606,5,"Villa",132,1936,{"$f":"IF(ISBLANK(VLOOKUP(A2061,Veje!A:B,2,FALSE)),INDEX(Veje!$D$2:$RT$652,MATCH(A2061,Veje!$A$2:$A$652,0),MATCH(B2061,Veje!$D$1:$RT$1,0)),VLOOKUP(A2061,Veje!A:B,2,FALSE))","v":"DY"},{"$f":"IFERROR(VLOOKUP(C2061,Medlemmer!A:C,3,FALSE),\"\")","v":""},{"$f":"IFERROR(VLOOKUP(C2061,Medlemmer!A:C,2,FALSE),\"\")","v":""},{"$f":"IFERROR(VLOOKUP(C2061,Tidligere_henvendelser!A:B,2,FALSE),\"\")","v":""}]
[{"$f":"ReplaceNumbers(C2062)","v":"Slotsvej"},{"$f":"_xlfn.NUMBERVALUE(FindNumbers(C2062))","v":83},"Slotsvej 83","2920 Charlottenlund",17200000,"2022-03-05","Alm. Salg",64661,8,"Villa",266,1934,{"$f":"IF(ISBLANK(VLOOKUP(A2062,Veje!A:B,2,FALSE)),INDEX(Veje!$D$2:$RT$652,MATCH(A2062,Veje!$A$2:$A$652,0),MATCH(B2062,Veje!$D$1:$RT$1,0)),VLOOKUP(A2062,Veje!A:B,2,FALSE))","v":"BJGF"},{"$f":"IFERROR(VLOOKUP(C2062,Medlemmer!A:C,3,FALSE),\"\")","v":""},{"$f":"IFERROR(VLOOKUP(C2062,Medlemmer!A:C,2,FALSE),\"\")","v":""},{"$f":"IFERROR(VLOOKUP(C2062,Tidligere_henvendelser!A:B,2,FALSE),\"\")","v":""}]
[{"$f":"ReplaceNumbers(C2063)","v":"Bregnevej"},{"$f":"_xlfn.NUMBERVALUE(FindNumbers(C2063))","v":9},"Bregnevej 9","2820 Gentofte",11600000,"2022-03-06","Alm. Salg",64444,6,"Villa",180,1911,{"$f":"IF(ISBLANK(VLOOKUP(A2063,Veje!A:B,2,FALSE)),INDEX(Veje!$D$2:$RT$652,MATCH(A2063,Veje!$A$2:$A$652,0),MATCH(B2063,Veje!$D$1:$RT$1,0)),VLOOKUP(A2063,Veje!A:B,2,FALSE))","v":"GSG"},{"$f":"IFERROR(VLOOKUP(C2063,Medlemmer!A:C,3,FALSE),\"\")","v":""},{"$f":"IFERROR(VLOOKUP(C2063,Medlemmer!A:C,2,FALSE),\"\")","v":""},{"$f":"IFERROR(VLOOKUP(C2063,Tidligere_henvendelser!A:B,2,FALSE),\"\")","v":""}]
[{"$f":"ReplaceNumbers(C2064)","v":"Lindegårdsvej"},{"$f":"_xlfn.NUMBERVALUE(FindNumbers(C2064))","v":34},"Lindegårdsvej 34","2920 Charlottenlund",4500000,"2022-03-06","Alm. Salg",18907,9,"Villa",238,1889,{"$f":"IF(ISBLANK(VLOOKUP(A2064,Veje!A:B,2,FALSE)),INDEX(Veje!$D$2:$RT$652,MATCH(A2064,Veje!$A$2:$A$652,0),MATCH(B2064,Veje!$D$1:$RT$1,0)),VLOOKUP(A2064,Veje!A:B,2,FALSE))","v":"OCG"},{"$f":"IFERROR(VLOOKUP(C2064,Medlemmer!A:C,3,FALSE),\"\")","v":""},{"$f":"IFERROR(VLOOKUP(C2064,Medlemmer!A:C,2,FALSE),\"\")","v":""},{"$f":"IFERROR(VLOOKUP(C2064,Tidligere_henvendelser!A:B,2,FALSE),\"\")","v":""}]
[{"$f":"ReplaceNumbers(C2065)","v":"Jægersborgvej"},{"$f":"_xlfn.NUMBERVALUE(FindNumbers(C2065))","v":126},"Jægersborgvej 126, 1. tv","2820 Gentofte",2900000,"2022-03-06","Alm. Salg",28155,5,"Ejerlejlighed",103,1949,{"$f":"IF(ISBLANK(VLOOKUP(A2065,Veje!A:B,2,FALSE)),INDEX(Veje!$D$2:$RT$652,MATCH(A2065,Veje!$A$2:$A$652,0),MATCH(B2065,Veje!$D$1:$RT$1,0)),VLOOKUP(A2065,Veje!A:B,2,FALSE))","v":"GSG"},{"$f":"IFERROR(VLOOKUP(C2065,Medlemmer!A:C,3,FALSE),\"\")","v":""},{"$f":"IFERROR(VLOOKUP(C2065,Medlemmer!A:C,2,FALSE),\"\")","v":""},{"$f":"IFERROR(VLOOKUP(C2065,Tidligere_henvendelser!A:B,2,FALSE),\"\")","v":""}]
[{"$f":"ReplaceNumbers(C2066)","v":"Dalstrøget"},{"$f":"_xlfn.NUMBERVALUE(FindNumbers(C2066))","v":72},"Dalstrøget 72, 1. th","2870 Dyssegård ",3950000,"2022-03-06","Alm. Salg",45930,3,"Ejerlejlighed",86,1959,{"$f":"IF(ISBLANK(VLOOKUP(A2066,Veje!A:B,2,FALSE)),INDEX(Veje!$D$2:$RT$652,MATCH(A2066,Veje!$A$2:$A$652,0),MATCH(B2066,Veje!$D$1:$RT$1,0)),VLOOKUP(A2066,Veje!A:B,2,FALSE))","v":"DY"},{"$f":"IFERROR(VLOOKUP(C2066,Medlemmer!A:C,3,FALSE),\"\")","v":""},{"$f":"IFERROR(VLOOKUP(C2066,Medlemmer!A:C,2,FALSE),\"\")","v":""},{"$f":"IFERROR(VLOOKUP(C2066,Tidligere_henvendelser!A:B,2,FALSE),\"\")","v":""}]
[{"$f":"ReplaceNumbers(C2067)","v":"Ordrupvej"},{"$f":"_xlfn.NUMBERVALUE(FindNumbers(C2067))","v":108},"Ordrupvej 108, 1. mf","2920 Charlottenlund",2750000,"2022-03-07","Alm. Salg",53921,2,"Ejerlejlighed",51,1985,{"$f":"IF(ISBLANK(VLOOKUP(A2067,Veje!A:B,2,FALSE)),INDEX(Veje!$D$2:$RT$652,MATCH(A2067,Veje!$A$2:$A$652,0),MATCH(B2067,Veje!$D$1:$RT$1,0)),VLOOKUP(A2067,Veje!A:B,2,FALSE))","v":"OCG"},{"$f":"IFERROR(VLOOKUP(C2067,Medlemmer!A:C,3,FALSE),\"\")","v":""},{"$f":"IFERROR(VLOOKUP(C2067,Medlemmer!A:C,2,FALSE),\"\")","v":""},{"$f":"IFERROR(VLOOKUP(C2067,Tidligere_henvendelser!A:B,2,FALSE),\"\")","v":""}]
[{"$f":"ReplaceNumbers(C2068)","v":"Jægersborg Alle"},{"$f":"_xlfn.NUMBERVALUE(FindNumbers(C2068))","v":47},"Jægersborg Alle 47, 1. mf","2920 Charlottenlund",5600000,"2022-03-07","Alm. Salg",58333,5,"Ejerlejlighed",96,1968,{"$f":"IF(ISBLANK(VLOOKUP(A2068,Veje!A:B,2,FALSE)),INDEX(Veje!$D$2:$RT$652,MATCH(A2068,Veje!$A$2:$A$652,0),MATCH(B2068,Veje!$D$1:$RT$1,0)),VLOOKUP(A2068,Veje!A:B,2,FALSE))","v":"OCG"},{"$f":"IFERROR(VLOOKUP(C2068,Medlemmer!A:C,3,FALSE),\"\")","v":""},{"$f":"IFERROR(VLOOKUP(C2068,Medlemmer!A:C,2,FALSE),\"\")","v":""},{"$f":"IFERROR(VLOOKUP(C2068,Tidligere_henvendelser!A:B,2,FALSE),\"\")","v":""}]
[{"$f":"ReplaceNumbers(C2069)","v":"Hyldegårdsvej"},{"$f":"_xlfn.NUMBERVALUE(FindNumbers(C2069))","v":10},"Hyldegårdsvej 10, st. 4","2920 Charlottenlund",1965000,"2022-03-08","Alm. Salg",33879,2,"Ejerlejlighed",58,1959,{"$f":"IF(ISBLANK(VLOOKUP(A2069,Veje!A:B,2,FALSE)),INDEX(Veje!$D$2:$RT$652,MATCH(A2069,Veje!$A$2:$A$652,0),MATCH(B2069,Veje!$D$1:$RT$1,0)),VLOOKUP(A2069,Veje!A:B,2,FALSE))","v":"OCG"},{"$f":"IFERROR(VLOOKUP(C2069,Medlemmer!A:C,3,FALSE),\"\")","v":""},{"$f":"IFERROR(VLOOKUP(C2069,Medlemmer!A:C,2,FALSE),\"\")","v":""},{"$f":"IFERROR(VLOOKUP(C2069,Tidligere_henvendelser!A:B,2,FALSE),\"\")","v":""}]
[{"$f":"ReplaceNumbers(C2070)","v":"Rådhusvej"},{"$f":"_xlfn.NUMBERVALUE(FindNumbers(C2070))","v":45},"Rådhusvej 45","2920 Charlottenlund",3782500,"2022-03-08","Fam. Salg",33179,4,"Villa",114,1954,{"$f":"IF(ISBLANK(VLOOKUP(A2070,Veje!A:B,2,FALSE)),INDEX(Veje!$D$2:$RT$652,MATCH(A2070,Veje!$A$2:$A$652,0),MATCH(B2070,Veje!$D$1:$RT$1,0)),VLOOKUP(A2070,Veje!A:B,2,FALSE))","v":"HMG"},{"$f":"IFERROR(VLOOKUP(C2070,Medlemmer!A:C,3,FALSE),\"\")","v":""},{"$f":"IFERROR(VLOOKUP(C2070,Medlemmer!A:C,2,FALSE),\"\")","v":""},{"$f":"IFERROR(VLOOKUP(C2070,Tidligere_henvendelser!A:B,2,FALSE),\"\")","v":""}]
[{"$f":"ReplaceNumbers(C2071)","v":"Hvidørevej"},{"$f":"_xlfn.NUMBERVALUE(FindNumbers(C2071))","v":30},"Hvidørevej 30","2930 Klampenborg",15000000,"2022-03-08","Alm. Salg",73529,7,"Villa",194,1934,{"$f":"IF(ISBLANK(VLOOKUP(A2071,Veje!A:B,2,FALSE)),INDEX(Veje!$D$2:$RT$652,MATCH(A2071,Veje!$A$2:$A$652,0),MATCH(B2071,Veje!$D$1:$RT$1,0)),VLOOKUP(A2071,Veje!A:B,2,FALSE))","v":"SKGF"},{"$f":"IFERROR(VLOOKUP(C2071,Medlemmer!A:C,3,FALSE),\"\")","v":""},{"$f":"IFERROR(VLOOKUP(C2071,Medlemmer!A:C,2,FALSE),\"\")","v":""},{"$f":"IFERROR(VLOOKUP(C2071,Tidligere_henvendelser!A:B,2,FALSE),\"\")","v":""}]
[{"$f":"ReplaceNumbers(C2072)","v":"Ericavej"},{"$f":"_xlfn.NUMBERVALUE(FindNumbers(C2072))","v":163},"Ericavej 163, st. 104","2820 Gentofte",1695000,"2022-03-08","Alm. Salg",33900,2,"Ejerlejlighed",50,1956,{"$f":"IF(ISBLANK(VLOOKUP(A2072,Veje!A:B,2,FALSE)),INDEX(Veje!$D$2:$RT$652,MATCH(A2072,Veje!$A$2:$A$652,0),MATCH(B2072,Veje!$D$1:$RT$1,0)),VLOOKUP(A2072,Veje!A:B,2,FALSE))","v":"GSG"},{"$f":"IFERROR(VLOOKUP(C2072,Medlemmer!A:C,3,FALSE),\"\")","v":""},{"$f":"IFERROR(VLOOKUP(C2072,Medlemmer!A:C,2,FALSE),\"\")","v":""},{"$f":"IFERROR(VLOOKUP(C2072,Tidligere_henvendelser!A:B,2,FALSE),\"\")","v":""}]
[{"$f":"ReplaceNumbers(C2073)","v":"Ellevadsvej"},{"$f":"_xlfn.NUMBERVALUE(FindNumbers(C2073))","v":15},"Ellevadsvej 15","2920 Charlottenlund",15000000,"2022-03-08","Alm. Salg",104166,5,"Villa",144,1928,{"$f":"IF(ISBLANK(VLOOKUP(A2073,Veje!A:B,2,FALSE)),INDEX(Veje!$D$2:$RT$652,MATCH(A2073,Veje!$A$2:$A$652,0),MATCH(B2073,Veje!$D$1:$RT$1,0)),VLOOKUP(A2073,Veje!A:B,2,FALSE))","v":"OCG"},{"$f":"IFERROR(VLOOKUP(C2073,Medlemmer!A:C,3,FALSE),\"\")","v":""},{"$f":"IFERROR(VLOOKUP(C2073,Medlemmer!A:C,2,FALSE),\"\")","v":""},{"$f":"IFERROR(VLOOKUP(C2073,Tidligere_henvendelser!A:B,2,FALSE),\"\")","v":""}]
[{"$f":"ReplaceNumbers(C2074)","v":"Ellebækvej"},{"$f":"_xlfn.NUMBERVALUE(FindNumbers(C2074))","v":60},"Ellebækvej 60, st. mf","2820 Gentofte",1960000,"2022-03-08","Alm. Salg",38431,2,"Ejerlejlighed",51,1942,{"$f":"IF(ISBLANK(VLOOKUP(A2074,Veje!A:B,2,FALSE)),INDEX(Veje!$D$2:$RT$652,MATCH(A2074,Veje!$A$2:$A$652,0),MATCH(B2074,Veje!$D$1:$RT$1,0)),VLOOKUP(A2074,Veje!A:B,2,FALSE))","v":"GSG"},{"$f":"IFERROR(VLOOKUP(C2074,Medlemmer!A:C,3,FALSE),\"\")","v":""},{"$f":"IFERROR(VLOOKUP(C2074,Medlemmer!A:C,2,FALSE),\"\")","v":""},{"$f":"IFERROR(VLOOKUP(C2074,Tidligere_henvendelser!A:B,2,FALSE),\"\")","v":""}]
[{"$f":"ReplaceNumbers(C2075)","v":"Rygårds Alle"},{"$f":"_xlfn.NUMBERVALUE(FindNumbers(C2075))","v":42},"Rygårds Alle 42B","2900 Hellerup",10000000,"2022-03-08","Fam. Salg",69930,5,"Rækkehus",143,1953,{"$f":"IF(ISBLANK(VLOOKUP(A2075,Veje!A:B,2,FALSE)),INDEX(Veje!$D$2:$RT$652,MATCH(A2075,Veje!$A$2:$A$652,0),MATCH(B2075,Veje!$D$1:$RT$1,0)),VLOOKUP(A2075,Veje!A:B,2,FALSE))","v":"HMG"},{"$f":"IFERROR(VLOOKUP(C2075,Medlemmer!A:C,3,FALSE),\"\")","v":""},{"$f":"IFERROR(VLOOKUP(C2075,Medlemmer!A:C,2,FALSE),\"\")","v":""},{"$f":"IFERROR(VLOOKUP(C2075,Tidligere_henvendelser!A:B,2,FALSE),\"\")","v":""}]
[{"$f":"ReplaceNumbers(C2076)","v":"Brogårdsvej"},{"$f":"_xlfn.NUMBERVALUE(FindNumbers(C2076))","v":69},"Brogårdsvej 69, st. th","2820 Gentofte",2622500,"2022-03-09","Alm. Salg",39141,2,"Ejerlejlighed",67,1938,{"$f":"IF(ISBLANK(VLOOKUP(A2076,Veje!A:B,2,FALSE)),INDEX(Veje!$D$2:$RT$652,MATCH(A2076,Veje!$A$2:$A$652,0),MATCH(B2076,Veje!$D$1:$RT$1,0)),VLOOKUP(A2076,Veje!A:B,2,FALSE))","v":"GSG"},{"$f":"IFERROR(VLOOKUP(C2076,Medlemmer!A:C,3,FALSE),\"\")","v":""},{"$f":"IFERROR(VLOOKUP(C2076,Medlemmer!A:C,2,FALSE),\"\")","v":""},{"$f":"IFERROR(VLOOKUP(C2076,Tidligere_henvendelser!A:B,2,FALSE),\"\")","v":""}]
[{"$f":"ReplaceNumbers(C2077)","v":"Blidahpark"},{"$f":"_xlfn.NUMBERVALUE(FindNumbers(C2077))","v":16},"Blidahpark 16, 2. th","2900 Hellerup",3400000,"2022-03-09","Alm. Salg",55737,2,"Ejerlejlighed",61,1934,{"$f":"IF(ISBLANK(VLOOKUP(A2077,Veje!A:B,2,FALSE)),INDEX(Veje!$D$2:$RT$652,MATCH(A2077,Veje!$A$2:$A$652,0),MATCH(B2077,Veje!$D$1:$RT$1,0)),VLOOKUP(A2077,Veje!A:B,2,FALSE))","v":"HMG"},{"$f":"IFERROR(VLOOKUP(C2077,Medlemmer!A:C,3,FALSE),\"\")","v":""},{"$f":"IFERROR(VLOOKUP(C2077,Medlemmer!A:C,2,FALSE),\"\")","v":""},{"$f":"IFERROR(VLOOKUP(C2077,Tidligere_henvendelser!A:B,2,FALSE),\"\")","v":""}]
[{"$f":"ReplaceNumbers(C2078)","v":"Emilievej"},{"$f":"_xlfn.NUMBERVALUE(FindNumbers(C2078))","v":11},"Emilievej 11A","2920 Charlottenlund",9255000,"2022-03-09","Alm. Salg",60888,4,"Rækkehus",152,1885,{"$f":"IF(ISBLANK(VLOOKUP(A2078,Veje!A:B,2,FALSE)),INDEX(Veje!$D$2:$RT$652,MATCH(A2078,Veje!$A$2:$A$652,0),MATCH(B2078,Veje!$D$1:$RT$1,0)),VLOOKUP(A2078,Veje!A:B,2,FALSE))","v":"OCG"},{"$f":"IFERROR(VLOOKUP(C2078,Medlemmer!A:C,3,FALSE),\"\")","v":""},{"$f":"IFERROR(VLOOKUP(C2078,Medlemmer!A:C,2,FALSE),\"\")","v":""},{"$f":"IFERROR(VLOOKUP(C2078,Tidligere_henvendelser!A:B,2,FALSE),\"\")","v":""}]
[{"$f":"ReplaceNumbers(C2079)","v":"Emilievej"},{"$f":"_xlfn.NUMBERVALUE(FindNumbers(C2079))","v":11},"Emilievej 11B","2920 Charlottenlund",9255000,"2022-03-09","Alm. Salg",59709,5,"Rækkehus",155,1885,{"$f":"IF(ISBLANK(VLOOKUP(A2079,Veje!A:B,2,FALSE)),INDEX(Veje!$D$2:$RT$652,MATCH(A2079,Veje!$A$2:$A$652,0),MATCH(B2079,Veje!$D$1:$RT$1,0)),VLOOKUP(A2079,Veje!A:B,2,FALSE))","v":"OCG"},{"$f":"IFERROR(VLOOKUP(C2079,Medlemmer!A:C,3,FALSE),\"\")","v":""},{"$f":"IFERROR(VLOOKUP(C2079,Medlemmer!A:C,2,FALSE),\"\")","v":""},{"$f":"IFERROR(VLOOKUP(C2079,Tidligere_henvendelser!A:B,2,FALSE),\"\")","v":""}]
[{"$f":"ReplaceNumbers(C2080)","v":"Kirkehøj"},{"$f":"_xlfn.NUMBERVALUE(FindNumbers(C2080))","v":18},"Kirkehøj 18","2900 Hellerup",8750000,"2022-03-09","Alm. Salg",83333,3,"Villa",105,1933,{"$f":"IF(ISBLANK(VLOOKUP(A2080,Veje!A:B,2,FALSE)),INDEX(Veje!$D$2:$RT$652,MATCH(A2080,Veje!$A$2:$A$652,0),MATCH(B2080,Veje!$D$1:$RT$1,0)),VLOOKUP(A2080,Veje!A:B,2,FALSE))","v":"GSG"},{"$f":"IFERROR(VLOOKUP(C2080,Medlemmer!A:C,3,FALSE),\"\")","v":""},{"$f":"IFERROR(VLOOKUP(C2080,Medlemmer!A:C,2,FALSE),\"\")","v":""},{"$f":"IFERROR(VLOOKUP(C2080,Tidligere_henvendelser!A:B,2,FALSE),\"\")","v":""}]
[{"$f":"ReplaceNumbers(C2081)","v":"Brannersvej"},{"$f":"_xlfn.NUMBERVALUE(FindNumbers(C2081))","v":7},"Brannersvej 7, st. th","2920 Charlottenlund",4400000,"2022-03-09","Alm. Salg",45360,4,"Ejerlejlighed",97,1935,{"$f":"IF(ISBLANK(VLOOKUP(A2081,Veje!A:B,2,FALSE)),INDEX(Veje!$D$2:$RT$652,MATCH(A2081,Veje!$A$2:$A$652,0),MATCH(B2081,Veje!$D$1:$RT$1,0)),VLOOKUP(A2081,Veje!A:B,2,FALSE))","v":"OCG"},{"$f":"IFERROR(VLOOKUP(C2081,Medlemmer!A:C,3,FALSE),\"\")","v":""},{"$f":"IFERROR(VLOOKUP(C2081,Medlemmer!A:C,2,FALSE),\"\")","v":""},{"$f":"IFERROR(VLOOKUP(C2081,Tidligere_henvendelser!A:B,2,FALSE),\"\")","v":""}]
[{"$f":"ReplaceNumbers(C2082)","v":"Lille Strandvej"},{"$f":"_xlfn.NUMBERVALUE(FindNumbers(C2082))","v":24},"Lille Strandvej 24","2900 Hellerup",5175000,"2022-03-09","Andet",32961,7,"Villa",157,1890,{"$f":"IF(ISBLANK(VLOOKUP(A2082,Veje!A:B,2,FALSE)),INDEX(Veje!$D$2:$RT$652,MATCH(A2082,Veje!$A$2:$A$652,0),MATCH(B2082,Veje!$D$1:$RT$1,0)),VLOOKUP(A2082,Veje!A:B,2,FALSE))","v":"HMG"},{"$f":"IFERROR(VLOOKUP(C2082,Medlemmer!A:C,3,FALSE),\"\")","v":""},{"$f":"IFERROR(VLOOKUP(C2082,Medlemmer!A:C,2,FALSE),\"\")","v":""},{"$f":"IFERROR(VLOOKUP(C2082,Tidligere_henvendelser!A:B,2,FALSE),\"\")","v":""}]
[{"$f":"ReplaceNumbers(C2083)","v":"Ermelundsvej"},{"$f":"_xlfn.NUMBERVALUE(FindNumbers(C2083))","v":30},"Ermelundsvej 30","2820 Gentofte",10000000,"2022-03-10","Alm. Salg",51813,7,"Villa",193,1960,{"$f":"IF(ISBLANK(VLOOKUP(A2083,Veje!A:B,2,FALSE)),INDEX(Veje!$D$2:$RT$652,MATCH(A2083,Veje!$A$2:$A$652,0),MATCH(B2083,Veje!$D$1:$RT$1,0)),VLOOKUP(A2083,Veje!A:B,2,FALSE))","v":"BJGF"},{"$f":"IFERROR(VLOOKUP(C2083,Medlemmer!A:C,3,FALSE),\"\")","v":""},{"$f":"IFERROR(VLOOKUP(C2083,Medlemmer!A:C,2,FALSE),\"\")","v":""},{"$f":"IFERROR(VLOOKUP(C2083,Tidligere_henvendelser!A:B,2,FALSE),\"\")","v":""}]
[{"$f":"ReplaceNumbers(C2084)","v":"Vangedevej"},{"$f":"_xlfn.NUMBERVALUE(FindNumbers(C2084))","v":224},"Vangedevej 224B, st. th","2870 Dyssegård ",799000,"2022-03-10","Alm. Salg",13098,2,"Ejerlejlighed",61,1948,{"$f":"IF(ISBLANK(VLOOKUP(A2084,Veje!A:B,2,FALSE)),INDEX(Veje!$D$2:$RT$652,MATCH(A2084,Veje!$A$2:$A$652,0),MATCH(B2084,Veje!$D$1:$RT$1,0)),VLOOKUP(A2084,Veje!A:B,2,FALSE))","v":"DY"},{"$f":"IFERROR(VLOOKUP(C2084,Medlemmer!A:C,3,FALSE),\"\")","v":""},{"$f":"IFERROR(VLOOKUP(C2084,Medlemmer!A:C,2,FALSE),\"\")","v":""},{"$f":"IFERROR(VLOOKUP(C2084,Tidligere_henvendelser!A:B,2,FALSE),\"\")","v":""}]
[{"$f":"ReplaceNumbers(C2085)","v":"Søndersøvej"},{"$f":"_xlfn.NUMBERVALUE(FindNumbers(C2085))","v":2},"Søndersøvej 2","2820 Gentofte",5250000,"2022-03-10","Fam. Salg",29166,6,"Villa",180,1952,{"$f":"IF(ISBLANK(VLOOKUP(A2085,Veje!A:B,2,FALSE)),INDEX(Veje!$D$2:$RT$652,MATCH(A2085,Veje!$A$2:$A$652,0),MATCH(B2085,Veje!$D$1:$RT$1,0)),VLOOKUP(A2085,Veje!A:B,2,FALSE))","v":"BJGF"},{"$f":"IFERROR(VLOOKUP(C2085,Medlemmer!A:C,3,FALSE),\"\")","v":""},{"$f":"IFERROR(VLOOKUP(C2085,Medlemmer!A:C,2,FALSE),\"\")","v":""},{"$f":"IFERROR(VLOOKUP(C2085,Tidligere_henvendelser!A:B,2,FALSE),\"\")","v":""}]
[{"$f":"ReplaceNumbers(C2086)","v":"Løvspringsvej"},{"$f":"_xlfn.NUMBERVALUE(FindNumbers(C2086))","v":4},"Løvspringsvej 4B, st. tv","2920 Charlottenlund",1850000,"2022-03-13","Alm. Salg",31355,1,"Ejerlejlighed",59,1950,{"$f":"IF(ISBLANK(VLOOKUP(A2086,Veje!A:B,2,FALSE)),INDEX(Veje!$D$2:$RT$652,MATCH(A2086,Veje!$A$2:$A$652,0),MATCH(B2086,Veje!$D$1:$RT$1,0)),VLOOKUP(A2086,Veje!A:B,2,FALSE))","v":"OCG"},{"$f":"IFERROR(VLOOKUP(C2086,Medlemmer!A:C,3,FALSE),\"\")","v":""},{"$f":"IFERROR(VLOOKUP(C2086,Medlemmer!A:C,2,FALSE),\"\")","v":""},{"$f":"IFERROR(VLOOKUP(C2086,Tidligere_henvendelser!A:B,2,FALSE),\"\")","v":""}]
[{"$f":"ReplaceNumbers(C2087)","v":"Broholms Alle"},{"$f":"_xlfn.NUMBERVALUE(FindNumbers(C2087))","v":13},"Broholms Alle 13C, st. th","2920 Charlottenlund",4200000,"2022-03-13","Alm. Salg",50602,4,"Ejerlejlighed",83,1939,{"$f":"IF(ISBLANK(VLOOKUP(A2087,Veje!A:B,2,FALSE)),INDEX(Veje!$D$2:$RT$652,MATCH(A2087,Veje!$A$2:$A$652,0),MATCH(B2087,Veje!$D$1:$RT$1,0)),VLOOKUP(A2087,Veje!A:B,2,FALSE))","v":"SKGF"},{"$f":"IFERROR(VLOOKUP(C2087,Medlemmer!A:C,3,FALSE),\"\")","v":""},{"$f":"IFERROR(VLOOKUP(C2087,Medlemmer!A:C,2,FALSE),\"\")","v":""},{"$f":"IFERROR(VLOOKUP(C2087,Tidligere_henvendelser!A:B,2,FALSE),\"\")","v":""}]
[{"$f":"ReplaceNumbers(C2088)","v":"C L Ibsens Vej"},{"$f":"_xlfn.NUMBERVALUE(FindNumbers(C2088))","v":26},"C L Ibsens Vej 26, st","2820 Gentofte",7225000,"2022-03-14","Alm. Salg",52737,4,"Ejerlejlighed",137,1905,{"$f":"IF(ISBLANK(VLOOKUP(A2088,Veje!A:B,2,FALSE)),INDEX(Veje!$D$2:$RT$652,MATCH(A2088,Veje!$A$2:$A$652,0),MATCH(B2088,Veje!$D$1:$RT$1,0)),VLOOKUP(A2088,Veje!A:B,2,FALSE))","v":"GSG"},{"$f":"IFERROR(VLOOKUP(C2088,Medlemmer!A:C,3,FALSE),\"\")","v":""},{"$f":"IFERROR(VLOOKUP(C2088,Medlemmer!A:C,2,FALSE),\"\")","v":""},{"$f":"IFERROR(VLOOKUP(C2088,Tidligere_henvendelser!A:B,2,FALSE),\"\")","v":""}]
[{"$f":"ReplaceNumbers(C2089)","v":"C L Ibsens Vej"},{"$f":"_xlfn.NUMBERVALUE(FindNumbers(C2089))","v":26},"C L Ibsens Vej 26, 1","2820 Gentofte",7225000,"2022-03-14","Alm. Salg",62826,4,"Ejerlejlighed",115,1905,{"$f":"IF(ISBLANK(VLOOKUP(A2089,Veje!A:B,2,FALSE)),INDEX(Veje!$D$2:$RT$652,MATCH(A2089,Veje!$A$2:$A$652,0),MATCH(B2089,Veje!$D$1:$RT$1,0)),VLOOKUP(A2089,Veje!A:B,2,FALSE))","v":"GSG"},{"$f":"IFERROR(VLOOKUP(C2089,Medlemmer!A:C,3,FALSE),\"\")","v":""},{"$f":"IFERROR(VLOOKUP(C2089,Medlemmer!A:C,2,FALSE),\"\")","v":""},{"$f":"IFERROR(VLOOKUP(C2089,Tidligere_henvendelser!A:B,2,FALSE),\"\")","v":""}]
[{"$f":"ReplaceNumbers(C2090)","v":"Højsgårds Alle"},{"$f":"_xlfn.NUMBERVALUE(FindNumbers(C2090))","v":19},"Højsgårds Alle 19B, st","2900 Hellerup",6000000,"2022-03-15","Alm. Salg",56603,4,"Ejerlejlighed",106,1940,{"$f":"IF(ISBLANK(VLOOKUP(A2090,Veje!A:B,2,FALSE)),INDEX(Veje!$D$2:$RT$652,MATCH(A2090,Veje!$A$2:$A$652,0),MATCH(B2090,Veje!$D$1:$RT$1,0)),VLOOKUP(A2090,Veje!A:B,2,FALSE))","v":"DY"},{"$f":"IFERROR(VLOOKUP(C2090,Medlemmer!A:C,3,FALSE),\"\")","v":""},{"$f":"IFERROR(VLOOKUP(C2090,Medlemmer!A:C,2,FALSE),\"\")","v":""},{"$f":"IFERROR(VLOOKUP(C2090,Tidligere_henvendelser!A:B,2,FALSE),\"\")","v":""}]
[{"$f":"ReplaceNumbers(C2091)","v":"Højsgårds Alle"},{"$f":"_xlfn.NUMBERVALUE(FindNumbers(C2091))","v":19},"Højsgårds Alle 19B, 1","2900 Hellerup",6000000,"2022-03-15","Alm. Salg",61224,3,"Ejerlejlighed",98,1940,{"$f":"IF(ISBLANK(VLOOKUP(A2091,Veje!A:B,2,FALSE)),INDEX(Veje!$D$2:$RT$652,MATCH(A2091,Veje!$A$2:$A$652,0),MATCH(B2091,Veje!$D$1:$RT$1,0)),VLOOKUP(A2091,Veje!A:B,2,FALSE))","v":"DY"},{"$f":"IFERROR(VLOOKUP(C2091,Medlemmer!A:C,3,FALSE),\"\")","v":""},{"$f":"IFERROR(VLOOKUP(C2091,Medlemmer!A:C,2,FALSE),\"\")","v":""},{"$f":"IFERROR(VLOOKUP(C2091,Tidligere_henvendelser!A:B,2,FALSE),\"\")","v":""}]
[{"$f":"ReplaceNumbers(C2092)","v":"Skjoldagervej"},{"$f":"_xlfn.NUMBERVALUE(FindNumbers(C2092))","v":90},"Skjoldagervej 90, 1. tv","2820 Gentofte",1020000,"2022-03-15","Fam. Salg",14166,3,"Ejerlejlighed",72,1953,{"$f":"IF(ISBLANK(VLOOKUP(A2092,Veje!A:B,2,FALSE)),INDEX(Veje!$D$2:$RT$652,MATCH(A2092,Veje!$A$2:$A$652,0),MATCH(B2092,Veje!$D$1:$RT$1,0)),VLOOKUP(A2092,Veje!A:B,2,FALSE))","v":"BJGF"},{"$f":"IFERROR(VLOOKUP(C2092,Medlemmer!A:C,3,FALSE),\"\")","v":""},{"$f":"IFERROR(VLOOKUP(C2092,Medlemmer!A:C,2,FALSE),\"\")","v":""},{"$f":"IFERROR(VLOOKUP(C2092,Tidligere_henvendelser!A:B,2,FALSE),\"\")","v":""}]
[{"$f":"ReplaceNumbers(C2093)","v":"Vangedevej"},{"$f":"_xlfn.NUMBERVALUE(FindNumbers(C2093))","v":232},"Vangedevej 232B, 3. tv","2870 Dyssegård ",2950000,"2022-03-15","Alm. Salg",38815,3,"Ejerlejlighed",76,1943,{"$f":"IF(ISBLANK(VLOOKUP(A2093,Veje!A:B,2,FALSE)),INDEX(Veje!$D$2:$RT$652,MATCH(A2093,Veje!$A$2:$A$652,0),MATCH(B2093,Veje!$D$1:$RT$1,0)),VLOOKUP(A2093,Veje!A:B,2,FALSE))","v":"DY"},{"$f":"IFERROR(VLOOKUP(C2093,Medlemmer!A:C,3,FALSE),\"\")","v":""},{"$f":"IFERROR(VLOOKUP(C2093,Medlemmer!A:C,2,FALSE),\"\")","v":""},{"$f":"IFERROR(VLOOKUP(C2093,Tidligere_henvendelser!A:B,2,FALSE),\"\")","v":""}]
[{"$f":"ReplaceNumbers(C2094)","v":"Baunegårdsvej"},{"$f":"_xlfn.NUMBERVALUE(FindNumbers(C2094))","v":67},"Baunegårdsvej 67D","2900 Hellerup",11100000,"2022-03-16","Alm. Salg",79285,4,"Rækkehus",140,1931,{"$f":"IF(ISBLANK(VLOOKUP(A2094,Veje!A:B,2,FALSE)),INDEX(Veje!$D$2:$RT$652,MATCH(A2094,Veje!$A$2:$A$652,0),MATCH(B2094,Veje!$D$1:$RT$1,0)),VLOOKUP(A2094,Veje!A:B,2,FALSE))","v":"GSG"},{"$f":"IFERROR(VLOOKUP(C2094,Medlemmer!A:C,3,FALSE),\"\")","v":""},{"$f":"IFERROR(VLOOKUP(C2094,Medlemmer!A:C,2,FALSE),\"\")","v":""},{"$f":"IFERROR(VLOOKUP(C2094,Tidligere_henvendelser!A:B,2,FALSE),\"\")","v":""}]
[{"$f":"ReplaceNumbers(C2095)","v":"Rakelsvej"},{"$f":"_xlfn.NUMBERVALUE(FindNumbers(C2095))","v":3},"Rakelsvej 3, 2. th","2900 Hellerup",6150000,"2022-03-17","Alm. Salg",66129,4,"Ejerlejlighed",93,1929,{"$f":"IF(ISBLANK(VLOOKUP(A2095,Veje!A:B,2,FALSE)),INDEX(Veje!$D$2:$RT$652,MATCH(A2095,Veje!$A$2:$A$652,0),MATCH(B2095,Veje!$D$1:$RT$1,0)),VLOOKUP(A2095,Veje!A:B,2,FALSE))","v":"HMG"},{"$f":"IFERROR(VLOOKUP(C2095,Medlemmer!A:C,3,FALSE),\"\")","v":""},{"$f":"IFERROR(VLOOKUP(C2095,Medlemmer!A:C,2,FALSE),\"\")","v":""},{"$f":"IFERROR(VLOOKUP(C2095,Tidligere_henvendelser!A:B,2,FALSE),\"\")","v":""}]
[{"$f":"ReplaceNumbers(C2096)","v":"Tværbommen"},{"$f":"_xlfn.NUMBERVALUE(FindNumbers(C2096))","v":45},"Tværbommen 45, 2. tv","2820 Gentofte",2350000,"2022-03-17","Alm. Salg",35606,3,"Ejerlejlighed",66,1946,{"$f":"IF(ISBLANK(VLOOKUP(A2096,Veje!A:B,2,FALSE)),INDEX(Veje!$D$2:$RT$652,MATCH(A2096,Veje!$A$2:$A$652,0),MATCH(B2096,Veje!$D$1:$RT$1,0)),VLOOKUP(A2096,Veje!A:B,2,FALSE))","v":"GSG"},{"$f":"IFERROR(VLOOKUP(C2096,Medlemmer!A:C,3,FALSE),\"\")","v":""},{"$f":"IFERROR(VLOOKUP(C2096,Medlemmer!A:C,2,FALSE),\"\")","v":""},{"$f":"IFERROR(VLOOKUP(C2096,Tidligere_henvendelser!A:B,2,FALSE),\"\")","v":""}]
[{"$f":"ReplaceNumbers(C2097)","v":"Parkvænget"},{"$f":"_xlfn.NUMBERVALUE(FindNumbers(C2097))","v":32},"Parkvænget 32","2920 Charlottenlund",17000000,"2022-03-20","Alm. Salg",82125,6,"Rækkehus",207,1931,{"$f":"IF(ISBLANK(VLOOKUP(A2097,Veje!A:B,2,FALSE)),INDEX(Veje!$D$2:$RT$652,MATCH(A2097,Veje!$A$2:$A$652,0),MATCH(B2097,Veje!$D$1:$RT$1,0)),VLOOKUP(A2097,Veje!A:B,2,FALSE))","v":"HMG"},{"$f":"IFERROR(VLOOKUP(C2097,Medlemmer!A:C,3,FALSE),\"\")","v":""},{"$f":"IFERROR(VLOOKUP(C2097,Medlemmer!A:C,2,FALSE),\"\")","v":""},{"$f":"IFERROR(VLOOKUP(C2097,Tidligere_henvendelser!A:B,2,FALSE),\"\")","v":""}]
[{"$f":"ReplaceNumbers(C2098)","v":"Rågevej"},{"$f":"_xlfn.NUMBERVALUE(FindNumbers(C2098))","v":13},"Rågevej 13","2900 Hellerup",15250000,"2022-03-21","Alm. Salg",81117,5,"Villa",188,1931,{"$f":"IF(ISBLANK(VLOOKUP(A2098,Veje!A:B,2,FALSE)),INDEX(Veje!$D$2:$RT$652,MATCH(A2098,Veje!$A$2:$A$652,0),MATCH(B2098,Veje!$D$1:$RT$1,0)),VLOOKUP(A2098,Veje!A:B,2,FALSE))","v":"HMG"},{"$f":"IFERROR(VLOOKUP(C2098,Medlemmer!A:C,3,FALSE),\"\")","v":""},{"$f":"IFERROR(VLOOKUP(C2098,Medlemmer!A:C,2,FALSE),\"\")","v":""},{"$f":"IFERROR(VLOOKUP(C2098,Tidligere_henvendelser!A:B,2,FALSE),\"\")","v":""}]
[{"$f":"ReplaceNumbers(C2099)","v":"Hyldegårdsvej"},{"$f":"_xlfn.NUMBERVALUE(FindNumbers(C2099))","v":12},"Hyldegårdsvej 12, 1. 4","2920 Charlottenlund",2295000,"2022-03-21","Alm. Salg",40263,2,"Ejerlejlighed",57,1959,{"$f":"IF(ISBLANK(VLOOKUP(A2099,Veje!A:B,2,FALSE)),INDEX(Veje!$D$2:$RT$652,MATCH(A2099,Veje!$A$2:$A$652,0),MATCH(B2099,Veje!$D$1:$RT$1,0)),VLOOKUP(A2099,Veje!A:B,2,FALSE))","v":"OCG"},{"$f":"IFERROR(VLOOKUP(C2099,Medlemmer!A:C,3,FALSE),\"\")","v":""},{"$f":"IFERROR(VLOOKUP(C2099,Medlemmer!A:C,2,FALSE),\"\")","v":""},{"$f":"IFERROR(VLOOKUP(C2099,Tidligere_henvendelser!A:B,2,FALSE),\"\")","v":""}]
[{"$f":"ReplaceNumbers(C2100)","v":"Udsigten"},{"$f":"_xlfn.NUMBERVALUE(FindNumbers(C2100))","v":13},"Udsigten 13A","2820 Gentofte",13650000,"2022-03-22","Alm. Salg",66262,5,"Rækkehus",206,1988,{"$f":"IF(ISBLANK(VLOOKUP(A2100,Veje!A:B,2,FALSE)),INDEX(Veje!$D$2:$RT$652,MATCH(A2100,Veje!$A$2:$A$652,0),MATCH(B2100,Veje!$D$1:$RT$1,0)),VLOOKUP(A2100,Veje!A:B,2,FALSE))","v":"GSG"},{"$f":"IFERROR(VLOOKUP(C2100,Medlemmer!A:C,3,FALSE),\"\")","v":""},{"$f":"IFERROR(VLOOKUP(C2100,Medlemmer!A:C,2,FALSE),\"\")","v":""},{"$f":"IFERROR(VLOOKUP(C2100,Tidligere_henvendelser!A:B,2,FALSE),\"\")","v":""}]
[{"$f":"ReplaceNumbers(C2101)","v":"Fragariavej"},{"$f":"_xlfn.NUMBERVALUE(FindNumbers(C2101))","v":10},"Fragariavej 10","2900 Hellerup",10250000,"2022-03-22","Alm. Salg",59593,6,"Villa",172,1931,{"$f":"IF(ISBLANK(VLOOKUP(A2101,Veje!A:B,2,FALSE)),INDEX(Veje!$D$2:$RT$652,MATCH(A2101,Veje!$A$2:$A$652,0),MATCH(B2101,Veje!$D$1:$RT$1,0)),VLOOKUP(A2101,Veje!A:B,2,FALSE))","v":"GSG"},{"$f":"IFERROR(VLOOKUP(C2101,Medlemmer!A:C,3,FALSE),\"\")","v":""},{"$f":"IFERROR(VLOOKUP(C2101,Medlemmer!A:C,2,FALSE),\"\")","v":""},{"$f":"IFERROR(VLOOKUP(C2101,Tidligere_henvendelser!A:B,2,FALSE),\"\")","v":""}]
[{"$f":"ReplaceNumbers(C2102)","v":"Strandvejen"},{"$f":"_xlfn.NUMBERVALUE(FindNumbers(C2102))","v":279},"Strandvejen 279A","2920 Charlottenlund",5800000,"2022-03-22","Alm. Salg",73417,3,"Rækkehus",79,1905,{"$f":"IF(ISBLANK(VLOOKUP(A2102,Veje!A:B,2,FALSE)),INDEX(Veje!$D$2:$RT$652,MATCH(A2102,Veje!$A$2:$A$652,0),MATCH(B2102,Veje!$D$1:$RT$1,0)),VLOOKUP(A2102,Veje!A:B,2,FALSE))","v":"Skovshoved By"},{"$f":"IFERROR(VLOOKUP(C2102,Medlemmer!A:C,3,FALSE),\"\")","v":""},{"$f":"IFERROR(VLOOKUP(C2102,Medlemmer!A:C,2,FALSE),\"\")","v":""},{"$f":"IFERROR(VLOOKUP(C2102,Tidligere_henvendelser!A:B,2,FALSE),\"\")","v":""}]
[{"$f":"ReplaceNumbers(C2103)","v":"Strandvejen"},{"$f":"_xlfn.NUMBERVALUE(FindNumbers(C2103))","v":279},"Strandvejen 279C","2920 Charlottenlund",10025000,"2022-03-22","Alm. Salg",95476,3,"Villa",105,1885,{"$f":"IF(ISBLANK(VLOOKUP(A2103,Veje!A:B,2,FALSE)),INDEX(Veje!$D$2:$RT$652,MATCH(A2103,Veje!$A$2:$A$652,0),MATCH(B2103,Veje!$D$1:$RT$1,0)),VLOOKUP(A2103,Veje!A:B,2,FALSE))","v":"Skovshoved By"},{"$f":"IFERROR(VLOOKUP(C2103,Medlemmer!A:C,3,FALSE),\"\")","v":""},{"$f":"IFERROR(VLOOKUP(C2103,Medlemmer!A:C,2,FALSE),\"\")","v":""},{"$f":"IFERROR(VLOOKUP(C2103,Tidligere_henvendelser!A:B,2,FALSE),\"\")","v":""}]
[{"$f":"ReplaceNumbers(C2104)","v":"Hellerupvej"},{"$f":"_xlfn.NUMBERVALUE(FindNumbers(C2104))","v":51},"Hellerupvej 51D, 1. th","2900 Hellerup",8000000,"2022-03-22","Alm. Salg",54421,5,"Ejerlejlighed",147,1930,{"$f":"IF(ISBLANK(VLOOKUP(A2104,Veje!A:B,2,FALSE)),INDEX(Veje!$D$2:$RT$652,MATCH(A2104,Veje!$A$2:$A$652,0),MATCH(B2104,Veje!$D$1:$RT$1,0)),VLOOKUP(A2104,Veje!A:B,2,FALSE))","v":"HMG"},{"$f":"IFERROR(VLOOKUP(C2104,Medlemmer!A:C,3,FALSE),\"\")","v":""},{"$f":"IFERROR(VLOOKUP(C2104,Medlemmer!A:C,2,FALSE),\"\")","v":""},{"$f":"IFERROR(VLOOKUP(C2104,Tidligere_henvendelser!A:B,2,FALSE),\"\")","v":""}]
[{"$f":"ReplaceNumbers(C2105)","v":"Prins Valdemars Vej"},{"$f":"_xlfn.NUMBERVALUE(FindNumbers(C2105))","v":56},"Prins Valdemars Vej 56","2820 Gentofte",13500000,"2022-03-23","Alm. Salg",95744,5,"Villa",141,1945,{"$f":"IF(ISBLANK(VLOOKUP(A2105,Veje!A:B,2,FALSE)),INDEX(Veje!$D$2:$RT$652,MATCH(A2105,Veje!$A$2:$A$652,0),MATCH(B2105,Veje!$D$1:$RT$1,0)),VLOOKUP(A2105,Veje!A:B,2,FALSE))","v":"BJGF"},{"$f":"IFERROR(VLOOKUP(C2105,Medlemmer!A:C,3,FALSE),\"\")","v":""},{"$f":"IFERROR(VLOOKUP(C2105,Medlemmer!A:C,2,FALSE),\"\")","v":""},{"$f":"IFERROR(VLOOKUP(C2105,Tidligere_henvendelser!A:B,2,FALSE),\"\")","v":""}]
[{"$f":"ReplaceNumbers(C2106)","v":"Alrunevej"},{"$f":"_xlfn.NUMBERVALUE(FindNumbers(C2106))","v":15},"Alrunevej 15","2900 Hellerup",8575000,"2022-03-23","Alm. Salg",55322,6,"Villa",155,1942,{"$f":"IF(ISBLANK(VLOOKUP(A2106,Veje!A:B,2,FALSE)),INDEX(Veje!$D$2:$RT$652,MATCH(A2106,Veje!$A$2:$A$652,0),MATCH(B2106,Veje!$D$1:$RT$1,0)),VLOOKUP(A2106,Veje!A:B,2,FALSE))","v":"DY"},{"$f":"IFERROR(VLOOKUP(C2106,Medlemmer!A:C,3,FALSE),\"\")","v":""},{"$f":"IFERROR(VLOOKUP(C2106,Medlemmer!A:C,2,FALSE),\"\")","v":""},{"$f":"IFERROR(VLOOKUP(C2106,Tidligere_henvendelser!A:B,2,FALSE),\"\")","v":""}]
[{"$f":"ReplaceNumbers(C2107)","v":"Tranegårdsvej"},{"$f":"_xlfn.NUMBERVALUE(FindNumbers(C2107))","v":58},"Tranegårdsvej 58, 3. th","2900 Hellerup",2200000,"2022-03-23","Alm. Salg",32835,2,"Ejerlejlighed",67,1919,{"$f":"IF(ISBLANK(VLOOKUP(A2107,Veje!A:B,2,FALSE)),INDEX(Veje!$D$2:$RT$652,MATCH(A2107,Veje!$A$2:$A$652,0),MATCH(B2107,Veje!$D$1:$RT$1,0)),VLOOKUP(A2107,Veje!A:B,2,FALSE))","v":"HMG"},{"$f":"IFERROR(VLOOKUP(C2107,Medlemmer!A:C,3,FALSE),\"\")","v":""},{"$f":"IFERROR(VLOOKUP(C2107,Medlemmer!A:C,2,FALSE),\"\")","v":""},{"$f":"IFERROR(VLOOKUP(C2107,Tidligere_henvendelser!A:B,2,FALSE),\"\")","v":""}]
[{"$f":"ReplaceNumbers(C2108)","v":"Ordrupvej"},{"$f":"_xlfn.NUMBERVALUE(FindNumbers(C2108))","v":98},"Ordrupvej 98E, 2. th","2920 Charlottenlund",1320000,"2022-03-23","Fam. Salg",22758,2,"Ejerlejlighed",58,1934,{"$f":"IF(ISBLANK(VLOOKUP(A2108,Veje!A:B,2,FALSE)),INDEX(Veje!$D$2:$RT$652,MATCH(A2108,Veje!$A$2:$A$652,0),MATCH(B2108,Veje!$D$1:$RT$1,0)),VLOOKUP(A2108,Veje!A:B,2,FALSE))","v":"OCG"},{"$f":"IFERROR(VLOOKUP(C2108,Medlemmer!A:C,3,FALSE),\"\")","v":""},{"$f":"IFERROR(VLOOKUP(C2108,Medlemmer!A:C,2,FALSE),\"\")","v":""},{"$f":"IFERROR(VLOOKUP(C2108,Tidligere_henvendelser!A:B,2,FALSE),\"\")","v":""}]
[{"$f":"ReplaceNumbers(C2109)","v":"Heilsmindevej"},{"$f":"_xlfn.NUMBERVALUE(FindNumbers(C2109))","v":5},"Heilsmindevej 5","2920 Charlottenlund",18375000,"2022-03-23","Alm. Salg",87085,5,"Villa",211,1927,{"$f":"IF(ISBLANK(VLOOKUP(A2109,Veje!A:B,2,FALSE)),INDEX(Veje!$D$2:$RT$652,MATCH(A2109,Veje!$A$2:$A$652,0),MATCH(B2109,Veje!$D$1:$RT$1,0)),VLOOKUP(A2109,Veje!A:B,2,FALSE))","v":"OCG"},{"$f":"IFERROR(VLOOKUP(C2109,Medlemmer!A:C,3,FALSE),\"\")","v":""},{"$f":"IFERROR(VLOOKUP(C2109,Medlemmer!A:C,2,FALSE),\"\")","v":""},{"$f":"IFERROR(VLOOKUP(C2109,Tidligere_henvendelser!A:B,2,FALSE),\"\")","v":""}]
[{"$f":"ReplaceNumbers(C2110)","v":"Strandparksvej"},{"$f":"_xlfn.NUMBERVALUE(FindNumbers(C2110))","v":24},"Strandparksvej 24, 4. th","2900 Hellerup",4650000,"2022-03-24","Alm. Salg",71538,3,"Ejerlejlighed",65,1905,{"$f":"IF(ISBLANK(VLOOKUP(A2110,Veje!A:B,2,FALSE)),INDEX(Veje!$D$2:$RT$652,MATCH(A2110,Veje!$A$2:$A$652,0),MATCH(B2110,Veje!$D$1:$RT$1,0)),VLOOKUP(A2110,Veje!A:B,2,FALSE))","v":"HMG"},{"$f":"IFERROR(VLOOKUP(C2110,Medlemmer!A:C,3,FALSE),\"\")","v":""},{"$f":"IFERROR(VLOOKUP(C2110,Medlemmer!A:C,2,FALSE),\"\")","v":""},{"$f":"IFERROR(VLOOKUP(C2110,Tidligere_henvendelser!A:B,2,FALSE),\"\")","v":""}]
[{"$f":"ReplaceNumbers(C2111)","v":"Tværbommen"},{"$f":"_xlfn.NUMBERVALUE(FindNumbers(C2111))","v":17},"Tværbommen 17, 2. th","2820 Gentofte",2250000,"2022-03-24","Alm. Salg",33088,3,"Ejerlejlighed",68,1946,{"$f":"IF(ISBLANK(VLOOKUP(A2111,Veje!A:B,2,FALSE)),INDEX(Veje!$D$2:$RT$652,MATCH(A2111,Veje!$A$2:$A$652,0),MATCH(B2111,Veje!$D$1:$RT$1,0)),VLOOKUP(A2111,Veje!A:B,2,FALSE))","v":"GSG"},{"$f":"IFERROR(VLOOKUP(C2111,Medlemmer!A:C,3,FALSE),\"\")","v":""},{"$f":"IFERROR(VLOOKUP(C2111,Medlemmer!A:C,2,FALSE),\"\")","v":""},{"$f":"IFERROR(VLOOKUP(C2111,Tidligere_henvendelser!A:B,2,FALSE),\"\")","v":""}]
[{"$f":"ReplaceNumbers(C2112)","v":"Jægersborg Alle"},{"$f":"_xlfn.NUMBERVALUE(FindNumbers(C2112))","v":239},"Jægersborg Alle 239, 1. mf","2820 Gentofte",1167000,"2022-03-24","Fam. Salg",21611,1,"Ejerlejlighed",54,1958,{"$f":"IF(ISBLANK(VLOOKUP(A2112,Veje!A:B,2,FALSE)),INDEX(Veje!$D$2:$RT$652,MATCH(A2112,Veje!$A$2:$A$652,0),MATCH(B2112,Veje!$D$1:$RT$1,0)),VLOOKUP(A2112,Veje!A:B,2,FALSE))","v":"BJGF"},{"$f":"IFERROR(VLOOKUP(C2112,Medlemmer!A:C,3,FALSE),\"\")","v":""},{"$f":"IFERROR(VLOOKUP(C2112,Medlemmer!A:C,2,FALSE),\"\")","v":""},{"$f":"IFERROR(VLOOKUP(C2112,Tidligere_henvendelser!A:B,2,FALSE),\"\")","v":""}]
[{"$f":"ReplaceNumbers(C2113)","v":"Tranegårdsvej"},{"$f":"_xlfn.NUMBERVALUE(FindNumbers(C2113))","v":58},"Tranegårdsvej 58, 2. tv","2900 Hellerup",2640000,"2022-03-24","Alm. Salg",44745,2,"Ejerlejlighed",59,1919,{"$f":"IF(ISBLANK(VLOOKUP(A2113,Veje!A:B,2,FALSE)),INDEX(Veje!$D$2:$RT$652,MATCH(A2113,Veje!$A$2:$A$652,0),MATCH(B2113,Veje!$D$1:$RT$1,0)),VLOOKUP(A2113,Veje!A:B,2,FALSE))","v":"HMG"},{"$f":"IFERROR(VLOOKUP(C2113,Medlemmer!A:C,3,FALSE),\"\")","v":""},{"$f":"IFERROR(VLOOKUP(C2113,Medlemmer!A:C,2,FALSE),\"\")","v":""},{"$f":"IFERROR(VLOOKUP(C2113,Tidligere_henvendelser!A:B,2,FALSE),\"\")","v":""}]
[{"$f":"ReplaceNumbers(C2114)","v":"Ordrupvej"},{"$f":"_xlfn.NUMBERVALUE(FindNumbers(C2114))","v":76},"Ordrupvej 76A, 2. tv","2920 Charlottenlund",2780000,"2022-03-24","Alm. Salg",44838,2,"Ejerlejlighed",62,1933,{"$f":"IF(ISBLANK(VLOOKUP(A2114,Veje!A:B,2,FALSE)),INDEX(Veje!$D$2:$RT$652,MATCH(A2114,Veje!$A$2:$A$652,0),MATCH(B2114,Veje!$D$1:$RT$1,0)),VLOOKUP(A2114,Veje!A:B,2,FALSE))","v":"OCG"},{"$f":"IFERROR(VLOOKUP(C2114,Medlemmer!A:C,3,FALSE),\"\")","v":""},{"$f":"IFERROR(VLOOKUP(C2114,Medlemmer!A:C,2,FALSE),\"\")","v":""},{"$f":"IFERROR(VLOOKUP(C2114,Tidligere_henvendelser!A:B,2,FALSE),\"\")","v":""}]
[{"$f":"ReplaceNumbers(C2115)","v":"Clarasvej"},{"$f":"_xlfn.NUMBERVALUE(FindNumbers(C2115))","v":4},"Clarasvej 4, 1. th","2920 Charlottenlund",4280000,"2022-03-24","Alm. Salg",43232,4,"Ejerlejlighed",99,1936,{"$f":"IF(ISBLANK(VLOOKUP(A2115,Veje!A:B,2,FALSE)),INDEX(Veje!$D$2:$RT$652,MATCH(A2115,Veje!$A$2:$A$652,0),MATCH(B2115,Veje!$D$1:$RT$1,0)),VLOOKUP(A2115,Veje!A:B,2,FALSE))","v":"OCG"},{"$f":"IFERROR(VLOOKUP(C2115,Medlemmer!A:C,3,FALSE),\"\")","v":""},{"$f":"IFERROR(VLOOKUP(C2115,Medlemmer!A:C,2,FALSE),\"\")","v":""},{"$f":"IFERROR(VLOOKUP(C2115,Tidligere_henvendelser!A:B,2,FALSE),\"\")","v":""}]
[{"$f":"ReplaceNumbers(C2116)","v":"Skjoldagervej"},{"$f":"_xlfn.NUMBERVALUE(FindNumbers(C2116))","v":80},"Skjoldagervej 80, st. mf","2820 Gentofte",1495000,"2022-03-26","Alm. Salg",45303,1,"Ejerlejlighed",33,1959,{"$f":"IF(ISBLANK(VLOOKUP(A2116,Veje!A:B,2,FALSE)),INDEX(Veje!$D$2:$RT$652,MATCH(A2116,Veje!$A$2:$A$652,0),MATCH(B2116,Veje!$D$1:$RT$1,0)),VLOOKUP(A2116,Veje!A:B,2,FALSE))","v":"BJGF"},{"$f":"IFERROR(VLOOKUP(C2116,Medlemmer!A:C,3,FALSE),\"\")","v":""},{"$f":"IFERROR(VLOOKUP(C2116,Medlemmer!A:C,2,FALSE),\"\")","v":""},{"$f":"IFERROR(VLOOKUP(C2116,Tidligere_henvendelser!A:B,2,FALSE),\"\")","v":""}]
[{"$f":"ReplaceNumbers(C2117)","v":"Høeghsmindevej"},{"$f":"_xlfn.NUMBERVALUE(FindNumbers(C2117))","v":79},"Høeghsmindevej 79","2820 Gentofte",13000000,"2022-03-27","Alm. Salg",55084,8,"Villa",236,1937,{"$f":"IF(ISBLANK(VLOOKUP(A2117,Veje!A:B,2,FALSE)),INDEX(Veje!$D$2:$RT$652,MATCH(A2117,Veje!$A$2:$A$652,0),MATCH(B2117,Veje!$D$1:$RT$1,0)),VLOOKUP(A2117,Veje!A:B,2,FALSE))","v":"GSG"},{"$f":"IFERROR(VLOOKUP(C2117,Medlemmer!A:C,3,FALSE),\"\")","v":""},{"$f":"IFERROR(VLOOKUP(C2117,Medlemmer!A:C,2,FALSE),\"\")","v":""},{"$f":"IFERROR(VLOOKUP(C2117,Tidligere_henvendelser!A:B,2,FALSE),\"\")","v":""}]
[{"$f":"ReplaceNumbers(C2118)","v":"Skovkrogen"},{"$f":"_xlfn.NUMBERVALUE(FindNumbers(C2118))","v":3},"Skovkrogen 3, 4. th","2920 Charlottenlund",3695000,"2022-03-27","Alm. Salg",55149,3,"Ejerlejlighed",67,1934,{"$f":"IF(ISBLANK(VLOOKUP(A2118,Veje!A:B,2,FALSE)),INDEX(Veje!$D$2:$RT$652,MATCH(A2118,Veje!$A$2:$A$652,0),MATCH(B2118,Veje!$D$1:$RT$1,0)),VLOOKUP(A2118,Veje!A:B,2,FALSE))","v":"OCG"},{"$f":"IFERROR(VLOOKUP(C2118,Medlemmer!A:C,3,FALSE),\"\")","v":""},{"$f":"IFERROR(VLOOKUP(C2118,Medlemmer!A:C,2,FALSE),\"\")","v":""},{"$f":"IFERROR(VLOOKUP(C2118,Tidligere_henvendelser!A:B,2,FALSE),\"\")","v":""}]
[{"$f":"ReplaceNumbers(C2119)","v":"Ordrupvej"},{"$f":"_xlfn.NUMBERVALUE(FindNumbers(C2119))","v":49},"Ordrupvej 49, 1. 103","2920 Charlottenlund",2650000,"2022-03-28","Alm. Salg",39552,2,"Ejerlejlighed",67,1971,{"$f":"IF(ISBLANK(VLOOKUP(A2119,Veje!A:B,2,FALSE)),INDEX(Veje!$D$2:$RT$652,MATCH(A2119,Veje!$A$2:$A$652,0),MATCH(B2119,Veje!$D$1:$RT$1,0)),VLOOKUP(A2119,Veje!A:B,2,FALSE))","v":"OCG"},{"$f":"IFERROR(VLOOKUP(C2119,Medlemmer!A:C,3,FALSE),\"\")","v":""},{"$f":"IFERROR(VLOOKUP(C2119,Medlemmer!A:C,2,FALSE),\"\")","v":""},{"$f":"IFERROR(VLOOKUP(C2119,Tidligere_henvendelser!A:B,2,FALSE),\"\")","v":""}]
[{"$f":"ReplaceNumbers(C2120)","v":"Rådhusvej"},{"$f":"_xlfn.NUMBERVALUE(FindNumbers(C2120))","v":65},"Rådhusvej 65, 1","2920 Charlottenlund",8500000,"2022-03-28","Alm. Salg",42500,8,"Ejerlejlighed",200,1912,{"$f":"IF(ISBLANK(VLOOKUP(A2120,Veje!A:B,2,FALSE)),INDEX(Veje!$D$2:$RT$652,MATCH(A2120,Veje!$A$2:$A$652,0),MATCH(B2120,Veje!$D$1:$RT$1,0)),VLOOKUP(A2120,Veje!A:B,2,FALSE))","v":"HMG"},{"$f":"IFERROR(VLOOKUP(C2120,Medlemmer!A:C,3,FALSE),\"\")","v":""},{"$f":"IFERROR(VLOOKUP(C2120,Medlemmer!A:C,2,FALSE),\"\")","v":""},{"$f":"IFERROR(VLOOKUP(C2120,Tidligere_henvendelser!A:B,2,FALSE),\"\")","v":""}]
[{"$f":"ReplaceNumbers(C2121)","v":"Rådhusvej"},{"$f":"_xlfn.NUMBERVALUE(FindNumbers(C2121))","v":65},"Rådhusvej 65, st","2920 Charlottenlund",8500000,"2022-03-28","Alm. Salg",60714,5,"Ejerlejlighed",140,1912,{"$f":"IF(ISBLANK(VLOOKUP(A2121,Veje!A:B,2,FALSE)),INDEX(Veje!$D$2:$RT$652,MATCH(A2121,Veje!$A$2:$A$652,0),MATCH(B2121,Veje!$D$1:$RT$1,0)),VLOOKUP(A2121,Veje!A:B,2,FALSE))","v":"HMG"},{"$f":"IFERROR(VLOOKUP(C2121,Medlemmer!A:C,3,FALSE),\"\")","v":""},{"$f":"IFERROR(VLOOKUP(C2121,Medlemmer!A:C,2,FALSE),\"\")","v":""},{"$f":"IFERROR(VLOOKUP(C2121,Tidligere_henvendelser!A:B,2,FALSE),\"\")","v":""}]
[{"$f":"ReplaceNumbers(C2122)","v":"Søgårdsvej"},{"$f":"_xlfn.NUMBERVALUE(FindNumbers(C2122))","v":7},"Søgårdsvej 7C, st. th","2820 Gentofte",2345000,"2022-03-28","Alm. Salg",44245,2,"Ejerlejlighed",53,1957,{"$f":"IF(ISBLANK(VLOOKUP(A2122,Veje!A:B,2,FALSE)),INDEX(Veje!$D$2:$RT$652,MATCH(A2122,Veje!$A$2:$A$652,0),MATCH(B2122,Veje!$D$1:$RT$1,0)),VLOOKUP(A2122,Veje!A:B,2,FALSE))","v":"GSG"},{"$f":"IFERROR(VLOOKUP(C2122,Medlemmer!A:C,3,FALSE),\"\")","v":""},{"$f":"IFERROR(VLOOKUP(C2122,Medlemmer!A:C,2,FALSE),\"\")","v":""},{"$f":"IFERROR(VLOOKUP(C2122,Tidligere_henvendelser!A:B,2,FALSE),\"\")","v":""}]
[{"$f":"ReplaceNumbers(C2123)","v":"Lyngbyvej"},{"$f":"_xlfn.NUMBERVALUE(FindNumbers(C2123))","v":351},"Lyngbyvej 351D","2820 Gentofte",4480000,"2022-03-28","Alm. Salg",38620,6,"Rækkehus",116,1942,{"$f":"IF(ISBLANK(VLOOKUP(A2123,Veje!A:B,2,FALSE)),INDEX(Veje!$D$2:$RT$652,MATCH(A2123,Veje!$A$2:$A$652,0),MATCH(B2123,Veje!$D$1:$RT$1,0)),VLOOKUP(A2123,Veje!A:B,2,FALSE))","v":"GSG"},{"$f":"IFERROR(VLOOKUP(C2123,Medlemmer!A:C,3,FALSE),\"\")","v":""},{"$f":"IFERROR(VLOOKUP(C2123,Medlemmer!A:C,2,FALSE),\"\")","v":""},{"$f":"IFERROR(VLOOKUP(C2123,Tidligere_henvendelser!A:B,2,FALSE),\"\")","v":""}]
[{"$f":"ReplaceNumbers(C2124)","v":"Vangede Bygade"},{"$f":"_xlfn.NUMBERVALUE(FindNumbers(C2124))","v":74},"Vangede Bygade 74, 1. 1","2820 Gentofte",1150000,"2022-03-28","Alm. Salg",31081,1,"Ejerlejlighed",37,1940,{"$f":"IF(ISBLANK(VLOOKUP(A2124,Veje!A:B,2,FALSE)),INDEX(Veje!$D$2:$RT$652,MATCH(A2124,Veje!$A$2:$A$652,0),MATCH(B2124,Veje!$D$1:$RT$1,0)),VLOOKUP(A2124,Veje!A:B,2,FALSE))","v":"GSG"},{"$f":"IFERROR(VLOOKUP(C2124,Medlemmer!A:C,3,FALSE),\"\")","v":""},{"$f":"IFERROR(VLOOKUP(C2124,Medlemmer!A:C,2,FALSE),\"\")","v":""},{"$f":"IFERROR(VLOOKUP(C2124,Tidligere_henvendelser!A:B,2,FALSE),\"\")","v":""}]
[{"$f":"ReplaceNumbers(C2125)","v":"Hellerupvej"},{"$f":"_xlfn.NUMBERVALUE(FindNumbers(C2125))","v":58},"Hellerupvej 58, 4. tv","2900 Hellerup",6775000,"2022-03-29","Alm. Salg",46724,5,"Ejerlejlighed",145,1930,{"$f":"IF(ISBLANK(VLOOKUP(A2125,Veje!A:B,2,FALSE)),INDEX(Veje!$D$2:$RT$652,MATCH(A2125,Veje!$A$2:$A$652,0),MATCH(B2125,Veje!$D$1:$RT$1,0)),VLOOKUP(A2125,Veje!A:B,2,FALSE))","v":"HMG"},{"$f":"IFERROR(VLOOKUP(C2125,Medlemmer!A:C,3,FALSE),\"\")","v":""},{"$f":"IFERROR(VLOOKUP(C2125,Medlemmer!A:C,2,FALSE),\"\")","v":""},{"$f":"IFERROR(VLOOKUP(C2125,Tidligere_henvendelser!A:B,2,FALSE),\"\")","v":""}]
[{"$f":"ReplaceNumbers(C2126)","v":"Phistersvej"},{"$f":"_xlfn.NUMBERVALUE(FindNumbers(C2126))","v":24},"Phistersvej 24, 1. th","2900 Hellerup",7850000,"2022-03-29","Alm. Salg",57299,4,"Ejerlejlighed",137,1927,{"$f":"IF(ISBLANK(VLOOKUP(A2126,Veje!A:B,2,FALSE)),INDEX(Veje!$D$2:$RT$652,MATCH(A2126,Veje!$A$2:$A$652,0),MATCH(B2126,Veje!$D$1:$RT$1,0)),VLOOKUP(A2126,Veje!A:B,2,FALSE))","v":"HMG"},{"$f":"IFERROR(VLOOKUP(C2126,Medlemmer!A:C,3,FALSE),\"\")","v":""},{"$f":"IFERROR(VLOOKUP(C2126,Medlemmer!A:C,2,FALSE),\"\")","v":""},{"$f":"IFERROR(VLOOKUP(C2126,Tidligere_henvendelser!A:B,2,FALSE),\"\")","v":""}]
[{"$f":"ReplaceNumbers(C2127)","v":"Rosavej"},{"$f":"_xlfn.NUMBERVALUE(FindNumbers(C2127))","v":3},"Rosavej 3, 2","2930 Klampenborg",3400000,"2022-03-30","Fam. Salg",47222,4,"Ejerlejlighed",72,1925,{"$f":"IF(ISBLANK(VLOOKUP(A2127,Veje!A:B,2,FALSE)),INDEX(Veje!$D$2:$RT$652,MATCH(A2127,Veje!$A$2:$A$652,0),MATCH(B2127,Veje!$D$1:$RT$1,0)),VLOOKUP(A2127,Veje!A:B,2,FALSE))","v":"SKGF"},{"$f":"IFERROR(VLOOKUP(C2127,Medlemmer!A:C,3,FALSE),\"\")","v":""},{"$f":"IFERROR(VLOOKUP(C2127,Medlemmer!A:C,2,FALSE),\"\")","v":""},{"$f":"IFERROR(VLOOKUP(C2127,Tidligere_henvendelser!A:B,2,FALSE),\"\")","v":""}]
[{"$f":"ReplaceNumbers(C2128)","v":"Rosavej"},{"$f":"_xlfn.NUMBERVALUE(FindNumbers(C2128))","v":3},"Rosavej 3, 1","2930 Klampenborg",3400000,"2022-03-30","Fam. Salg",25757,4,"Ejerlejlighed",132,1925,{"$f":"IF(ISBLANK(VLOOKUP(A2128,Veje!A:B,2,FALSE)),INDEX(Veje!$D$2:$RT$652,MATCH(A2128,Veje!$A$2:$A$652,0),MATCH(B2128,Veje!$D$1:$RT$1,0)),VLOOKUP(A2128,Veje!A:B,2,FALSE))","v":"SKGF"},{"$f":"IFERROR(VLOOKUP(C2128,Medlemmer!A:C,3,FALSE),\"\")","v":""},{"$f":"IFERROR(VLOOKUP(C2128,Medlemmer!A:C,2,FALSE),\"\")","v":""},{"$f":"IFERROR(VLOOKUP(C2128,Tidligere_henvendelser!A:B,2,FALSE),\"\")","v":""}]
[{"$f":"ReplaceNumbers(C2129)","v":"Rosavej"},{"$f":"_xlfn.NUMBERVALUE(FindNumbers(C2129))","v":3},"Rosavej 3, st","2930 Klampenborg",3400000,"2022-03-30","Fam. Salg",25000,4,"Ejerlejlighed",136,1925,{"$f":"IF(ISBLANK(VLOOKUP(A2129,Veje!A:B,2,FALSE)),INDEX(Veje!$D$2:$RT$652,MATCH(A2129,Veje!$A$2:$A$652,0),MATCH(B2129,Veje!$D$1:$RT$1,0)),VLOOKUP(A2129,Veje!A:B,2,FALSE))","v":"SKGF"},{"$f":"IFERROR(VLOOKUP(C2129,Medlemmer!A:C,3,FALSE),\"\")","v":""},{"$f":"IFERROR(VLOOKUP(C2129,Medlemmer!A:C,2,FALSE),\"\")","v":""},{"$f":"IFERROR(VLOOKUP(C2129,Tidligere_henvendelser!A:B,2,FALSE),\"\")","v":""}]
[{"$f":"ReplaceNumbers(C2130)","v":"Ordrupvej"},{"$f":"_xlfn.NUMBERVALUE(FindNumbers(C2130))","v":109},"Ordrupvej 109, 3. th","2920 Charlottenlund",3100000,"2022-03-31","Fam. Salg",36470,3,"Ejerlejlighed",85,1943,{"$f":"IF(ISBLANK(VLOOKUP(A2130,Veje!A:B,2,FALSE)),INDEX(Veje!$D$2:$RT$652,MATCH(A2130,Veje!$A$2:$A$652,0),MATCH(B2130,Veje!$D$1:$RT$1,0)),VLOOKUP(A2130,Veje!A:B,2,FALSE))","v":"OCG"},{"$f":"IFERROR(VLOOKUP(C2130,Medlemmer!A:C,3,FALSE),\"\")","v":""},{"$f":"IFERROR(VLOOKUP(C2130,Medlemmer!A:C,2,FALSE),\"\")","v":""},{"$f":"IFERROR(VLOOKUP(C2130,Tidligere_henvendelser!A:B,2,FALSE),\"\")","v":""}]
[{"$f":"ReplaceNumbers(C2131)","v":"Søndergårdsvej"},{"$f":"_xlfn.NUMBERVALUE(FindNumbers(C2131))","v":18},"Søndergårdsvej 18","2870 Dyssegård ",2011667,"2022-03-31","Fam. Salg",15839,6,"Villa",127,1931,{"$f":"IF(ISBLANK(VLOOKUP(A2131,Veje!A:B,2,FALSE)),INDEX(Veje!$D$2:$RT$652,MATCH(A2131,Veje!$A$2:$A$652,0),MATCH(B2131,Veje!$D$1:$RT$1,0)),VLOOKUP(A2131,Veje!A:B,2,FALSE))","v":"DY"},{"$f":"IFERROR(VLOOKUP(C2131,Medlemmer!A:C,3,FALSE),\"\")","v":""},{"$f":"IFERROR(VLOOKUP(C2131,Medlemmer!A:C,2,FALSE),\"\")","v":""},{"$f":"IFERROR(VLOOKUP(C2131,Tidligere_henvendelser!A:B,2,FALSE),\"\")","v":""}]
[{"$f":"ReplaceNumbers(C2132)","v":"Annasvej"},{"$f":"_xlfn.NUMBERVALUE(FindNumbers(C2132))","v":22},"Annasvej 22","2900 Hellerup",424640,"2022-03-31","Alm. Salg",2605,5,"Villa",163,1899,{"$f":"IF(ISBLANK(VLOOKUP(A2132,Veje!A:B,2,FALSE)),INDEX(Veje!$D$2:$RT$652,MATCH(A2132,Veje!$A$2:$A$652,0),MATCH(B2132,Veje!$D$1:$RT$1,0)),VLOOKUP(A2132,Veje!A:B,2,FALSE))","v":"HMG"},{"$f":"IFERROR(VLOOKUP(C2132,Medlemmer!A:C,3,FALSE),\"\")","v":""},{"$f":"IFERROR(VLOOKUP(C2132,Medlemmer!A:C,2,FALSE),\"\")","v":""},{"$f":"IFERROR(VLOOKUP(C2132,Tidligere_henvendelser!A:B,2,FALSE),\"\")","v":""}]
[{"$f":"ReplaceNumbers(C2133)","v":"Gentoftegade"},{"$f":"_xlfn.NUMBERVALUE(FindNumbers(C2133))","v":27},"Gentoftegade 27F, 1","2820 Gentofte",4500000,"2022-03-31","Alm. Salg",39130,4,"Ejerlejlighed",115,1933,{"$f":"IF(ISBLANK(VLOOKUP(A2133,Veje!A:B,2,FALSE)),INDEX(Veje!$D$2:$RT$652,MATCH(A2133,Veje!$A$2:$A$652,0),MATCH(B2133,Veje!$D$1:$RT$1,0)),VLOOKUP(A2133,Veje!A:B,2,FALSE))","v":"GSG"},{"$f":"IFERROR(VLOOKUP(C2133,Medlemmer!A:C,3,FALSE),\"\")","v":""},{"$f":"IFERROR(VLOOKUP(C2133,Medlemmer!A:C,2,FALSE),\"\")","v":""},{"$f":"IFERROR(VLOOKUP(C2133,Tidligere_henvendelser!A:B,2,FALSE),\"\")","v":""}]
[{"$f":"ReplaceNumbers(C2134)","v":"Baldrianvej"},{"$f":"_xlfn.NUMBERVALUE(FindNumbers(C2134))","v":14},"Baldrianvej 14","2900 Hellerup",7420000,"2022-04-01","Alm. Salg",61833,5,"Villa",120,1939,{"$f":"IF(ISBLANK(VLOOKUP(A2134,Veje!A:B,2,FALSE)),INDEX(Veje!$D$2:$RT$652,MATCH(A2134,Veje!$A$2:$A$652,0),MATCH(B2134,Veje!$D$1:$RT$1,0)),VLOOKUP(A2134,Veje!A:B,2,FALSE))","v":"DY"},{"$f":"IFERROR(VLOOKUP(C2134,Medlemmer!A:C,3,FALSE),\"\")","v":""},{"$f":"IFERROR(VLOOKUP(C2134,Medlemmer!A:C,2,FALSE),\"\")","v":""},{"$f":"IFERROR(VLOOKUP(C2134,Tidligere_henvendelser!A:B,2,FALSE),\"\")","v":""}]
[{"$f":"ReplaceNumbers(C2135)","v":"Esthersvej"},{"$f":"_xlfn.NUMBERVALUE(FindNumbers(C2135))","v":45},"Esthersvej 45, 2. th","2900 Hellerup",4710000,"2022-04-02","Alm. Salg",55411,3,"Ejerlejlighed",85,1899,{"$f":"IF(ISBLANK(VLOOKUP(A2135,Veje!A:B,2,FALSE)),INDEX(Veje!$D$2:$RT$652,MATCH(A2135,Veje!$A$2:$A$652,0),MATCH(B2135,Veje!$D$1:$RT$1,0)),VLOOKUP(A2135,Veje!A:B,2,FALSE))","v":"HMG"},{"$f":"IFERROR(VLOOKUP(C2135,Medlemmer!A:C,3,FALSE),\"\")","v":""},{"$f":"IFERROR(VLOOKUP(C2135,Medlemmer!A:C,2,FALSE),\"\")","v":""},{"$f":"IFERROR(VLOOKUP(C2135,Tidligere_henvendelser!A:B,2,FALSE),\"\")","v":""}]
[{"$f":"ReplaceNumbers(C2136)","v":"Bernstorffsvej"},{"$f":"_xlfn.NUMBERVALUE(FindNumbers(C2136))","v":69},"Bernstorffsvej 69A, 1. tv","2900 Hellerup",3850000,"2022-04-03","Alm. Salg",47530,3,"Ejerlejlighed",81,1936,{"$f":"IF(ISBLANK(VLOOKUP(A2136,Veje!A:B,2,FALSE)),INDEX(Veje!$D$2:$RT$652,MATCH(A2136,Veje!$A$2:$A$652,0),MATCH(B2136,Veje!$D$1:$RT$1,0)),VLOOKUP(A2136,Veje!A:B,2,FALSE))","v":"GSG"},{"$f":"IFERROR(VLOOKUP(C2136,Medlemmer!A:C,3,FALSE),\"\")","v":""},{"$f":"IFERROR(VLOOKUP(C2136,Medlemmer!A:C,2,FALSE),\"\")","v":""},{"$f":"IFERROR(VLOOKUP(C2136,Tidligere_henvendelser!A:B,2,FALSE),\"\")","v":""}]
[{"$f":"ReplaceNumbers(C2137)","v":"Rådhusvej"},{"$f":"_xlfn.NUMBERVALUE(FindNumbers(C2137))","v":18},"Rådhusvej 18, 4. th","2920 Charlottenlund",5200000,"2022-04-03","Alm. Salg",49523,3,"Ejerlejlighed",105,1934,{"$f":"IF(ISBLANK(VLOOKUP(A2137,Veje!A:B,2,FALSE)),INDEX(Veje!$D$2:$RT$652,MATCH(A2137,Veje!$A$2:$A$652,0),MATCH(B2137,Veje!$D$1:$RT$1,0)),VLOOKUP(A2137,Veje!A:B,2,FALSE))","v":"OCG"},{"$f":"IFERROR(VLOOKUP(C2137,Medlemmer!A:C,3,FALSE),\"\")","v":""},{"$f":"IFERROR(VLOOKUP(C2137,Medlemmer!A:C,2,FALSE),\"\")","v":""},{"$f":"IFERROR(VLOOKUP(C2137,Tidligere_henvendelser!A:B,2,FALSE),\"\")","v":""}]
[{"$f":"ReplaceNumbers(C2138)","v":"Bernstorfflund Alle"},{"$f":"_xlfn.NUMBERVALUE(FindNumbers(C2138))","v":6},"Bernstorfflund Alle 6B","2920 Charlottenlund",3950000,"2022-04-04","Alm. Salg",36915,2,"Rækkehus",107,1979,{"$f":"IF(ISBLANK(VLOOKUP(A2138,Veje!A:B,2,FALSE)),INDEX(Veje!$D$2:$RT$652,MATCH(A2138,Veje!$A$2:$A$652,0),MATCH(B2138,Veje!$D$1:$RT$1,0)),VLOOKUP(A2138,Veje!A:B,2,FALSE))","v":"BJGF"},{"$f":"IFERROR(VLOOKUP(C2138,Medlemmer!A:C,3,FALSE),\"\")","v":""},{"$f":"IFERROR(VLOOKUP(C2138,Medlemmer!A:C,2,FALSE),\"\")","v":""},{"$f":"IFERROR(VLOOKUP(C2138,Tidligere_henvendelser!A:B,2,FALSE),\"\")","v":""}]
[{"$f":"ReplaceNumbers(C2139)","v":"Ejgårdsparken"},{"$f":"_xlfn.NUMBERVALUE(FindNumbers(C2139))","v":5},"Ejgårdsparken 5, 2. th","2920 Charlottenlund",7300000,"2022-04-05","Alm. Salg",60833,3,"Ejerlejlighed",120,2003,{"$f":"IF(ISBLANK(VLOOKUP(A2139,Veje!A:B,2,FALSE)),INDEX(Veje!$D$2:$RT$652,MATCH(A2139,Veje!$A$2:$A$652,0),MATCH(B2139,Veje!$D$1:$RT$1,0)),VLOOKUP(A2139,Veje!A:B,2,FALSE))","v":"OCG"},{"$f":"IFERROR(VLOOKUP(C2139,Medlemmer!A:C,3,FALSE),\"\")","v":""},{"$f":"IFERROR(VLOOKUP(C2139,Medlemmer!A:C,2,FALSE),\"\")","v":""},{"$f":"IFERROR(VLOOKUP(C2139,Tidligere_henvendelser!A:B,2,FALSE),\"\")","v":""}]
[{"$f":"ReplaceNumbers(C2140)","v":"Ordrupvej"},{"$f":"_xlfn.NUMBERVALUE(FindNumbers(C2140))","v":98},"Ordrupvej 98B, 1. tv","2920 Charlottenlund",2155000,"2022-04-05","Alm. Salg",37155,2,"Ejerlejlighed",58,1934,{"$f":"IF(ISBLANK(VLOOKUP(A2140,Veje!A:B,2,FALSE)),INDEX(Veje!$D$2:$RT$652,MATCH(A2140,Veje!$A$2:$A$652,0),MATCH(B2140,Veje!$D$1:$RT$1,0)),VLOOKUP(A2140,Veje!A:B,2,FALSE))","v":"OCG"},{"$f":"IFERROR(VLOOKUP(C2140,Medlemmer!A:C,3,FALSE),\"\")","v":""},{"$f":"IFERROR(VLOOKUP(C2140,Medlemmer!A:C,2,FALSE),\"\")","v":""},{"$f":"IFERROR(VLOOKUP(C2140,Tidligere_henvendelser!A:B,2,FALSE),\"\")","v":""}]
[{"$f":"ReplaceNumbers(C2141)","v":"Tværbommen"},{"$f":"_xlfn.NUMBERVALUE(FindNumbers(C2141))","v":5},"Tværbommen 5, 1. tv","2820 Gentofte",2075000,"2022-04-05","Alm. Salg",32421,3,"Ejerlejlighed",64,1964,{"$f":"IF(ISBLANK(VLOOKUP(A2141,Veje!A:B,2,FALSE)),INDEX(Veje!$D$2:$RT$652,MATCH(A2141,Veje!$A$2:$A$652,0),MATCH(B2141,Veje!$D$1:$RT$1,0)),VLOOKUP(A2141,Veje!A:B,2,FALSE))","v":"GSG"},{"$f":"IFERROR(VLOOKUP(C2141,Medlemmer!A:C,3,FALSE),\"\")","v":""},{"$f":"IFERROR(VLOOKUP(C2141,Medlemmer!A:C,2,FALSE),\"\")","v":""},{"$f":"IFERROR(VLOOKUP(C2141,Tidligere_henvendelser!A:B,2,FALSE),\"\")","v":""}]
[{"$f":"ReplaceNumbers(C2142)","v":"Skovbakkevej"},{"$f":"_xlfn.NUMBERVALUE(FindNumbers(C2142))","v":28},"Skovbakkevej 28","2920 Charlottenlund",17863650,"2022-04-06","Alm. Salg",90678,2,"Villa",197,1932,{"$f":"IF(ISBLANK(VLOOKUP(A2142,Veje!A:B,2,FALSE)),INDEX(Veje!$D$2:$RT$652,MATCH(A2142,Veje!$A$2:$A$652,0),MATCH(B2142,Veje!$D$1:$RT$1,0)),VLOOKUP(A2142,Veje!A:B,2,FALSE))","v":"BJGF"},{"$f":"IFERROR(VLOOKUP(C2142,Medlemmer!A:C,3,FALSE),\"\")","v":""},{"$f":"IFERROR(VLOOKUP(C2142,Medlemmer!A:C,2,FALSE),\"\")","v":""},{"$f":"IFERROR(VLOOKUP(C2142,Tidligere_henvendelser!A:B,2,FALSE),\"\")","v":""}]
[{"$f":"ReplaceNumbers(C2143)","v":"Skovkrogen"},{"$f":"_xlfn.NUMBERVALUE(FindNumbers(C2143))","v":5},"Skovkrogen 5, 1. th","2920 Charlottenlund",3525000,"2022-04-06","Alm. Salg",41470,3,"Ejerlejlighed",85,1934,{"$f":"IF(ISBLANK(VLOOKUP(A2143,Veje!A:B,2,FALSE)),INDEX(Veje!$D$2:$RT$652,MATCH(A2143,Veje!$A$2:$A$652,0),MATCH(B2143,Veje!$D$1:$RT$1,0)),VLOOKUP(A2143,Veje!A:B,2,FALSE))","v":"OCG"},{"$f":"IFERROR(VLOOKUP(C2143,Medlemmer!A:C,3,FALSE),\"\")","v":""},{"$f":"IFERROR(VLOOKUP(C2143,Medlemmer!A:C,2,FALSE),\"\")","v":""},{"$f":"IFERROR(VLOOKUP(C2143,Tidligere_henvendelser!A:B,2,FALSE),\"\")","v":""}]
[{"$f":"ReplaceNumbers(C2144)","v":"Ejgårdsvej"},{"$f":"_xlfn.NUMBERVALUE(FindNumbers(C2144))","v":24},"Ejgårdsvej 24, st. tv","2920 Charlottenlund",3795000,"2022-04-07","Alm. Salg",43620,3,"Ejerlejlighed",87,1899,{"$f":"IF(ISBLANK(VLOOKUP(A2144,Veje!A:B,2,FALSE)),INDEX(Veje!$D$2:$RT$652,MATCH(A2144,Veje!$A$2:$A$652,0),MATCH(B2144,Veje!$D$1:$RT$1,0)),VLOOKUP(A2144,Veje!A:B,2,FALSE))","v":"OCG"},{"$f":"IFERROR(VLOOKUP(C2144,Medlemmer!A:C,3,FALSE),\"\")","v":""},{"$f":"IFERROR(VLOOKUP(C2144,Medlemmer!A:C,2,FALSE),\"\")","v":""},{"$f":"IFERROR(VLOOKUP(C2144,Tidligere_henvendelser!A:B,2,FALSE),\"\")","v":""}]
[{"$f":"ReplaceNumbers(C2145)","v":"Lille Strandvej"},{"$f":"_xlfn.NUMBERVALUE(FindNumbers(C2145))","v":32},"Lille Strandvej 32, 1. th","2900 Hellerup",6900000,"2022-04-07","Alm. Salg",95833,2,"Ejerlejlighed",72,1937,{"$f":"IF(ISBLANK(VLOOKUP(A2145,Veje!A:B,2,FALSE)),INDEX(Veje!$D$2:$RT$652,MATCH(A2145,Veje!$A$2:$A$652,0),MATCH(B2145,Veje!$D$1:$RT$1,0)),VLOOKUP(A2145,Veje!A:B,2,FALSE))","v":"HMG"},{"$f":"IFERROR(VLOOKUP(C2145,Medlemmer!A:C,3,FALSE),\"\")","v":""},{"$f":"IFERROR(VLOOKUP(C2145,Medlemmer!A:C,2,FALSE),\"\")","v":""},{"$f":"IFERROR(VLOOKUP(C2145,Tidligere_henvendelser!A:B,2,FALSE),\"\")","v":""}]
[{"$f":"ReplaceNumbers(C2146)","v":"Ordrupvej"},{"$f":"_xlfn.NUMBERVALUE(FindNumbers(C2146))","v":106},"Ordrupvej 106, st. th","2920 Charlottenlund",5320000,"2022-04-07","Alm. Salg",58461,3,"Ejerlejlighed",91,1985,{"$f":"IF(ISBLANK(VLOOKUP(A2146,Veje!A:B,2,FALSE)),INDEX(Veje!$D$2:$RT$652,MATCH(A2146,Veje!$A$2:$A$652,0),MATCH(B2146,Veje!$D$1:$RT$1,0)),VLOOKUP(A2146,Veje!A:B,2,FALSE))","v":"OCG"},{"$f":"IFERROR(VLOOKUP(C2146,Medlemmer!A:C,3,FALSE),\"\")","v":""},{"$f":"IFERROR(VLOOKUP(C2146,Medlemmer!A:C,2,FALSE),\"\")","v":""},{"$f":"IFERROR(VLOOKUP(C2146,Tidligere_henvendelser!A:B,2,FALSE),\"\")","v":""}]
[{"$f":"ReplaceNumbers(C2147)","v":"Ellebækvej"},{"$f":"_xlfn.NUMBERVALUE(FindNumbers(C2147))","v":56},"Ellebækvej 56, 1. tv","2820 Gentofte",1740000,"2022-04-07","Alm. Salg",35510,2,"Ejerlejlighed",49,1942,{"$f":"IF(ISBLANK(VLOOKUP(A2147,Veje!A:B,2,FALSE)),INDEX(Veje!$D$2:$RT$652,MATCH(A2147,Veje!$A$2:$A$652,0),MATCH(B2147,Veje!$D$1:$RT$1,0)),VLOOKUP(A2147,Veje!A:B,2,FALSE))","v":"GSG"},{"$f":"IFERROR(VLOOKUP(C2147,Medlemmer!A:C,3,FALSE),\"\")","v":""},{"$f":"IFERROR(VLOOKUP(C2147,Medlemmer!A:C,2,FALSE),\"\")","v":""},{"$f":"IFERROR(VLOOKUP(C2147,Tidligere_henvendelser!A:B,2,FALSE),\"\")","v":""}]
[{"$f":"ReplaceNumbers(C2148)","v":"Lindegårdsvej"},{"$f":"_xlfn.NUMBERVALUE(FindNumbers(C2148))","v":38},"Lindegårdsvej 38A, st. tv","2920 Charlottenlund",6100000,"2022-04-07","Alm. Salg",58095,3,"Ejerlejlighed",105,1991,{"$f":"IF(ISBLANK(VLOOKUP(A2148,Veje!A:B,2,FALSE)),INDEX(Veje!$D$2:$RT$652,MATCH(A2148,Veje!$A$2:$A$652,0),MATCH(B2148,Veje!$D$1:$RT$1,0)),VLOOKUP(A2148,Veje!A:B,2,FALSE))","v":"OCG"},{"$f":"IFERROR(VLOOKUP(C2148,Medlemmer!A:C,3,FALSE),\"\")","v":""},{"$f":"IFERROR(VLOOKUP(C2148,Medlemmer!A:C,2,FALSE),\"\")","v":""},{"$f":"IFERROR(VLOOKUP(C2148,Tidligere_henvendelser!A:B,2,FALSE),\"\")","v":""}]
[{"$f":"ReplaceNumbers(C2149)","v":"Jensløvs Tværvej"},{"$f":"_xlfn.NUMBERVALUE(FindNumbers(C2149))","v":1},"Jensløvs Tværvej 1A, 2. tv","2920 Charlottenlund",5450000,"2022-04-09","Alm. Salg",58602,4,"Ejerlejlighed",93,1945,{"$f":"IF(ISBLANK(VLOOKUP(A2149,Veje!A:B,2,FALSE)),INDEX(Veje!$D$2:$RT$652,MATCH(A2149,Veje!$A$2:$A$652,0),MATCH(B2149,Veje!$D$1:$RT$1,0)),VLOOKUP(A2149,Veje!A:B,2,FALSE))","v":"OCG"},{"$f":"IFERROR(VLOOKUP(C2149,Medlemmer!A:C,3,FALSE),\"\")","v":""},{"$f":"IFERROR(VLOOKUP(C2149,Medlemmer!A:C,2,FALSE),\"\")","v":""},{"$f":"IFERROR(VLOOKUP(C2149,Tidligere_henvendelser!A:B,2,FALSE),\"\")","v":""}]
[{"$f":"ReplaceNumbers(C2150)","v":"Ellehøj"},{"$f":"_xlfn.NUMBERVALUE(FindNumbers(C2150))","v":26},"Ellehøj 26","2900 Hellerup",12500000,"2022-04-09","Alm. Salg",77160,5,"Villa",162,1923,{"$f":"IF(ISBLANK(VLOOKUP(A2150,Veje!A:B,2,FALSE)),INDEX(Veje!$D$2:$RT$652,MATCH(A2150,Veje!$A$2:$A$652,0),MATCH(B2150,Veje!$D$1:$RT$1,0)),VLOOKUP(A2150,Veje!A:B,2,FALSE))","v":"DY"},{"$f":"IFERROR(VLOOKUP(C2150,Medlemmer!A:C,3,FALSE),\"\")","v":""},{"$f":"IFERROR(VLOOKUP(C2150,Medlemmer!A:C,2,FALSE),\"\")","v":""},{"$f":"IFERROR(VLOOKUP(C2150,Tidligere_henvendelser!A:B,2,FALSE),\"\")","v":""}]
[{"$f":"ReplaceNumbers(C2151)","v":"Marievej"},{"$f":"_xlfn.NUMBERVALUE(FindNumbers(C2151))","v":6},"Marievej 6, st","2900 Hellerup",6500000,"2022-04-10","Alm. Salg",65000,4,"Ejerlejlighed",100,1893,{"$f":"IF(ISBLANK(VLOOKUP(A2151,Veje!A:B,2,FALSE)),INDEX(Veje!$D$2:$RT$652,MATCH(A2151,Veje!$A$2:$A$652,0),MATCH(B2151,Veje!$D$1:$RT$1,0)),VLOOKUP(A2151,Veje!A:B,2,FALSE))","v":"HMG"},{"$f":"IFERROR(VLOOKUP(C2151,Medlemmer!A:C,3,FALSE),\"\")","v":""},{"$f":"IFERROR(VLOOKUP(C2151,Medlemmer!A:C,2,FALSE),\"\")","v":""},{"$f":"IFERROR(VLOOKUP(C2151,Tidligere_henvendelser!A:B,2,FALSE),\"\")","v":""}]
[{"$f":"ReplaceNumbers(C2152)","v":"Marievej"},{"$f":"_xlfn.NUMBERVALUE(FindNumbers(C2152))","v":6},"Marievej 6, 1","2900 Hellerup",6500000,"2022-04-10","Alm. Salg",73033,4,"Ejerlejlighed",89,1893,{"$f":"IF(ISBLANK(VLOOKUP(A2152,Veje!A:B,2,FALSE)),INDEX(Veje!$D$2:$RT$652,MATCH(A2152,Veje!$A$2:$A$652,0),MATCH(B2152,Veje!$D$1:$RT$1,0)),VLOOKUP(A2152,Veje!A:B,2,FALSE))","v":"HMG"},{"$f":"IFERROR(VLOOKUP(C2152,Medlemmer!A:C,3,FALSE),\"\")","v":""},{"$f":"IFERROR(VLOOKUP(C2152,Medlemmer!A:C,2,FALSE),\"\")","v":""},{"$f":"IFERROR(VLOOKUP(C2152,Tidligere_henvendelser!A:B,2,FALSE),\"\")","v":""}]
[{"$f":"ReplaceNumbers(C2153)","v":"Frugtparken"},{"$f":"_xlfn.NUMBERVALUE(FindNumbers(C2153))","v":24},"Frugtparken 24","2820 Gentofte",8200000,"2022-04-11","Alm. Salg",50000,5,"Villa",164,1950,{"$f":"IF(ISBLANK(VLOOKUP(A2153,Veje!A:B,2,FALSE)),INDEX(Veje!$D$2:$RT$652,MATCH(A2153,Veje!$A$2:$A$652,0),MATCH(B2153,Veje!$D$1:$RT$1,0)),VLOOKUP(A2153,Veje!A:B,2,FALSE))","v":"GSG"},{"$f":"IFERROR(VLOOKUP(C2153,Medlemmer!A:C,3,FALSE),\"\")","v":""},{"$f":"IFERROR(VLOOKUP(C2153,Medlemmer!A:C,2,FALSE),\"\")","v":""},{"$f":"IFERROR(VLOOKUP(C2153,Tidligere_henvendelser!A:B,2,FALSE),\"\")","v":""}]
[{"$f":"ReplaceNumbers(C2154)","v":"Dalstrøget"},{"$f":"_xlfn.NUMBERVALUE(FindNumbers(C2154))","v":120},"Dalstrøget 120, 4","2870 Dyssegård ",992000,"2022-04-11","Fam. Salg",13052,2,"Ejerlejlighed",76,1959,{"$f":"IF(ISBLANK(VLOOKUP(A2154,Veje!A:B,2,FALSE)),INDEX(Veje!$D$2:$RT$652,MATCH(A2154,Veje!$A$2:$A$652,0),MATCH(B2154,Veje!$D$1:$RT$1,0)),VLOOKUP(A2154,Veje!A:B,2,FALSE))","v":"DY"},{"$f":"IFERROR(VLOOKUP(C2154,Medlemmer!A:C,3,FALSE),\"\")","v":""},{"$f":"IFERROR(VLOOKUP(C2154,Medlemmer!A:C,2,FALSE),\"\")","v":""},{"$f":"IFERROR(VLOOKUP(C2154,Tidligere_henvendelser!A:B,2,FALSE),\"\")","v":""}]
[{"$f":"ReplaceNumbers(C2155)","v":"Hulkærvej"},{"$f":"_xlfn.NUMBERVALUE(FindNumbers(C2155))","v":15},"Hulkærvej 15, 1. th","2870 Dyssegård ",4000000,"2022-04-11","Alm. Salg",61538,4,"Ejerlejlighed",65,1922,{"$f":"IF(ISBLANK(VLOOKUP(A2155,Veje!A:B,2,FALSE)),INDEX(Veje!$D$2:$RT$652,MATCH(A2155,Veje!$A$2:$A$652,0),MATCH(B2155,Veje!$D$1:$RT$1,0)),VLOOKUP(A2155,Veje!A:B,2,FALSE))","v":"DY"},{"$f":"IFERROR(VLOOKUP(C2155,Medlemmer!A:C,3,FALSE),\"\")","v":""},{"$f":"IFERROR(VLOOKUP(C2155,Medlemmer!A:C,2,FALSE),\"\")","v":""},{"$f":"IFERROR(VLOOKUP(C2155,Tidligere_henvendelser!A:B,2,FALSE),\"\")","v":""}]
[{"$f":"ReplaceNumbers(C2156)","v":"Slotsvej"},{"$f":"_xlfn.NUMBERVALUE(FindNumbers(C2156))","v":48},"Slotsvej 48","2920 Charlottenlund",5440000,"2022-04-11","Fam. Salg",30222,7,"Villa",180,1912,{"$f":"IF(ISBLANK(VLOOKUP(A2156,Veje!A:B,2,FALSE)),INDEX(Veje!$D$2:$RT$652,MATCH(A2156,Veje!$A$2:$A$652,0),MATCH(B2156,Veje!$D$1:$RT$1,0)),VLOOKUP(A2156,Veje!A:B,2,FALSE))","v":"BJGF"},{"$f":"IFERROR(VLOOKUP(C2156,Medlemmer!A:C,3,FALSE),\"\")","v":""},{"$f":"IFERROR(VLOOKUP(C2156,Medlemmer!A:C,2,FALSE),\"\")","v":""},{"$f":"IFERROR(VLOOKUP(C2156,Tidligere_henvendelser!A:B,2,FALSE),\"\")","v":""}]
[{"$f":"ReplaceNumbers(C2157)","v":"Ordrupvej"},{"$f":"_xlfn.NUMBERVALUE(FindNumbers(C2157))","v":71},"Ordrupvej 71, 1. tv","2920 Charlottenlund",2575000,"2022-04-12","Alm. Salg",42213,2,"Ejerlejlighed",61,1937,{"$f":"IF(ISBLANK(VLOOKUP(A2157,Veje!A:B,2,FALSE)),INDEX(Veje!$D$2:$RT$652,MATCH(A2157,Veje!$A$2:$A$652,0),MATCH(B2157,Veje!$D$1:$RT$1,0)),VLOOKUP(A2157,Veje!A:B,2,FALSE))","v":"OCG"},{"$f":"IFERROR(VLOOKUP(C2157,Medlemmer!A:C,3,FALSE),\"\")","v":""},{"$f":"IFERROR(VLOOKUP(C2157,Medlemmer!A:C,2,FALSE),\"\")","v":""},{"$f":"IFERROR(VLOOKUP(C2157,Tidligere_henvendelser!A:B,2,FALSE),\"\")","v":""}]
[{"$f":"ReplaceNumbers(C2158)","v":"Ordrupvej"},{"$f":"_xlfn.NUMBERVALUE(FindNumbers(C2158))","v":71},"Ordrupvej 71, 2. th","2920 Charlottenlund",2750000,"2022-04-12","Alm. Salg",45081,2,"Ejerlejlighed",61,1937,{"$f":"IF(ISBLANK(VLOOKUP(A2158,Veje!A:B,2,FALSE)),INDEX(Veje!$D$2:$RT$652,MATCH(A2158,Veje!$A$2:$A$652,0),MATCH(B2158,Veje!$D$1:$RT$1,0)),VLOOKUP(A2158,Veje!A:B,2,FALSE))","v":"OCG"},{"$f":"IFERROR(VLOOKUP(C2158,Medlemmer!A:C,3,FALSE),\"\")","v":""},{"$f":"IFERROR(VLOOKUP(C2158,Medlemmer!A:C,2,FALSE),\"\")","v":""},{"$f":"IFERROR(VLOOKUP(C2158,Tidligere_henvendelser!A:B,2,FALSE),\"\")","v":""}]
[{"$f":"ReplaceNumbers(C2159)","v":"Morescosvej"},{"$f":"_xlfn.NUMBERVALUE(FindNumbers(C2159))","v":12},"Morescosvej 12, 1. th","2920 Charlottenlund",1900000,"2022-04-12","Alm. Salg",41304,1,"Ejerlejlighed",46,1943,{"$f":"IF(ISBLANK(VLOOKUP(A2159,Veje!A:B,2,FALSE)),INDEX(Veje!$D$2:$RT$652,MATCH(A2159,Veje!$A$2:$A$652,0),MATCH(B2159,Veje!$D$1:$RT$1,0)),VLOOKUP(A2159,Veje!A:B,2,FALSE))","v":"OCG"},{"$f":"IFERROR(VLOOKUP(C2159,Medlemmer!A:C,3,FALSE),\"\")","v":""},{"$f":"IFERROR(VLOOKUP(C2159,Medlemmer!A:C,2,FALSE),\"\")","v":""},{"$f":"IFERROR(VLOOKUP(C2159,Tidligere_henvendelser!A:B,2,FALSE),\"\")","v":""}]
[{"$f":"ReplaceNumbers(C2160)","v":"Vangede Bygade"},{"$f":"_xlfn.NUMBERVALUE(FindNumbers(C2160))","v":39},"Vangede Bygade 39, 2. mf","2820 Gentofte",4200000,"2022-04-13","Alm. Salg",41176,4,"Ejerlejlighed",102,1939,{"$f":"IF(ISBLANK(VLOOKUP(A2160,Veje!A:B,2,FALSE)),INDEX(Veje!$D$2:$RT$652,MATCH(A2160,Veje!$A$2:$A$652,0),MATCH(B2160,Veje!$D$1:$RT$1,0)),VLOOKUP(A2160,Veje!A:B,2,FALSE))","v":"GSG"},{"$f":"IFERROR(VLOOKUP(C2160,Medlemmer!A:C,3,FALSE),\"\")","v":""},{"$f":"IFERROR(VLOOKUP(C2160,Medlemmer!A:C,2,FALSE),\"\")","v":""},{"$f":"IFERROR(VLOOKUP(C2160,Tidligere_henvendelser!A:B,2,FALSE),\"\")","v":""}]
[{"$f":"ReplaceNumbers(C2161)","v":"Ordrupvej"},{"$f":"_xlfn.NUMBERVALUE(FindNumbers(C2161))","v":20},"Ordrupvej 20, 2. tv","2920 Charlottenlund",1618000,"2022-04-15","Fam. Salg",21012,4,"Ejerlejlighed",77,1936,{"$f":"IF(ISBLANK(VLOOKUP(A2161,Veje!A:B,2,FALSE)),INDEX(Veje!$D$2:$RT$652,MATCH(A2161,Veje!$A$2:$A$652,0),MATCH(B2161,Veje!$D$1:$RT$1,0)),VLOOKUP(A2161,Veje!A:B,2,FALSE))","v":"OCG"},{"$f":"IFERROR(VLOOKUP(C2161,Medlemmer!A:C,3,FALSE),\"\")","v":""},{"$f":"IFERROR(VLOOKUP(C2161,Medlemmer!A:C,2,FALSE),\"\")","v":""},{"$f":"IFERROR(VLOOKUP(C2161,Tidligere_henvendelser!A:B,2,FALSE),\"\")","v":""}]
[{"$f":"ReplaceNumbers(C2162)","v":"Enighedsvej"},{"$f":"_xlfn.NUMBERVALUE(FindNumbers(C2162))","v":2},"Enighedsvej 2, st. tv","2920 Charlottenlund",5300000,"2022-04-16","Alm. Salg",63095,3,"Ejerlejlighed",84,1934,{"$f":"IF(ISBLANK(VLOOKUP(A2162,Veje!A:B,2,FALSE)),INDEX(Veje!$D$2:$RT$652,MATCH(A2162,Veje!$A$2:$A$652,0),MATCH(B2162,Veje!$D$1:$RT$1,0)),VLOOKUP(A2162,Veje!A:B,2,FALSE))","v":"OCG"},{"$f":"IFERROR(VLOOKUP(C2162,Medlemmer!A:C,3,FALSE),\"\")","v":""},{"$f":"IFERROR(VLOOKUP(C2162,Medlemmer!A:C,2,FALSE),\"\")","v":""},{"$f":"IFERROR(VLOOKUP(C2162,Tidligere_henvendelser!A:B,2,FALSE),\"\")","v":""}]
[{"$f":"ReplaceNumbers(C2163)","v":"Charlottenlundvej"},{"$f":"_xlfn.NUMBERVALUE(FindNumbers(C2163))","v":2},"Charlottenlundvej 2B, 1. th","2900 Hellerup",2250000,"2022-04-18","Andet",38793,2,"Ejerlejlighed",58,1939,{"$f":"IF(ISBLANK(VLOOKUP(A2163,Veje!A:B,2,FALSE)),INDEX(Veje!$D$2:$RT$652,MATCH(A2163,Veje!$A$2:$A$652,0),MATCH(B2163,Veje!$D$1:$RT$1,0)),VLOOKUP(A2163,Veje!A:B,2,FALSE))","v":"HMG"},{"$f":"IFERROR(VLOOKUP(C2163,Medlemmer!A:C,3,FALSE),\"\")","v":""},{"$f":"IFERROR(VLOOKUP(C2163,Medlemmer!A:C,2,FALSE),\"\")","v":""},{"$f":"IFERROR(VLOOKUP(C2163,Tidligere_henvendelser!A:B,2,FALSE),\"\")","v":""}]
[{"$f":"ReplaceNumbers(C2164)","v":"Dalstrøget"},{"$f":"_xlfn.NUMBERVALUE(FindNumbers(C2164))","v":83},"Dalstrøget 83, 1. mf","2870 Dyssegård ",1565000,"2022-04-19","Alm. Salg",35568,1,"Ejerlejlighed",44,1959,{"$f":"IF(ISBLANK(VLOOKUP(A2164,Veje!A:B,2,FALSE)),INDEX(Veje!$D$2:$RT$652,MATCH(A2164,Veje!$A$2:$A$652,0),MATCH(B2164,Veje!$D$1:$RT$1,0)),VLOOKUP(A2164,Veje!A:B,2,FALSE))","v":"DY"},{"$f":"IFERROR(VLOOKUP(C2164,Medlemmer!A:C,3,FALSE),\"\")","v":""},{"$f":"IFERROR(VLOOKUP(C2164,Medlemmer!A:C,2,FALSE),\"\")","v":""},{"$f":"IFERROR(VLOOKUP(C2164,Tidligere_henvendelser!A:B,2,FALSE),\"\")","v":""}]
[{"$f":"ReplaceNumbers(C2165)","v":"Brannersvej"},{"$f":"_xlfn.NUMBERVALUE(FindNumbers(C2165))","v":25},"Brannersvej 25, 1. 58","2920 Charlottenlund",3000000,"2022-04-19","Alm. Salg",46875,2,"Ejerlejlighed",64,1972,{"$f":"IF(ISBLANK(VLOOKUP(A2165,Veje!A:B,2,FALSE)),INDEX(Veje!$D$2:$RT$652,MATCH(A2165,Veje!$A$2:$A$652,0),MATCH(B2165,Veje!$D$1:$RT$1,0)),VLOOKUP(A2165,Veje!A:B,2,FALSE))","v":"OCG"},{"$f":"IFERROR(VLOOKUP(C2165,Medlemmer!A:C,3,FALSE),\"\")","v":""},{"$f":"IFERROR(VLOOKUP(C2165,Medlemmer!A:C,2,FALSE),\"\")","v":""},{"$f":"IFERROR(VLOOKUP(C2165,Tidligere_henvendelser!A:B,2,FALSE),\"\")","v":""}]
[{"$f":"ReplaceNumbers(C2166)","v":"Strandvejen"},{"$f":"_xlfn.NUMBERVALUE(FindNumbers(C2166))","v":300},"Strandvejen 300","2930 Klampenborg",21875000,"2022-04-19","Alm. Salg",143914,6,"Villa",152,1958,{"$f":"IF(ISBLANK(VLOOKUP(A2166,Veje!A:B,2,FALSE)),INDEX(Veje!$D$2:$RT$652,MATCH(A2166,Veje!$A$2:$A$652,0),MATCH(B2166,Veje!$D$1:$RT$1,0)),VLOOKUP(A2166,Veje!A:B,2,FALSE))","v":"SKGF"},{"$f":"IFERROR(VLOOKUP(C2166,Medlemmer!A:C,3,FALSE),\"\")","v":""},{"$f":"IFERROR(VLOOKUP(C2166,Medlemmer!A:C,2,FALSE),\"\")","v":""},{"$f":"IFERROR(VLOOKUP(C2166,Tidligere_henvendelser!A:B,2,FALSE),\"\")","v":""}]
[{"$f":"ReplaceNumbers(C2167)","v":"Tværbommen"},{"$f":"_xlfn.NUMBERVALUE(FindNumbers(C2167))","v":43},"Tværbommen 43, 1. tv","2820 Gentofte",2330000,"2022-04-19","Alm. Salg",34264,3,"Ejerlejlighed",68,1946,{"$f":"IF(ISBLANK(VLOOKUP(A2167,Veje!A:B,2,FALSE)),INDEX(Veje!$D$2:$RT$652,MATCH(A2167,Veje!$A$2:$A$652,0),MATCH(B2167,Veje!$D$1:$RT$1,0)),VLOOKUP(A2167,Veje!A:B,2,FALSE))","v":"GSG"},{"$f":"IFERROR(VLOOKUP(C2167,Medlemmer!A:C,3,FALSE),\"\")","v":""},{"$f":"IFERROR(VLOOKUP(C2167,Medlemmer!A:C,2,FALSE),\"\")","v":""},{"$f":"IFERROR(VLOOKUP(C2167,Tidligere_henvendelser!A:B,2,FALSE),\"\")","v":""}]
[{"$f":"ReplaceNumbers(C2168)","v":"Tværbommen"},{"$f":"_xlfn.NUMBERVALUE(FindNumbers(C2168))","v":55},"Tværbommen 55, 1. th","2820 Gentofte",1950000,"2022-04-20","Alm. Salg",35454,2,"Ejerlejlighed",55,1946,{"$f":"IF(ISBLANK(VLOOKUP(A2168,Veje!A:B,2,FALSE)),INDEX(Veje!$D$2:$RT$652,MATCH(A2168,Veje!$A$2:$A$652,0),MATCH(B2168,Veje!$D$1:$RT$1,0)),VLOOKUP(A2168,Veje!A:B,2,FALSE))","v":"GSG"},{"$f":"IFERROR(VLOOKUP(C2168,Medlemmer!A:C,3,FALSE),\"\")","v":""},{"$f":"IFERROR(VLOOKUP(C2168,Medlemmer!A:C,2,FALSE),\"\")","v":""},{"$f":"IFERROR(VLOOKUP(C2168,Tidligere_henvendelser!A:B,2,FALSE),\"\")","v":""}]
[{"$f":"ReplaceNumbers(C2169)","v":"Jægersborg Alle"},{"$f":"_xlfn.NUMBERVALUE(FindNumbers(C2169))","v":29},"Jægersborg Alle 29B, 1. tv","2920 Charlottenlund",5850000,"2022-04-20","Alm. Salg",68823,2,"Ejerlejlighed",85,1978,{"$f":"IF(ISBLANK(VLOOKUP(A2169,Veje!A:B,2,FALSE)),INDEX(Veje!$D$2:$RT$652,MATCH(A2169,Veje!$A$2:$A$652,0),MATCH(B2169,Veje!$D$1:$RT$1,0)),VLOOKUP(A2169,Veje!A:B,2,FALSE))","v":"OCG"},{"$f":"IFERROR(VLOOKUP(C2169,Medlemmer!A:C,3,FALSE),\"\")","v":""},{"$f":"IFERROR(VLOOKUP(C2169,Medlemmer!A:C,2,FALSE),\"\")","v":""},{"$f":"IFERROR(VLOOKUP(C2169,Tidligere_henvendelser!A:B,2,FALSE),\"\")","v":""}]
[{"$f":"ReplaceNumbers(C2170)","v":"Vangedevej"},{"$f":"_xlfn.NUMBERVALUE(FindNumbers(C2170))","v":153},"Vangedevej 153, st. tv","2870 Dyssegård ",2900000,"2022-04-20","Fam. Salg",53703,1,"Ejerlejlighed",54,1922,{"$f":"IF(ISBLANK(VLOOKUP(A2170,Veje!A:B,2,FALSE)),INDEX(Veje!$D$2:$RT$652,MATCH(A2170,Veje!$A$2:$A$652,0),MATCH(B2170,Veje!$D$1:$RT$1,0)),VLOOKUP(A2170,Veje!A:B,2,FALSE))","v":"DY"},{"$f":"IFERROR(VLOOKUP(C2170,Medlemmer!A:C,3,FALSE),\"\")","v":""},{"$f":"IFERROR(VLOOKUP(C2170,Medlemmer!A:C,2,FALSE),\"\")","v":""},{"$f":"IFERROR(VLOOKUP(C2170,Tidligere_henvendelser!A:B,2,FALSE),\"\")","v":""}]
[{"$f":"ReplaceNumbers(C2171)","v":"Vangedevej"},{"$f":"_xlfn.NUMBERVALUE(FindNumbers(C2171))","v":153},"Vangedevej 153, 1. th","2870 Dyssegård ",2900000,"2022-04-20","Fam. Salg",35802,3,"Ejerlejlighed",81,1922,{"$f":"IF(ISBLANK(VLOOKUP(A2171,Veje!A:B,2,FALSE)),INDEX(Veje!$D$2:$RT$652,MATCH(A2171,Veje!$A$2:$A$652,0),MATCH(B2171,Veje!$D$1:$RT$1,0)),VLOOKUP(A2171,Veje!A:B,2,FALSE))","v":"DY"},{"$f":"IFERROR(VLOOKUP(C2171,Medlemmer!A:C,3,FALSE),\"\")","v":""},{"$f":"IFERROR(VLOOKUP(C2171,Medlemmer!A:C,2,FALSE),\"\")","v":""},{"$f":"IFERROR(VLOOKUP(C2171,Tidligere_henvendelser!A:B,2,FALSE),\"\")","v":""}]
[{"$f":"ReplaceNumbers(C2172)","v":"Vangedevej"},{"$f":"_xlfn.NUMBERVALUE(FindNumbers(C2172))","v":153},"Vangedevej 153, st. th","2870 Dyssegård ",2900000,"2022-04-20","Fam. Salg",34523,3,"Ejerlejlighed",84,1922,{"$f":"IF(ISBLANK(VLOOKUP(A2172,Veje!A:B,2,FALSE)),INDEX(Veje!$D$2:$RT$652,MATCH(A2172,Veje!$A$2:$A$652,0),MATCH(B2172,Veje!$D$1:$RT$1,0)),VLOOKUP(A2172,Veje!A:B,2,FALSE))","v":"DY"},{"$f":"IFERROR(VLOOKUP(C2172,Medlemmer!A:C,3,FALSE),\"\")","v":""},{"$f":"IFERROR(VLOOKUP(C2172,Medlemmer!A:C,2,FALSE),\"\")","v":""},{"$f":"IFERROR(VLOOKUP(C2172,Tidligere_henvendelser!A:B,2,FALSE),\"\")","v":""}]
[{"$f":"ReplaceNumbers(C2173)","v":"Vangedevej"},{"$f":"_xlfn.NUMBERVALUE(FindNumbers(C2173))","v":153},"Vangedevej 153, 1. tv","2870 Dyssegård ",2900000,"2022-04-20","Fam. Salg",36250,3,"Ejerlejlighed",80,1922,{"$f":"IF(ISBLANK(VLOOKUP(A2173,Veje!A:B,2,FALSE)),INDEX(Veje!$D$2:$RT$652,MATCH(A2173,Veje!$A$2:$A$652,0),MATCH(B2173,Veje!$D$1:$RT$1,0)),VLOOKUP(A2173,Veje!A:B,2,FALSE))","v":"DY"},{"$f":"IFERROR(VLOOKUP(C2173,Medlemmer!A:C,3,FALSE),\"\")","v":""},{"$f":"IFERROR(VLOOKUP(C2173,Medlemmer!A:C,2,FALSE),\"\")","v":""},{"$f":"IFERROR(VLOOKUP(C2173,Tidligere_henvendelser!A:B,2,FALSE),\"\")","v":""}]
[{"$f":"ReplaceNumbers(C2174)","v":"Nymosevej"},{"$f":"_xlfn.NUMBERVALUE(FindNumbers(C2174))","v":9},"Nymosevej 9","2820 Gentofte",4100000,"2022-04-20","Alm. Salg",28275,5,"Villa",145,1929,{"$f":"IF(ISBLANK(VLOOKUP(A2174,Veje!A:B,2,FALSE)),INDEX(Veje!$D$2:$RT$652,MATCH(A2174,Veje!$A$2:$A$652,0),MATCH(B2174,Veje!$D$1:$RT$1,0)),VLOOKUP(A2174,Veje!A:B,2,FALSE))","v":"GSG"},{"$f":"IFERROR(VLOOKUP(C2174,Medlemmer!A:C,3,FALSE),\"\")","v":""},{"$f":"IFERROR(VLOOKUP(C2174,Medlemmer!A:C,2,FALSE),\"\")","v":""},{"$f":"IFERROR(VLOOKUP(C2174,Tidligere_henvendelser!A:B,2,FALSE),\"\")","v":""}]
[{"$f":"ReplaceNumbers(C2175)","v":"Kildegårds Plads"},{"$f":"_xlfn.NUMBERVALUE(FindNumbers(C2175))","v":3},"Kildegårds Plads 3, 2. th","2820 Gentofte",1300000,"2022-04-20","Alm. Salg",16455,3,"Ejerlejlighed",79,1932,{"$f":"IF(ISBLANK(VLOOKUP(A2175,Veje!A:B,2,FALSE)),INDEX(Veje!$D$2:$RT$652,MATCH(A2175,Veje!$A$2:$A$652,0),MATCH(B2175,Veje!$D$1:$RT$1,0)),VLOOKUP(A2175,Veje!A:B,2,FALSE))","v":"DY"},{"$f":"IFERROR(VLOOKUP(C2175,Medlemmer!A:C,3,FALSE),\"\")","v":""},{"$f":"IFERROR(VLOOKUP(C2175,Medlemmer!A:C,2,FALSE),\"\")","v":""},{"$f":"IFERROR(VLOOKUP(C2175,Tidligere_henvendelser!A:B,2,FALSE),\"\")","v":""}]
[{"$f":"ReplaceNumbers(C2176)","v":"Dalstrøget"},{"$f":"_xlfn.NUMBERVALUE(FindNumbers(C2176))","v":72},"Dalstrøget 72, 3. th","2870 Dyssegård ",3999999,"2022-04-20","Alm. Salg",45977,4,"Ejerlejlighed",87,1959,{"$f":"IF(ISBLANK(VLOOKUP(A2176,Veje!A:B,2,FALSE)),INDEX(Veje!$D$2:$RT$652,MATCH(A2176,Veje!$A$2:$A$652,0),MATCH(B2176,Veje!$D$1:$RT$1,0)),VLOOKUP(A2176,Veje!A:B,2,FALSE))","v":"DY"},{"$f":"IFERROR(VLOOKUP(C2176,Medlemmer!A:C,3,FALSE),\"\")","v":""},{"$f":"IFERROR(VLOOKUP(C2176,Medlemmer!A:C,2,FALSE),\"\")","v":""},{"$f":"IFERROR(VLOOKUP(C2176,Tidligere_henvendelser!A:B,2,FALSE),\"\")","v":""}]
[{"$f":"ReplaceNumbers(C2177)","v":"Brogårdsvej"},{"$f":"_xlfn.NUMBERVALUE(FindNumbers(C2177))","v":106},"Brogårdsvej 106, 2. th","2820 Gentofte",980000,"2022-04-21","Fam. Salg",16896,2,"Ejerlejlighed",58,1936,{"$f":"IF(ISBLANK(VLOOKUP(A2177,Veje!A:B,2,FALSE)),INDEX(Veje!$D$2:$RT$652,MATCH(A2177,Veje!$A$2:$A$652,0),MATCH(B2177,Veje!$D$1:$RT$1,0)),VLOOKUP(A2177,Veje!A:B,2,FALSE))","v":"GSG"},{"$f":"IFERROR(VLOOKUP(C2177,Medlemmer!A:C,3,FALSE),\"\")","v":""},{"$f":"IFERROR(VLOOKUP(C2177,Medlemmer!A:C,2,FALSE),\"\")","v":""},{"$f":"IFERROR(VLOOKUP(C2177,Tidligere_henvendelser!A:B,2,FALSE),\"\")","v":""}]
[{"$f":"ReplaceNumbers(C2178)","v":"Vangede Bygade"},{"$f":"_xlfn.NUMBERVALUE(FindNumbers(C2178))","v":46},"Vangede Bygade 46, 1. tv","2820 Gentofte",1775000,"2022-04-21","Alm. Salg",34803,2,"Ejerlejlighed",51,1939,{"$f":"IF(ISBLANK(VLOOKUP(A2178,Veje!A:B,2,FALSE)),INDEX(Veje!$D$2:$RT$652,MATCH(A2178,Veje!$A$2:$A$652,0),MATCH(B2178,Veje!$D$1:$RT$1,0)),VLOOKUP(A2178,Veje!A:B,2,FALSE))","v":"GSG"},{"$f":"IFERROR(VLOOKUP(C2178,Medlemmer!A:C,3,FALSE),\"\")","v":""},{"$f":"IFERROR(VLOOKUP(C2178,Medlemmer!A:C,2,FALSE),\"\")","v":""},{"$f":"IFERROR(VLOOKUP(C2178,Tidligere_henvendelser!A:B,2,FALSE),\"\")","v":""}]
[{"$f":"ReplaceNumbers(C2179)","v":"Strandvejen"},{"$f":"_xlfn.NUMBERVALUE(FindNumbers(C2179))","v":242},"Strandvejen 242A","2920 Charlottenlund",11250000,"2022-04-22","Alm. Salg",127840,3,"Villa",88,1892,{"$f":"IF(ISBLANK(VLOOKUP(A2179,Veje!A:B,2,FALSE)),INDEX(Veje!$D$2:$RT$652,MATCH(A2179,Veje!$A$2:$A$652,0),MATCH(B2179,Veje!$D$1:$RT$1,0)),VLOOKUP(A2179,Veje!A:B,2,FALSE))","v":"Skovshoved By"},{"$f":"IFERROR(VLOOKUP(C2179,Medlemmer!A:C,3,FALSE),\"\")","v":""},{"$f":"IFERROR(VLOOKUP(C2179,Medlemmer!A:C,2,FALSE),\"\")","v":""},{"$f":"IFERROR(VLOOKUP(C2179,Tidligere_henvendelser!A:B,2,FALSE),\"\")","v":""}]
[{"$f":"ReplaceNumbers(C2180)","v":"Almindingen"},{"$f":"_xlfn.NUMBERVALUE(FindNumbers(C2180))","v":15},"Almindingen 15","2870 Dyssegård ",9175000,"2022-04-23","Alm. Salg",71124,5,"Villa",129,1972,{"$f":"IF(ISBLANK(VLOOKUP(A2180,Veje!A:B,2,FALSE)),INDEX(Veje!$D$2:$RT$652,MATCH(A2180,Veje!$A$2:$A$652,0),MATCH(B2180,Veje!$D$1:$RT$1,0)),VLOOKUP(A2180,Veje!A:B,2,FALSE))","v":"DY"},{"$f":"IFERROR(VLOOKUP(C2180,Medlemmer!A:C,3,FALSE),\"\")","v":""},{"$f":"IFERROR(VLOOKUP(C2180,Medlemmer!A:C,2,FALSE),\"\")","v":""},{"$f":"IFERROR(VLOOKUP(C2180,Tidligere_henvendelser!A:B,2,FALSE),\"\")","v":""}]
[{"$f":"ReplaceNumbers(C2181)","v":"Tuborg Havnepark"},{"$f":"_xlfn.NUMBERVALUE(FindNumbers(C2181))","v":3},"Tuborg Havnepark 3, 1. tv","2900 Hellerup",15600000,"2022-04-23","Alm. Salg",91764,4,"Ejerlejlighed",170,2007,{"$f":"IF(ISBLANK(VLOOKUP(A2181,Veje!A:B,2,FALSE)),INDEX(Veje!$D$2:$RT$652,MATCH(A2181,Veje!$A$2:$A$652,0),MATCH(B2181,Veje!$D$1:$RT$1,0)),VLOOKUP(A2181,Veje!A:B,2,FALSE))","v":"HMG"},{"$f":"IFERROR(VLOOKUP(C2181,Medlemmer!A:C,3,FALSE),\"\")","v":""},{"$f":"IFERROR(VLOOKUP(C2181,Medlemmer!A:C,2,FALSE),\"\")","v":""},{"$f":"IFERROR(VLOOKUP(C2181,Tidligere_henvendelser!A:B,2,FALSE),\"\")","v":""}]
[{"$f":"ReplaceNumbers(C2182)","v":"Dalstrøget"},{"$f":"_xlfn.NUMBERVALUE(FindNumbers(C2182))","v":118},"Dalstrøget 118, 6","2870 Dyssegård ",992000,"2022-04-24","Fam. Salg",13052,2,"Ejerlejlighed",76,1959,{"$f":"IF(ISBLANK(VLOOKUP(A2182,Veje!A:B,2,FALSE)),INDEX(Veje!$D$2:$RT$652,MATCH(A2182,Veje!$A$2:$A$652,0),MATCH(B2182,Veje!$D$1:$RT$1,0)),VLOOKUP(A2182,Veje!A:B,2,FALSE))","v":"DY"},{"$f":"IFERROR(VLOOKUP(C2182,Medlemmer!A:C,3,FALSE),\"\")","v":""},{"$f":"IFERROR(VLOOKUP(C2182,Medlemmer!A:C,2,FALSE),\"\")","v":""},{"$f":"IFERROR(VLOOKUP(C2182,Tidligere_henvendelser!A:B,2,FALSE),\"\")","v":""}]
[{"$f":"ReplaceNumbers(C2183)","v":"Rygårds Alle"},{"$f":"_xlfn.NUMBERVALUE(FindNumbers(C2183))","v":25},"Rygårds Alle 25A, st","2900 Hellerup",1075500,"2022-04-25","Andet",10341,4,"Ejerlejlighed",104,1935,{"$f":"IF(ISBLANK(VLOOKUP(A2183,Veje!A:B,2,FALSE)),INDEX(Veje!$D$2:$RT$652,MATCH(A2183,Veje!$A$2:$A$652,0),MATCH(B2183,Veje!$D$1:$RT$1,0)),VLOOKUP(A2183,Veje!A:B,2,FALSE))","v":"HMG"},{"$f":"IFERROR(VLOOKUP(C2183,Medlemmer!A:C,3,FALSE),\"\")","v":""},{"$f":"IFERROR(VLOOKUP(C2183,Medlemmer!A:C,2,FALSE),\"\")","v":""},{"$f":"IFERROR(VLOOKUP(C2183,Tidligere_henvendelser!A:B,2,FALSE),\"\")","v":""}]
[{"$f":"ReplaceNumbers(C2184)","v":"Smakkegårdsvej"},{"$f":"_xlfn.NUMBERVALUE(FindNumbers(C2184))","v":171},"Smakkegårdsvej 171, st. th","2820 Gentofte",1062500,"2022-04-26","Fam. Salg",13798,2,"Ejerlejlighed",77,1946,{"$f":"IF(ISBLANK(VLOOKUP(A2184,Veje!A:B,2,FALSE)),INDEX(Veje!$D$2:$RT$652,MATCH(A2184,Veje!$A$2:$A$652,0),MATCH(B2184,Veje!$D$1:$RT$1,0)),VLOOKUP(A2184,Veje!A:B,2,FALSE))","v":"GSG"},{"$f":"IFERROR(VLOOKUP(C2184,Medlemmer!A:C,3,FALSE),\"\")","v":""},{"$f":"IFERROR(VLOOKUP(C2184,Medlemmer!A:C,2,FALSE),\"\")","v":""},{"$f":"IFERROR(VLOOKUP(C2184,Tidligere_henvendelser!A:B,2,FALSE),\"\")","v":""}]
[{"$f":"ReplaceNumbers(C2185)","v":"Strandvejen"},{"$f":"_xlfn.NUMBERVALUE(FindNumbers(C2185))","v":108},"Strandvejen 108A, st. th","2900 Hellerup",6615000,"2022-04-26","Alm. Salg",57521,4,"Ejerlejlighed",115,1911,{"$f":"IF(ISBLANK(VLOOKUP(A2185,Veje!A:B,2,FALSE)),INDEX(Veje!$D$2:$RT$652,MATCH(A2185,Veje!$A$2:$A$652,0),MATCH(B2185,Veje!$D$1:$RT$1,0)),VLOOKUP(A2185,Veje!A:B,2,FALSE))","v":"HMG"},{"$f":"IFERROR(VLOOKUP(C2185,Medlemmer!A:C,3,FALSE),\"\")","v":""},{"$f":"IFERROR(VLOOKUP(C2185,Medlemmer!A:C,2,FALSE),\"\")","v":""},{"$f":"IFERROR(VLOOKUP(C2185,Tidligere_henvendelser!A:B,2,FALSE),\"\")","v":""}]
[{"$f":"ReplaceNumbers(C2186)","v":"Strandvejen"},{"$f":"_xlfn.NUMBERVALUE(FindNumbers(C2186))","v":162},"Strandvejen 162B","2920 Charlottenlund",9150000,"2022-04-27","Fam. Salg",53508,5,"Villa",171,2018,{"$f":"IF(ISBLANK(VLOOKUP(A2186,Veje!A:B,2,FALSE)),INDEX(Veje!$D$2:$RT$652,MATCH(A2186,Veje!$A$2:$A$652,0),MATCH(B2186,Veje!$D$1:$RT$1,0)),VLOOKUP(A2186,Veje!A:B,2,FALSE))","v":"SKGF"},{"$f":"IFERROR(VLOOKUP(C2186,Medlemmer!A:C,3,FALSE),\"\")","v":""},{"$f":"IFERROR(VLOOKUP(C2186,Medlemmer!A:C,2,FALSE),\"\")","v":""},{"$f":"IFERROR(VLOOKUP(C2186,Tidligere_henvendelser!A:B,2,FALSE),\"\")","v":""}]
[{"$f":"ReplaceNumbers(C2187)","v":"Hesseltoften"},{"$f":"_xlfn.NUMBERVALUE(FindNumbers(C2187))","v":10},"Hesseltoften 10","2900 Hellerup",11605000,"2022-04-27","Alm. Salg",70762,8,"Rækkehus",164,1943,{"$f":"IF(ISBLANK(VLOOKUP(A2187,Veje!A:B,2,FALSE)),INDEX(Veje!$D$2:$RT$652,MATCH(A2187,Veje!$A$2:$A$652,0),MATCH(B2187,Veje!$D$1:$RT$1,0)),VLOOKUP(A2187,Veje!A:B,2,FALSE))","v":"GSG"},{"$f":"IFERROR(VLOOKUP(C2187,Medlemmer!A:C,3,FALSE),\"\")","v":""},{"$f":"IFERROR(VLOOKUP(C2187,Medlemmer!A:C,2,FALSE),\"\")","v":""},{"$f":"IFERROR(VLOOKUP(C2187,Tidligere_henvendelser!A:B,2,FALSE),\"\")","v":""}]
[{"$f":"ReplaceNumbers(C2188)","v":"Snogegårdsvænget"},{"$f":"_xlfn.NUMBERVALUE(FindNumbers(C2188))","v":4},"Snogegårdsvænget 4, 1. tv","2820 Gentofte",2400000,"2022-04-27","Alm. Salg",41379,2,"Ejerlejlighed",58,1958,{"$f":"IF(ISBLANK(VLOOKUP(A2188,Veje!A:B,2,FALSE)),INDEX(Veje!$D$2:$RT$652,MATCH(A2188,Veje!$A$2:$A$652,0),MATCH(B2188,Veje!$D$1:$RT$1,0)),VLOOKUP(A2188,Veje!A:B,2,FALSE))","v":"GSG"},{"$f":"IFERROR(VLOOKUP(C2188,Medlemmer!A:C,3,FALSE),\"\")","v":""},{"$f":"IFERROR(VLOOKUP(C2188,Medlemmer!A:C,2,FALSE),\"\")","v":""},{"$f":"IFERROR(VLOOKUP(C2188,Tidligere_henvendelser!A:B,2,FALSE),\"\")","v":""}]
[{"$f":"ReplaceNumbers(C2189)","v":"Ved Bommen"},{"$f":"_xlfn.NUMBERVALUE(FindNumbers(C2189))","v":21},"Ved Bommen 21, st","2820 Gentofte",5250000,"2022-04-28","Alm. Salg",59659,3,"Ejerlejlighed",88,1933,{"$f":"IF(ISBLANK(VLOOKUP(A2189,Veje!A:B,2,FALSE)),INDEX(Veje!$D$2:$RT$652,MATCH(A2189,Veje!$A$2:$A$652,0),MATCH(B2189,Veje!$D$1:$RT$1,0)),VLOOKUP(A2189,Veje!A:B,2,FALSE))","v":"GSG"},{"$f":"IFERROR(VLOOKUP(C2189,Medlemmer!A:C,3,FALSE),\"\")","v":""},{"$f":"IFERROR(VLOOKUP(C2189,Medlemmer!A:C,2,FALSE),\"\")","v":""},{"$f":"IFERROR(VLOOKUP(C2189,Tidligere_henvendelser!A:B,2,FALSE),\"\")","v":""}]
[{"$f":"ReplaceNumbers(C2190)","v":"Skovkrogen"},{"$f":"_xlfn.NUMBERVALUE(FindNumbers(C2190))","v":3},"Skovkrogen 3, 1. tv","2920 Charlottenlund",3595000,"2022-04-30","Alm. Salg",52867,3,"Ejerlejlighed",68,1934,{"$f":"IF(ISBLANK(VLOOKUP(A2190,Veje!A:B,2,FALSE)),INDEX(Veje!$D$2:$RT$652,MATCH(A2190,Veje!$A$2:$A$652,0),MATCH(B2190,Veje!$D$1:$RT$1,0)),VLOOKUP(A2190,Veje!A:B,2,FALSE))","v":"OCG"},{"$f":"IFERROR(VLOOKUP(C2190,Medlemmer!A:C,3,FALSE),\"\")","v":""},{"$f":"IFERROR(VLOOKUP(C2190,Medlemmer!A:C,2,FALSE),\"\")","v":""},{"$f":"IFERROR(VLOOKUP(C2190,Tidligere_henvendelser!A:B,2,FALSE),\"\")","v":""}]
[{"$f":"ReplaceNumbers(C2191)","v":"Ridebanevang"},{"$f":"_xlfn.NUMBERVALUE(FindNumbers(C2191))","v":21},"Ridebanevang 21","2820 Gentofte",3315000,"2022-05-02","Fam. Salg",34531,5,"Rækkehus",96,1946,{"$f":"IF(ISBLANK(VLOOKUP(A2191,Veje!A:B,2,FALSE)),INDEX(Veje!$D$2:$RT$652,MATCH(A2191,Veje!$A$2:$A$652,0),MATCH(B2191,Veje!$D$1:$RT$1,0)),VLOOKUP(A2191,Veje!A:B,2,FALSE))","v":"BJGF"},{"$f":"IFERROR(VLOOKUP(C2191,Medlemmer!A:C,3,FALSE),\"\")","v":""},{"$f":"IFERROR(VLOOKUP(C2191,Medlemmer!A:C,2,FALSE),\"\")","v":""},{"$f":"IFERROR(VLOOKUP(C2191,Tidligere_henvendelser!A:B,2,FALSE),\"\")","v":""}]
[{"$f":"ReplaceNumbers(C2192)","v":"Plantagevej"},{"$f":"_xlfn.NUMBERVALUE(FindNumbers(C2192))","v":2},"Plantagevej 2","2820 Gentofte",2040000,"2022-05-03","Fam. Salg",20816,5,"Rækkehus",98,1940,{"$f":"IF(ISBLANK(VLOOKUP(A2192,Veje!A:B,2,FALSE)),INDEX(Veje!$D$2:$RT$652,MATCH(A2192,Veje!$A$2:$A$652,0),MATCH(B2192,Veje!$D$1:$RT$1,0)),VLOOKUP(A2192,Veje!A:B,2,FALSE))","v":"GSG"},{"$f":"IFERROR(VLOOKUP(C2192,Medlemmer!A:C,3,FALSE),\"\")","v":""},{"$f":"IFERROR(VLOOKUP(C2192,Medlemmer!A:C,2,FALSE),\"\")","v":""},{"$f":"IFERROR(VLOOKUP(C2192,Tidligere_henvendelser!A:B,2,FALSE),\"\")","v":""}]
[{"$f":"ReplaceNumbers(C2193)","v":"Onsgårdsvej"},{"$f":"_xlfn.NUMBERVALUE(FindNumbers(C2193))","v":17},"Onsgårdsvej 17, st","2900 Hellerup",384200,"2022-05-05","Fam. Salg",4316,3,"Ejerlejlighed",89,1902,{"$f":"IF(ISBLANK(VLOOKUP(A2193,Veje!A:B,2,FALSE)),INDEX(Veje!$D$2:$RT$652,MATCH(A2193,Veje!$A$2:$A$652,0),MATCH(B2193,Veje!$D$1:$RT$1,0)),VLOOKUP(A2193,Veje!A:B,2,FALSE))","v":"HMG"},{"$f":"IFERROR(VLOOKUP(C2193,Medlemmer!A:C,3,FALSE),\"\")","v":""},{"$f":"IFERROR(VLOOKUP(C2193,Medlemmer!A:C,2,FALSE),\"\")","v":""},{"$f":"IFERROR(VLOOKUP(C2193,Tidligere_henvendelser!A:B,2,FALSE),\"\")","v":""}]
[{"$f":"ReplaceNumbers(C2194)","v":"Onsgårdsvej"},{"$f":"_xlfn.NUMBERVALUE(FindNumbers(C2194))","v":17},"Onsgårdsvej 17, 1","2900 Hellerup",384200,"2022-05-05","Fam. Salg",2955,3,"Ejerlejlighed",130,1902,{"$f":"IF(ISBLANK(VLOOKUP(A2194,Veje!A:B,2,FALSE)),INDEX(Veje!$D$2:$RT$652,MATCH(A2194,Veje!$A$2:$A$652,0),MATCH(B2194,Veje!$D$1:$RT$1,0)),VLOOKUP(A2194,Veje!A:B,2,FALSE))","v":"HMG"},{"$f":"IFERROR(VLOOKUP(C2194,Medlemmer!A:C,3,FALSE),\"\")","v":""},{"$f":"IFERROR(VLOOKUP(C2194,Medlemmer!A:C,2,FALSE),\"\")","v":""},{"$f":"IFERROR(VLOOKUP(C2194,Tidligere_henvendelser!A:B,2,FALSE),\"\")","v":""}]
[{"$f":"ReplaceNumbers(C2195)","v":"Christianshvilevej"},{"$f":"_xlfn.NUMBERVALUE(FindNumbers(C2195))","v":4},"Christianshvilevej 4, 2. tv","2920 Charlottenlund",2000000,"2022-05-05","Alm. Salg",40000,2,"Ejerlejlighed",50,1896,{"$f":"IF(ISBLANK(VLOOKUP(A2195,Veje!A:B,2,FALSE)),INDEX(Veje!$D$2:$RT$652,MATCH(A2195,Veje!$A$2:$A$652,0),MATCH(B2195,Veje!$D$1:$RT$1,0)),VLOOKUP(A2195,Veje!A:B,2,FALSE))","v":"OCG"},{"$f":"IFERROR(VLOOKUP(C2195,Medlemmer!A:C,3,FALSE),\"\")","v":""},{"$f":"IFERROR(VLOOKUP(C2195,Medlemmer!A:C,2,FALSE),\"\")","v":""},{"$f":"IFERROR(VLOOKUP(C2195,Tidligere_henvendelser!A:B,2,FALSE),\"\")","v":""}]
[{"$f":"ReplaceNumbers(C2196)","v":"Ordrupvej"},{"$f":"_xlfn.NUMBERVALUE(FindNumbers(C2196))","v":126},"Ordrupvej 126A, st. 3","2920 Charlottenlund",2370000,"2022-05-05","Alm. Salg",33380,3,"Ejerlejlighed",71,1931,{"$f":"IF(ISBLANK(VLOOKUP(A2196,Veje!A:B,2,FALSE)),INDEX(Veje!$D$2:$RT$652,MATCH(A2196,Veje!$A$2:$A$652,0),MATCH(B2196,Veje!$D$1:$RT$1,0)),VLOOKUP(A2196,Veje!A:B,2,FALSE))","v":"OCG"},{"$f":"IFERROR(VLOOKUP(C2196,Medlemmer!A:C,3,FALSE),\"\")","v":""},{"$f":"IFERROR(VLOOKUP(C2196,Medlemmer!A:C,2,FALSE),\"\")","v":""},{"$f":"IFERROR(VLOOKUP(C2196,Tidligere_henvendelser!A:B,2,FALSE),\"\")","v":""}]
[{"$f":"ReplaceNumbers(C2197)","v":"Ridebanevang"},{"$f":"_xlfn.NUMBERVALUE(FindNumbers(C2197))","v":29},"Ridebanevang 29","2820 Gentofte",8445000,"2022-05-09","Alm. Salg",89840,5,"Rækkehus",94,1946,{"$f":"IF(ISBLANK(VLOOKUP(A2197,Veje!A:B,2,FALSE)),INDEX(Veje!$D$2:$RT$652,MATCH(A2197,Veje!$A$2:$A$652,0),MATCH(B2197,Veje!$D$1:$RT$1,0)),VLOOKUP(A2197,Veje!A:B,2,FALSE))","v":"BJGF"},{"$f":"IFERROR(VLOOKUP(C2197,Medlemmer!A:C,3,FALSE),\"\")","v":""},{"$f":"IFERROR(VLOOKUP(C2197,Medlemmer!A:C,2,FALSE),\"\")","v":""},{"$f":"IFERROR(VLOOKUP(C2197,Tidligere_henvendelser!A:B,2,FALSE),\"\")","v":""}]
[{"$f":"ReplaceNumbers(C2198)","v":"Charlottenlundvej"},{"$f":"_xlfn.NUMBERVALUE(FindNumbers(C2198))","v":2},"Charlottenlundvej 2B, 2. th","2900 Hellerup",2550000,"2022-05-11","Alm. Salg",43965,2,"Ejerlejlighed",58,1939,{"$f":"IF(ISBLANK(VLOOKUP(A2198,Veje!A:B,2,FALSE)),INDEX(Veje!$D$2:$RT$652,MATCH(A2198,Veje!$A$2:$A$652,0),MATCH(B2198,Veje!$D$1:$RT$1,0)),VLOOKUP(A2198,Veje!A:B,2,FALSE))","v":"HMG"},{"$f":"IFERROR(VLOOKUP(C2198,Medlemmer!A:C,3,FALSE),\"\")","v":""},{"$f":"IFERROR(VLOOKUP(C2198,Medlemmer!A:C,2,FALSE),\"\")","v":""},{"$f":"IFERROR(VLOOKUP(C2198,Tidligere_henvendelser!A:B,2,FALSE),\"\")","v":""}]
[{"$f":"ReplaceNumbers(C2199)","v":"Hellerupvej"},{"$f":"_xlfn.NUMBERVALUE(FindNumbers(C2199))","v":58},"Hellerupvej 58, 2. tv","2900 Hellerup",4900000,"2022-05-15","Alm. Salg",50000,3,"Ejerlejlighed",98,1930,{"$f":"IF(ISBLANK(VLOOKUP(A2199,Veje!A:B,2,FALSE)),INDEX(Veje!$D$2:$RT$652,MATCH(A2199,Veje!$A$2:$A$652,0),MATCH(B2199,Veje!$D$1:$RT$1,0)),VLOOKUP(A2199,Veje!A:B,2,FALSE))","v":"HMG"},{"$f":"IFERROR(VLOOKUP(C2199,Medlemmer!A:C,3,FALSE),\"\")","v":""},{"$f":"IFERROR(VLOOKUP(C2199,Medlemmer!A:C,2,FALSE),\"\")","v":""},{"$f":"IFERROR(VLOOKUP(C2199,Tidligere_henvendelser!A:B,2,FALSE),\"\")","v":""}]
[{"$f":"ReplaceNumbers(C2200)","v":"Jægersborgvej"},{"$f":"_xlfn.NUMBERVALUE(FindNumbers(C2200))","v":124},"Jægersborgvej 124, 1. tv","2820 Gentofte",3250000,"2022-05-16","Alm. Salg",31250,5,"Ejerlejlighed",104,1949,{"$f":"IF(ISBLANK(VLOOKUP(A2200,Veje!A:B,2,FALSE)),INDEX(Veje!$D$2:$RT$652,MATCH(A2200,Veje!$A$2:$A$652,0),MATCH(B2200,Veje!$D$1:$RT$1,0)),VLOOKUP(A2200,Veje!A:B,2,FALSE))","v":"GSG"},{"$f":"IFERROR(VLOOKUP(C2200,Medlemmer!A:C,3,FALSE),\"\")","v":""},{"$f":"IFERROR(VLOOKUP(C2200,Medlemmer!A:C,2,FALSE),\"\")","v":""},{"$f":"IFERROR(VLOOKUP(C2200,Tidligere_henvendelser!A:B,2,FALSE),\"\")","v":""}]
[{"$f":"ReplaceNumbers(C2201)","v":"Brannersvej"},{"$f":"_xlfn.NUMBERVALUE(FindNumbers(C2201))","v":13},"Brannersvej 13, st. tv","2920 Charlottenlund",4200000,"2022-05-18","Alm. Salg",59154,3,"Ejerlejlighed",71,1935,{"$f":"IF(ISBLANK(VLOOKUP(A2201,Veje!A:B,2,FALSE)),INDEX(Veje!$D$2:$RT$652,MATCH(A2201,Veje!$A$2:$A$652,0),MATCH(B2201,Veje!$D$1:$RT$1,0)),VLOOKUP(A2201,Veje!A:B,2,FALSE))","v":"OCG"},{"$f":"IFERROR(VLOOKUP(C2201,Medlemmer!A:C,3,FALSE),\"\")","v":""},{"$f":"IFERROR(VLOOKUP(C2201,Medlemmer!A:C,2,FALSE),\"\")","v":""},{"$f":"IFERROR(VLOOKUP(C2201,Tidligere_henvendelser!A:B,2,FALSE),\"\")","v":""}]
[{"$f":"ReplaceNumbers(C2202)","v":"Strandvejen"},{"$f":"_xlfn.NUMBERVALUE(FindNumbers(C2202))","v":417},"Strandvejen 417B, 4","2930 Klampenborg",15500000,"2022-05-18","Alm. Salg",104729,6,"Ejerlejlighed",148,1959,{"$f":"IF(ISBLANK(VLOOKUP(A2202,Veje!A:B,2,FALSE)),INDEX(Veje!$D$2:$RT$652,MATCH(A2202,Veje!$A$2:$A$652,0),MATCH(B2202,Veje!$D$1:$RT$1,0)),VLOOKUP(A2202,Veje!A:B,2,FALSE))","v":"SKGF"},{"$f":"IFERROR(VLOOKUP(C2202,Medlemmer!A:C,3,FALSE),\"\")","v":""},{"$f":"IFERROR(VLOOKUP(C2202,Medlemmer!A:C,2,FALSE),\"\")","v":""},{"$f":"IFERROR(VLOOKUP(C2202,Tidligere_henvendelser!A:B,2,FALSE),\"\")","v":""}]
[{"$f":"ReplaceNumbers(C2203)","v":"Brannersvej"},{"$f":"_xlfn.NUMBERVALUE(FindNumbers(C2203))","v":17},"Brannersvej 17, 3. 18","2920 Charlottenlund",4200000,"2022-05-18","Alm. Salg",300000,1,"Ejerlejlighed",14,1935,{"$f":"IF(ISBLANK(VLOOKUP(A2203,Veje!A:B,2,FALSE)),INDEX(Veje!$D$2:$RT$652,MATCH(A2203,Veje!$A$2:$A$652,0),MATCH(B2203,Veje!$D$1:$RT$1,0)),VLOOKUP(A2203,Veje!A:B,2,FALSE))","v":"OCG"},{"$f":"IFERROR(VLOOKUP(C2203,Medlemmer!A:C,3,FALSE),\"\")","v":""},{"$f":"IFERROR(VLOOKUP(C2203,Medlemmer!A:C,2,FALSE),\"\")","v":""},{"$f":"IFERROR(VLOOKUP(C2203,Tidligere_henvendelser!A:B,2,FALSE),\"\")","v":""}]
[{"$f":"ReplaceNumbers(C2204)","v":"Tranegårdsvej"},{"$f":"_xlfn.NUMBERVALUE(FindNumbers(C2204))","v":56},"Tranegårdsvej 56, 1. tv","2900 Hellerup",1267500,"2022-05-19","Alm. Salg",17852,2,"Ejerlejlighed",71,1919,{"$f":"IF(ISBLANK(VLOOKUP(A2204,Veje!A:B,2,FALSE)),INDEX(Veje!$D$2:$RT$652,MATCH(A2204,Veje!$A$2:$A$652,0),MATCH(B2204,Veje!$D$1:$RT$1,0)),VLOOKUP(A2204,Veje!A:B,2,FALSE))","v":"HMG"},{"$f":"IFERROR(VLOOKUP(C2204,Medlemmer!A:C,3,FALSE),\"\")","v":""},{"$f":"IFERROR(VLOOKUP(C2204,Medlemmer!A:C,2,FALSE),\"\")","v":""},{"$f":"IFERROR(VLOOKUP(C2204,Tidligere_henvendelser!A:B,2,FALSE),\"\")","v":""}]
[{"$f":"ReplaceNumbers(C2205)","v":"Schimmelmannsvej"},{"$f":"_xlfn.NUMBERVALUE(FindNumbers(C2205))","v":17},"Schimmelmannsvej 17C","2930 Klampenborg",18800000,"2022-05-19","Alm. Salg",75806,6,"Villa",248,2009,{"$f":"IF(ISBLANK(VLOOKUP(A2205,Veje!A:B,2,FALSE)),INDEX(Veje!$D$2:$RT$652,MATCH(A2205,Veje!$A$2:$A$652,0),MATCH(B2205,Veje!$D$1:$RT$1,0)),VLOOKUP(A2205,Veje!A:B,2,FALSE))","v":"SKGF"},{"$f":"IFERROR(VLOOKUP(C2205,Medlemmer!A:C,3,FALSE),\"\")","v":""},{"$f":"IFERROR(VLOOKUP(C2205,Medlemmer!A:C,2,FALSE),\"\")","v":""},{"$f":"IFERROR(VLOOKUP(C2205,Tidligere_henvendelser!A:B,2,FALSE),\"\")","v":""}]

{"sheet":"Veje","index":1,"n_rows":665,"n_cols":488,"rows_kept":665}
["Vejnavn","Forening","Fordeling mellem foreninger",1,{"$f":"D1+1","v":2},{"$f":"E1+1","v":3},4,5,6,7,8,9,10,11,12,13,14,15,16,17,18,19,20,21,22,23,24,25,26,27,28,29,30,31,32,33,34,35,36,37,38,39,40,41,42,43,44,45,46,47,48,49,50,51,52,53,54,55,56,57,58,59,60,61,62,63,64,65,66,{"$f":"BQ1+1","v":67},68,69,70,71,72,73,74,75,76,77,78,79,80,81,82,83,84,85,86,87,88,89,90,91,92,93,94,95,96,97,98,99,100,101,102,103,104,105,106,107,108,109,110,111,112,113,114,115,116,117,118,119,120,121,122,123,124,125,126,127,128,129,130,{"$f":"EC1+1","v":131},132,133,134,135,136,137,138,139,140,141,142,143,144,145,146,147,148,149,150,151,152,153,154,155,156,157,158,159,160,161,162,163,164,165,166,167,168,169,170,171,172,173,174,175,176,177,178,179,180,181,182,183,184,185,186,187,188,189,190,191,192,193,194,{"$f":"GO1+1","v":195},196,197,198,199,200,201,202,203,204,205,206,207,208,209,210,211,212,213,214,215,216,217,218,219,220,221,222,223,224,225,226,227,228,229,230,231,232,233,234,235,236,237,238,239,240,241,242,243,244,245,246,247,248,249,250,251,252,253,254,255,256,257,258,{"$f":"JA1+1","v":259},260,261,262,263,264,265,266,267,268,269,270,271,272,273,274,275,276,277,278,279,280,281,282,283,284,285,286,287,288,289,290,291,292,293,294,295,296,297,298,299,300,301,302,303,304,305,306,307,308,309,310,311,312,313,314,315,316,317,318,319,320,321,322,{"$f":"LM1+1","v":323},324,325,326,327,328,329,330,331,332,333,334,335,336,337,338,339,340,341,342,343,344,345,346,347,348,349,350,351,352,353,354,355,356,357,358,359,360,361,362,363,364,365,366,367,368,369,370,371,372,373,374,375,376,377,378,379,380,381,382,383,384,385,386,{"$f":"NY1+1","v":387},388,389,390,391,392,393,394,395,396,397,398,399,400,401,402,403,404,405,406,407,408,409,410,411,412,413,414,415,416,417,418,419,420,421,422,423,424,425,426,427,428,429,430,431,432,433,434,435,436,437,438,439,440,441,442,443,444,445,446,447,448,449,450,{"$f":"QK1+1","v":451},452,453,454,455,456,457,458,459,460,461,462,463,464,465,466,467,468,469,470,471,472,473,474,475,476,477,478,479,480,481,482,483,484,485]
["A. N. Hansens Alle","HMG"]
["A N Hansens Alle","HMG"]
["Adolphsvej","GSG"]
["Aftenbakken","DY"]
["Agavevej","HMG"]
["Agertoften","GSG"]
["Ahlmanns Alle","HMG"]
["Alexandervej","HMG"]
["Almevej","HMG"]
["Almindingen","DY"]
["Alrunevej","DY"]
["Ammentorpsvej","GSG"]
["Anchersvej","SKGF"]
["Anemonevej","GSG"]
["Annasvej","HMG"]
["Annettevej","OCG"]
["Aurehøjvej","HMG"]
["Aurevang","HMG"]
["Avnsøvej","BJGF"]
["Bakkedal","GSG"]
["Bakkevænget","GSG"]
["Baldrianvej","DY"]
["Banevej","OCG"]
["Bank-Mikkelsens Vej","GSG"]
["Barsehøj","GSG"]
["Baunegårdsvej","GSG"]
["Baunelukket","GSG"]
["Begoniavej","GSG"]
["Bekkasinvej","HMG"]
["Bellevuekrogen","SKGF"]
["Bellevuevej","SKGF"]
["Bengtasvej","HMG"]
["Berlings Have","OCG"]
["Berlingsbakke","OCG"]
["Bernstorff Slot","BJGF"]
["Bernstorfflund Alle","BJGF"]
["Bernstorffsvej",null,"GSG:alle ulige nr., HMG:, OCG: 194-248","GSG","HMG","GSG","HMG","GSG","HMG","GSG","HMG","GSG","HMG","GSG","HMG","GSG","HMG","GSG","HMG","GSG","HMG","GSG","HMG","GSG","HMG","GSG","HMG","GSG","HMG","GSG","HMG","GSG","HMG","GSG","HMG","GSG","HMG","GSG","HMG","GSG","HMG","GSG","HMG","GSG","HMG","GSG","HMG","GSG","HMG","GSG","HMG","GSG","HMG","GSG","HMG","GSG","HMG","GSG","HMG","GSG","HMG","GSG","HMG","GSG","HMG","GSG","HMG","GSG","HMG","GSG","HMG","GSG","HMG","GSG","HMG","GSG","HMG","GSG","HMG","GSG","HMG","GSG","HMG","GSG","HMG","GSG","HMG","GSG","HMG","GSG","HMG","GSG","HMG","GSG","HMG","GSG","HMG","GSG","HMG","GSG","HMG","GSG","HMG","GSG","HMG","GSG","HMG","GSG","HMG","GSG","HMG","GSG","HMG","GSG","HMG","GSG","HMG","GSG","HMG","GSG","HMG","GSG","HMG","GSG","HMG","GSG","HMG","GSG","HMG","GSG","HMG","GSG","HMG","GSG","HMG","GSG","HMG","GSG","HMG","GSG","HMG","GSG","HMG","GSG","HMG","GSG","HMG","GSG","HMG","GSG","HMG","GSG","HMG","GSG","HMG","GSG","HMG","GSG","HMG","GSG","HMG","GSG","HMG","GSG","HMG","GSG","HMG","GSG","HMG","GSG","HMG","GSG","HMG","GSG","HMG","GSG","HMG","GSG","HMG","GSG","HMG","GSG","HMG","GSG","HMG","GSG","HMG","GSG","HMG","GSG","HMG","GSG","HMG","GSG","HMG","GSG","OCG","GSG","OCG","GSG","OCG","GSG","OCG","GSG","OCG","GSG","OCG","GSG","OCG","GSG","OCG","GSG","OCG","GSG","OCG","GSG","OCG","GSG","OCG","GSG","OCG","GSG","OCG","GSG","OCG","GSG","OCG","GSG","OCG","GSG","OCG","GSG","OCG","GSG","OCG","GSG","OCG","GSG","OCG","GSG","OCG","GSG","OCG","GSG","OCG","GSG","OCG","GSG","OCG","GSG","OCG","GSG","HMG","GSG","HMG","GSG","HMG","GSG","HMG","GSG","HMG","GSG","HMG","GSG","HMG","GSG","HMG","GSG","HMG","GSG","HMG","GSG","HMG","GSG","HMG","GSG","HMG","GSG","HMG","GSG","HMG","GSG","HMG","GSG","HMG","GSG","HMG","GSG","HMG","GSG","HMG","GSG","HMG","GSG","HMG","GSG","HMG","GSG","HMG","GSG","HMG","GSG","HMG","GSG","HMG","GSG","HMG","GSG","HMG","GSG","HMG","GSG","HMG","GSG","HMG","GSG","HMG","GSG","HMG","GSG","HMG","GSG","HMG","GSG","HMG","GSG","HMG","GSG","HMG","GSG","HMG","GSG","HMG","GSG","HMG","GSG","HMG","GSG","HMG","GSG","HMG","GSG","HMG","GSG","HMG","GSG","HMG","GSG","HMG","GSG","HMG","GSG","HMG","GSG","HMG","GSG","HMG","GSG","HMG","GSG","HMG","GSG","HMG","GSG","HMG","GSG","HMG","GSG","HMG","GSG","HMG","GSG","HMG","GSG","HMG","GSG","HMG","GSG"]
["Bernstorffsvænget","GSG"]
["Bindesbøllsvej","OCG"]
["Birkehøj","DY"]
["Bjergtoften","GSG"]
["Bjerrelide","OCG"]
["Blidahlund","HMG"]
["Blidahpark","HMG"]
["Blokhusvej","BJGF"]
["Bloksbjerget","OCG"]
["Bomporten","GSG"]
["Borgmester Jørgensens Vej","SKGF"]
["Bostamose Vestre Stræde","SKGF"]
["Bostamose Østre Stræde","SKGF"]
["Brams Sidevej","OCG"]
["Bramsvej","OCG"]
["Brannersvej","OCG"]
["Bregentved Alle","GSG"]
["Bregnegårdsvej","HMG"]
["Bregnevej","GSG"]
["Brodersens Alle","HMG"]
["Brogårdsvej","GSG"]
["Brogårdsvænget","GSG"]
["Broholms Alle","SKGF"]
["Bryggertorvet","HMG"]
["Brødhøj","BJGF"]
["Brødrevej","DY"]
["Brøndlunds Alle","DY"]
["Brønlunds Alle","DY"]
["Byledet","GSG"]
["Bækkebo","DY"]
["Bøgehøj","DY"]
["Bøgevej","HMG"]
["C L Ibsens Vej","GSG"]
["C V E Knuths Vej","HMG"]
["C. L. Ibsens Vej","GSG"]
["C. V. E. Knuths Vej","HMG"]
["Callisensvej","HMG"]
["Carl Baggers Alle","OCG"]
["Carolinevej","HMG"]
["Charlottenlund Stationsplads","OCG"]
["Charlottenlundvej","HMG"]
["Christiansholm Slot","SKGF"]
["Christiansholms Parallelvej","SKGF"]
["Christiansholms Parkvej","SKGF"]
["Christiansholms Tværvej","SKGF"]
["Christiansholmsvej","SKGF"]
["Christianshvilevej","OCG"]
["Christiansvej","OCG"]
["Clarasvej","OCG"]
["Cottagevej","HMG"]
["Dagvej","GSG"]
["Dahlensstræde","GSG"]
["Dalparken","BJGF"]
["Dalsgaardsvej","SKGF"]
["Dalstrøget","DY"]
["Dalsvinget","GSG"]
["Dalvej","BJGF"]
["Damgårdsvej","SKGF"]
["Damtofte Nordre Stræde","SKGF"]
["Damtofte Søndre Stræde","SKGF"]
["Dessaus Boulevard","HMG"]
["Drachmannsvej","SKGF"]
["Dronning Louises Vej","HMG"]
["Dronningemarken","GSG"]
["Duntzfeldts Alle","HMG"]
["Duntzfelts Alle","HMG"]
["Dyrehavevej","SKGF"]
["Dyssebakken","DY"]
["Dyssegårdsvej","DY"]
["Dæmringsvej","GSG"]
["Edelgave Alle","GSG"]
["Edithsvej","HMG"]
["Edlevej","HMG"]
["Efterårsvej","OCG"]
["Egebjerg Alle","HMG"]
["Egehøjvej","SKGF"]
["Egetoften","DY"]
["Eggersvej","GSG"]
["Einar Holbølls Vej","HMG"]
["Eivindsvej","HMG"]
["Ejgårds Tværvej","OCG"]
["Ejgårdsparken","OCG"]
["Ejgårdsvej","OCG"]
["Ellebakken","DY"]
["Ellebækvej","GSG"]
["Ellegårdsvej",null,"GSG: alle 47-85, DY: 35","GSG","GSG","GSG","GSG","GSG","GSG","GSG","GSG","GSG","GSG","GSG","GSG","GSG","GSG","GSG","GSG","GSG","GSG","GSG","GSG","GSG","GSG","GSG","GSG","GSG","GSG","GSG","GSG","GSG","GSG","GSG","GSG","GSG","GSG","DY","GSG","GSG","GSG","GSG","GSG","GSG","GSG","GSG","GSG","GSG","GSG","GSG","GSG","GSG","GSG","GSG","GSG","GSG","GSG","GSG","GSG","GSG","GSG","GSG","GSG","GSG","GSG","GSG","GSG","GSG","GSG","GSG","GSG","GSG","GSG","GSG","GSG","GSG","GSG","GSG","GSG","GSG","GSG","GSG","GSG","GSG","GSG","GSG","GSG","GSG","GSG","GSG","GSG","GSG","GSG","GSG","GSG","GSG","GSG","GSG","GSG","GSG","GSG","GSG","GSG","GSG","GSG","GSG","GSG","GSG","GSG","GSG","GSG","GSG","GSG","GSG","GSG","GSG","GSG","GSG","GSG"]
["Ellegårdsvænge","GSG"]
["Ellehøj","DY"]
["Ellemosevej","DY"]
["Ellensvej","OCG"]
["Ellevadsvej","OCG"]
["Ellinorsvej","OCG"]
["Emil Reesens Vej","GSG"]
["Emiliekildevej","SKGF"]
["Emilievej","OCG"]
["Emmasvej","GSG"]
["Enemarksvej","BJGF"]
["Engbakkevej","BJGF"]
["Engmosevej","OCG"]
["Enighedsvej","OCG"]
["Ericastien","GSG","GSG: lige numre"]
["Ericavej",null,"GSG: 3-39 & 141- 176",null,null,"GSG","GSG","GSG","GSG","GSG","GSG","GSG","GSG","GSG","GSG","GSG","GSG","GSG","GSG","GSG","GSG","GSG","GSG","GSG","GSG","GSG","GSG","GSG","GSG","GSG","GSG","GSG","GSG","GSG","GSG","GSG","GSG","GSG","GSG","GSG","GSG","GSG",{"$nulls":101},"GSG","GSG","GSG","GSG","GSG","GSG","GSG","GSG","GSG","GSG","GSG","GSG","GSG","GSG","GSG","GSG","GSG","GSG","GSG","GSG","GSG","GSG","GSG","GSG","GSG","GSG","GSG","GSG","GSG","GSG","GSG","GSG","GSG","GSG","GSG","GSG"]
["Erichsensvej","GSG"]
["Ermelundsvej",null,"GSG: ulige 7-21 & nr. 16, BJGF: resten",{"$nulls":6},"GSG",null,"GSG",null,"GSG",null,"GSG",null,"GSG","GSG","GSG",null,"GSG",null,"GSG","BJGF","BJGF","BJGF","BJGF","BJGF","BJGF","BJGF","BJGF","BJGF","BJGF","BJGF","BJGF","BJGF","BJGF","BJGF","BJGF","BJGF","BJGF","BJGF","BJGF","BJGF","BJGF","BJGF","BJGF","BJGF","BJGF","BJGF","BJGF","BJGF","BJGF","BJGF","BJGF","BJGF","BJGF","BJGF","BJGF","BJGF","BJGF","BJGF","BJGF","BJGF","BJGF","BJGF","BJGF","BJGF","BJGF","BJGF","BJGF","BJGF","BJGF","BJGF","BJGF","BJGF","BJGF","BJGF","BJGF","BJGF","BJGF","BJGF","BJGF","BJGF","BJGF","BJGF","BJGF","BJGF","BJGF","BJGF","BJGF","BJGF","BJGF","BJGF","BJGF","BJGF","BJGF","BJGF","BJGF","BJGF","BJGF","BJGF","BJGF","BJGF","BJGF","BJGF","BJGF","BJGF","BJGF","BJGF","BJGF","BJGF","BJGF","BJGF","BJGF","BJGF","BJGF","BJGF","BJGF","BJGF","BJGF","BJGF","BJGF","BJGF","BJGF","BJGF","BJGF","BJGF","BJGF","BJGF","BJGF","BJGF","BJGF","BJGF","BJGF","BJGF","BJGF","BJGF","BJGF","BJGF","BJGF","BJGF","BJGF","BJGF","BJGF","BJGF","BJGF","BJGF","BJGF","BJGF","BJGF","BJGF","BJGF","BJGF","BJGF","BJGF","BJGF","BJGF","BJGF","BJGF","BJGF","BJGF","BJGF","BJGF","BJGF","BJGF","BJGF","BJGF"]
["Ermelundsvænget","BJGF"]
["Erslevsvej","BJGF"]
["Eskeager","DY"]
["Esperance Alle","HMG"]
["Esthersvej","HMG"]
["Evanstonevej","HMG"]
["Ewaldsbakken","DY"]
["Exnersvej","SKGF"]
["Fabritius Alle","SKGF"]
["Fannys Alle","HMG"]
["Fasanhaven","BJGF"]
["Fauerholm Alle","GSG"]
["Femvejen","OCG"]
["Fennevangen","GSG"]
["Fiskebakken","GSG"]
["Folevænget","SKGF"]
["Folkevej","GSG"]
["Fortunvej","BJGF"]
["Forårsvej","OCG"]
["Fragariavej","GSG"]
["Fredens Plads","OCG"]
["Fredensvej","OCG"]
["Frederikkevej","HMG"]
["Frimodtsvej","HMG"]
["Frisersvej","OCG"]
["Friservej","OCG"]
["Fristedet","GSG"]
["Fruevej","DY"]
["Frugtparken","GSG"]
["Frændevej","DY"]
["Frøbakken","DY"]
["Frølichsvej","SKGF"]
["Fuglegårdsvej","GSG"]
["Fuglegårdsvænget","GSG"]
["Fyrrehøj","DY"]
["Fæstevej","GSG"]
["Gamlehave Alle","OCG"]
["Gammelmosevej",null,"GSG: 1 & 46-50","GSG",{"$nulls":44},"GSG",null,"GSG",null,"GSG"]
["Garderhøjfort","BJGF"]
["Garderhøjvej","BJGF"]
["Gardes Alle","HMG"]
["Gartnersvinget","DY"]
["Gentofte hospitalsvej","GSG"]
["Gentoftegade","GSG"]
["Genvej","DY"]
["Gersonsvej","HMG"]
["Gisselfeld Alle","GSG"]
["Gjørlingsvej","HMG"]
["Gladsaxevej","DY"]
["Gotfred Rodes Vej","OCG"]
["Godfred Rodes Vej","OCG"]
["Godhavnsvej","DY"]
["Granhøjen","GSG"]
["Grants Alle","DY"]
["Grumstrupsvej","GSG"]
["Grumstrupvej","GSG"]
["Grusbakken","GSG"]
["Gruts Alle","HMG"]
["Grænsevej","GSG"]
["Grønnevænge","OCG"]
["Grøntoften","DY"]
["Gudrunsvej","OCG"]
["Gyldenholm Alle","GSG"]
["Gyldenlundsvej","SKGF"]
["Gåsebjerget","GSG"]
["H A Clausens Vej","GSG"]
["H. A. Clausens Vej","GSG"]
["Hagedornsvej","GSG"]
["Hagens Alle","DY"]
["Hambros Alle","HMG"]
["Hans Bekkevolds Alle","HMG"]
["Hans Bruuns Vej","OCG"]
["Hans Edvard Teglers Vej","OCG"]
["Hans Jensens Vej","GSG"]
["Hartmannsvej","HMG"]
["Havef Bernstorff","BJGF"]
["Havef Solvang","GSG"]
["Havsgårds Alle","DY"]
["Havsgårdsvej","DY"]
["Havslundevej","GSG"]
["Hegelsvej","OCG"]
["Hegnsvang","GSG"]
["Heilsmindevej","OCG"]
["Hellerupgårdvej","HMG"]
["Helleruplund Alle","HMG"]
["Hellerupvej","HMG"]
["Helsebakken","GSG"]
["Henning Bojesens Vej","GSG"]
["Henningsens Alle","HMG"]
["Henriettevej","OCG"]
["Henrik Hertz Vej","OCG"]
["Herredsvej","GSG"]
["Herthavej","OCG"]
["Heslegårdsvej","GSG"]
["Heslehøj Alle","HMG"]
["Hesseltoften","GSG"]
["Hesselvang","GSG"]
["Hjalmarsvej","OCG"]
["Hjemmevej","DY"]
["Hjortevangen","OCG"]
["Holck Winterfeldts Alle","HMG"]
["Holgersvej","OCG"]
["Holmegårdsvej","OCG"]
["Horsevej","GSG"]
["Hovmarksvej","BJGF"]
["Hulkærsvej","DY"]
["Hulkærvej","DY"]
["Hultmannsvej","HMG"]
["Hundesøvej","BJGF"]
["Hurdlevej","OCG"]
["Hvidørevej",null,"SKGF: 53 højeste ulige nr., OCG: 38-68 og 55-87","SKGF","SKGF","SKGF","SKGF","SKGF","SKGF","SKGF","SKGF","SKGF","SKGF","SKGF","SKGF","SKGF","SKGF","SKGF","SKGF","SKGF","SKGF","SKGF","SKGF","SKGF","SKGF","SKGF","SKGF","SKGF","SKGF","SKGF","SKGF","SKGF","SKGF","SKGF","SKGF","SKGF","SKGF","SKGF","SKGF","SKGF","OCG","SKGF","OCG","SKGF","OCG","SKGF","OCG","SKGF","OCG","SKGF","OCG","SKGF","OCG","SKGF","OCG","SKGF","OCG","OCG","OCG","OCG","OCG","OCG","OCG","OCG","OCG","OCG","OCG","OCG","OCG","OCG","OCG","OCG","OCG","OCG","OCG","OCG","OCG","OCG","OCG","OCG","OCG","OCG","OCG","OCG","OCG","OCG","OCG","OCG","OCG","OCG"]
["Hvilevej","GSG"]
["Hyldegårds Tværvej","OCG"]
["Hyldegårdsvej",null,"SKGF: 44 er laveste lige nr. 41 er laveste ulige nr., OCG: 1-39 og 2-40","OCG","OCG","OCG","OCG","OCG","OCG","OCG","OCG","OCG","OCG","OCG","OCG","OCG","OCG","OCG","OCG","OCG","OCG","OCG","OCG","OCG","OCG","OCG","OCG","OCG","OCG","OCG","OCG","OCG","OCG","OCG","OCG","OCG","OCG","OCG","OCG","OCG","OCG","OCG","OCG","SKGF",null,"SKGF","SKGF","SKGF","SKGF","SKGF","SKGF","SKGF","SKGF","SKGF","SKGF","SKGF","SKGF","SKGF","SKGF","SKGF","SKGF","SKGF","SKGF","SKGF","SKGF","SKGF","SKGF","SKGF","SKGF","SKGF","SKGF","SKGF","SKGF","SKGF","SKGF","SKGF","SKGF","SKGF","SKGF","SKGF","SKGF","SKGF","SKGF","SKGF","SKGF","SKGF","SKGF","SKGF","SKGF","SKGF","SKGF","SKGF","SKGF","SKGF","SKGF","SKGF","SKGF","SKGF","SKGF"]
["Hyllingeparken","DY"]
["Hyrdevej","GSG"]
["Høeghs Alle","GSG"]
["Høeghsmindeparken","HMG"]
["Høeghsmindevej","GSG"]
["Højgårds Have","DY"]
["Højsgårds Alle","DY"]
["Højsgårds Have","DY"]
["Højsgaards Have","DY"]
["Høstvej","OCG"]
["Høvænget","GSG"]
["Høyrups Alle","HMG"]
["Ibstrupvej","BJGF"]
["Ibstrupvænget","GSG"]
["Indelukket","GSG"]
["Ingeborgvej","OCG"]
["Ingersvej","OCG"]
["Jacobsens Alle","HMG"]
["Jagtvænget","SKGF"]
["Jahnsensvej","GSG"]
["Jens Lillelunds Vej","OCG"]
["Jens Løvs Tværvej","OCG"]
["Jensløvs Tværvej","OCG"]
["Jensløvsvej","OCG"]
["Johannevej","OCG"]
["Jomsborgvej","HMG"]
["Julianehåbsvej","DY"]
["Julie Sødrings Vej","HMG"]
["Juliusvej","GSG"]
["Juul Steens Alle","GSG"]
["Jægerbakken","BJGF"]
["Jægersborg Alle",null,"BJGF: resten, OCG: 1-75 og 2-94","OCG","OCG","OCG","OCG","OCG","OCG","OCG","OCG","OCG","OCG","OCG","OCG","OCG","OCG","OCG","OCG","OCG","OCG","OCG","OCG","OCG","OCG","OCG","OCG","OCG","OCG","OCG","OCG","OCG","OCG","OCG","OCG","OCG","OCG","OCG","OCG","OCG","OCG","OCG","OCG","OCG","OCG","OCG","OCG","OCG","OCG","OCG","OCG","OCG","OCG","OCG","OCG","OCG","OCG","OCG","OCG","OCG","OCG","OCG","OCG","OCG","OCG","OCG","OCG","OCG","OCG","OCG","OCG","OCG","OCG","OCG","OCG","OCG","OCG","OCG","OCG","OCG","OCG","OCG","OCG","OCG","OCG","OCG","OCG","OCG","OCG","OCG","OCG","OCG","OCG","OCG","OCG","OCG","OCG","BJGF","BJGF","BJGF","BJGF","BJGF","BJGF","BJGF","BJGF","BJGF","BJGF","BJGF","BJGF","BJGF","BJGF","BJGF","BJGF","BJGF","BJGF","BJGF","BJGF","BJGF","BJGF","BJGF","BJGF","BJGF","BJGF","BJGF","BJGF","BJGF","BJGF","BJGF","BJGF","BJGF","BJGF","BJGF","BJGF","BJGF","BJGF","BJGF","BJGF","BJGF","BJGF","BJGF","BJGF","BJGF","BJGF","BJGF","BJGF","BJGF","BJGF","BJGF","BJGF","BJGF","BJGF","BJGF","BJGF","BJGF","BJGF","BJGF","BJGF","BJGF","BJGF","BJGF","BJGF","BJGF","BJGF","BJGF","BJGF","BJGF","BJGF","BJGF","BJGF","BJGF","BJGF","BJGF","BJGF","BJGF","BJGF","BJGF","BJGF","BJGF","BJGF","BJGF","BJGF","BJGF","BJGF","BJGF","BJGF","BJGF","BJGF","BJGF","BJGF","BJGF","BJGF","BJGF","BJGF","BJGF","BJGF","BJGF","BJGF","BJGF","BJGF","BJGF","BJGF","BJGF","BJGF","BJGF","BJGF","BJGF","BJGF","BJGF","BJGF","BJGF","BJGF","BJGF","BJGF","BJGF","BJGF","BJGF","BJGF","BJGF","BJGF","BJGF","BJGF","BJGF","BJGF","BJGF","BJGF","BJGF","BJGF","BJGF","BJGF","BJGF","BJGF","BJGF","BJGF","BJGF","BJGF","BJGF","BJGF","BJGF","BJGF","BJGF","BJGF","BJGF","BJGF","BJGF","BJGF","BJGF","BJGF","BJGF","BJGF","BJGF","BJGF","BJGF","BJGF","BJGF","BJGF","BJGF","BJGF","BJGF","BJGF","BJGF","BJGF","BJGF","BJGF","BJGF","BJGF","BJGF","BJGF","BJGF","BJGF","BJGF","BJGF","BJGF","BJGF","BJGF","BJGF","BJGF","BJGF","BJGF","BJGF"]
["Jægersborg station","GSG"]
["Jægersborgvej",null,"GSG: 102-130  kun lige nr.",{"$nulls":76},"BJGF",null,"BJGF",null,"BJGF",{"$nulls":20},"GSG",null,"GSG",null,"GSG",null,"GSG",null,"GSG",null,"GSG",null,"GSG",null,"GSG",null,"GSG",null,"GSG",null,"GSG",null,"GSG",null,"GSG",null,"GSG",null,"GSG"]
["Jægersvinget","BJGF"]
["Jægervangen","BJGF"]
["Kameliavej","HMG"]
["Kanalbuen","DY"]
["Kathrinevej","HMG"]
["Kavalergården","HMG"]
["Kaysersvej","HMG"]
["Kellersvej","GSG"]
["Kildebakkegårds Alle","DY"]
["Kildedalen","DY"]
["Kildegårds Have","GSG"]
["Kildegårds Plads","DY"]
["Kildegårdshave","GSG"]
["Kildegårdsvej",null,"GSG: ulige fra nr. 17-105 & lige 10-164, HMG:","HMG","HMG","HMG","HMG","HMG","HMG","HMG","HMG","HMG","GSG","HMG","GSG","HMG","GSG","HMG","GSG","GSG","GSG","GSG","GSG","GSG","GSG","GSG","GSG","GSG","GSG","GSG","GSG","GSG","GSG","GSG","GSG","GSG","GSG","GSG","GSG","GSG","GSG","GSG","GSG","GSG","GSG","GSG","GSG","GSG","GSG","GSG","GSG","GSG","GSG","GSG","GSG","GSG","GSG","GSG","GSG","GSG","GSG","GSG","GSG","GSG","GSG","GSG","GSG","GSG","GSG","GSG","GSG","GSG","GSG","GSG","GSG","GSG","GSG","GSG","GSG","GSG","GSG","GSG","GSG","GSG","GSG","GSG","GSG","GSG","GSG","GSG","GSG","GSG","GSG","GSG","GSG","GSG","GSG","GSG","GSG","GSG","GSG","GSG","GSG","GSG","GSG","GSG","GSG","GSG","GSG",null,"GSG",null,"GSG",null,"GSG",null,"GSG",null,"GSG",null,"GSG",null,"GSG",null,"GSG",null,"GSG",null,"GSG",null,"GSG",null,"GSG",null,"GSG",null,"GSG",null,"GSG",null,"GSG",null,"GSG",null,"GSG",null,"GSG",null,"GSG",null,"GSG",null,"GSG",null,"GSG",null,"GSG",null,"GSG",null,"GSG",null,"GSG",null,"GSG",null,"GSG"]
["Kildegårdsvænget","GSG"]
["Kildeskovsvej","GSG"]
["Kiplings Alle","DY"]
["Kirkebakken","GSG"]
["Kirkehøj","GSG"]
["Kirketorvet","GSG"]
["Kirkevej","OCG"]
["Kirsten Piils Vej","OCG"]
["Klampenborg Station","SKGF"]
["Klampenborgvej",null,"SKGF: 14 er højeste lige nr. 23 er højeste ulige nr., OCG: 18A-50 og 25 -","SKGF","SKGF","SKGF","SKGF","SKGF","SKGF","SKGF","SKGF","SKGF","SKGF","SKGF","SKGF","SKGF","SKGF","SKGF","OCG","SKGF","OCG","SKGF","OCG","SKGF","OCG","SKGF","OCG","OCG","OCG","OCG","OCG","OCG","OCG","OCG","OCG","OCG","OCG","OCG","OCG","OCG","OCG","OCG","OCG","OCG","OCG","OCG","OCG","OCG","OCG","OCG","OCG","OCG","OCG","OCG","OCG"]
["Kløckersvej","GSG"]
["Knud Rasmussens Vej","DY"]
["Knæbjerget","GSG"]
["Kodansvej","HMG"]
["Koglevej","GSG"]
["Kollegiehaven","OCG"]
["Kollegievej","OCG"]
["Kongehøjen","SKGF"]
["Kongeleddet","OCG"]
["Kongeledet","OCG"]
["Kongelysvej","GSG"]
["Kornvej","OCG"]
["Korsgårdsvej","SKGF"]
["Kragevej","HMG"]
["Krathusparken","OCG"]
["Krathusvej","OCG"]
["Kratkrogen","OCG"]
["Kratvænget","OCG"]
["Krogen","GSG"]
["Krøyersvej","SKGF"]
["Kyhnsvej","SKGF"]
["Kystvejen","SKGF"]
["Kærmindevej","GSG"]
["Kærvangen","GSG"]
["Kaas Alle","GSG"]
["L E Bruuns Vej",null,"OCG: lige nr, HMG: ulige nr","HMG","OCG","HMG","OCG","HMG","OCG","HMG","OCG","HMG","OCG","HMG","OCG","HMG","OCG","HMG","OCG","HMG","OCG","HMG","OCG","HMG","OCG","HMG","OCG","HMG","OCG","HMG","OCG","HMG","OCG","HMG","OCG","HMG","OCG","HMG","OCG","HMG","OCG","HMG","OCG","HMG","OCG","HMG","OCG","HMG","OCG","HMG","OCG","HMG","OCG","HMG","OCG","HMG","OCG","HMG","OCG","HMG","OCG","HMG","OCG","HMG","OCG","HMG","OCG","HMG","OCG","HMG","OCG","HMG","OCG","HMG","OCG","HMG","OCG","HMG","OCG","HMG","OCG","HMG","OCG","HMG","OCG","HMG","OCG","HMG","OCG","HMG","OCG","HMG","OCG","HMG","OCG","HMG","OCG","HMG","OCG","HMG","OCG","HMG","OCG","HMG","OCG","HMG","OCG","HMG","OCG","HMG","OCG","HMG","OCG","HMG","OCG","HMG","OCG","HMG","OCG","HMG","OCG","HMG","OCG","HMG","OCG","HMG","OCG","HMG","OCG","HMG","OCG","HMG","OCG","HMG","OCG","HMG","OCG","HMG","OCG","HMG","OCG","HMG","OCG","HMG","OCG","HMG","OCG","HMG","OCG","HMG","OCG","HMG","OCG","HMG","OCG","HMG","OCG","HMG","OCG","HMG","OCG","HMG","OCG","HMG","OCG","HMG","OCG","HMG","OCG","HMG","OCG","HMG","OCG","HMG","OCG","HMG","OCG","HMG","OCG","HMG","OCG","HMG","OCG","HMG","OCG","HMG","OCG","HMG","OCG","HMG","OCG","HMG","OCG","HMG","OCG","HMG","OCG","HMG","OCG","HMG","OCG","HMG","OCG","HMG","OCG","HMG","OCG","HMG","OCG","HMG","OCG","HMG","OCG","HMG","OCG","HMG","OCG","HMG","OCG","HMG","OCG","HMG"]
["L. E. Bruuns Vej",null,"OCG: lige nr, HMG: ulige nr","HMG","OCG","HMG","OCG","HMG","OCG","HMG","OCG","HMG","OCG","HMG","OCG","HMG","OCG","HMG","OCG","HMG","OCG","HMG","OCG","HMG","OCG","HMG","OCG","HMG","OCG","HMG","OCG","HMG","OCG","HMG","OCG","HMG","OCG","HMG","OCG","HMG","OCG","HMG","OCG","HMG","OCG","HMG","OCG","HMG","OCG","HMG","OCG","HMG","OCG","HMG","OCG","HMG","OCG","HMG","OCG","HMG","OCG","HMG","OCG","HMG","OCG","HMG","OCG","HMG","OCG","HMG","OCG","HMG","OCG","HMG","OCG","HMG","OCG","HMG","OCG","HMG","OCG","HMG","OCG","HMG","OCG","HMG","OCG","HMG","OCG","HMG","OCG","HMG","OCG","HMG","OCG","HMG","OCG","HMG","OCG","HMG","OCG","HMG","OCG","HMG","OCG","HMG","OCG","HMG","OCG","HMG","OCG","HMG","OCG","HMG","OCG","HMG","OCG","HMG","OCG","HMG","OCG","HMG","OCG","HMG","OCG","HMG","OCG","HMG","OCG","HMG","OCG","HMG","OCG","HMG","OCG","HMG","OCG","HMG","OCG","HMG","OCG","HMG","OCG","HMG","OCG","HMG","OCG","HMG","OCG","HMG","OCG","HMG","OCG","HMG","OCG"]
["Lagergårdsvej","GSG"]
["Langengen","DY"]
["Ledreborg Alle","GSG"]
["Lemchesvej","HMG"]
["Leopold Damms Alle","HMG"]
["Levkøjvej","GSG"]
["Liljevej","GSG"]
["Lille Fredens Vej","OCG"]
["Lille Fredensvej","OCG"]
["Lille Strandvej","HMG"]
["Lindegårdsvej","OCG"]
["Lindorffs Alle","HMG"]
["Lorcksvej","GSG"]
["Lundegårdsvej","HMG"]
["Lundekrogen","HMG"]
["Lundely","GSG"]
["Lundeskovsvej","HMG"]
["Lykkevej","OCG"]
["Lyngbyvej",null,"GSG: 260-446 & 315-485, DY: ulige 247-301",{"$nulls":208},"DY",null,"DY",{"$nulls":5},"DY",null,"DY",null,"DY",null,"DY",null,"DY",null,"DY",null,"DY",null,"DY",null,"DY",null,"DY",null,"DY",null,"DY",null,"DY",null,"DY",null,"DY",null,"DY",null,"DY",null,"DY",null,"DY",null,"DY",null,"DY",null,"DY","GSG","DY","GSG","DY","GSG","DY","GSG","DY","GSG","DY","GSG","DY","GSG","DY","GSG","DY","GSG","DY","GSG","DY","GSG","DY","GSG","DY","GSG","DY","GSG","DY","GSG","DY","GSG","DY","GSG","DY","GSG","DY","GSG","DY","GSG","DY","GSG","DY","GSG","DY","GSG","DY","GSG","DY","GSG","DY","GSG","GSG","GSG","GSG","GSG","GSG","GSG","GSG","GSG","GSG","GSG","GSG","GSG","GSG","GSG","GSG","GSG","GSG","GSG","GSG","GSG","GSG","GSG","GSG","GSG","GSG","GSG","GSG","GSG","GSG","GSG","GSG","GSG","GSG","GSG","GSG","GSG","GSG","GSG","GSG","GSG","GSG","GSG","GSG","GSG","GSG","GSG","GSG","GSG","GSG","GSG","GSG","GSG","GSG","GSG","GSG","GSG","GSG","GSG","GSG","GSG","GSG","GSG","GSG","GSG","GSG","GSG","GSG","GSG","GSG","GSG","GSG","GSG","GSG","GSG","GSG","GSG","GSG","GSG","GSG","GSG","GSG","GSG","GSG","GSG","GSG","GSG","GSG","GSG","GSG","GSG","GSG","GSG","GSG","GSG","GSG","GSG","GSG","GSG","GSG","GSG","GSG","GSG","GSG","GSG","GSG","GSG","GSG","GSG","GSG","GSG","GSG","GSG","GSG","GSG","GSG","GSG","GSG","GSG","GSG","GSG","GSG","GSG","GSG","GSG","GSG","GSG","GSG","GSG","GSG","GSG","GSG","GSG","GSG","GSG","GSG","GSG","GSG","x","GSG","x","GSG","x","GSG","x","GSG","x","GSG","x","GSG","x","GSG","x","GSG","x","GSG","x","GSG","x","GSG","x","GSG","x","GSG","x","GSG","x","GSG","x","GSG","x","GSG","x","GSG","x","GSG"]
["Lysagervej","OCG"]
["Løvenborg Alle","GSG"]
["Løvsangervej","HMG"]
["Løvspringsvej","OCG"]
["Maglegård Skolevej","HMG"]
["Maglehøj","DY"]
["Maglemosevej","HMG"]
["Maglevænget","HMG"]
["Maltegårdsvej","GSG"]
["Maltevangen","GSG"]
["Mantziusvej","HMG"]
["Marediget","HMG"]
["Margrethevej","HMG"]
["Mariebjergvej","GSG"]
["Marievej","HMG"]
["Markvangen","GSG"]
["Melchiorsvej","SKGF"]
["Melvillevej","DY"]
["Merianvej","DY"]
["Mesterlodden","GSG"]
["Meutegårdsvej","BJGF"]
["Middelvej","GSG"]
["Mindevej","DY"]
["Mitchellsstræde","GSG"]
["Morescosvej","OCG"]
["Morgenvej","GSG"]
["Mosebuen","GSG"]
["Mosegårdsvej","GSG"]
["Mosegårdsvænget","GSG"]
["Mosehøjvej","OCG"]
["Moselukket","GSG"]
["Munkegårdsvej","DY"]
["Munkehøj","DY"]
["Munkely","DY"]
["Mylius Erichsens Alle","DY"]
["Myrtoften","GSG"]
["Nellikevej","GSG"]
["Nerievej","HMG"]
["Nesa Allé","GSG"]
["Niels Andersens Vej",null,"GSG: ulige fra 17-75 & lige 28-94","HMG","HMG","HMG","HMG","HMG","HMG","HMG","HMG","HMG","HMG","HMG","HMG","HMG","HMG","HMG","HMG","GSG","HMG","GSG","HMG","GSG","HMG","GSG","HMG","GSG","HMG","GSG","GSG","GSG","GSG","GSG","GSG","GSG","GSG","GSG","GSG","GSG","GSG","GSG","GSG","GSG","GSG","GSG","GSG","GSG","GSG","GSG","GSG","GSG","GSG","GSG","GSG","GSG","GSG","GSG","GSG","GSG","GSG","GSG","GSG","GSG","GSG","GSG","GSG","GSG","GSG","GSG","GSG","GSG","GSG","GSG","GSG","GSG","GSG","GSG","GSG",null,"GSG",null,"GSG",null,"GSG",null,"GSG",null,"GSG",null,"GSG",null,"GSG",null,"GSG",null,"GSG"]
["Niels Steensens Vej","GSG"]
["Noras Sidevej","SKGF"]
["Norasvej","SKGF"]
["Nordre Havnevej","SKGF"]
["Nordvestvej","SKGF"]
["Novo Alle","SKGF"]
["Ny Ordrup Sidealle","SKGF"]
["Nybrovej",null,"GSG: alle 1-99","GSG","GSG","GSG","GSG","GSG","GSG","GSG","GSG","GSG","GSG","GSG","GSG","GSG","GSG","GSG","GSG","GSG","GSG","GSG","GSG","GSG","GSG","GSG","GSG","GSG","GSG","GSG","GSG","GSG","GSG","GSG","GSG","GSG","GSG","GSG","GSG","GSG","GSG","GSG","GSG","GSG","GSG","GSG","GSG","GSG","GSG","GSG","GSG","GSG","GSG","GSG","GSG","GSG","GSG","GSG","GSG","GSG","GSG","GSG","GSG","GSG","GSG","GSG","GSG","GSG","GSG","GSG","GSG","GSG","GSG","GSG","GSG","GSG","GSG","GSG","GSG","GSG","GSG","GSG","GSG","GSG","GSG","GSG","GSG","GSG","GSG","GSG","GSG","GSG","GSG","GSG","GSG","GSG","GSG","GSG","GSG","GSG","GSG","GSG"]
["Nymose Huse","GSG"]
["Nymosen","GSG"]
["Nymosevej","GSG"]
["Nøddekrogen","BJGF"]
["Nørrebakken","GSG"]
["Nørregade","DY"]
["Olaf Poulsens Vej","HMG"]
["Ole Bruuns Vej","OCG"]
["Ole Olsens Alle","GSG"]
["Onsgårds Tværvej","HMG"]
["Onsgårdsvej","HMG"]
["Ordrup Have","OCG"]
["Ordrup Jagtvej","SKGF"]
["Ordrup Station","OCG"]
["Ordrup Vænge","OCG"]
["Ordrupdalvej","OCG"]
["Ordrupgårdvej","OCG"]
["Ordruphøjvej","OCG"]
["Ordrupvej","OCG"]
["Palle Simonsens Vej","GSG"]
["Parkovsvej","GSG"]
["Parkvænget","HMG"]
["Paul Elvstrøms Plads","HMG"]
["Paul-Petersens Vej","GSG"]
["Paul-Petersensvej","GSG"]
["Peter Lieps vej","SKGF"]
["Philip Heymans Alle","HMG"]
["Phistersvej","HMG"]
["Plantagevej","GSG"]
["Plantevej","DY"]
["Polarvej","DY"]
["Poppelhøj","DY"]
["Prins Axels Vej","BJGF"]
["Prins Valdemars Vej","BJGF"]
["Prinsesse Alexandrines Alle","OCG"]
["Prs. Alexandrines Alle","OCG"]
["På Højden","GSG"]
["Rakelsvej","HMG"]
["Ranunkelvej","GSG"]
["Ravnekærsvej","DY"]
["Rebekkavej","HMG"]
["Resedavej","GSG"]
["Ribisvej","GSG"]
["Richelieus Alle","HMG"]
["Ridebanevang","BJGF"]
["Ridehusvej","GSG"]
["Rosavej","SKGF"]
["Rosenfeldt Alle","GSG"]
["Rosenstandsvej","OCG"]
["Rosenvej","GSG"]
["Ruthsvej","HMG"]
["Rygårds Alle","HMG"]
["Rygårdsvænget","HMG"]
["Rypevej","HMG"]
["Ryvangs Alle","HMG"]
["Ræveskovsvej","GSG"]
["Rødstensvej","DY"]
["Røntoftevej","DY"]
["Rørskærsvej","GSG"]
["Rørsøvej","OCG"]
["Rådhusvej",null,"OCG: 1-41 og 2-34","OCG","OCG","OCG","OCG","OCG","OCG","OCG","OCG","OCG","OCG","OCG","OCG","OCG","OCG","OCG","OCG","OCG","OCG","OCG","OCG","OCG","OCG","OCG","OCG","OCG","OCG","OCG","OCG","OCG","OCG","OCG","OCG","OCG","OCG","OCG","HMG","OCG","HMG","OCG","HMG","OCG","HMG","HMG","HMG","HMG","HMG","HMG","HMG","HMG","HMG","HMG","HMG","HMG","HMG","HMG","HMG","HMG","HMG","HMG","HMG","HMG","HMG","HMG","HMG","HMG","HMG","HMG","HMG","HMG","HMG","HMG","HMG","HMG","HMG","HMG","HMG","HMG","HMG","HMG","HMG","HMG","HMG","HMG","HMG","HMG","HMG","HMG","HMG","HMG","HMG","HMG","HMG","HMG","HMG","HMG","HMG","HMG","HMG","HMG","HMG","HMG","HMG"]
["Rågevej","HMG"]
["Sagaparken","OCG"]
["Sandtoften",null,"GSG: 1-27 & nr. 10 & 12","GSG",null,"GSG",null,"GSG",null,"GSG",null,"GSG","GSG","GSG","GSG","GSG",null,"GSG",null,"GSG",null,"GSG",null,"GSG",null,"GSG",null,"GSG",null,"GSG"]
["Sankt Lukas Vej","HMG"]
["Sankt Peders Vej","HMG"]
["Sassvej","GSG"]
["Sauntes Vænge","BJGF"]
["Sauntesvej","BJGF"]
["Schimmelmanns Have","SKGF"]
["Schimmelmannsvej",null,"SKGF: Kun den nordlige del ned til Hvidørevej, OCG: 23-49 og 28-46","SKGF","SKGF","SKGF","SKGF","SKGF","SKGF","SKGF","SKGF","SKGF","SKGF","SKGF","SKGF","SKGF","SKGF","SKGF","SKGF","SKGF","SKGF","SKGF","SKGF","SKGF","SKGF","OCG","SKGF","OCG","SKGF","OCG","OCG","OCG","OCG","OCG","OCG","OCG","OCG","OCG","OCG","OCG","OCG","OCG","OCG","OCG","OCG","OCG","OCG","OCG","OCG","OCG","OCG","OCG"]
["Schioldannsvej","OCG"]
["Schæffergårdsvej","BJGF"]
["Schäffergårdsvej","BJGF"]
["Sehestedsvej","GSG"]
["Signesvej","HMG"]
["Sigridsvej","HMG"]
["Skelvej","HMG"]
["Skiftevej","GSG"]
["Skjoldagervej","BJGF"]
["Skjoldgårdsvej","SKGF"]
["Skjoldhøj Alle","SKGF"]
["Skolebakken","GSG"]
["Skolevej","GSG"]
["Skotvej","OCG"]
["Skovagervej","SKGF"]
["Skovbakkevej","BJGF"]
["Skovbrinken","OCG"]
["Skovgårdsvej","OCG"]
["Skovhegnet","BJGF"]
["Skovholmvej","OCG"]
["skovkrogen","OCG"]
["Skovlæet","HMG"]
["Skovmosevej","BJGF"]
["Skovporten","SKGF"]
["Skovrankevej","GSG"]
["Skovshoved Havn","SKGF"]
["Skovshoved Terrasse","SKGF"]
["Skovshoved Vænge","SKGF"]
["Skovshovedvej","SKGF"]
["Skovvangen","OCG"]
["Skovvej","BJGF"]
["Skrænten","GSG"]
["Slettevej","DY"]
["Slotsalleen","SKGF"]
["Slotsvej","BJGF"]
["Sløjfen","GSG"]
["Smakkedalen","GSG"]
["Smakkegårdsvej",null,"GSG:  ulige nr., BJGF: lige nr.","GSG","BJGF","GSG","BJGF","GSG","BJGF","GSG","BJGF","GSG","BJGF","GSG","BJGF","GSG","BJGF","GSG","BJGF","GSG","BJGF","GSG","BJGF","GSG","BJGF","GSG","BJGF","GSG","BJGF","GSG","BJGF","GSG","BJGF","GSG","BJGF","GSG","BJGF","GSG","BJGF","GSG","BJGF","GSG","BJGF","GSG","BJGF","GSG","BJGF","GSG","BJGF","GSG","BJGF","GSG","BJGF","GSG","BJGF","GSG","BJGF","GSG","BJGF","GSG","BJGF","GSG","BJGF","GSG","BJGF","GSG","BJGF","GSG","BJGF","GSG","BJGF","GSG","BJGF","GSG","BJGF","GSG","BJGF","GSG","BJGF","GSG","BJGF","GSG","BJGF","GSG","BJGF","GSG","BJGF","GSG","BJGF","GSG","BJGF","GSG","BJGF","GSG","BJGF","GSG","BJGF","GSG","BJGF","GSG","BJGF","GSG","BJGF","GSG","BJGF","GSG","BJGF","GSG","BJGF","GSG","BJGF","GSG","BJGF","GSG","BJGF","GSG","BJGF","GSG","BJGF","GSG","BJGF","GSG","BJGF","GSG","BJGF","GSG","BJGF","GSG","BJGF","GSG","BJGF","GSG","BJGF","GSG","BJGF","GSG","BJGF","GSG","BJGF","GSG","BJGF","GSG","BJGF","GSG","BJGF","GSG","BJGF","GSG","BJGF","GSG","BJGF","GSG","BJGF","GSG","BJGF","GSG","BJGF","GSG","BJGF","GSG","BJGF","GSG","BJGF","GSG","BJGF","GSG","BJGF","GSG","BJGF","GSG","BJGF","GSG","BJGF","GSG","BJGF","GSG","BJGF","GSG","BJGF","GSG","BJGF","GSG","BJGF","GSG","BJGF","GSG","BJGF","GSG","BJGF","GSG","BJGF","GSG","BJGF","GSG","BJGF","GSG","BJGF","GSG","BJGF","GSG","BJGF","GSG","BJGF","GSG","BJGF","GSG","BJGF","GSG","BJGF","GSG","BJGF","GSG","BJGF",null,null,"GSG",null,"GSG",null,"GSG",null,"GSG"]
["Smakkehøj","BJGF"]
["Smakkekrogen","GSG"]
["Smutvej","BJGF"]
["Snerlevej","GSG"]
["Snogegårdsvej",null,"GSG: 1-99 & 2-78","GSG","GSG","GSG","GSG","GSG","GSG","GSG","GSG","GSG","GSG","GSG","GSG","GSG","GSG","GSG","GSG","GSG","GSG","GSG","GSG","GSG","GSG","GSG","GSG","GSG","GSG","GSG","GSG","GSG","GSG","GSG","GSG","GSG","GSG","GSG","GSG","GSG","GSG","GSG","GSG","GSG","GSG","GSG","GSG","GSG","GSG","GSG","GSG","GSG","GSG","GSG","GSG","GSG","GSG","GSG","GSG","GSG","GSG","GSG","GSG","GSG","GSG","GSG","GSG","GSG","GSG","GSG","GSG","GSG","GSG","GSG","GSG","GSG","GSG","GSG","GSG","GSG","GSG","GSG",null,"GSG",null,"GSG",null,"GSG",null,"GSG",null,"GSG",null,"GSG",null,"GSG",null,"GSG",null,"GSG",null,"GSG"]
["Snogegårdsvænget","GSG"]
["Sofievej","HMG"]
["Sognegrænsen","GSG"]
["Sognevej","GSG"]
["Solbakkevej","BJGF"]
["Solsiden","BJGF"]
["Soltoften","BJGF"]
["Soløsevej","BJGF"]
["Sommervej","OCG"]
["Sophus Bauditz Vej","SKGF"]
["Sophus Claussens Vej","OCG"]
["Sponnecksvej","GSG"]
["Springbanen","GSG"]
["Springdamvej","BJGF"]
["Springdamsvej","BJGF"]
["Stenagervej","DY"]
["Stendyssevej","DY"]
["Stigaardsvej","HMG"]
["Stjerneborg Alle","DY"]
["Stolbergvej","GSG"]
["Stolpegårdsvej","GSG"]
["Stolpehøj","GSG"]
["Strandengen","HMG"]
["Strandhøjsvej","SKGF"]
["Strandlund","HMG"]
["Strandparksvej","HMG"]
["Strandvejen",null,"SKGF lige: 154-336, undtagen 218-268 inkl. Ulige: 237-435, undtagen 265-325 inkl. ","HMG","HMG","HMG","HMG","HMG","HMG","HMG","HMG","HMG","HMG","HMG","HMG","HMG","HMG","HMG","HMG","HMG","HMG","HMG","HMG","HMG","HMG","HMG","HMG","HMG","HMG","HMG","HMG","HMG","HMG","HMG","HMG","HMG","HMG","HMG","HMG","HMG","HMG","HMG","HMG","HMG","HMG","HMG","HMG","HMG","HMG","HMG","HMG","HMG","HMG","HMG","HMG","HMG","HMG","HMG","HMG","HMG","HMG","HMG","HMG","HMG","HMG","HMG","HMG","HMG","HMG","HMG","HMG","HMG","HMG","HMG","HMG","HMG","HMG","HMG","HMG","HMG","HMG","HMG","HMG","HMG","HMG","HMG","HMG","HMG","HMG","HMG","HMG","HMG","HMG","HMG","HMG","HMG","HMG","HMG","HMG","HMG","HMG","HMG","HMG","HMG","HMG","HMG","HMG","HMG","HMG","HMG","HMG","HMG","HMG","HMG","HMG","HMG","HMG","HMG","HMG","HMG","HMG","HMG","HMG","HMG","HMG","HMG","HMG","HMG","HMG","HMG","HMG","HMG","HMG","HMG","HMG","HMG","HMG","HMG","HMG","HMG","HMG","HMG","HMG","HMG","HMG","HMG","HMG","HMG","HMG","HMG","HMG","HMG","HMG","HMG","HMG","HMG","SKGF","HMG","SKGF","HMG","SKGF","HMG","SKGF","HMG","SKGF","HMG","SKGF","HMG","SKGF","HMG","SKGF","HMG","SKGF","HMG","SKGF","HMG","SKGF","HMG","SKGF","HMG","SKGF","HMG","SKGF","HMG","SKGF","HMG","SKGF","HMG","SKGF","HMG","SKGF","HMG","SKGF","HMG","SKGF","HMG","SKGF","HMG","SKGF","HMG","SKGF","HMG","SKGF","HMG","SKGF","HMG","SKGF","HMG","SKGF","HMG","SKGF","HMG","SKGF","HMG","SKGF","HMG","SKGF","HMG","SKGF","HMG","Skovshoved By","HMG","Skovshoved By","HMG","Skovshoved By","HMG","Skovshoved By","HMG","Skovshoved By","HMG","Skovshoved By","HMG","Skovshoved By","HMG","Skovshoved By","HMG","Skovshoved By","HMG","Skovshoved By","SKGF","Skovshoved By","SKGF","Skovshoved By","SKGF","Skovshoved By","SKGF","Skovshoved By","SKGF","Skovshoved By","SKGF","Skovshoved By","SKGF","Skovshoved By","SKGF","Skovshoved By","SKGF","Skovshoved By","SKGF","Skovshoved By","SKGF","Skovshoved By","SKGF","Skovshoved By","SKGF","Skovshoved By","SKGF","Skovshoved By","Skovshoved By","Skovshoved By","Skovshoved By","Skovshoved By","Skovshoved By","SKGF","Skovshoved By","SKGF","Skovshoved By","SKGF","Skovshoved By","SKGF","Skovshoved By","SKGF","Skovshoved By","SKGF","Skovshoved By","SKGF","Skovshoved By","SKGF","Skovshoved By","SKGF","Skovshoved By","SKGF","Skovshoved By","SKGF","Skovshoved By","SKGF","Skovshoved By","SKGF","Skovshoved By","SKGF","Skovshoved By","SKGF","Skovshoved By","SKGF","Skovshoved By","SKGF","Skovshoved By","SKGF","Skovshoved By","SKGF","Skovshoved By","SKGF","Skovshoved By","SKGF","Skovshoved By","SKGF","Skovshoved By","SKGF","Skovshoved By","SKGF","Skovshoved By","SKGF","Skovshoved By","SKGF","Skovshoved By","SKGF","Skovshoved By","SKGF","Skovshoved By","SKGF","SKGF","SKGF","SKGF","SKGF","SKGF","SKGF","SKGF","SKGF","SKGF","SKGF","SKGF","SKGF","SKGF","SKGF","SKGF","SKGF","SKGF","SKGF","SKGF","SKGF","SKGF","SKGF","SKGF","SKGF","SKGF","SKGF","SKGF","SKGF","SKGF","SKGF","SKGF","SKGF","SKGF","SKGF","SKGF","SKGF","SKGF","SKGF","SKGF","SKGF","SKGF","SKGF","SKGF","SKGF","SKGF","SKGF","SKGF","SKGF","SKGF","SKGF","SKGF","SKGF","SKGF","SKGF","SKGF","SKGF","SKGF","SKGF","SKGF","SKGF","SKGF","SKGF","SKGF","SKGF","SKGF","SKGF","SKGF","SKGF","SKGF","SKGF","SKGF","SKGF","SKGF","SKGF","SKGF","SKGF","SKGF","SKGF","SKGF","SKGF","SKGF","SKGF","SKGF","SKGF","SKGF","SKGF","SKGF","SKGF","SKGF","SKGF","SKGF","SKGF","SKGF","SKGF","SKGF","SKGF","SKGF","SKGF","SKGF","SKGF","SKGF","SKGF","SKGF","SKGF","SKGF","SKGF","SKGF","SKGF","SKGF","SKGF","SKGF","SKGF","SKGF","SKGF","SKGF","SKGF","SKGF","SKGF","SKGF","SKGF","SKGF","SKGF","SKGF",null,"SKGF",null,"SKGF",null,"SKGF"]
["Stænget","GSG"]
["Sundvej","HMG"]
["Sundvænget","HMG"]
["Svalevej","HMG"]
["Svanemøllevej","HMG"]
["Svejagervej","GSG"]
["Svejgårdsvej","HMG"]
["Søager","GSG"]
["Søbakken","SKGF"]
["Søborg Hovedgade","DY"]
["Søbredden","GSG"]
["Søbøtkers Alle","HMG"]
["Sødalen","GSG"]
["Søgårdsvej","GSG"]
["Søholm Park","DY"]
["Søllingsvej","OCG"]
["Sølystparken","SKGF"]
["Sølystvej","SKGF"]
["Sømarksvej","HMG"]
["Sønderbakken","GSG"]
["Sønderdalen","DY"]
["Sønderengen","DY"]
["Søndergårdsvej","DY"]
["Søndersøvej","BJGF"]
["Søndre Havnevej","SKGF"]
["Søtoften","GSG"]
["Søvolden","GSG"]
["Taffelbays Alle","HMG"]
["Tagesmindevej","GSG"]
["Tagestorp","GSG"]
["Teglgårdsvej","SKGF"]
["Teglvænget","SKGF"]
["Teglværksbakken","DY"]
["Tellersvej","HMG"]
["Thulevej","DY"]
["Tinglevvej","BJGF"]
["Tjørnegårdsvej","GSG"]
["Tjørnekrogen","GSG"]
["Tjørnestien","GSG"]
["Toftekærsvej",null,"GSG: alle 1-82","GSG","GSG","GSG","GSG","GSG","GSG","GSG","GSG","GSG","GSG","GSG","GSG","GSG","GSG","GSG","GSG","GSG","GSG","GSG","GSG","GSG","GSG","GSG","GSG","GSG","GSG","GSG","GSG","GSG","GSG","GSG","GSG","GSG","GSG","GSG","GSG","GSG","GSG","GSG","GSG","GSG","GSG","GSG","GSG","GSG","GSG","GSG","GSG","GSG","GSG","GSG","GSG","GSG","GSG","GSG","GSG","GSG","GSG","GSG","GSG","GSG","GSG","GSG","GSG","GSG","GSG","GSG","GSG","GSG","GSG","GSG","GSG","GSG","GSG","GSG","GSG","GSG","GSG","GSG","GSG","GSG","GSG"]
["Toftholm Alle","GSG"]
["Tonysvej","OCG"]
["Torkel Badens Vej","HMG"]
["Tornagervej","SKGF"]
["Tranegårdsvej","HMG"]
["Tranevænget","HMG"]
["Traverbanevej","SKGF"]
["Travervænget","SKGF"]
["Troljevej","HMG"]
["Trunnevangen","OCG"]
["Tryggehvile Alle","BJGF"]
["Tryggehvileparken","BJGF"]
["Tuborg Bakkedrag","HMG"]
["Tuborg Boulevard","HMG"]
["Tuborg Haveby","GSG"]
["Tuborg Havnepark","HMG"]
["Tuborg Havnevej","HMG"]
["Tuborg Parkvej","HMG"]
["Tuborg Strandeng","HMG"]
["Tuborg Sundpark","HMG"]
["Tuborgvej",null,"GSG: alle 95-108, DY: 112, 118, 127, 121, 133, 143","HMG","HMG","HMG","HMG","HMG","HMG","HMG","HMG","HMG","HMG","HMG","HMG","HMG","HMG","HMG","HMG","HMG","HMG","HMG","HMG","HMG","HMG","HMG","HMG","HMG","HMG","HMG","HMG","HMG","HMG","HMG","HMG","HMG","HMG","HMG","HMG","HMG","HMG","HMG","HMG","HMG","HMG","HMG","HMG","HMG","HMG","HMG","HMG","HMG","HMG","HMG","HMG","HMG","HMG","HMG","HMG","HMG","HMG","HMG","HMG","HMG","HMG","HMG","HMG","HMG","HMG","HMG","HMG","HMG","HMG","HMG","HMG","HMG","HMG","HMG","HMG","HMG","HMG","HMG","HMG","HMG","HMG","HMG","HMG","HMG","HMG","HMG","HMG","HMG","HMG","HMG","HMG","HMG","HMG","GSG","GSG","GSG","GSG","GSG","GSG","GSG","GSG","GSG","GSG","GSG","GSG","GSG","GSG","GSG","GSG",null,"DY","DY","DY","DY","DY","DY","DY","DY","DY","DY","DY","DY","DY","DY","DY","DY","DY","DY","DY","DY","DY","DY","DY","DY","DY","DY","DY","DY","DY","DY","DY","DY","DY","DY","DY","DY"]
["Tværbommen","GSG"]
["Udsigten","GSG"]
["Valbirkvej","HMG"]
["Valdemar Jensens Vej","OCG"]
["Valeursvej","HMG"]
["Vandrevej","GSG"]
["Vangede Bygade","GSG"]
["Vangeporten","OCG"]
["Vangedevej",null,"GSG: ulige 35-139  lige 2-132, DY: resten",null,"GSG",null,"GSG",null,"GSG",null,"GSG",null,"GSG",null,"GSG",null,"GSG",null,"GSG",null,"GSG",null,"GSG",null,"GSG",null,"GSG",null,"GSG",null,"GSG",null,"GSG",null,"GSG",null,"GSG","GSG","GSG","GSG","GSG","GSG","GSG","GSG","GSG","GSG","GSG","GSG","GSG","GSG","GSG","GSG","GSG","GSG","GSG","GSG","GSG","GSG","GSG","GSG","GSG","GSG","GSG","GSG","GSG","GSG","GSG","GSG","GSG","GSG","GSG","GSG","GSG","GSG","GSG","GSG","GSG","GSG","GSG","GSG","GSG","GSG","GSG","GSG","GSG","GSG","GSG","GSG","GSG","GSG","GSG","GSG","GSG","GSG","GSG","GSG","GSG","GSG","GSG","GSG","GSG","GSG","GSG","GSG","GSG","GSG","GSG","GSG","GSG","GSG","GSG","GSG","GSG","GSG","GSG","GSG","GSG","GSG","GSG","GSG","GSG","GSG","GSG","GSG","GSG","GSG","GSG","GSG","GSG","GSG","GSG","GSG","GSG","GSG","GSG","GSG","DY","GSG","DY","GSG","DY","GSG","DY","DY","DY","DY","DY","DY","DY","DY","DY","DY","DY","DY","DY","DY","DY","DY","DY","DY","DY","DY","DY","DY","DY","DY","DY","DY","DY","DY","DY","DY","DY","DY","DY","DY","DY","DY","DY","DY","DY","DY","DY","DY","DY","DY","DY","DY","DY","DY","DY","DY","DY","DY","DY","DY","DY","DY","DY","DY","DY","DY","DY","DY","DY","DY","DY","DY","DY","DY","DY","DY","DY","DY","DY","DY","DY","DY","DY","DY","DY","DY","DY","DY","DY","DY","DY","DY","DY","DY","DY","DY","DY","DY","DY","DY","DY","DY","DY","DY","DY","DY","DY","DY","DY","DY","DY","DY","DY","DY","DY","DY","DY","DY","DY","DY","DY","DY","DY","DY","DY","DY","DY","DY","DY","DY","DY","DY","DY","DY","DY","DY","DY","DY","DY","DY","DY","DY","DY","DY","DY","DY","DY","DY","DY","DY","DY","DY","DY","DY","DY","DY","DY","DY","DY","DY","DY","DY","DY","DY","DY","DY","DY","DY","DY","DY","DY","DY","DY","DY","DY","DY","DY","DY","DY","DY","DY","DY","DY","DY","DY","DY","DY","DY","DY","DY","DY","DY","DY","DY","DY","DY","DY","DY","DY","DY","DY","DY","DY","DY","DY","DY","DY","DY","DY","DY","DY","DY","DY","DY","DY","DY","DY","DY","DY","DY","DY","DY","DY","DY","DY","DY","DY","DY","DY","DY","DY","DY","DY","DY","DY","DY","DY","DY","DY","DY","DY","DY"]
["Vasehøjvej","SKGF"]
["Ved Bommen","GSG"]
["Ved Eltham","HMG"]
["Ved Ermelunden","BJGF"]
["Ved Kæret","BJGF"]
["Ved Renden","DY"]
["Ved Slotshaven","BJGF"]
["Ved Stadion","GSG"]
["Ved Ungdomsboligerne","GSG"]
["Ved Ørehøj","HMG"]
["Vedbendvej","DY"]
["Vemmetofte Alle","GSG"]
["Vermehrensvej","SKGF"]
["Vespervej","GSG"]
["Vesterbyvej","GSG"]
["Vesterdalen","DY"]
["Viadukt Alle","HMG"]
["Viggo Rothes Vej","HMG"]
["Vilhelmshåbsvej","OCG"]
["Vilvordehøj","OCG"]
["Vilvordeparken","OCG"]
["Vilvordevej",null,"BJGF: ulige numre, OCG: lige nr","BJGF","OCG","BJGF","OCG","BJGF","OCG","BJGF","OCG","BJGF","OCG","BJGF","OCG","BJGF","OCG","BJGF","OCG","BJGF","OCG","BJGF","OCG","BJGF","OCG","BJGF","OCG","BJGF","OCG","BJGF","OCG","BJGF","OCG","BJGF","OCG","BJGF","OCG","BJGF","OCG","BJGF","OCG","BJGF","OCG","BJGF","OCG","BJGF","OCG","BJGF","OCG","BJGF","OCG","BJGF","OCG","BJGF","OCG","BJGF","OCG","BJGF","OCG","BJGF","OCG","BJGF","OCG","BJGF","OCG","BJGF","OCG","BJGF","OCG","BJGF","OCG","BJGF","OCG","BJGF","OCG","BJGF","OCG","BJGF","OCG","BJGF","OCG","BJGF","OCG","BJGF","OCG","BJGF","OCG","BJGF","OCG","BJGF","OCG","BJGF","OCG","BJGF","OCG","BJGF","OCG","BJGF","OCG","BJGF","OCG","BJGF","OCG","BJGF","OCG","BJGF","OCG","BJGF","OCG","BJGF","OCG","BJGF","OCG","BJGF","OCG","BJGF","OCG","BJGF","OCG","BJGF","OCG","BJGF","OCG","BJGF","OCG","BJGF","OCG","BJGF","OCG","BJGF","OCG","BJGF","OCG","BJGF","OCG","BJGF","OCG","BJGF","OCG","BJGF","OCG","BJGF","OCG","BJGF","OCG","BJGF","OCG","BJGF","OCG","BJGF","OCG","BJGF","OCG","BJGF","OCG","BJGF","OCG","BJGF","OCG","BJGF","OCG","BJGF","OCG","BJGF","OCG","BJGF","OCG","BJGF","OCG","BJGF","OCG","BJGF","OCG","BJGF","OCG","BJGF","OCG","BJGF","OCG","BJGF","OCG","BJGF","OCG","BJGF","OCG","BJGF","OCG","BJGF","OCG","BJGF","OCG","BJGF","OCG","BJGF","OCG","BJGF","OCG","BJGF","OCG","BJGF","OCG","BJGF","OCG","BJGF","OCG","BJGF","OCG","BJGF","OCG","BJGF","OCG","BJGF","OCG","BJGF","OCG","BJGF","OCG","BJGF","OCG","BJGF","OCG","BJGF","OCG","BJGF","OCG","BJGF","OCG","BJGF","OCG","BJGF","OCG","BJGF","OCG","BJGF"]
["Vinagervej","GSG"]
["Vindestræde","GSG"]
["Vingårds Alle","HMG"]
["Vinrankevej","HMG"]
["Vinrosevej","GSG"]
["Vintervej","OCG"]
["Violvej","GSG"]
["Vitus Berings Alle","SKGF"]
["Vældegårdsvej","BJGF"]
["Wernersvej","OCG"]
["Wiehesvej","HMG"]
["Wilhelm Smidts Vej","GSG"]
["Zeuthens Alle","GSG"]
["Zicavej","SKGF"]
["Ærenprisvej","GSG"]
["Øregårds Alle","HMG"]
["Øregårdsvænget","HMG"]
["Ørehøj Alle","HMG"]
["Øresundshøj","SKGF"]
["Ørnegårdsvej","GSG"]
["Ørnekulsvej","OCG"]
["Østerbakken","GSG"]
["Østerkildevej","GSG"]
["Øxnevej","GSG"]

{"sheet":"Medlemmer","index":2,"n_rows":1006,"n_cols":4,"rows_kept":1006}
["Adresse","Fornavn","Indmeldt","Adresse"]
[{"$f":"D2","v":0}]
[{"$f":"D3","v":0}]
[0]
[0]
[0]
[0]
[0]
[0]
[0]
[0]
[0]
[0]
[0]
[0]
[0]
[0]
[0]
[0]
[0]
[0]
[0]
[0]
[0]
[0]
[0]
[0]
[0]
[0]
[0]
[0]
[0]
[0]
[0]
[0]
[0]
[0]
[0]
[0]
[0]
[0]
[0]
[0]
[0]
[0]
[0]
[0]
[0]
[0]
[0]
[0]
[0]
[0]
[0]
[0]
[0]
[0]
[0]
[0]
[0]
[0]
[0]
[0]
[0]
[0]
[0]
[{"$f":"D67","v":0}]
[0]
[0]
[0]
[0]
[0]
[0]
[0]
[0]
[0]
[0]
[0]
[0]
[0]
[0]
[0]
[0]
[0]
[0]
[0]
[0]
[0]
[0]
[0]
[0]
[0]
[0]
[0]
[0]
[0]
[0]
[0]
[0]
[0]
[0]
[0]
[0]
[0]
[0]
[0]
[0]
[0]
[0]
[0]
[0]
[0]
[0]
[0]
[0]
[0]
[0]
[0]
[0]
[0]
[0]
[0]
[0]
[0]
[0]
[0]
[0]
[0]
[0]
[0]
[{"$f":"D131","v":0}]
[0]
[0]
[0]
[0]
[0]
[0]
[0]
[0]
[0]
[0]
[0]
[0]
[0]
[0]
[0]
[0]
[0]
[0]
[0]
[0]
[0]
[0]
[0]
[0]
[0]
[0]
[0]
[0]
[0]
[0]
[0]
[0]
[0]
[0]
[0]
[0]
[0]
[0]
[0]
[0]
[0]
[0]
[0]
[0]
[0]
[0]
[0]
[0]
[0]
[0]
[0]
[0]
[0]
[0]
[0]
[0]
[0]
[0]
[0]
[0]
[0]
[0]
[0]
[{"$f":"D195","v":0}]
[0]
[0]
[0]
[0]
[0]
[0]
[0]
[0]
[0]
[0]
[0]
[0]
[0]
[0]
[0]
[0]
[0]
[0]
[0]
[0]
[0]
[0]
[0]
[0]
[0]
[0]
[0]
[0]
[0]
[0]
[0]
[0]
[0]
[0]
[0]
[0]
[0]
[0]
[0]
[0]
[0]
[0]
[0]
[0]
[0]
[0]
[0]
[0]
[0]
[0]
[0]
[0]
[0]
[0]
[0]
[0]
[0]
[0]
[0]
[0]
[0]
[0]
[0]
[{"$f":"D259","v":0}]
[0]
[0]
[0]
[0]
[0]
[0]
[0]
[0]
[0]
[0]
[0]
[0]
[0]
[0]
[0]
[0]
[0]
[0]
[0]
[0]
[0]
[0]
[0]
[0]
[0]
[0]
[0]
[0]
[0]
[0]
[0]
[0]
[0]
[0]
[0]
[0]
[0]
[0]
[0]
[0]
[0]
[0]
[0]
[0]
[0]
[0]
[0]
[0]
[0]
[0]
[0]
[0]
[0]
[0]
[0]
[0]
[0]
[0]
[0]
[0]
[0]
[0]
[0]
[{"$f":"D323","v":0}]
[0]
[0]
[0]
[0]
[0]
[0]
[0]
[0]
[0]
[0]
[0]
[0]
[0]
[0]
[0]
[0]
[0]
[0]
[0]
[0]
[0]
[0]
[0]
[0]
[0]
[0]
[0]
[0]
[0]
[0]
[0]
[0]
[0]
[0]
[0]
[0]
[0]
[0]
[0]
[0]
[0]
[0]
[0]
[0]
[0]
[0]
[0]
[0]
[0]
[0]
[0]
[0]
[0]
[0]
[0]
[0]
[0]
[0]
[0]
[0]
[0]
[0]
[0]
[{"$f":"D387","v":0}]
[0]
[0]
[0]
[0]
[0]
[0]
[0]
[0]
[0]
[0]
[0]
[0]
[0]
[0]
[0]
[0]
[0]
[0]
[0]
[0]
[0]
[0]
[0]
[0]
[0]
[0]
[0]
[0]
[0]
[0]
[0]
[0]
[0]
[0]
[0]
[0]
[0]
[0]
[0]
[0]
[0]
[0]
[0]
[0]
[0]
[0]
[0]
[0]
[0]
[0]
[0]
[0]
[0]
[0]
[0]
[0]
[0]
[0]
[0]
[0]
[0]
[0]
[0]
[{"$f":"D451","v":0}]
[0]
[0]
[0]
[0]
[0]
[0]
[0]
[0]
[0]
[0]
[0]
[0]
[0]
[0]
[0]
[0]
[0]
[0]
[0]
[0]
[0]
[0]
[0]
[0]
[0]
[0]
[0]
[0]
[0]
[0]
[0]
[0]
[0]
[0]
[0]
[0]
[0]
[0]
[0]
[0]
[0]
[0]
[0]
[0]
[0]
[0]
[0]
[0]
[0]
[0]
[0]
[0]
[0]
[0]
[0]
[0]
[0]
[0]
[0]
[0]
[0]
[0]
[0]
[{"$f":"D515","v":0}]
[0]
[0]
[0]
[0]
[0]
[0]
[0]
[0]
[0]
[0]
[0]
[0]
[0]
[0]
[0]
[0]
[0]
[0]
[0]
[0]
[0]
[0]
[0]
[0]
[0]
[0]
[0]
[0]
[0]
[0]
[0]
[0]
[0]
[0]
[0]
[0]
[0]
[0]
[0]
[0]
[0]
[0]
[0]
[0]
[0]
[0]
[0]
[0]
[0]
[0]
[0]
[0]
[0]
[0]
[0]
[0]
[0]
[0]
[0]
[0]
[0]
[0]
[0]
[{"$f":"D579","v":0}]
[0]
[0]
[0]
[0]
[0]
[0]
[0]
[0]
[0]
[0]
[0]
[0]
[0]
[0]
[0]
[0]
[0]
[0]
[0]
[0]
[0]
[0]
[0]
[0]
[0]
[0]
[0]
[0]
[0]
[0]
[0]
[0]
[0]
[0]
[0]
[0]
[0]
[0]
[0]
[0]
[0]
[0]
[0]
[0]
[0]
[0]
[0]
[0]
[0]
[0]
[0]
[0]
[0]
[0]
[0]
[0]
[0]
[0]
[0]
[0]
[0]
[0]
[0]
[{"$f":"D643","v":0}]
[0]
[0]
[0]
[0]
[0]
[0]
[0]
[0]
[0]
[0]
[0]
[0]
[0]
[0]
[0]
[0]
[0]
[0]
[0]
[0]
[0]
[0]
[0]
[0]
[0]
[0]
[0]
[0]
[0]
[0]
[0]
[0]
[0]
[0]
[0]
[0]
[0]
[0]
[0]
[0]
[0]
[0]
[0]
[0]
[0]
[0]
[0]
[0]
[0]
[0]
[0]
[0]
[0]
[0]
[0]
[0]
[0]
[0]
[0]
[0]
[0]
[0]
[0]
[{"$f":"D707","v":0}]
[0]
[0]
[0]
[0]
[0]
[0]
[0]
[0]
[0]
[0]
[0]
[0]
[0]
[0]
[0]
[0]
[0]
[0]
[0]
[0]
[0]
[0]
[0]
[0]
[0]
[0]
[0]
[0]
[0]
[0]
[0]
[0]
[0]
[0]
[0]
[0]
[0]
[0]
[0]
[0]
[0]
[0]
[0]
[0]
[0]
[0]
[0]
[0]
[0]
[0]
[0]
[0]
[0]
[0]
[0]
[0]
[0]
[0]
[0]
[0]
[0]
[0]
[0]
[{"$f":"D771","v":0}]
[0]
[0]
[0]
[0]
[0]
[0]
[0]
[0]
[0]
[0]
[0]
[0]
[0]
[0]
[0]
[0]
[0]
[0]
[0]
[0]
[0]
[0]
[0]
[0]
[0]
[0]
[0]
[0]
[0]
[0]
[0]
[0]
[0]
[0]
[0]
[0]
[0]
[0]
[0]
[0]
[0]
[0]
[0]
[0]
[0]
[0]
[0]
[0]
[0]
[0]
[0]
[0]
[0]
[0]
[0]
[0]
[0]
[0]
[0]
[0]
[0]
[0]
[0]
[{"$f":"D835","v":0}]
[0]
[0]
[0]
[0]
[0]
[0]
[0]
[0]
[0]
[0]
[0]
[0]
[0]
[0]
[0]
[0]
[0]
[0]
[0]
[0]
[0]
[0]
[0]
[0]
[0]
[0]
[0]
[0]
[0]
[0]
[0]
[0]
[0]
[0]
[0]
[0]
[0]
[0]
[0]
[0]
[0]
[0]
[0]
[0]
[0]
[0]
[0]
[0]
[0]
[0]
[0]
[0]
[0]
[0]
[0]
[0]
[0]
[0]
[0]
[0]
[0]
[0]
[0]
[{"$f":"D899","v":0}]
[0]
[0]
[0]
[0]
[0]
[0]
[0]
[0]
[0]
[0]
[0]
[0]
[0]
[0]
[0]
[0]
[0]
[0]
[0]
[0]
[0]
[0]
[0]
[0]
[0]
[0]
[0]
[0]
[0]
[0]
[0]
[0]
[0]
[0]
[0]
[0]
[0]
[0]
[0]
[0]
[0]
[0]
[0]
[0]
[0]
[0]
[0]
[0]
[0]
[0]
[0]
[0]
[0]
[0]
[0]
[0]
[0]
[0]
[0]
[0]
[0]
[0]
[0]
[{"$f":"D963","v":0}]
[0]
[0]
[0]
[0]
[0]
[0]
[0]
[0]
[0]
[0]
[0]
[0]
[0]
[0]
[0]
[0]
[0]
[0]
[0]
[0]
[0]
[0]
[0]
[0]
[0]
[0]
[0]
[0]
[0]
[0]
[0]
[0]
[0]
[0]
[0]
[0]
[0]
[0]
[0]
[0]
[0]
[0]
[0]

{"sheet":"Tidligere_henvendelser","index":3,"n_rows":286,"n_cols":2,"rows_kept":286}
["Anemonevej 3","20Q1"]
["Bakkedal 27","20Q1"]
["Bakkedal 6","20Q1"]
["Baunegårdsvej 19","20Q1"]
["Baunegårdsvej 65C","20Q1"]
["Bregnevej 3D","20Q1"]
["Brogårdsvej 115A","20Q1"]
["Brogårdsvej 50","20Q1"]
["C L Ibsens Vej 20","20Q1"]
["Edelgave Alle 4","20Q1"]
["Eggersvej 17","20Q1"]
["Ellegårdsvej 55","20Q1"]
["Fiskebakken 3","20Q1"]
["Granhøjen 8","20Q1"]
["Søgårdsvej 18B","20Q1"]
["Fennevangen 2","20Q1"]
["Nørrebakken 14","20Q1"]
["Levkøjvej 5","20Q1"]
["Kildeskovsvej 78","20Q1"]
["Gentoftegade 4","20Q1"]
["Grumstrupsvej 1","20Q1"]
["Hans Jensens Vej 31","20Q1"]
["Herredsvej 14","20Q1"]
["Herredsvej 58","20Q1"]
["Kildegårdsvej 18C","20Q1"]
["Kildegårdsvej 63A","20Q1"]
["Kildegårdsvej 65A","20Q1"]
["Kløckersvej 38","20Q1"]
["Kærmindevej 24","20Q1"]
["Kærvangen 6","20Q1"]
["Ledreborg Alle 4","20Q1"]
["Liljevej 15","20Q1"]
["Lyngbyvej 393A","20Q1"]
["Lyngbyvej 393B","20Q1"]
["Markvangen 14","20Q1"]
["Markvangen 26","20Q1"]
["Middelvej 14","20Q1"]
["Middelvej 14","20Q1"]
["Mosegårdsvej 21","20Q1"]
["Ole Olsens Alle 7B","20Q1"]
["Parkovsvej 3","20Q1"]
["Ridehusvej 9","20Q1"]
["Sehestedsvej 4","20Q1"]
["Skovrankevej 1","20Q1"]
["Sløjfen 23","20Q1"]
["Sløjfen 24","20Q1"]
["Sløjfen 30","20Q1"]
["Smakkegårdsvej 67","20Q1"]
["Snerlevej 46","20Q1"]
["Snerlevej 5","20Q1"]
["Sognevej 55","20Q1"]
["Stolbergvej 1","20Q1"]
["Søager 49","20Q1"]
["Søgårdsvej 19","20Q1"]
["Toftekærsvej 17","20Q1"]
["Vandrevej 7","20Q1"]
["Vangedevej 128","20Q1"]
["Violvej 23","20Q1"]
["Zeuthens Alle 5","20Q1"]
["Ørnegårdsvej 8","20Q1"]
["Bernstorffsvej 23B","20Q2"]
["Bernstorffsvej 29","20Q2"]
["Bernstorffsvej 91A","20Q2"]
["Byledet 5","20Q2"]
["Dronningemarken 2","20Q2"]
["Eggersvej 5","20Q2"]
["Ellebækvej 24","20Q2"]
["Ellegårdsvej 59","20Q2"]
["Erichsensvej 13","20Q2"]
["Erichsensvej 15","20Q2"]
["Erichsensvej 7","20Q2"]
["Fragariavej 13","20Q2"]
["Grænsevej 12","20Q2"]
["Gyldenholm Alle 10","20Q2"]
["H A Clausens Vej 16","20Q2"]
["Hans Jensens Vej 36","20Q2"]
["Herredsvej 84","20Q2"]
["Heslegårdsvej 43","20Q2"]
["Jahnsensvej 4B","20Q2"]
["Kildeskovsvej 34","20Q2"]
["Kærmindevej 19","20Q2"]
["Kærvangen 45","20Q2"]
["Lyngbyvej 391","20Q2"]
["Maltegårdsvej 19","20Q2"]
["Maltegårdsvej 24F","20Q2"]
["Niels Andersens Vej 32","20Q2"]
["Niels Andersens Vej 49","20Q2"]
["Parkovsvej 22","20Q2"]
["Parkovsvej 34","20Q2"]
["Parkovsvej 61A","20Q2"]
["Resedavej 6","20Q2"]
["Skolebakken 27","20Q2"]
["Snogegårdsvej 68","20Q2"]
["Sognevej 45","20Q2"]
["Sponnecksvej 13E","20Q2"]
["Søbredden 48","20Q2"]
["Toftekærsvej 53","20Q2"]
["Toftekærsvej 70","20Q2"]
["Vangede Bygade 120","20Q2"]
["Ørnegårdsvej 44","20Q2"]
["Agertoften 21","20Q3"]
["Baunegårdsvej 48","20Q3"]
["Baunegårdsvej 50F","20Q3"]
["Bernstorffsvej 149","20Q3"]
["C L Ibsens Vej 12","20Q3"]
["Dalsvinget 19","20Q3"]
["Eggersvej 22","20Q3"]
["Ellebækvej 22","20Q3"]
["Ericavej 26","20Q3"]
["Ericavej 28","20Q3"]
["Erichsensvej 3","20Q3"]
["Fuglegårdsvej 24B","20Q3"]
["Gentoftegade 116","20Q3"]
["Gentoftegade 65","20Q3"]
["Hesselvang 5","20Q3"]
["Indelukket 11","20Q3"]
["Jahnsensvej 7A","20Q3"]
["Kildegårdsvej 79","20Q3"]
["Kildegårdsvænget 24","20Q3"]
["Ledreborg Alle 30","20Q3"]
["Ledreborg Alle 32","20Q3"]
["Ledreborg Alle 5","20Q3"]
["Levkøjvej 1","20Q3"]
["Liljevej 8","20Q3"]
["Lundely 15A","20Q3"]
["Maltegårdsvej 24B","20Q3"]
["Middelvej 21","20Q3"]
["Middelvej 7","20Q3"]
["Mosegårdsvej 154","20Q3"]
["Mosegårdsvej 78","20Q3"]
["Nellikevej 12","20Q3"]
["Nørrebakken 28","20Q3"]
["Nørrebakken 4","20Q3"]
["På Højden 27","20Q3"]
["Resedavej 32","20Q3"]
["Sassvej 4","20Q3"]
["Skolebakken 28","20Q3"]
["Sognegrænsen 42","20Q3"]
["Sponnecksvej 18","20Q3"]
["Sønderbakken 7","20Q3"]
["Søtoften 18","20Q3"]
["Toftekærsvej 46","20Q3"]
["Vemmetofte Alle 32","20Q3"]
["Vespervej 17","20Q3"]
["Vespervej 35","20Q3"]
["Vinagervej 29","20Q3"]
["Violvej 14","20Q3"]
["Violvej 7","20Q3"]
["Østerkildevej 16","20Q3"]
["Anemonevej 1","20Q4"]
["Anemonevej 7","20Q4"]
["Bernstorffsvej 193A","20Q4"]
["Bomporten 36","20Q4"]
["Dalsvinget 15","20Q4"]
["Dronningemarken 14","20Q4"]
["Eggersvej 8","20Q4"]
["Ellebækvej 10","20Q4"]
["Ericavej 12","20Q4"]
["Erichsensvej 1","20Q4"]
["Erichsensvej 21","20Q4"]
["Erichsensvej 5","20Q4"]
["Ermelundsvej 16","20Q4"]
["Ermelundsvej 19","20Q4"]
["Frugtparken 15","20Q4"]
["Fuglegårdsvej 29","20Q4"]
["Fuglegårdsvej 36A","20Q4"]
["Fuglegårdsvej 43A","20Q4"]
["Hans Jensens Vej 44","20Q4"]
["Havslundevej 8","20Q4"]
["Herredsvej 13","20Q4"]
["Hesselvang 8","20Q4"]
["Kildegårdsvej 38A","20Q4"]
["Kildegårdsvænget 25","20Q4"]
["Kildegårdsvænget 38","20Q4"]
["Kirkebakken 5","20Q4"]
["Kirkehøj 13","20Q4"]
["Kaas Alle 21","20Q4"]
["Liljevej 10","20Q4"]
["Løvenborg Alle 4","20Q4"]
["Maltevangen 10","20Q4"]
["Markvangen 27","20Q4"]
["Mosegårdsvej 124","20Q4"]
["Mosegårdsvej 80","20Q4"]
["Nellikevej 1A","20Q4"]
["Niels Andersens Vej 33","20Q4"]
["Ole Olsens Alle 6","20Q4"]
["Parkovsvej 24","20Q4"]
["Parkovsvej 27","20Q4"]
["Parkovsvej 44","20Q4"]
["Plantagevej 20","20Q4"]
["På Højden 10","20Q4"]
["Resedavej 24","20Q4"]
["Rosenfeldt Alle 20","20Q4"]
["Skolevej 34","20Q4"]
["Snerlevej 29","20Q4"]
["Snerlevej 37","20Q4"]
["Snogegårdsvej 48","20Q4"]
["Sognegrænsen 26","20Q4"]
["Sognegrænsen 44","20Q4"]
["Sognevej 56","20Q4"]
["Stolpegårdsvej 9","20Q4"]
["Svejagervej 20","20Q4"]
["Søbredden 30","20Q4"]
["Tagesmindevej 5","20Q4"]
["Toftekærsvej 51","20Q4"]
["Tuborgvej 104","20Q4"]
["Tuborgvej 97B","20Q4"]
["Violvej 17","20Q4"]
["Violvej 4","20Q4"]
["Ørnegårdsvej 26","20Q4"]
["Vinagervej 23","21Q1"]
["Bregnevej 3B","21Q1"]
["Byledet 27","21Q1"]
["C L Ibsens Vej 54","21Q1"]
["Ellegårdsvej 76","21Q1"]
["Ellegårdsvej 71","21Q1"]
["Ellegårdsvænge 1","21Q1"]
["Ericavej 18","21Q1"]
["Fuglegårdsvej 21","21Q1"]
["Fuglegårdsvej 7","21Q1"]
["Fuglegårdsvænget 14","21Q1"]
["Gyldenholm Alle 11","21Q1"]
["Høeghsmindevej 28","21Q1"]
["Høeghsmindevej 54","21Q1"]
["Høeghsmindevej 18","21Q1"]
["Juliusvej 2","21Q1"]
["Kærvangen 1","21Q1"]
["Lyngbyvej 369","21Q1"]
["Lyngbyvej 435","21Q1"]
["Maltegårdsvej 24C","21Q1"]
["Markvangen 10","21Q1"]
["Nymosevej 3","21Q1"]
["Nørrebakken 20","21Q1"]
["Parkovsvej 14","21Q1"]
["Parkovsvej 55C","21Q1"]
["Parkovsvej 17B","21Q1"]
["Plantagevej 19","21Q1"]
["Ranunkelvej 11","21Q1"]
["Resedavej 26","21Q1"]
["Ræveskovsvej 10B","21Q1"]
["Ræveskovsvej 10A","21Q1"]
["Rørskærsvej 17","21Q1"]
["Sassvej 2A","21Q1"]
["Smakkegårdsvej 197","21Q1"]
["Snogegårdsvej 69","21Q1"]
["Snogegårdsvej 72","21Q1"]
["Sognegrænsen 46","21Q1"]
["Sponnecksvej 16","21Q1"]
["Stænget 18","21Q1"]
["Søager 5","21Q1"]
["Søbredden 21B","21Q1"]
["Søbredden 36B","21Q1"]
["Søgårdsvej 14","21Q1"]
["Sønderbakken 29","21Q1"]
["Tagesmindevej 14","21Q1"]
["Tjørnegårdsvej 6","21Q1"]
["Toftekærsvej 76","21Q1"]
["Vangedevej 91","21Q1"]
["Vemmetofte Alle 26","21Q1"]
["Violvej 13","21Q1"]
["Øxnevej 6A","21Q1"]
["Ammentorpsvej 5","21Q1"]
["Bakkedal 17","21Q1"]
["Baunegårdsvej 65A","21Q1"]
["Baunegårdsvej 65D","21Q1"]
["Baunegårdsvej 65B","21Q1"]
["Bernstorffsvej 19","21Q1"]
["Bernstorffsvej 13","21Q1"]
["Bernstorffsvej 89A","21Q1"]
["Bernstorffsvej 23A","21Q1"]
["Eggersvej 43","21Q1"]
["Havslundevej 5","21Q1"]
["Kildegårdsvej 24","21Q1"]
["Kildegårdsvej 99","21Q1"]
["Kildegårdsvænget 7","21Q1"]
["Kirkehøj 20","21Q1"]
["Lundely 1","21Q1"]
["Niels Andersens Vej 46","21Q1"]
["Niels Andersens Vej 54","21Q1"]
["Niels Andersens Vej 53","21Q1"]
["Ole Olsens Alle 16","21Q1"]
["På Højden 5","21Q1"]
["Svejagervej 46","21Q1"]
["Zeuthens Alle 8","21Q1"]
["Bernstorffsvej 185","21Q1"]
["Bernstorffsvej 189","21Q1"]